{"text_format":"1","workbook":"xlsx","n_sheets":13,"sheets":["Disclaimer","Cortec","Configurator","Master Text","Change Log","BOM","Tendering","Processor Lookup","Date Drivers","Date Drivers HIST","Codes","Codes HIST","Database"],"not_rendered":{"charts":0,"images":1,"macros":1,"external_links":0,"defined_names":12,"comments":0,"pivot_tables":0},"unopened":[],"bounds":{"document_bytes":16777216,"sheet_cells":100000,"rows_first":2000,"rows_last":500,"rows_between":2000,"halvings":0,"cell_chars":16384,"cell_head_chars":4096},"cells_cut":0,"cells_raw":0,"read":"whole","date_system":"1900"}

{"sheet":"Disclaimer","index":0,"n_rows":6,"n_cols":2,"rows_kept":6,"cut":false,"hidden":false,"merged":[[2,1,2,9],[5,1,7,9],[3,1,4,9]]}
[]
[]
[null,"Our policy is one of continuous development. Accordingly the design of our products may change at any time. "]
[null,"Whilst every effort is made to produce up to date literature, this document should only be regarded as a guide and is intended for information purposes only."]
[]
[null,"Its contents do not constitute an offer for sale or advice on the application of any product referred to in it. We cannot be held responsible for any reliance on any decisions taken on its contents without specific advice."]

{"sheet":"Cortec","index":1,"n_rows":162,"n_cols":23,"rows_kept":162,"cut":false,"hidden":false,"merged":[[4,12,4,15],[4,18,4,19],[4,20,4,21],[5,0,5,1]]}
["Order form",null,null,null,null,null,null,null,null,null,null,null,null,"MiCOM P139"]
[null,null,null,null,null,null,null,null,null,null,null,null,null,"Ready-to-use configuration"]
[]
[]
[]
["Feeder Management and Bay Control                P139",null,"Überstromzeitschutz mit Steuerung","P 1 3 9 -",null,null,9,0,null,null,null,null,-3,-4,-6]
[]
["Basic device:",null,"Grundgerät:"]
["Basic device 40TE, pin-terminal connection,",null,"Grundgerät 40TE, Stiftkabelschuhanschluss,",null,3]
["Basic device 40TE, CT/VT ring-, I/O pin-terminal connection,",null,"Grundgerät 40TE, J/U-Ring-, E/A-Stiftkabelschuhanschluss,",null,5]
["Basic device 84TE, ring-terminal connection, 20)",null,"Grundgerät 84TE, Ringkabelschuhanschluss, 20)",null,8]
["   basic complement with 4 binary inputs, 8 output relays",null,"   Grundbestückung mit 4 binären Eingängen, 8 Ausgangsrelais"]
["   and 6 binary inputs and 6 output relays (2-pole) for the ",null,"   und 6 bin. Eingänge und 6 Ausg.Relais (2-polig) für die"]
["   control of 3 switchgear units",null,"   Steuerung von 3 Schaltgeräten"]
[]
["Mounting option and display:",null,"Bauform und Bedienfeld:"]
["Surface-mounted, local control panel with serial graphic display",null,"Aufbau, Vor-Ort-Bedienfeld mit Grafikdisplay",null,null,5]
["Flush-mounted, local control panel with serial graphic display",null,"Einbau, Vor-Ort-Bedienfeld mit Grafikdisplay",null,null,6]
["Surface-mounted, with detachable HMI",null,"Aufbau, mit abgesetztem Vor-Ort-Bedienfeld",null,null,7]
["Flush-mounted, with detachable HMI",null,"Einbau, mit abgesetztem Vor-Ort-Bedienfeld",null,null,9]
["Surface-mounted, local control panel with graphic display, conformally coated",null,"Aufbau, Vor-Ort-Bedienfeld mit Grafikdisplay",null,null,"E"]
["Flush-mounted, local control panel with graphic display, conformally coated",null,"Einbau, Vor-Ort-Bedienfeld mit Grafikdisplay",null,null,"F"]
["Surface-mounted, with detachable HMI, conformally coated",null,"Aufbau, mit abgesetztem Vor-Ort-Bedienfeld",null,null,"G"]
["Flush-mounted, with detachable HMI, conformally coated",null,"Einbau, mit abgesetztem Vor-Ort-Bedienfeld",null,null,"J"]
[]
["Current transformer:",null,"Stromwandler:"]
["Inom = 1 A / 5 A (T1...T4) 2)",null,"Inom = 1 A / 5 A (T1...T4) 2)",null,null,null,9]
[]
["Voltage transformer:",null,"Spannungswandler:"]
["Without",null,"ohne",null,null,null,null,null,0]
["Vnom = 50 ... 130 V (4-pole)",null,"Unom = 50 ... 130 V (4-polig)",null,null,null,null,null,4]
["Vnom = 50 ... 130 V (5-pole) for automatic synchronism control",null,"Unom = 50 ... 130 V (5-polig) für Synchronkontrollautomatik",null,null,null,null,null,5]
[]
["Additional binary I/O options:",null,"zusätzliche E/A Aufrüstung:"]
["Without",null,"ohne",null,null,null,null,null,null,0]
["With 1 binary module (add. 6 binary inputs and 6 output relays (2-pole))",null,"mit 1 Binärbaustein (zus. 6 bin. Eingänge und 6 Ausgangsrelais (2-polig))",null,null,null,null,null,null,5]
["     for the control of up to 3 additional switchgear units",null,"     für die Steuerung von bis zu 3 zusätzlichen Schaltgeräten"]
[]
["Power supply and additional binary I/O options:",null,"Hilfsspannungsversorgung und zus. E/A Aufrüstungen:"]
["VA,nom = 24 ... 60 VDC",null,"UH,nom =  24 VDC",null,null,null,null,null,null,null,"E"]
["VA,nom = 60 ... 250 VDC / 100 ... 230 VAC",null,"UH,nom =  48...250 VDC / 100...230 VAC",null,null,null,null,null,null,null,"F"]
["VA,nom = 24 ... 60 VDC and 6 output relays",null,"UH,nom =  24 VDC und 6 Ausgangsrelais",null,null,null,null,null,null,null,"G"]
["VA,nom = 60 ... 250 VDC / 100 ... 230 VAC and 6 output relays",null,"UH,nom =  48...250 VDC / 100...230 VAC und 6 Ausgangsrelais",null,null,null,null,null,null,null,"H"]
["VA,nom = 24 ... 60 VDC and 6 binary inputs and 3 output relays",null,"UH,nom =  24 VDC und 6 Binäreingänge und 3 Ausgangsrelais",null,null,null,null,null,null,null,"J"]
["VA,nom = 60 ... 250 VDC / 100 ... 230 VAC",null,"UH,nom =  48...250 VDC / 100...230 VAC",null,null,null,null,null,null,null,"K"]
["     and 6 binary inputs and 3 output relays",null,"     und 6 Binäreingänge und 3 Ausgangsrelais"]
["VA,nom = 24 ... 60 VDC and 4 high break contacts",null,"UH,nom =  24 VDC und 4 Leistungskontakte",null,null,null,null,null,null,null,"L"]
["VA,nom = 60 ... 250 VDC / 100 ... 230 VAC and 4 high break contacts",null,"UH,nom =  48...250 VDC / 100...230 VAC und 4 Leistungskontakte",null,null,null,null,null,null,null,"M"]
[]
["Further add. options:",null,"weitere Zusätze:"]
["Without",null,"ohne",null,null,null,null,null,null,null,null,0]
["With TGF (transient ground fault direction determination) module 3) 10)",null,"mit EWI (Erdschlusswischer) -Baustein 3) 10)",null,null,null,null,null,null,null,null,1]
["With analog module",null,"mit Analogbaustein",null,null,null,null,null,null,null,null,2]
["With TGF and analog module 3) 10)",null,"mit EWI- und Analogbaustein 3) 10)",null,null,null,null,null,null,null,null,3]
["With binary module (add. 24 binary inputs)",null,"mit Binärbaustein (zus. 24 binäre Eingänge)",null,null,null,null,null,null,null,null,4]
["With TGF and binary module (add. 24 binary inputs) 3) 10)",null,"mit EWI- und Binärbaustein (zus. 24 binäre Eingänge) 3) 10)",null,null,null,null,null,null,null,null,5]
["With RTD module 3)",null,"mit RTD-Baustein 3)",null,null,null,null,null,null,null,null,7]
["With RTD and analog module 3)",null,"mit RTD- und Analogbaustein 3)",null,null,null,null,null,null,null,null,8]
["With RTD module and binary module (add. 24 binary inputs) 3)",null,"mit RTD- und  Binärbaustein (zus. 24 binäre Eingänge) 3)",null,null,null,null,null,null,null,null,9]
["With analogue module and binary module (add. 24 binary inputs) 22)",null,"mit RTD- und Analogbaustein 3)",null,null,null,null,null,null,null,null,"A"]
["With two binary modules (add. 24 binary inputs) 3)",null,"mit RTD- und  Binärbaustein (zus. 24 binäre Eingänge) 3)",null,null,null,null,null,null,null,null,"B"]
["With binary module (add. 6 binary inputs and 8 outputs)",null,"mit RTD- und  Binärbaustein (zus. 24 binäre Eingänge) 3)",null,null,null,null,null,null,null,null,"C"]
["With binary module (add. 6 binary inputs and 8 outputs) and 24 binary inputs 3)",null,"mit RTD- und  Binärbaustein (zus. 24 binäre Eingänge) 3)",null,null,null,null,null,null,null,null,"D"]
["With binary module (add. 6 binary inputs and 8 outputs) and analog module 3)",null,"mit RTD- und  Binärbaustein (zus. 24 binäre Eingänge) 3)",null,null,null,null,null,null,null,null,"E"]
["With binary module (add. 6 binary inputs and 8 outputs) and RTD module 3)",null,"mit RTD- und  Binärbaustein (zus. 24 binäre Eingänge) 3)",null,null,null,null,null,null,null,null,"F"]
["With binary module (add. 6 binary inputs and 8 outputs) and TGF module 3)",null,"mit RTD- und  Binärbaustein (zus. 24 binäre Eingänge) 3)",null,null,null,null,null,null,null,null,"G"]
[]
["Binary modules with single pole high break contacts for control 19): ",null,"Binärbausteine mit einpoliger Kontaktausführung für die Steuerung 19):"]
["Without high break contact characteristic",null,"ohne Leistungskontakt - Ausführung",null,null,null,null,null,"Without order extension No."]
["With 1 module with high break contacts (1-pole)",null,"mit 1 Baustein mit Leistungskontakten (1-polig)",null,null,null,null,null,null,null,null,null,null,null,null,null,"-471"]
["With 2 modules with high break contacts (1-pole)",null,"mit 2 Bausteinen mit Leistungskontakten (1-polig)",null,null,null,null,null,null,null,null,null,null,null,null,null,"-472"]
[]
["Switching threshold on binary inputs:",null,"Schaltschwelle der Binäreingänge:"]
["Standard variant with switching threshold at 65% of 24 VDC (Va,min) 8)",null,">18 V (Standardvariante)",null,null,null,null,null,"Without order extension No."]
["Special variant with switching threshold at 65% of 127 VDC (Va,nom) 8)",null,">90 V (60...70% von UH,nom = 125...150 V)  8)",null,null,null,null,null,null,null,null,null,null,null,null,null,null,-461]
["Special variant with switching threshold at 65% of 250 VDC (Va,nom) 8)",null,">155 V (60...70% von UH,nom = 220...250 V)  8)",null,null,null,null,null,null,null,null,null,null,null,null,null,null,-462]
["Special variant with switching threshold at 65% of 110 VDC (Va,nom) 8)",null,">73 V (67% von UH,nom = 110 V)  8)",null,null,null,null,null,null,null,null,null,null,null,null,null,null,-463]
["Special variant with switching threshold at 65% of 220 VDC (Va,nom) 8)",null,">146 V (67% von UH,nom = 220 V)  8)",null,null,null,null,null,null,null,null,null,null,null,null,null,null,-464]
[]
["With communication / information interface:",null,"mit Kommunikations-/ Informations-Schnittstelle:"]
["Without",null,"ohne",null,null,null,null,null,"Without order extension No."]
["Protocol can be switched between:",null,"Protokoll umschaltbar:",null,null,null,null,null,null,null,null,null,null,null,null,null,null,null,-92]
["    IEC 60870-5-101/-103, Modbus, DNP3, Courier",null,"    IEC 60870-5-101/-103, Modbus, DNP3, Courier"]
["    and IRIG-B input for clock synchronization",null,"    und IRIG-B-Eingang für Uhrzeitsynchronisierung"]
["    and 2nd interface (RS485, IEC 60870-5-103)",null,"    und 2. Schnittstelle (RS485, IEC 60870-5-103)"]
["For connection to wire, RS485, isolated",null,"für Drahtanschluss, RS485, abgeriegelt",null,null,null,null,null,null,null,null,null,null,null,null,null,null,null,null,1]
["For connection to plastic fiber (820nm MM), FSMA connector",null,"für Anschluss von Kunststoffaser, FSMA-Stecker",null,null,null,null,null,null,null,null,null,null,null,null,null,null,null,null,2]
["For connection to glass fiber (820nm MM), ST connector",null,"für Anschluss von Glasfaser, ST-Stecker",null,null,null,null,null,null,null,null,null,null,null,null,null,null,null,null,4]
[]
["Ethernet board 2, Protocol IEC 61850 Ed. 1 or 2 (switchable)",null,"Protokoll IEC61850"]
["  without Cyber Security compatibility",null,"Protokoll IEC61850",null,null,null,null,null,null,null,null,null,null,null,null,null,null,null,-97]
["  with Cyber Security compatibility",null,"Protokoll IEC61850",null,null,null,null,null,null,null,null,null,null,null,null,null,null,null,-99]
["For connection to 100 Mbit/s Ethernet, wire RJ45",null,"für Anschluss von 100 MHz Ethernet, Glasfaser-SC und Draht-RJ45"]
["    and IRIG-B input for clock synchronization",null,"    und IRIG-B-Eingang für Uhrzeitsynchronisierung",null,null,null,null,null,null,null,null,null,null,null,null,null,null,null,null,1]
["For connection to 100 Mbit/s Ethernet, glass fiber, LC",null,"für Anschluss von 100 MHz Ethernet, Glasfaser-ST und Draht-RJ45"]
["    and IRIG-B input for clock synchronization",null,"    und IRIG-B-Eingang für Uhrzeitsynchronisierung"]
["    and 2nd 100 Mbit/s Ethernet service interface (wire RJ45)",null,"    und 2. Schnittstelle (RS485, IEC 60870-5-103)",null,null,null,null,null,null,null,null,null,null,null,null,null,null,null,null,2]
["Redundant connection to wire, RJ45, HSR/PSP (switchable)",null,"für Anschluss von 100 MHz Ethernet, Glasfaser-ST und Draht-RJ45"]
["    and IRIG-B input for clock synchronization",null,"    und IRIG-B-Eingang für Uhrzeitsynchronisierung"]
["    and 2nd 100 Mbit/s Ethernet service interface (wire RJ45)",null,"    und 2. Schnittstelle (RS485, IEC 60870-5-103)",null,null,null,null,null,null,null,null,null,null,null,null,null,null,null,null,3]
["Redundant connection to 100 Mbit/s Ethernet, glass fiber LC, HSR/PRP",null,"für Anschluss von 100 MHz Ethernet, Glasfaser-ST und Draht-RJ45"]
["    (switchable) and IRIG-B input for clock synchronization",null,"    und IRIG-B-Eingang für Uhrzeitsynchronisierung"]
["    and 2nd 100 Mbit/s Ethernet service interface (wire RJ45)",null,"    und 2. Schnittstelle (RS485, IEC 60870-5-103)",null,null,null,null,null,null,null,null,null,null,null,null,null,null,null,null,4]
[]
["Protocol IEC61850, single connection",null,"Protokoll IEC61850",null,null,null,null,null,null,null,null,null,null,null,null,null,null,null,-94]
["For connection to 100 MHz Ethernet, glass fiber SC and wire RJ45",null,"für Anschluss von 100 MHz Ethernet, Glasfaser-SC und Draht-RJ45"]
["    and 2nd interface (RS485, IEC 60870-5-103)",null,"    und 2. Schnittstelle (RS485, IEC 60870-5-103)",null,null,null,null,null,null,null,null,null,null,null,null,null,null,null,null,6]
["For connection to 100 MHz Ethernet, glass fiber ST and wire RJ45",null,"für Anschluss von 100 MHz Ethernet, Glasfaser-ST und Draht-RJ45"]
["    and 2nd interface (RS485, IEC 60870-5-103)",null,"    und 2. Schnittstelle (RS485, IEC 60870-5-103)",null,null,null,null,null,null,null,null,null,null,null,null,null,null,null,null,7]
[]
["Protocol IEC61850, redundant connection 21)",null,"Protokoll IEC61850",null,null,null,null,null,null,null,null,null,null,null,null,null,null,null,-98]
["For connection to 100 Mbit/s Ethernet, glass fiber ST, SHP"]
["    and IRIG-B input for clock synchronization"]
["    and 2nd interface (RS485, IEC 60870-5-103)",null,null,null,null,null,null,null,null,null,null,null,null,null,null,null,null,null,null,1]
["For connection to Mbit/s MHz Ethernet, glass fiber ST, RSTP"]
["    and IRIG-B input for clock synchronization"]
["    and 2nd interface (RS485, IEC 60870-5-103)",null,null,null,null,null,null,null,null,null,null,null,null,null,null,null,null,null,null,2]
["For connection to 100 Mbit/s Ethernet, glass fiber ST, dual homing"]
["    and 2nd interface (RS485, IEC 60870-5-103)",null,null,null,null,null,null,null,null,null,null,null,null,null,null,null,null,null,null,7]
[]
["Protocol IEC61850, redundant connection 21)",null,"Protokoll IEC61850",null,null,null,null,null,null,null,null,null,null,null,null,null,null,null,-98]
["For connection to 100 Mbit/s Ethernet, glass fiber ST, SHP"]
["    and IRIG-B input for clock synchronization"]
["    and 2nd interface (RS485, IEC 60870-5-103)",null,null,null,null,null,null,null,null,null,null,null,null,null,null,null,null,null,null,1]
["For connection to Mbit/s MHz Ethernet, glass fiber ST, RSTP"]
["    and IRIG-B input for clock synchronization"]
["    and 2nd interface (RS485, IEC 60870-5-103)",null,null,null,null,null,null,null,null,null,null,null,null,null,null,null,null,null,null,2]
["For connection to 100 Mbit/s Ethernet, glass fiber ST, dual homing"]
["    and IRIG-B input for clock synchronization"]
["    and 2nd interface (RS485, IEC 60870-5-103)",null,null,null,null,null,null,null,null,null,null,null,null,null,null,null,null,null,null,3]
["For connection to 100 Mbit/s Ethernet, glass fiber ST, PRP"]
["    and IRIG-B input for clock synchronization"]
["    and 2nd interface (RS485, IEC 60870-5-103)",null,null,null,null,null,null,null,null,null,null,null,null,null,null,null,null,null,null,4]
[]
["With guidance / protection interface:",null,"mit Wirk-Schnittstelle:"]
["Without",null,"ohne",null,null,null,null,null,"Without order extension No."]
["Protocol InterMiCOM",null,"Protokoll InterMiCOM",null,null,null,null,null,null,null,null,null,null,null,null,null,null,null,null,null,-95]
["For connection to wire, RS485, isolated",null,"für Drahtanschluss, RS485, abgeriegelt",null,null,null,null,null,null,null,null,null,null,null,null,null,null,null,null,null,null,1]
["For connection to glass fiber, ST connector",null,"für Anschluss von Glasfaser, ST-Stecker",null,null,null,null,null,null,null,null,null,null,null,null,null,null,null,null,null,null,4]
["For connection to wire, RS232, isolated",null,"für Drahtanschluss, RS232, abgeriegelt",null,null,null,null,null,null,null,null,null,null,null,null,null,null,null,null,null,null,5]
[]
["Language:",null,"Sprache:"]
["English (German) 4)",null,"Englisch (Deutsch) 4)",null,null,null,null,null,"Without order extension No."]
["Px40 English (English) 4)",null,"Px40 Englisch (Englisch) 4)",null,null,null,null,null,null,null,null,null,null,null,null,null,null,null,null,null,null,null,-800]
["German (English) 4)",null,"Deutsch (Englisch) 4)",null,null,null,null,null,null,null,null,null,null,null,null,null,null,null,null,null,null,null,-801]
["French (English) 4)",null,"Französisch (Englisch) 4)",null,null,null,null,null,null,null,null,null,null,null,null,null,null,null,null,null,null,null,-802]
["Spanish (English) 4)",null,"Spanisch (Englisch) 4)",null,null,null,null,null,null,null,null,null,null,null,null,null,null,null,null,null,null,null,-803]
["Polish (English) 4)",null,"Polnisch (Englisch) 4)",null,null,null,null,null,null,null,null,null,null,null,null,null,null,null,null,null,null,null,-804]
["Russian (English) 4)  7)",null,"Russisch (Englisch) 4)  7)",null,null,null,null,null,null,null,null,null,null,null,null,null,null,null,null,null,null,null,-805]
["Chinese (English) 4) 20)",null,"Chinesisch (Englisch) 4) 20)",null,null,null,null,null,null,null,null,null,null,null,null,null,null,null,null,null,null,null,-806]
[]
[]
["2) Switching via parameter, default setting is underlined!",null,"2) Umschaltung durch Parameter, Grundeinstellung ist unterstrichen!"]
["3) This option is excluded if the InterMiCOM (-95x) is ordered",null,"3) Nicht möglich bei gleichzeitiger Bestellung der Wirkschnittstelle (BA-Nr. -95x)"]
["4) Second included language in brackets",null,"4) Zweite enthaltene Sprache in Klammern"]
["7) Hardware option, supports Cyrillic letters instead of special West. European characters",null,"7) Hardware Option, kyrillischer Zeichensatz anstelle Westeurop. Sonderzeichen unterstützt"]
["8) Standard variant recommended if higher pickup threshold not explicitly required by the application",null,"8) Standardvariante empfohlen, falls höhere Schaltschwelle nicht ausdrücklich von der Applikation gefordert"]
["10) Transient ground fault option for variants with current and voltage transformers only",null,"10) Option Erdschlusswischerbaustein nur möglich bei gleichzeitiger Bestellung von Strom- und Spannungswandler!"]
["19) Depend on the selected numbers of binary modules (6 binary inputs and 6 output relays); \n Use of High break contacts: 1-pole only "]
["20) Only 40T variants available with Chinese HMI",null,"20) Mit Chinesischem Display nur 40T-Gehäusevarianten lieferbar"]
["21) IEC61850 redundant connection with power supply options E to M only"]
["25) only for IEC 61850 Edition 1, no Cyber Security compatibility"]

{"sheet":"Configurator","index":2,"n_rows":39,"n_cols":20,"rows_kept":39,"cut":false,"hidden":false,"merged":[[38,6,38,11],[22,0,22,2],[4,0,4,2],[14,0,14,2],[5,0,5,2],[6,0,6,2],[4,5,4,6],[32,16,32,21],[3,5,3,6],[0,12,0,13],[16,0,16,2],[3,0,3,2],[4,11,4,14],[3,11,3,14]]}
["Latest version automatically displayed, for previous version enter date from \"Availability\" tab here ->",null,null,null,null,null,null,null,null,null,null,null,{"$f":"VLOOKUP(Tendering!$B$16,Database!$A$1:$C$14,3,FALSE)","v":"2017-12-16"}]
["Order form configurator",null,null,null,null,null,null,null,null,null,null,null,null,null,"MiCOM P139"]
[null,"ATEX",null,null,null,null,null,null,null,null,null,null,null,null,"Ready-to-use configuration"]
["1 - 4  ",null,null,"5","6",{"$f":"IF(F5=\"0\",\"7\",\" \")","v":"7"},null,{"$f":"IF(F5=\"0\",\"8\",\"7\")","v":"8"},{"$f":"IF(F5=\"0\",\"9\",\"8\")","v":"9"},{"$f":"IF(F5=\"0\",\"10\",\"9\")","v":"10"},{"$f":"IF(F5=\"0\",\"11\",\"10\")","v":"11"},{"$f":"IF(F5=\"0\",\"12  13\",\"11  12\")","v":"12  13"},null,null,null,{"$f":"IF(F5=\"0\",\"14\",\" \")","v":"14"},{"$f":"IF(F5=\"0\",\"15\",\" \")","v":"15"},{"$f":"IF(F5=\"0\",\"16\",\"13 14 15 \")","v":"16"},{"$f":"IF(F5=\"0\",\"17\",\" \")","v":"17"},{"$f":"IF(F5=\"0\",\"18\",\"16\")","v":"18"}]
["P139",null,null,{"$f":"$D$12","v":3},{"$f":"$D$14","v":6},{"$f":"HLOOKUP('Date Drivers'!$B$1,'Date Drivers'!$B$2:$B$173,172)","v":"0"},null,{"$f":"$D$17","v":4},{"$f":"$I$19","v":5},{"$f":"$D$21","v":"F"},{"$f":"$D$23","v":0},{"$f":"VLOOKUP(Codes!$A$2,Codes!$B$3:$C$32,2,FALSE)","v":"EK"},null,null,null,{"$f":"VLOOKUP(Tendering!$B$17,Database!$A$89:$D$91,3)","v":0},{"$f":"VLOOKUP(Tendering!$B$18,Database!$A$94:$D$98,3)","v":"2"},{"$f":"VLOOKUP(Database!$J$82,Database!$K$82:$N$103,3)","v":"E"},{"$f":"VLOOKUP(Tendering!$B$21,Database!$A$101:$D$104,4)","v":"0"},{"$f":"VLOOKUP(Tendering!$AC$22,Database!$A$107:$C$114,3)","v":"0"}]
["PCS  VARIANT                   P139",null,null,{"$f":"$D$12","v":3},{"$f":"$D$14","v":6},null,null,{"$f":"$D$17","v":4},{"$f":"$I$19","v":5},{"$f":"$D$21","v":"F"},{"$f":"$D$23","v":0},{"$f":"$D$24","v":"P"},{"$f":"$D$25","v":"A"},{"$f":"$D$26","v":"B"},{"$f":"$D$27","v":"B"},null,null,{"$f":"VLOOKUP(Tendering!$B$19,Database!$A$77:$D$80,4)","v":0},{"$f":"VLOOKUP(Database!$J$82,Database!$K$82:$N$90,4)","v":1},{"$f":"$D$39","v":"0"}]
["Feeder management (Protection and Control One Box Solution)  P139-",null,null,{"$f":"D5","v":3},{"$f":"E5","v":6},9,0,{"$f":"H5","v":4},{"$f":"I5","v":5},{"$f":"J5","v":"F"},{"$f":"K5","v":0},{"$f":"HLOOKUP('Date Drivers'!$B$1,'Date Drivers'!$B$2:$AI$37,36)","v":"-316"},{"$f":"VLOOKUP(Tendering!$B$9,Database!$A$22:$P$24,12)","v":"-426"},{"$f":"VLOOKUP(Tendering!$AC$22,Database!$A$117:$E$124,3)","v":"-661"},{"$f":"VLOOKUP(Tendering!$AC$22,Database!$A$117:$E$124,5)","v":"-702"},{"$f":"VLOOKUP(Tendering!$B$17,Database!$A$89:$D$91,4)","v":""},{"$f":"VLOOKUP(Tendering!$B$18,Database!$A$94:$D$98,4)","v":"-462"},{"$f":"VLOOKUP(Database!$J$82,Database!$K$82:$N$103,2)","v":"-921"},{"$f":"VLOOKUP(Tendering!$B$21,Database!$A$101:$D$104,3)","v":" "},{"$f":"VLOOKUP(Tendering!$AC$22,Database!$A$107:$D$114,4)","v":" "}]
["SAP Part Number",null,null,{"$f":"CONCATENATE(\"E139\",D5,E5,F5,H5,I5,J5,K5,L5,P5,Q5,R5,S5,T5)","v":"E13936045F0EK02E00"}]
["Version Requested"]
[]
["Basic device"]
[null,null,null,{"$f":"VLOOKUP(Tendering!$B$9,Database!$A$22:$C$24,3)","v":3}]
["Mounting option and display"]
[null,null,null,{"$f":"VLOOKUP(Tendering!$B$10,Database!$A$27:$C$34,3)","v":6}]
["Nominal current Inom=1.0A/5.0A (T1 to T4)                               ",null,null,9]
["Voltage transformer"]
[null,null,null,{"$f":"VLOOKUP(Tendering!B12,Database!A37:C40,3)","v":4}]
["Additional binary I/O options"]
[null,null,null,null,null,null,null,null,{"$f":"VLOOKUP(Tendering!B13,Database!A43:C44,3)","v":5}]
["Power supply and additional option"]
[null,null,null,{"$f":"Database!E46","v":"F"}]
["Further add. Options"]
[null,null,null,{"$f":"Database!$S$57","v":0}]
["Hardware Issue (Date dependent)",null,null,{"$f":"HLOOKUP('Date Drivers'!$B$1,'Date Drivers'!$B$2:$AI$37,35)","v":"P"}]
["Case Size / Ring or Pin",null,null,{"$f":"VLOOKUP(Tendering!$B$9,Database!$A$22:$P$24,13)","v":"A"}]
["Software Issue - Major (Date dependent)",null,null,{"$f":"VLOOKUP(Tendering!$AC$22,Database!$A$117:$E$124,2)","v":"B"}]
["Software Issue - Minor (Date dependent)",null,null,{"$f":"VLOOKUP(Tendering!$AC$22,Database!$A$117:$E$124,4)","v":"B"}]
[{"$f":"IF($L$7>\"-307\",\"Binary modules for control of switchgear units\",\"Customer Specific Options\")","v":"Binary modules for control of switchgear units"}]
[null,null,null,{"$f":"VLOOKUP(Tendering!$B$17,Database!$A$89:$D$91,3)","v":0}]
["Voltage Thresholds for Binary Inputs"]
[null,null,null,{"$f":"VLOOKUP(Tendering!$B$18,Database!$A$94:$D$98,3)","v":"2"}]
["SCADA Interfaces"]
[null,null,null,null,null,null,null,null,null,null,null,null,null,null,null,null,{"$f":"IF(D34=\"Q\",\"Available only for manufacture at SME\",\" \")","v":" "}]
["SCADA Interfaces continued …",null,null,{"$f":"VLOOKUP(Database!$J$82,Database!$K$82:$N$103,3)","v":"E"}]
[]
["Inter-MiCOM Interface"]
[null,null,null,{"$f":"VLOOKUP(Tendering!$B$21,Database!$A$101:$D$104,4)","v":"0"}]
["Language"]
[null,null,null,{"$f":"VLOOKUP(Tendering!$AC$22,Database!$A$107:$C$114,3)","v":"0"},null,null,{"$f":"IF(D39=\"6\",\"Available only for manufacture at WPF (China)\",\" \")","v":" "}]

{"sheet":"Master Text","index":3,"n_rows":30,"n_cols":1,"rows_kept":30,"cut":false,"hidden":false,"merged":[]}
[{"$f":"TRIM(CONCATENATE(\"P139-\",Configurator!$D$7,Configurator!$E$7,Configurator!$F$7,Configurator!$G$7,Configurator!$H$7,Configurator!$I$7,Configurator!$J$7,Configurator!$K$7,Configurator!$L$7,Configurator!$M$7,Configurator!$N$7,Configurator!$O$7,Configurator!$P$7,Configurator!$Q$7,Configurator!$R$7,Configurator!$S$7,Configurator!$T$7))","v":"P139-369045F0-316-426-661-702-462-921"}]
[]
["Feeder management (Protection and Control One Box Solution)"]
[]
["Basic device :"]
[{"$f":"CONCATENATE(\"  \",VLOOKUP(Tendering!$B$9,Database!$A$22:$B$24,2),\", \",HLOOKUP('Date Drivers'!$B$1,'Date Drivers'!$B$2:$AI$206,205),HLOOKUP('Date Drivers'!$B$1,'Date Drivers'!$B$2:$AI$207,206),HLOOKUP('Date Drivers'!$B$1,'Date Drivers'!$B$2:$AI$210,207),HLOOKUP('Date Drivers'!$B$1,'Date Drivers'!$B$2:$AI$209,208))","v":"  Basic device 40TE, pin terminal connection, basic complement with 4 binary inputs and 8 output relays and 6 binary inputs and 6 output relays (2-pole) for the control of 3 switchgear units."}]
["Mounting option and display :"]
[{"$f":"CONCATENATE(\"  \",VLOOKUP(Tendering!$B$10,Database!$A$27:$B$34,2))","v":"  Flush-mounted, local control panel with serial graphic display"}]
["Voltage transformer :"]
[{"$f":"CONCATENATE(\"  \",VLOOKUP(Tendering!$B$12,Database!$A$37:$B$40,2))","v":"  Vnom = 50V to 130V (4-pole)"}]
["Current transformer :"]
["  Inom = 1 / 5A (NCIT : 22.5 mV at 50A)"]
["Additional binary I/O options :"]
[{"$f":"CONCATENATE(\"  \",VLOOKUP(Tendering!$B$13,Database!$A$43:$B$44,2))","v":"  With 1 binary module (add. 6 binary inputs and 6 output relays (2-pole)) for the control of up to 3 add'l switchgear units"}]
["Power supply and additional outputs :"]
[{"$f":"CONCATENATE(\"  \",VLOOKUP(Tendering!$B$14,Database!$A$47:$B$56,2))","v":"  60 ... 250Vdc/100 ... 230Vac"}]
["Further add. Options :"]
[{"$f":"CONCATENATE(\"  \",VLOOKUP(Tendering!$B$15,Database!$A$59:$B$74,2))","v":"  None"}]
[{"$f":"CONCATENATE(Configurator!$A$28,\" :\")","v":"Binary modules for control of switchgear units :"}]
[{"$f":"CONCATENATE(\"  \",VLOOKUP(Tendering!$B$17,Database!$A$89:$B$91,2))","v":"  Two modules without high break contacts"}]
["Switching threshold on binary inputs :"]
[{"$f":"CONCATENATE(\"  \",VLOOKUP(Tendering!$B$18,Database!$A$94:$B$98,2))","v":"  Special variant with switching threshold at 65% of 250 VDC (Va,nom)"}]
["SCADA Interfaces :"]
[{"$f":"CONCATENATE(\"  \",VLOOKUP(Tendering!$B$19,Database!$A$77:$B$80,2),\" \",VLOOKUP(Tendering!$B$20,Database!$A$83:$B$86,2))","v":"  Protocol can be switched between: IEC 60870-5-101/-103, Modbus, DNP3.0, Courier and IRIG-B for clock synchronisation and 2nd interface (RS485, IEC 60870-5-103) for connection to wire, RS485, isolated"}]
["Inter-MiCOM Interface :"]
[{"$f":"CONCATENATE(\"  \",VLOOKUP(Tendering!$B$21,Database!$A$101:$B$104,2))","v":"  None"}]
["Language :"]
[{"$f":"CONCATENATE(\"  \",VLOOKUP(Tendering!$AC$22,Database!$A$107:$B$114,2))","v":"  English (German)"}]
[]
["ATEX II (2) G"]

{"sheet":"Change Log","index":4,"n_rows":165,"n_cols":2,"rows_kept":165,"cut":false,"hidden":false,"merged":[]}
["2018-01-01","Obsolescence actions : software pre 650 removed from offer"]
["2017-11-28","HKRA-ARJEXL: Release of 660-713 software version & removal of 711 version from offer"]
["2017-08-08","HKRA-APV7K7: Release of Ethernet Board 2 options with H/W 316 and associated S/W version 660-711"]
["2017-03-31","HKRA-AKFCU2: Obsolescence of older software versions actioned ; all pre 650, with exception of 614-731, are removed from offer"]
["2017-02-24","HKRA-AJDBAJ: 657-701 software version released"]
["2017-01-26","HKRA-AGPDYX: 657 software version released"]
["2016-04-21","BPET-A83DSG: 656 software release"]
["2015-10-26","BPET-A3JDET : Polish (804) data model added to 655-701 release"]
["2015-09-24","BPET-9ZLFBX : Software release 655-701"]
["2015-03-12","BPET-9U2D5T : Language release 653-805 (Russian) and 654-804 (Polish)"]
["2015-02-16","BPET-9SZGVE : Releases HW/SW 315-654 with inclusion of 6I / 8O ordering options - BOM removed from file as available on SAP and internal After Sales tool"]
["2015-01-22","VMAC-9Q6AET : Releases HW/SW 311-653 with PRP options"]
["2014-08-27","Per VMAC-9N89QG - SW version 634-741 released"]
["2014-08-18","Per HKRA-9MZCNF - option of RTD module with binary module fitted in Slot 7 on SW version 634 is withdrawn from offer"]
["2014-06-18","Per BPET-9KYH6S SW 652 is withdrawn ; SW 652-701 is released"]
["2014-04-29","As per HKRA-9J3DH3 order option VT/CT board 4x1/5A (Ring Terminal) on 84TE case size with SW version 650-701 is withdrawn from offer"]
["2014-04-10","Obsolescence warnings added to pre -313 HW versions as per December 2013 Obsolescence Notice"]
["2014-04-03","French & Polish data models released on 313-652 as per VMAC-9HSGDA"]
["2014-03-27","SW release 313-652 as per VMAC-9H6GXJ"]
["2013-11-07","SW release 313-651-701 as per VMAC-9C2BTG & Chinese language reintegrated for 309-633 SW/HW as per HKRA-9C38XJ"]
["2013-08-21","VMAC-9AHHVZ releases Polish language version on 313-651 ; VMAC-99AGDR releases 312-634-738"]
["2013-08-16","VMAC-999C8S releases 308-618-739"]
["2013-08-14","VMAC-99MG9M releases 313-650-701"]
["2013-07-23","Per CBEN-94DRUS HMI update ... A05001193 replaces 9651909"]
["2013-07-15","Per TBEA-99FCRX New DREB modules added for rejuvenated processor"]
["2013-07-04","As per HKRA-999ARJ SW 650 removed from offer"]
["2013-06-28","SW 310.651 released as per VMAC-97ZG9R"]
["2013-06-28","Rejuvenated processor PCBA, 9651571, introduced as per CBEN-8Z6EBR"]
["2013-04-05","SW release P139.312.634.737 as per VMAC-962BF7"]
["2013-03-04","SW release P139.312.634.736 as per VMAC-94TDBZ"]
["2013-01-07","Per TBEA-8X6BXC EA05000818 replaces E9652025 & per TBEA-8X5K8S EA05000794 replaces E9651831"]
["2012-08-22","SW release P139.312.634.735 as per VMAC-8V8HVF"]
["2012-08-14","Site manufacturing capability updated"]
["2012-07-16","Triac Module (digit #10 = 6 or 7) removed from offer as per Obsolescence Program"]
["2012-05-08","Update to terminal block connections as per CBEN-8TYLUX"]
["2012-05-03","Obsolescence warning added to Triac Module (digit #10 = 6 or 7)"]
["2012-04-02","InterMiCOM order extension \"-952\" removed from offer"]
["2012-03-17","HW release 312-634 inclusion of redundant ethernet options as per CBEN-8PDH6C / SW release 634.732 on VMAC-8QSCWU"]
["2012-03-06","SW release P139.308.618.734 as per VMAC-8QSDXT"]
["2012-02-19","Obsolescence warning added to InterMiCOM order extension \"-952\" as per latest obsoletion notice"]
["2012-02-13","Tendering sheet added"]
["2012-01-04","HW/SW Release 311-634 inclusion of PSU2 options as per VMAC-8NVDNY"]
["2011-12-07","SW release P139.307.631 as per VMAC-8LFAQQ"]
["2011-11-24","SW/HW release P139.310.634 including addition of \"Analog and Binary Module\" and \"Two Binary Module\" options plus new InterMiCOM boards as per VMAC-8LQGEH"]
["2011-11-14","SW P139.618-729 released as per VMAC-8LF9SB"]
["2011-08-10","SW P139.613-717 reintegrated to cortec"]
["2011-06-30","SW P139.630 reintegrated to cortec"]
["2011-06-20","SW P139.614 reintegrated to cortec"]
["2011-06-12","Additional language options added to rebranded SW versions per VMAC-8HKC6Y [Spanish available on 618 ; Spanish, Polish & Chinese available on 633]"]
["2011-06-06","Rationalised SW availability actioned"]
["2011-05-06","Realignment of SW and language versions to ensure latest versions are displayed as default on selection"]
["2011-03-08","As per VMAC-8DJC3L, 308-618 at 07.03.11 and 309-633 at 08.03.11 released"]
["2010-11-10","HMI assemblies amended, 40TE was showing as 9651831, now rectified to 9650320, as was incorrect in error"]
["2010-09-17","SW Release 307-614-728 as per VMAC-89DCJ6"]
["2010-09-14","SW Release 309-632 as per VMAC-88THEF, invalidates all 631 SW versions"]
["2010-08-31","SW Release 308-617-727 as per VMAC-88HAFR"]
["2010-07-26","SW Release 307-614-725 at nominal date of 01/05/10 as per VMAC-87DHAH"]
["2010-07-19","SW Release 308-617 at nominal date of 16/03/10 as per VMAC-873G8U"]
["2010-05-13","IRIG-B option removed from configurator as per HKRA-85895E"]
["\" \"","SW Release 309-631-726 as per VMAC-84ZAH5"]
["2010-03-17","VMAC-7Y4FQK releases 309HW with 631SW as well as releasing the Chinese data model"]
["2010-02-08","SW Release 308-616-724 as per VMAC-82GHP6"]
["2009-10-16","VMAC-7WCGND releases Polish language "]
["2009-09-08","SW Release 307-614-723 at nominal date of 14/07/09 as per VMAC-7VHC33"]
["2009-07-20","SW Release 307-614-722 at nominal date of 13/07/09 as per VMAC-7TTH85"]
["2009-06-22","Ribbon cables incorrect on BOM for DHMI versions (flush mounted) "]
["2009-06-08","SW Release 308-616 at nominal date of 07/06/09 as per VMAC-7SHBNF "]
["2009-04-27","SW Release 307-614-721 at nominal date of 23/04/09 as per VMAC-7RDANF "]
["2009-04-27","Textual amendments to clarify 1-pole & 2-pole for 308 HW 6I6O boards "]
["2009-04-20","Power supplies missed in error on A10 document for 6I/3O and 4BOH options, corrected as per V.Mach e-mail 14th Apr"]
["2009-04-10","Flash guard rules amended as per BTAB-7QHCSD "]
["2009-04-01","Textual amendments to HW 308 cortec (CP above) as per CBEN-7Q8L4G"]
["2009-02-16","SW Release 307-614-720 at nominal date of 03/02/09 as per VMAC-7NWHZF "]
["2009-01-26","SW/HW Release 308-630 as per VMAC-7N9GDT, release of BI6BO3, BI6BO6 and BO4HeavyDuty options"]
["2008-10-08","SW Release 307-614-719 as per VMAC-7J7G36 "]
["2008-07-31","SW Release 307-614-718 as per VMAC-7GNC7D, also released for 802 and 805 language options"]
["2008-07-09","SW Release 307-612-714 at nominal date of 31/07/07 (i.e. before 613 entry) as per CID VMAC-7FZH5A"]
["2008-06-06","SW Release 307-614-803 as per CID VMAC-7F8B6L"]
["2008-06-05","SW Release 307-613-717-802/803 as per CID VMAC-7F8A8U"]
["2008-02-18","SW Release 307-614-801 as per CID VMAC-7BEHWQ "]
["2008-02-15","SW Release 307-613-717-801 as per CID VMAC-7BSHDN "]
["2007-11-19","SW Release 307-613-716-801/802 as per CID VMAC-78ZDMW, Ethernet option withdrawn for 613-713 version above"]
["2007-08-01","SW Release 307-613-713-801/802 as per CID VMAC-75NBBX, invalidating 307-613-801/802"]
["2007-07-10","SW Release 307-613-801/802 as per CID VMAC-74YFLV "]
["2007-05-21","Retrospective change to Date Drivers to add \"Courier\" to protocol list for cortec codes \"-92x\" "]
["2007-02-08","SW Release 307-612-712-801/2/3 as per CID VMAC-6Y8HRJ, this invalidates the Ethernet options on SW version 307-612-710-801/2/3 on entry CB (above) "]
["2007-02-07","SW Release 306-611-711-801/2/3 as per CID VMAC-6Y8HBE, this invalidates the Ethernet options on SW version 306-611-709-801/2/3 on entry BX (above)"]
["2007-01-23","SW/HW Release 307-411/412/413-612-710 for English/German, German/English and French/English versions. DHMI option released. Both as per CID VMAC-6UBF96 "]
["2006-11-11","Formulae on BOM amended to ensure correct part numbers (those in red) line up with the correct descriptions and reference points"]
["2006-11-04","Retrospective change to ensure that all available versions use the 18 digit numbering sequence first activated using issue P (above) to ensure all options can be added to SAP configuration"]
["2006-10-26","Correction to version \"BX\" to add French & Spanish language to Configurator by amending conditional staements on Date Drivers"]
["2006-10-16","BOM corrected retrospectively to remove Ethernet boards incorrectly selected for switched IEC 60870 "]
["2006-10-16","Retrospective release of HW/SW -306-611-709 for English/German/French and Spanish languages. CID VMAC-6UAA7T "]
["2006-09-13","Surface mount option added retrospectively to connection type 5 as was excluded in error"]
["2006-07-07","Date Drivers corrected to exclude Switching Thresholds >73V and >146V with Russian language. See CID \"CBEN-6QJJ5G\" "]
["2006-06-19","IEC61850 with 10Mbit/s or 100Mbit/s, Switching Thresholds >73V and >146V, Languages now English/ German/ French/ Spanish/ Russian, with HW/SW -306/-408 or -409 or -410/-611. See CID \"CBEN-6QJJ5G\" "]
["2006-05-23","Screw changes as per CDN R6027"]
["2006-04-27","Entry \"BF\" (above) incorrectly listed with 305 hardware, amended to now read \"F/-306\" hardware "]
["2006-04-21","Retrospective change to date Drivers to replace 25MHz Processor by 33MHz Processor. CDN R 5492 "]
["2006-02-24","On BOM for 40TE ring transformer/pin IO version: 1 off ZB9031948 added and base quantity of ZB9031991 changed from 7 to 6 "]
["2006-01-25","Date Drivers and Database changed to correct Case notation logic for all languages except English & German which were incorrectly based on 1 date of 20/07/2004 "]
["2006-01-16","Date Drivers and Database changed to correct Case notation logic for all languages except English & German which were incorrectly based on 1 date of 20/07/2004 "]
["2006-01-05","Date Drivers changed to reflect selection of Areva liveried variants for 19/07/2004 in BOM"]
["2005-11-10","Correction to previous amendment (Hardware version was incorrectly shown as \"303\") : CDN R 5779 & changes to PCS digits 12&13 for \"801\" language "]
["2005-11-10","Hardware version \"304\" with software \"605-703\" released for \"805\" language option: CDN R 5784 "]
["2005-11-09","Hardware version \"304\" with software \"605\" released for \"805\" language option: CDN R 5779 "]
["2005-10-15","Rules amended on ZB9031902 and ZB9031250 + 251 on Inter MiCOM options "]
["2005-07-08","Amendment to retrospective correction to Hardware version \"305\", documents \"408/409/410\" and software \"610\" released for one day only (31/05/05) to include Minor Software \"-704\" (previously \"blank\")"]
["2005-07-06","337750 blanking plate rules altered to account for interMiCOM variants "]
["2005-06-16","Retrospective correction to Hardware version \"305\", documents \"408/409/410\" and software \"610\" released for one day only (31/05/05) as well as Ethernet comms options. 40TE was -410/J & 84TE was- 409/H in error "]
["2005-06-02","Where comms 9650354 or 9650355 are called up the external COM2 connector changed from ZB9031250 to ZB9031936 and cable housing ZB9031251 removed as per CDN R5549 "]
["2005-06-01","Hardware version \"305\", documents \"408/409/410\" and software \"610\" released for one day only (31/05/05) as well as Ethernet comms options "]
["2005-04-20","Processor 9650135 to be used on all model options from hardware/software revision \"304-605\" onwards as per CDN R5492"]
["2005-04-20","On BOM 9650284 now called up against all 40TE variants"]
["2005-04-14","Inter-MiCOM option retrospectively amended so only available from software release \"E-/605\" as per C.Benedix e-mail instructions dated 13/4/05"]
["2005-04-07","GN9062001AREVA Label Set added to BOM CDN R5446 "]
["2005-02-21","Software revision \"605-703\" is released to production for English/German & German/English variants as per CDN R5408 "]
["2005-01-21","Note regarding Inom for NCIT variants added to Master Text & note #9 added to Cortec against Current Transformer detail "]
["2005-01-04","Transient ground fault option requirement for CT & VT Boards added "]
["2004-11-09","CT/VT Boards with NCIT option displayed with non-available message"]
["2004-11-04","Spanish language option re-added (was \"Not Yet Available\" in error effective 04/10/04) "]
["2004-11-03","Rules changed on routing values to increase test times for non-standard voltage thresholds, InterMiCOM made not available with RTD "]
["2004-11-01","Areva version of \"-304-405-604\" Hardware/Software dating from 19/07/04 added with code \"MN\". BOM changes made manually in SAP ONLY! "]
["2004-10-19","Correction of BOM lookup line numbers for 84TE Areva items "]
["2004-09-30","One Day Only Entry (04/10/04) created for NCIT option on 304-605 software versions as per verbal request from N. Richardson"]
["2004-08-05","Routing sheet bought into line with CDN R5074, pin & ring now both heatsoaked"]
["2004-07-28","Lower Vn rating for models to read 24 Vdc, was 24 ---36 Vdc. (This change is applied retrospectively). Livery options included "]
["2004-07-20","One Day Only Entry (19/07/04) created for RTD option on 304-604 software versions as per e-mail request from N. Richardson"]
["2004-06-16","Nominal Current added to Master Text Sheet "]
["2004-06-16","Inter-MiCOM option released as per CDN R3947/163"]
["2004-05-03","Correction to Date Drivers for SCADA Interfaces continued "]
["2004-04-22","9650460 added to BOM for flush case option, components added for surface mounted version, CDN R3947/155 "]
["2004-04-21","Date Drivers amanded to retrospectively include \"-301-401-601\" AFS (or \"A1A\" PCS) variant with \"theoretical date of 19/02/02 "]
["2004-04-19","RTD option changed to \"7/8/9\" from \"6/7/8\" as per confirmation from Christoph Bennauer/Neil Richardson e-mail dated "]
["2004-03-17","RTD module option added to \"-304/-605\" variants as per instructions via Neil Richardson e-mail"]
["2004-03-17","Case Sizes \"E/F/G/-405/-406/-407\" released for \"-304/-605\" variants as per Neil Richardson instructions "]
["2004-02-10","Quantities of Blanking Plate 337750 corrected"]
["2004-01-23","Power supply and additional option titles were \"24Vdc\""]
["2004-01-22","Case Sizes were \"E/F/G/-405/-406/-407\" in error "]
["2004-01-20","Hardware \"303\" with Software \"604\" released for \"Russian/English\" "]
["2004-01-19","Case Sizes were \"B/C/D/-402/-403/-404\" "]
["2004-01-08","English(German) & German(English) language variants : Hardware was \"C/-303\" & Major Software was \"D/-604) - CDN R4099/50 "]
["2003-12-15","Slot Positions amended on BOM, Slot 02 now equals Slot 22, 30 = Slot 24 Z, 32 = Slot 40, 50 = Slot 45"]
["2003-10-14","Various Sundry items replaced by pack number"]
["2003-07-01","Quantities of ZB9031250 & ZB9031251 were 1 wherever used "]
["2003-05-21","GN9011045 replaces GN9010045, there in error "]
["2003-05-14","GN9062001 removed from BOM, there in error "]
["2003-05-06","IEC60870-5-103 removed from SCADA interface options, was there in error "]
["2003-05-02","Spanish/English language (-303-604-803) version added "]
["2003-04-29","Screw quantities replaced with standard set for different case sizes "]
["2003-04-16","Customer specific options, Voltage Thresholds, Inter-MiCOM option added to configurator, Number sequence changed, now uses full 18 digits, ZB4018220 replaced with ZB5867050, GN9011045 added to BOM"]
["2003-04-14","French/English language (-303-601-802) version added "]
["2003-01-20","Hardware and Software issues raised except for russian"]
["2002-11-26","Major and Minor Software issues amended for languages"]
["2002-11-22","ZB5321111 replaced with ZB5321076"]
["2002-11-15","YS7001357 added to BOM "]
["2002-10-08","Minor Software was \"C/-703\" in error "]
["2002-09-10","Major software was \"B/-602\" "]
["2002-08-24","Polish & Russian added BUT only Russian available "]
["2002-08-12","Minor Software was \"A/-701\" "]
["2002-07-01","BOM replaces Parts List "]
["2002-05-14","GN0027003 was GN0227002 for module 9650322 "]
["2001-11-29","ZB9031948 was ZB9031984 in error ; Various screws added/changed. Slot2 Guard Angle was Double Blanking Plate "]
["2001-11-24","PCS Variant changed "]
["2001-11-19","Original "]

{"sheet":"BOM","index":5,"n_rows":1112,"n_cols":20,"rows_kept":1112,"cut":false,"hidden":false,"merged":[[0,1,0,11]]}
[null,"Requirements Key(s) / # of digit in model number",null,null,null,null,null,null,null,null,null,null,"Requirements Keys","Attribute Keys","NUMBER","DESCRIPTION","Position","Qty.","Qty. Required","Position Reference"]
[{"$f":"CONCATENATE(\"P139\",Configurator!$D$5,Configurator!$E$5,Configurator!$F$5,Configurator!$H$5,Configurator!$I$5,Configurator!$J$5,Configurator!$K$5,Configurator!$L$5,Configurator!$P$5,Configurator!$Q$5,Configurator!$R$5,Configurator!$S$5,Configurator!$T$5)","v":"P13936045F0EK02E00"},5,6,8,9,10,11,14,15,16,17,18]
[null,{"$f":"MID($A$2,5,1)","v":"3"},null,null,null,null,null,null,null,null,null,null,{"$f":"B3","v":"3"},"3","E0336187","Digital PCB Bus (40TE)",{"$f":"HLOOKUP('Date Drivers'!$B$1,'Date Drivers'!$B$2:$AI$188,184)","v":30},1,{"$f":"IF(AND($M3<>\"\",$M3=$N3),$R3,\"\")","v":1},{"$f":"IF(AND($M3<>\"\",$M3=$N3),$Q3,\"\")","v":30}]
[null,"3",null,null,null,null,null,null,null,null,null,null,{"$f":"B4","v":"3"},"5","E0336187","Digital PCB Bus (40TE)",{"$f":"HLOOKUP('Date Drivers'!$B$1,'Date Drivers'!$B$2:$AI$188,184)","v":30},1,"",""]
[null,"3",null,null,null,null,null,null,null,null,null,null,{"$f":"B5","v":"3"},"8","E0336188","Digital PCB Bus (84TE)",{"$f":"HLOOKUP('Date Drivers'!$B$1,'Date Drivers'!$B$2:$AI$188,184)","v":30},1,"",""]
[null,"3",null,null,null,{"$f":"MID($A$2,10,1)","v":"F"},null,null,null,null,null,null,{"$f":"CONCATENATE(B6,F6)","v":"3F"},"38","E0336973","6O Input Output PCB","SLOT 10",1,"",""]
[null,"3",null,null,null,"F",null,null,null,null,null,null,"3F","39","E0336973","6O Input Output PCB","SLOT 10",1,"",""]
[null,"3",null,null,null,"F",null,null,null,null,null,null,"3F","58","E0336973","6O Input Output PCB","SLOT 10",1,"",""]
[null,"3",null,null,null,"F",null,null,null,null,null,null,"3F","59","E0336973","6O Input Output PCB","SLOT 10",1,"",""]
[null,"3",null,null,null,"F",null,null,null,null,null,null,"3F","88","E0336973","6O Input Output PCB","SLOT 18",1,"",""]
[null,"3",null,null,null,"F",null,null,null,null,null,null,"3F","89","E0336973","6O Input Output PCB","SLOT 18",1,"",""]
[null,"3",null,null,null,{"$f":"MID($A$2,10,1)","v":"F"},null,null,null,null,null,null,{"$f":"CONCATENATE(B12,F12)","v":"3F"},"3G","E0336973","6O Input Output PCB","SLOT 10",1,"",""]
[null,"3",null,null,null,"F",null,null,null,null,null,null,"3F","3H","E0336973","6O Input Output PCB","SLOT 10",1,"",""]
[null,"3",null,null,null,"F",null,null,null,null,null,null,"3F","5G","E0336973","6O Input Output PCB","SLOT 10",1,"",""]
[null,"3",null,null,null,"F",null,null,null,null,null,null,"3F","5H","E0336973","6O Input Output PCB","SLOT 10",1,"",""]
[null,"3",null,null,null,"F",null,null,null,null,null,null,"3F","8G","E0336973","6O Input Output PCB","SLOT 18",1,"",""]
[null,"3",null,null,null,"F",null,null,null,null,null,null,"3F","8H","E0336973","6O Input Output PCB","SLOT 18",1,"",""]
[null,null,null,null,null,"F",null,null,null,null,null,null,{"$f":"F18","v":"F"},"E","E2071921","Flash Guard for C18 on LV PSU"," ",1,"",""]
[null,null,null,null,null,"F",null,null,null,null,null,null,{"$f":"F19","v":"F"},"G","E2071921","Flash Guard for C18 on LV PSU"," ",1,"",""]
[null,null,null,null,null,"F",null,null,null,null,null,null,{"$f":"F20","v":"F"},"J","E2071921","Flash Guard for C18 on LV PSU"," ",1,"",""]
[null,null,null,null,null,"F",null,null,null,null,null,null,{"$f":"F21","v":"F"},"L","E2071921","Flash Guard for C18 on LV PSU"," ",1,"",""]
[null,null,null,null,null,null,{"$f":"MID($A$2,11,1)","v":"0"},null,null,null,null,null,{"$f":"CONCATENATE(B22,G22,I22)","v":"0"},"C",{"$f":"IF(MID($A$2,15,1)=\"0\",\"E0336971\",IF(MID($A$2,15,1)=\"3\",\"E9651306\",IF(MID($A$2,15,1)=\"1\",\"E9651334\",IF(MID($A$2,15,1)=\"2\",\"E9651362\",\"E9651445\"))))","v":"E9651362"},"6I/8O Input Output PCB",{"$f":"IF(MID($A$2,5,1)=\"8\",\"SLOT 16\",\"SLOT 08\")","v":"SLOT 08"},1,"",""]
[null,null,null,null,null,null,"0",null,null,null,null,null,{"$f":"CONCATENATE(B23,G23,I23)","v":"0"},"D",{"$f":"IF(MID($A$2,15,1)=\"0\",\"E0336971\",IF(MID($A$2,15,1)=\"3\",\"E9651306\",IF(MID($A$2,15,1)=\"1\",\"E9651334\",IF(MID($A$2,15,1)=\"2\",\"E9651362\",\"E9651445\"))))","v":"E9651362"},"6I/8O Input Output PCB",{"$f":"IF(MID($A$2,5,1)=\"8\",\"SLOT 16\",\"SLOT 08\")","v":"SLOT 08"},1,"",""]
[null,null,null,null,null,null,"0",null,null,null,null,null,{"$f":"CONCATENATE(B24,G24,I24)","v":"0"},"E",{"$f":"IF(MID($A$2,15,1)=\"0\",\"E0336971\",IF(MID($A$2,15,1)=\"3\",\"E9651306\",IF(MID($A$2,15,1)=\"1\",\"E9651334\",IF(MID($A$2,15,1)=\"2\",\"E9651362\",\"E9651445\"))))","v":"E9651362"},"6I/8O Input Output PCB",{"$f":"IF(MID($A$2,5,1)=\"8\",\"SLOT 16\",\"SLOT 08\")","v":"SLOT 08"},1,"",""]
[null,null,null,null,null,null,"0",null,null,null,null,null,{"$f":"CONCATENATE(B25,G25,I25)","v":"0"},"F",{"$f":"IF(MID($A$2,15,1)=\"0\",\"E0336971\",IF(MID($A$2,15,1)=\"3\",\"E9651306\",IF(MID($A$2,15,1)=\"1\",\"E9651334\",IF(MID($A$2,15,1)=\"2\",\"E9651362\",\"E9651445\"))))","v":"E9651362"},"6I/8O Input Output PCB",{"$f":"IF(MID($A$2,5,1)=\"8\",\"SLOT 16\",\"SLOT 08\")","v":"SLOT 08"},1,"",""]
[null,null,null,null,null,null,"0",null,null,null,null,null,{"$f":"CONCATENATE(B26,G26,I26)","v":"0"},"G",{"$f":"IF(MID($A$2,15,1)=\"0\",\"E0336971\",IF(MID($A$2,15,1)=\"3\",\"E9651306\",IF(MID($A$2,15,1)=\"1\",\"E9651334\",IF(MID($A$2,15,1)=\"2\",\"E9651362\",\"E9651445\"))))","v":"E9651362"},"6I/8O Input Output PCB",{"$f":"IF(MID($A$2,5,1)=\"8\",\"SLOT 16\",\"SLOT 08\")","v":"SLOT 08"},1,"",""]
[null,null,null,null,null,null,"0",null,null,null,null,null,{"$f":"G27","v":"0"},"1","E0337086","Transient Ground PCB","SLOT 03",1,"",""]
[null,null,null,null,null,null,"0",null,null,null,null,null,{"$f":"G28","v":"0"},"3","E0337086","Transient Ground PCB","SLOT 03",1,"",""]
[null,null,null,null,null,null,"0",null,null,null,null,null,{"$f":"G29","v":"0"},"5","E0337086","Transient Ground PCB","SLOT 03",1,"",""]
[null,null,null,null,null,null,"0",null,null,null,null,null,{"$f":"G30","v":"0"},"G","E0337086","Transient Ground PCB","SLOT 03",1,"",""]
[null,{"$f":"MID($A$2,5,1)","v":"3"},null,null,null,{"$f":"MID($A$2,10,1)","v":"F"},null,null,{"$f":"MID($A$2,15,1)","v":"2"},null,null,null,{"$f":"CONCATENATE(B31,F31,I31)","v":"3F2"},"340","E0337191","Power Supply 48-250V 4I/8O 18V/Universal","SLOT 09",1,"",""]
[null,"3",null,null,null,"F",null,null,"2",null,null,null,"3F2","3B0","E0337191","Power Supply 48-250V 4I/8O 18V/Universal","SLOT 09",1,"",""]
[null,"3",null,null,null,"F",null,null,"2",null,null,null,"3F2","3D0","E0337191","Power Supply 48-250V 4I/8O 18V/Universal","SLOT 09",1,"",""]
[null,"3",null,null,null,"F",null,null,"2",null,null,null,"3F2","5B0","E0337191","Power Supply 48-250V 4I/8O 18V/Universal","SLOT 09",1,"",""]
[null,"3",null,null,null,"F",null,null,"2",null,null,null,"3F2","5D0","E0337191","Power Supply 48-250V 4I/8O 18V/Universal","SLOT 09",1,"",""]
[null,"3",null,null,null,"F",null,null,"2",null,null,null,"3F2","8B0","E0337191","Power Supply 48-250V 4I/8O 18V/Universal","SLOT 20",1,"",""]
[null,"3",null,null,null,"F",null,null,"2",null,null,null,"3F2","8D0","E0337191","Power Supply 48-250V 4I/8O 18V/Universal","SLOT 20",1,"",""]
[null,"3",null,null,null,"F",null,null,"2",null,null,null,"3F2","370","E0337191","Power Supply 48-250V 4I/8O 18V/Universal","SLOT 09",1,"",""]
[null,"3",null,null,null,"F",null,null,"2",null,null,null,"3F2","390","E0337191","Power Supply 48-250V 4I/8O 18V/Universal","SLOT 09",1,"",""]
[null,"3",null,null,null,"F",null,null,"2",null,null,null,"3F2","540","E0337191","Power Supply 48-250V 4I/8O 18V/Universal","SLOT 09",1,"",""]
[null,"3",null,null,null,"F",null,null,"2",null,null,null,"3F2","570","E0337191","Power Supply 48-250V 4I/8O 18V/Universal","SLOT 09",1,"",""]
[null,"3",null,null,null,"F",null,null,"2",null,null,null,"3F2","590","E0337191","Power Supply 48-250V 4I/8O 18V/Universal","SLOT 09",1,"",""]
[null,"3",null,null,null,"F",null,null,"2",null,null,null,"3F2","840","E0337191","Power Supply 48-250V 4I/8O 18V/Universal","SLOT 20",1,"",""]
[null,"3",null,null,null,"F",null,null,"2",null,null,null,"3F2","870","E0337191","Power Supply 48-250V 4I/8O 18V/Universal","SLOT 20",1,"",""]
[null,"3",null,null,null,"F",null,null,"2",null,null,null,"3F2","890","E0337191","Power Supply 48-250V 4I/8O 18V/Universal","SLOT 20",1,"",""]
[null,{"$f":"MID($A$2,5,1)","v":"3"},null,null,null,{"$f":"MID($A$2,10,1)","v":"F"},null,null,{"$f":"MID($A$2,15,1)","v":"2"},null,null,null,{"$f":"CONCATENATE(B46,F46,I46)","v":"3F2"},"3F0","E9651544","Power Supply 60-250V 4I/8O 18V/Universal","SLOT 09",1,{"$f":"IF(AND($M46<>\"\",$M46=$N46),$R46,\"\")","v":""},{"$f":"IF(AND($M46<>\"\",$M46=$N46),$Q46,\"\")","v":""}]
[null,"3",null,null,null,"F",null,null,"2",null,null,null,"3F2","3H0","E9651544","Power Supply 60-250V 4I/8O 18V/Universal","SLOT 09",1,"",""]
[null,"3",null,null,null,"F",null,null,"2",null,null,null,"3F2","3K0","E9651544","Power Supply 60-250V 4I/8O 18V/Universal","SLOT 09",1,"",""]
[null,"3",null,null,null,"F",null,null,"2",null,null,null,"3F2","3M0","E9651544","Power Supply 60-250V 4I/8O 18V/Universal","SLOT 09",1,"",""]
[null,"3",null,null,null,"F",null,null,"2",null,null,null,"3F2","5F0","E9651544","Power Supply 60-250V 4I/8O 18V/Universal","SLOT 09",1,"",""]
[null,"3",null,null,null,"F",null,null,"2",null,null,null,"3F2","5H0","E9651544","Power Supply 60-250V 4I/8O 18V/Universal","SLOT 09",1,"",""]
[null,"3",null,null,null,"F",null,null,"2",null,null,null,"3F2","5K0","E9651544","Power Supply 60-250V 4I/8O 18V/Universal","SLOT 09",1,"",""]
[null,"3",null,null,null,"F",null,null,"2",null,null,null,"3F2","5M0","E9651544","Power Supply 60-250V 4I/8O 18V/Universal","SLOT 09",1,"",""]
[null,"3",null,null,null,"F",null,null,"2",null,null,null,"3F2","8F0","E9651544","Power Supply 60-250V 4I/8O 18V/Universal","SLOT 20",1,"",""]
[null,"3",null,null,null,"F",null,null,"2",null,null,null,"3F2","8H0","E9651544","Power Supply 60-250V 4I/8O 18V/Universal","SLOT 20",1,"",""]
[null,"3",null,null,null,"F",null,null,"2",null,null,null,"3F2","8K0","E9651544","Power Supply 60-250V 4I/8O 18V/Universal","SLOT 20",1,"",""]
[null,"3",null,null,null,"F",null,null,"2",null,null,null,"3F2","8M0","E9651544","Power Supply 60-250V 4I/8O 18V/Universal","SLOT 20",1,"",""]
[null,{"$f":"MID($A$2,5,1)","v":"3"},null,null,null,null,null,{"$f":"MID($A$2,14,1)","v":"0"},{"$f":"MID($A$2,15,1)","v":"2"},null,null,null,{"$f":"CONCATENATE(B58,H58,I58)","v":"302"},"300","E0337377","6I 6O Input Output PCB","SLOT 06",1,"",""]
[null,"3",null,null,null,null,null,"0","2",null,null,null,{"$f":"CONCATENATE(B59,H59,I59)","v":"302"},"500","E0337377","6I 6O Input Output PCB","SLOT 06",1,"",""]
[null,"3",null,null,{"$f":"MID($A$2,9,1)","v":"5"},null,null,"0","2",null,null,null,{"$f":"CONCATENATE(B60,E60,H60,I60)","v":"3502"},"3500","E0337377","6I 6O Input Output PCB","SLOT 07",1,"",""]
[null,"3",null,null,{"$f":"MID($A$2,9,1)","v":"5"},null,null,"0","2",null,null,null,{"$f":"CONCATENATE(B61,E61,H61,I61)","v":"3502"},"5500","E0337377","6I 6O Input Output PCB","SLOT 07",1,"",""]
[null,"3",null,null,{"$f":"MID($A$2,9,1)","v":"5"},null,null,"0","2",null,null,null,{"$f":"CONCATENATE(B62,E62,H62,I62)","v":"3502"},"3510","E0337377","6I 6O Input Output PCB","SLOT 07",1,"",""]
[null,"3",null,null,{"$f":"MID($A$2,9,1)","v":"5"},null,null,"0","2",null,null,null,{"$f":"CONCATENATE(B63,E63,H63,I63)","v":"3502"},"5510","E0337377","6I 6O Input Output PCB","SLOT 07",1,"",""]
[null,"3",null,null,null,null,null,"0","2",null,null,null,{"$f":"CONCATENATE(B64,H64,I64)","v":"302"},"800","E0337377","6I 6O Input Output PCB","SLOT 12",1,"",""]
[null,"3",null,null,{"$f":"MID($A$2,9,1)","v":"5"},null,null,"0","2",null,null,null,{"$f":"CONCATENATE(B65,E65,H65,I65)","v":"3502"},"8500","E0337377","6I 6O Input Output PCB","SLOT 14",1,"",""]
[null,{"$f":"MID($A$2,5,1)","v":"3"},null,null,{"$f":"MID($A$2,9,1)","v":"5"},null,null,"0",{"$f":"MID($A$2,15,1)","v":"2"},null,null,null,{"$f":"CONCATENATE(B66,E66,H66,I66)","v":"3502"},"8510","E0337377","6I 6O Input Output PCB","SLOT 14",1,"",""]
[null,"3",null,null,null,null,{"$f":"MID($A$2,11,1)","v":"0"},null,"2",null,null,null,{"$f":"CONCATENATE(B67,G67,I67)","v":"302"},"32 ","E0337406","4I Analogue PCB","SLOT 08",1,"",""]
[null,"3",null,null,null,null,"0",null,"2",null,null,null,"302","320","E0337406","4I Analogue PCB","SLOT 08",1,"",""]
[null,"3",null,null,null,null,"0",null,"2",null,null,null,"302","33 ","E0337406","4I Analogue PCB","SLOT 08",1,"",""]
[null,"3",null,null,null,null,"0",null,"2",null,null,null,"302","330","E0337406","4I Analogue PCB","SLOT 08",1,"",""]
[null,"3",null,null,null,null,"0",null,"2",null,null,null,"302","380","E0337406","4I Analogue PCB","SLOT 08",1,"",""]
[null,"3",null,null,null,null,"0",null,"2",null,null,null,"302","52 ","E0337406","4I Analogue PCB","SLOT 08",1,"",""]
[null,"3",null,null,null,null,"0",null,"2",null,null,null,"302","520","E0337406","4I Analogue PCB","SLOT 08",1,"",""]
[null,"3",null,null,null,null,"0",null,"2",null,null,null,"302","53 ","E0337406","4I Analogue PCB","SLOT 08",1,"",""]
[null,"3",null,null,null,null,"0",null,"2",null,null,null,"302","530","E0337406","4I Analogue PCB","SLOT 08",1,"",""]
[null,"3",null,null,null,null,"0",null,"2",null,null,null,"302","580","E0337406","4I Analogue PCB","SLOT 08",1,"",""]
[null,"3",null,null,null,null,"0",null,"2",null,null,null,"302","82 ","E0337406","4I Analogue PCB","SLOT 16",1,"",""]
[null,"3",null,null,null,null,"0",null,"2",null,null,null,"302","820","E0337406","4I Analogue PCB","SLOT 16",1,"",""]
[null,"3",null,null,null,null,"0",null,"2",null,null,null,"302","83 ","E0337406","4I Analogue PCB","SLOT 16",1,"",""]
[null,"3",null,null,null,null,"0",null,"2",null,null,null,"302","830","E0337406","4I Analogue PCB","SLOT 16",1,"",""]
[null,"3",null,null,null,null,"0",null,"2",null,null,null,"302","880","E0337406","4I Analogue PCB","SLOT 16",1,"",""]
[null,"3",null,null,null,null,"0",null,"2",null,null,null,"302","3A0","E0337406","4I Analogue PCB","SLOT 03",1,"",""]
[null,"3",null,null,null,null,"0",null,"2",null,null,null,{"$f":"CONCATENATE(B83,G83,I83)","v":"302"},"5A0","E0337406","4I Analogue PCB","SLOT 03",1,"",""]
[null,"3",null,null,null,null,"0",null,"2",null,null,null,{"$f":"CONCATENATE(B84,G84,I84)","v":"302"},"8A0","E0337406","4I Analogue PCB","SLOT 03",1,"",""]
[null,null,null,null,null,null,"0",null,null,null,null,null,{"$f":"CONCATENATE(B85,G85,I85)","v":"0"},"E",{"$f":"IF(MID($A$2,15,1)=\"0\",\"E0337406\",IF(MID($A$2,15,1)=\"3\",\"E9651307\",IF(MID($A$2,15,1)=\"1\",\"E9651335\",IF(MID($A$2,15,1)=\"4\",\"E9651446\",\"E9651363\"))))","v":"E9651363"},"4I Analogue PCB","SLOT 03",1,{"$f":"IF(AND($M85<>\"\",$M85=$N85),$R85,\"\")","v":""},{"$f":"IF(AND($M85<>\"\",$M85=$N85),$Q85,\"\")","v":""}]
[null,{"$f":"MID($A$2,5,1)","v":"3"},null,null,null,{"$f":"MID($A$2,10,1)","v":"F"},null,null,{"$f":"MID($A$2,15,1)","v":"2"},null,null,null,{"$f":"CONCATENATE(B86,F86,I86)","v":"3F2"},"330","E0337437","Power Supply 24V 4I/8O 18V/Universal","SLOT 09",1,{"$f":"IF(AND($M86<>\"\",$M86=$N86),$R86,\"\")","v":""},{"$f":"IF(AND($M86<>\"\",$M86=$N86),$Q86,\"\")","v":""}]
[null,"3",null,null,null,"F",null,null,"2",null,null,null,"3F2","360","E0337437","Power Supply 24V 4I/8O 18V/Universal","SLOT 09",1,"",""]
[null,"3",null,null,null,"F",null,null,"2",null,null,null,"3F2","380","E0337437","Power Supply 24V 4I/8O 18V/Universal","SLOT 09",1,"",""]
[null,"3",null,null,null,"F",null,null,"2",null,null,null,"3F2","3A0","E0337437","Power Supply 24V 4I/8O 18V/Universal","SLOT 09",1,"",""]
[null,"3",null,null,null,"F",null,null,"2",null,null,null,"3F2","3C0","E0337437","Power Supply 24V 4I/8O 18V/Universal","SLOT 09",1,"",""]
[null,"3",null,null,null,"F",null,null,"2",null,null,null,"3F2","530","E0337437","Power Supply 24V 4I/8O 18V/Universal","SLOT 09",1,"",""]
[null,"3",null,null,null,"F",null,null,"2",null,null,null,"3F2","560","E0337437","Power Supply 24V 4I/8O 18V/Universal","SLOT 09",1,"",""]
[null,"3",null,null,null,"F",null,null,"2",null,null,null,"3F2","580","E0337437","Power Supply 24V 4I/8O 18V/Universal","SLOT 09",1,"",""]
[null,"3",null,null,null,"F",null,null,"2",null,null,null,"3F2","5A0","E0337437","Power Supply 24V 4I/8O 18V/Universal","SLOT 09",1,"",""]
[null,"3",null,null,null,"F",null,null,"2",null,null,null,"3F2","5C0","E0337437","Power Supply 24V 4I/8O 18V/Universal","SLOT 09",1,"",""]
[null,"3",null,null,null,"F",null,null,"2",null,null,null,"3F2","830","E0337437","Power Supply 24V 4I/8O 18V/Universal","SLOT 20",1,"",""]
[null,"3",null,null,null,"F",null,null,"2",null,null,null,"3F2","860","E0337437","Power Supply 24V 4I/8O 18V/Universal","SLOT 20",1,"",""]
[null,"3",null,null,null,"F",null,null,"2",null,null,null,"3F2","880","E0337437","Power Supply 24V 4I/8O 18V/Universal","SLOT 20",1,"",""]
[null,"3",null,null,null,"F",null,null,"2",null,null,null,"3F2","8A0","E0337437","Power Supply 24V 4I/8O 18V/Universal","SLOT 20",1,"",""]
[null,"3",null,null,null,"F",null,null,"2",null,null,null,"3F2","8C0","E0337437","Power Supply 24V 4I/8O 18V/Universal","SLOT 20",1,"",""]
[null,"3",null,null,null,"F",null,null,"2",null,null,null,"3F2","3E0","E9651534","Power Supply 24-60V 4I/8O 18V/Universal","SLOT 09",1,"",""]
[null,"3",null,null,null,"F",null,null,"2",null,null,null,"3F2","3G0","E9651534","Power Supply 24-60V 4I/8O 18V/Universal","SLOT 09",1,"",""]
[null,"3",null,null,null,"F",null,null,"2",null,null,null,"3F2","3J0","E9651534","Power Supply 24-60V 4I/8O 18V/Universal","SLOT 09",1,"",""]
[null,"3",null,null,null,"F",null,null,"2",null,null,null,"3F2","3L0","E9651534","Power Supply 24-60V 4I/8O 18V/Universal","SLOT 09",1,"",""]
[null,"3",null,null,null,"F",null,null,"2",null,null,null,"3F2","5E0","E9651534","Power Supply 24-60V 4I/8O 18V/Universal","SLOT 09",1,"",""]
[null,"3",null,null,null,"F",null,null,"2",null,null,null,"3F2","5G0","E9651534","Power Supply 24-60V 4I/8O 18V/Universal","SLOT 09",1,"",""]
[null,"3",null,null,null,"F",null,null,"2",null,null,null,"3F2","5J0","E9651534","Power Supply 24-60V 4I/8O 18V/Universal","SLOT 09",1,"",""]
[null,"3",null,null,null,"F",null,null,"2",null,null,null,"3F2","5L0","E9651534","Power Supply 24-60V 4I/8O 18V/Universal","SLOT 09",1,"",""]
[null,"3",null,null,null,"F",null,null,"2",null,null,null,"3F2","8E0","E9651534","Power Supply 24-60V 4I/8O 18V/Universal","SLOT 20",1,"",""]
[null,"3",null,null,null,"F",null,null,"2",null,null,null,"3F2","8G0","E9651534","Power Supply 24-60V 4I/8O 18V/Universal","SLOT 20",1,"",""]
[null,"3",null,null,null,"F",null,null,"2",null,null,null,"3F2","8J0","E9651534","Power Supply 24-60V 4I/8O 18V/Universal","SLOT 20",1,"",""]
[null,"3",null,null,null,"F",null,null,"2",null,null,null,"3F2","8L0","E9651534","Power Supply 24-60V 4I/8O 18V/Universal","SLOT 20",1,"",""]
[null,{"$f":"MID($A$2,5,1)","v":"3"},null,null,null,null,{"$f":"MID($A$2,11,1)","v":"0"},null,{"$f":"MID($A$2,15,1)","v":"2"},null,null,null,{"$f":"CONCATENATE(B113,G113,I113)","v":"302"},"34 ","E0337612","24I Input Output PCB","SLOT 08",1,{"$f":"IF(AND($M113<>\"\",$M113=$N113),$R113,\"\")","v":""},{"$f":"IF(AND($M113<>\"\",$M113=$N113),$Q113,\"\")","v":""}]
[null,"3",null,null,null,null,"0",null,"2",null,null,null,"302","340","E0337612","24I Input Output PCB","SLOT 08",1,"",""]
[null,"3",null,null,null,null,"0",null,"2",null,null,null,"302","35 ","E0337612","24I Input Output PCB","SLOT 08",1,"",""]
[null,"3",null,null,null,null,"0",null,"2",null,null,null,"302","350","E0337612","24I Input Output PCB","SLOT 08",1,"",""]
[null,"3",null,null,null,null,"0",null,"2",null,null,null,{"$f":"CONCATENATE(B117,G117,I117)","v":"302"},"39 ","E0337612","24I Input Output PCB","SLOT 08",1,"",""]
[null,"3",null,null,null,null,"0",null,"2",null,null,null,"302","390","E0337612","24I Input Output PCB","SLOT 08",1,"",""]
[null,"3",null,null,null,null,"0",null,"2",null,null,null,"302","3A0","E0337612","24I Input Output PCB","SLOT 08",1,"",""]
[null,null,null,null,null,null,"0",null,null,null,null,null,"0","D",{"$f":"IF(MID($A$2,15,1)=\"0\",\"E0337612\",IF(MID($A$2,15,1)=\"3\",\"E9651304\",IF(MID($A$2,15,1)=\"1\",\"E9651332\",IF(MID($A$2,15,1)=\"4\",\"E9651443\",\"E9651360\"))))","v":"E9651360"},"24I Input Output PCB","SLOT 03",1,"",""]
[null,"3",null,null,null,null,"0",null,"2",null,null,null,"302","3B0","E0337612","24I Input Output PCB","SLOT 08",1,"",""]
[null,"3",null,null,null,null,"0",null,"2",null,null,null,"302","3B0","E0337612","24I Input Output PCB","SLOT 03",1,"",""]
[null,"3",null,null,null,null,"0",null,"2",null,null,null,"302","5A0","E0337612","24I Input Output PCB","SLOT 08",1,"",""]
[null,"3",null,null,null,null,"0",null,"2",null,null,null,{"$f":"CONCATENATE(B124,G124,I124)","v":"302"},"5B0","E0337612","24I Input Output PCB","SLOT 08",1,"",""]
[null,"3",null,null,null,null,"0",null,"2",null,null,null,"302","5B0","E0337612","24I Input Output PCB","SLOT 03",1,"",""]
[null,"3",null,null,null,null,"0",null,"2",null,null,null,"302","54 ","E0337612","24I Input Output PCB","SLOT 08",1,"",""]
[null,"3",null,null,null,null,"0",null,"2",null,null,null,"302","540","E0337612","24I Input Output PCB","SLOT 08",1,"",""]
[null,"3",null,null,null,null,"0",null,"2",null,null,null,"302","55 ","E0337612","24I Input Output PCB","SLOT 08",1,"",""]
[null,"3",null,null,null,null,"0",null,"2",null,null,null,"302","550","E0337612","24I Input Output PCB","SLOT 08",1,"",""]
[null,"3",null,null,null,null,"0",null,"2",null,null,null,"302","59 ","E0337612","24I Input Output PCB","SLOT 08",1,"",""]
[null,"3",null,null,null,null,"0",null,"2",null,null,null,"302","590","E0337612","24I Input Output PCB","SLOT 08",1,"",""]
[null,"3",null,null,null,null,"0",null,"2",null,null,null,"302","84 ","E0337612","24I Input Output PCB","SLOT 16",1,"",""]
[null,"3",null,null,null,null,"0",null,"2",null,null,null,"302","840","E0337612","24I Input Output PCB","SLOT 16",1,"",""]
[null,"3",null,null,null,null,"0",null,"2",null,null,null,"302","85 ","E0337612","24I Input Output PCB","SLOT 16",1,"",""]
[null,"3",null,null,null,null,"0",null,"2",null,null,null,"302","850","E0337612","24I Input Output PCB","SLOT 16",1,"",""]
[null,"3",null,null,null,null,"0",null,"2",null,null,null,"302","89 ","E0337612","24I Input Output PCB","SLOT 16",1,"",""]
[null,"3",null,null,null,null,"0",null,"2",null,null,null,"302","890","E0337612","24I Input Output PCB","SLOT 16",1,"",""]
[null,"3",null,null,null,null,"0",null,"2",null,null,null,{"$f":"CONCATENATE(B138,G138,I138)","v":"302"},"8A0","E0337612","24I Input Output PCB","SLOT 16",1,"",""]
[null,"3",null,null,null,null,"0",null,"2",null,null,null,{"$f":"CONCATENATE(B139,G139,I139)","v":"302"},"8B0","E0337612","24I Input Output PCB","SLOT 16",1,"",""]
[null,"3",null,null,null,null,"0",null,"2",null,null,null,{"$f":"CONCATENATE(B140,G140,I140)","v":"302"},"8B0","E0337612","24I Input Output PCB","SLOT 03",1,"",""]
[null,"3",{"$f":"MID($A$2,6,1)","v":"6"},null,null,null,null,null,null,null,null,null,{"$f":"CONCATENATE(B141,C141)","v":"36"},"37","E336262","Blanking Plate 40TE (SM case)",57,1,"",""]
[null,"3",{"$f":"MID($A$2,6,1)","v":"6"},null,null,null,null,null,null,null,null,null,{"$f":"CONCATENATE(B142,C142)","v":"36"},"35","E336262","Blanking Plate 40TE (SM case)",57,1,"",""]
[null,"3",{"$f":"MID($A$2,6,1)","v":"6"},null,null,null,null,null,null,null,null,null,{"$f":"CONCATENATE(B143,C143)","v":"36"},"57","E336262","Blanking Plate 40TE (SM case)",57,1,"",""]
[null,"3",{"$f":"MID($A$2,6,1)","v":"6"},null,null,null,null,null,null,null,null,null,{"$f":"CONCATENATE(B144,C144)","v":"36"},"55","E336262","Blanking Plate 40TE (SM case)",57,1,"",""]
[null,null,null,null,null,null,null,null,null,null,null,null," "," ","E336421","Analogue PCB BUS (6 position)",{"$f":"HLOOKUP('Date Drivers'!$B$1,'Date Drivers'!$B$2:$AI$188,185)","v":32},1,1,32]
[null,{"$f":"MID($A$2,5,1)","v":"3"},{"$f":"MID($A$2,6,1)","v":"6"},null,null,null,null,null,null,null,null,null,{"$f":"CONCATENATE(B146,C146)","v":"36"},"89","E336981","84TE Mtg Flange Cover Plate - Pair (Sundry)",134,1,"",""]
[null,{"$f":"MID($A$2,5,1)","v":"3"},{"$f":"MID($A$2,6,1)","v":"6"},null,null,null,null,null,null,null,null,null,{"$f":"CONCATENATE(B147,C147)","v":"36"},"86","E336981","84TE Mtg Flange Cover Plate - Pair (Sundry)",134,1,"",""]
[null,null,{"$f":"MID($A$2,6,1)","v":"6"},null,null,null,null,null,null,null,null,null,{"$f":"C148","v":"6"},"7","E337042","Case Earth Bracket"," ",1,"",""]
[null,null,{"$f":"MID($A$2,6,1)","v":"6"},null,null,null,null,null,null,null,null,null,{"$f":"C149","v":"6"},"5","E337042","Case Earth Bracket"," ",1,"",""]
[null,{"$f":"MID($A$2,5,1)","v":"3"},null,null,null,null,null,null,null,null,null,null,{"$f":"B150","v":"3"},"8","E337744","Double Blanking Plate",86,3,"",""]
[null,{"$f":"MID($A$2,5,1)","v":"3"},null,null,null,null,null,null,null,null,null,null,{"$f":"B151","v":"3"},"8","E337750","Single Blanking Plate",87,4,"",""]
[null,null,null,null,{"$f":"MID($A$2,9,1)","v":"5"},null,null,null,null,null,null,null,{"$f":"E152","v":"5"},"0","E337750","Single Blanking Plate",88,1,"",""]
[null,null,null,null,null,null,{"$f":"MID($A$2,11,1)","v":"0"},null,null,null,null,null,{"$f":"G153","v":"0"},"0","E337750","Single Blanking Plate",89,1,1,89]
[null,null,null,null,null,null,"0",null,null,null,{"$f":"MID($A$2,17,1)","v":"0"},null,{"$f":"CONCATENATE(G154,K154)","v":"00"},"00","E337750","Single Blanking Plate",89,1,1,89]
[null,null,null,null,null,null,"0",null,null,null,null,null,{"$f":"G155","v":"0"},"1","E337750","Single Blanking Plate",89,1,"",""]
[null,null,null,null,null,null,"0",null,null,null,{"$f":"MID($A$2,17,1)","v":"0"},null,{"$f":"CONCATENATE(G156,K156)","v":"00"},"20","E337750","Single Blanking Plate",89,1,"",""]
[null,null,null,null,null,null,"0",null,null,null,{"$f":"MID($A$2,17,1)","v":"0"},null,{"$f":"CONCATENATE(G157,K157)","v":"00"},"40","E337750","Single Blanking Plate",89,1,"",""]
[null,null,null,null,null,null,"0",null,null,null,{"$f":"MID($A$2,17,1)","v":"0"},null,{"$f":"CONCATENATE(G158,K158)","v":"00"},"70","E337750","Single Blanking Plate",89,1,"",""]
[null,null,null,null,null,null,"0",null,null,null,{"$f":"MID($A$2,17,1)","v":"0"},null,{"$f":"CONCATENATE(G159,K159)","v":"00"},"C0","E337750","Single Blanking Plate",89,1,"",""]
[null,{"$f":"MID($A$2,5,1)","v":"3"},null,null,null,{"$f":"MID($A$2,10,1)","v":"F"},null,null,null,null,null,null,{"$f":"CONCATENATE(B160,F160)","v":"3F"},"83","E337750","Single Blanking Plate",90,1,"",""]
[null,"3",null,null,null,"F",null,null,null,null,null,null,"3F","84","E337750","Single Blanking Plate",90,1,"",""]
[null,"3",null,null,null,"F",null,null,null,null,null,null,"3F","33","E337750","Single Blanking Plate",91,1,"",""]
[null,"3",null,null,null,"F",null,null,null,null,null,null,"3F","34","E337750","Single Blanking Plate",91,1,"",""]
[null,"3",null,null,null,"F",null,null,null,null,null,null,"3F","53","E337750","Single Blanking Plate",91,1,"",""]
[null,"3",null,null,null,"F",null,null,null,null,null,null,"3F","54","E337750","Single Blanking Plate",91,1,"",""]
[null,{"$f":"MID($A$2,5,1)","v":"3"},null,null,null,{"$f":"MID($A$2,10,1)","v":"F"},null,null,null,null,null,null,{"$f":"CONCATENATE(B166,F166)","v":"3F"},"8E","E337750","Single Blanking Plate",90,1,"",""]
[null,"3",null,null,null,"F",null,null,null,null,null,null,"3F","8F","E337750","Single Blanking Plate",90,1,"",""]
[null,"3",null,null,null,"F",null,null,null,null,null,null,"3F","3E","E337750","Single Blanking Plate",91,1,"",""]
[null,"3",null,null,null,"F",null,null,null,null,null,null,"3F","3F","E337750","Single Blanking Plate",91,1,1,91]
[null,"3",null,null,null,"F",null,null,null,null,null,null,"3F","5E","E337750","Single Blanking Plate",91,1,"",""]
[null,"3",null,null,null,"F",null,null,null,null,null,null,"3F","5F","E337750","Single Blanking Plate",91,1,"",""]
[null,"3",null,null,null,null,null,null,null,null,null,null,{"$f":"B172","v":"3"},"8","E337750","Single Blanking Plate",91,1,"",""]
[null,null,null,null,null,null,null,null,null,{"$f":"MID($A$2,16,1)","v":"E"},null,null,{"$f":"J173","v":"E"},{"$f":"IF(Configurator!$L$6<\"P\",\"0\",\"n/a\")","v":"n/a"},"E337752","Guard Option (No Comms)",73,1,{"$f":"IF(AND($M173<>\"\",$M173=$N173),$R173,\"\")","v":""},{"$f":"IF(AND($M173<>\"\",$M173=$N173),$Q173,\"\")","v":""}]
[null,{"$f":"MID($A$2,5,1)","v":"3"},{"$f":"MID($A$2,6,1)","v":"6"},null,null,null,null,null,null,null,null,null,{"$f":"CONCATENATE(B174,C174)","v":"36"},"87","E338810","Blanking Plate 84TE (SM case)",57,1,"",""]
[null,{"$f":"MID($A$2,5,1)","v":"3"},"6",null,null,null,null,null,null,null,null,null,{"$f":"CONCATENATE(B175,C175)","v":"36"},"85","E338810","Blanking Plate 84TE (SM case)",57,1,"",""]
[null,null,"6",null,null,null,null,null,null,null,null,null,{"$f":"C176","v":"6"},"9","E345515","Screws Pack (Rack Mount 40 & 84 TE) (Sundry)",138,1,"",""]
[null,null,"6",null,null,null,null,null,null,null,null,null,{"$f":"C177","v":"6"},"6","E345515","Screws Pack (Rack Mount 40 & 84 TE) (Sundry)",138,1,1,138]
[null,{"$f":"MID($A$2,5,1)","v":"3"},"6",null,null,null,null,null,null,null,null,null,{"$f":"CONCATENATE(B178,C178)","v":"36"},"85",{"$f":"IF(Configurator!$D$24>\"I\",\"EA05000818\",\"E9650212\")","v":"EA05000818"},"84TE MMI Assembly (Graphic)",35,1,"",""]
[null,"3","6",null,null,null,null,null,null,null,null,null,{"$f":"CONCATENATE(B179,C179)","v":"36"},"86",{"$f":"IF(Configurator!$D$24>\"I\",\"EA05000818\",\"E9650212\")","v":"EA05000818"},"84TE MMI Assembly (Graphic)",35,1,"",""]
[null,"3",null,null,null,null,null,null,null,null,null,null,{"$f":"CONCATENATE(B180)","v":"3"},"3","E9650284","Case Mounting Flange (Part/Sundry)",136,2,2,136]
[null,"3",null,null,null,null,null,null,null,null,null,null,{"$f":"CONCATENATE(B181)","v":"3"},"5","E9650284","Case Mounting Flange (Part/Sundry)",136,2,"",""]
[null,"3",{"$f":"MID($A$2,6,1)","v":"6"},null,null,null,null,null,null,null,null,null,{"$f":"CONCATENATE(B182,C182)","v":"36"},"86","E9650285","Interface Mounting Plate 84TE (Rack/pannel)",54,1,"",""]
[null,"3","6",null,null,null,null,null,null,null,null,null,"36","89","E9650285","Interface Mounting Plate 84TE (Rack/pannel)",54,1,"",""]
[null,"3","6",null,null,null,null,null,null,null,null,null,"36","36","E9650286","Interface Mounting Plate 40TE (Rack/pannel)",54,1,1,54]
[null,"3","6",null,null,null,null,null,null,null,null,null,"36","56","E9650286","Interface Mounting Plate 40TE (Rack/pannel)",54,1,"",""]
[null,"3","6",null,null,null,null,null,null,null,null,null,"36","39","E9650286","Interface Mounting Plate 40TE (Rack/pannel)",54,1,"",""]
[null,"3","6",null,null,null,null,null,null,null,null,null,"36","59","E9650286","Interface Mounting Plate 40TE (Rack/pannel)",54,1,"",""]
[null,"3","6",null,null,null,null,null,null,null,null,null,"36","85","E9650288","Interface Mounting Plate 84TE (Surface)",55,1,"",""]
[null,"3","6",null,null,null,null,null,null,null,null,null,"36","87","E9650288","Interface Mounting Plate 84TE (Surface)",55,1,"",""]
[null,"3","6",null,null,null,null,null,null,null,null,null,"36","35","E9650289","Interface Mounting Plate 40TE (Surface)",55,1,"",""]
[null,"3","6",null,null,null,null,null,null,null,null,null,"36","55","E9650289","Interface Mounting Plate 40TE (Surface)",55,1,"",""]
[null,"3","6",null,null,null,null,null,null,null,null,null,"36","37","E9650289","Interface Mounting Plate 40TE (Surface)",55,1,"",""]
[null,"3","6",null,null,null,null,null,null,null,null,null,"36","57","E9650289","Interface Mounting Plate 40TE (Surface)",55,1,"",""]
[null,"3",null,null,null,null,null,null,null,null,null,null,{"$f":"B194","v":"3"},"8",{"$f":"HLOOKUP('Date Drivers'!$B$1,'Date Drivers'!$B$2:$AI$204,195)","v":"E9650299"},"84TE Case Assembly ",{"$f":"HLOOKUP('Date Drivers'!$B$1,'Date Drivers'!$B$2:$AI$188,187)","v":50},1,"",""]
[null,"3",null,null,null,null,null,null,null,null,null,null,{"$f":"B195","v":"3"},"5",{"$f":"HLOOKUP('Date Drivers'!$B$1,'Date Drivers'!$B$2:$AI$204,196)","v":"E9650300"},"40TE Case Assembly ",{"$f":"HLOOKUP('Date Drivers'!$B$1,'Date Drivers'!$B$2:$AI$188,187)","v":50},1,"",""]
[null,"3",null,null,null,null,null,null,null,null,null,null,{"$f":"B196","v":"3"},"3",{"$f":"HLOOKUP('Date Drivers'!$B$1,'Date Drivers'!$B$2:$AI$204,196)","v":"E9650300"},"40TE Case Assembly ",{"$f":"HLOOKUP('Date Drivers'!$B$1,'Date Drivers'!$B$2:$AI$188,187)","v":50},1,1,50]
[null,"3",null,{"$f":"MID($A$2,8,1)","v":"4"},null,null,null,null,null,null,null,null,{"$f":"CONCATENATE(B197,D197)","v":"34"},"34","E9650307","4U 4I Transformer Module (pin)","SLOT 04",1,1,"SLOT 04"]
[null,"3",null,"4",null,null,null,null,null,null,null,null,"34","35","E9650308","5U 4I Transformer Module (pin)","SLOT 04",1,"",""]
[null,"3",null,"4",null,null,null,null,null,null,null,null,"34","30","E9650309","4x1/5A Transformer Module (pin)","SLOT 04",1,"",""]
[null,"3",null,"4",null,null,null,null,null,null,null,null,"34","54","E9650321","4U 4I Transformer Module (ring)","SLOT 04",1,"",""]
[null,"3",null,"4",null,null,null,null,null,null,null,null,"34","84","E9650321","4U 4I Transformer Module (ring)","SLOT 04",1,"",""]
[null,"3",null,"4",null,null,null,null,null,null,null,null,"34","55","E9650322","5U 4I Transformer Module (ring)","SLOT 04",1,"",""]
[null,"3",null,"4",null,null,null,null,null,null,null,null,"34","85","E9650322","5U 4I Transformer Module (ring)","SLOT 04",1,"",""]
[null,"3",null,"4",null,null,null,null,null,null,null,null,"34","50","E9650323","4x1/5A Transformer Module (ring)","SLOT 04",1,"",""]
[null,"3",null,"4",null,null,null,null,null,null,null,null,"34","80","E9650323","4x1/5A Transformer Module (ring)","SLOT 04",1,"",""]
[null,"3",null,null,null,{"$f":"MID($A$2,10,1)","v":"F"},null,null,null,null,null,null,{"$f":"CONCATENATE(B206,F206)","v":"3F"},"36","E9650341","Binary I/O 6 output relays with thyristor","SLOT 10",1,"",""]
[null,"3",null,null,null,"F",null,null,null,null,null,null,"3F","37","E9650341","Binary I/O 6 output relays with thyristor","SLOT 10",1,"",""]
[null,"3",null,null,null,"F",null,null,null,null,null,null,"3F","56","E9650341","Binary I/O 6 output relays with thyristor","SLOT 10",1,"",""]
[null,"3",null,null,null,"F",null,null,null,null,null,null,"3F","57","E9650341","Binary I/O 6 output relays with thyristor","SLOT 10",1,"",""]
[null,"3",null,null,null,"F",null,null,null,null,null,null,"3F","86","E9650341","Binary I/O 6 output relays with thyristor","SLOT 18",1,"",""]
[null,"3",null,null,null,"F",null,null,null,null,null,null,"3F","87","E9650341","Binary I/O 6 output relays with thyristor","SLOT 18",1,"",""]
[null,null,null,null,null,null,null,null,null,{"$f":"MID($A$2,16,1)","v":"E"},null,null,{"$f":"J212","v":"E"},"G","E9650354","KE182+IRIGB-GL comms PCB",{"$f":"HLOOKUP('Date Drivers'!$B$1,'Date Drivers'!$B$2:$AI$188,186)","v":"SLOT 02"},1,"",""]
[null,null,null,null,null,null,null,null,null,{"$f":"MID($A$2,16,1)","v":"E"},null,null,{"$f":"J213","v":"E"},"F","E9650355","KE182+IRIGB-KSt comms PCB",{"$f":"HLOOKUP('Date Drivers'!$B$1,'Date Drivers'!$B$2:$AI$188,186)","v":"SLOT 02"},1,"",""]
[null,null,null,null,null,null,null,null,null,{"$f":"MID($A$2,16,1)","v":"E"},null,null,{"$f":"J214","v":"E"},"E","E9650356","KE182+IRIGB-485 comms PCB",{"$f":"HLOOKUP('Date Drivers'!$B$1,'Date Drivers'!$B$2:$AI$188,186)","v":"SLOT 02"},1,1,"SLOT 02"]
[null,{"$f":"MID($A$2,5,1)","v":"3"},{"$f":"MID($A$2,6,1)","v":"6"},null,null,null,null,null,null,null,null,null,{"$f":"CONCATENATE(B215,C215)","v":"36"},"39","E9650374","40TE Case Connection Screw Pack (Sundry)",132,1,"",""]
[null,"3","6",null,null,null,null,null,null,null,null,null,"36","59","E9650374","40TE Case Connection Screw Pack (Sundry)",132,1,"",""]
[null,"3","6",null,null,null,null,null,null,null,null,null,"36","36","E9650374","40TE Case Connection Screw Pack (Sundry)",132,1,1,132]
[null,"3","6",null,null,null,null,null,null,null,null,null,"36","56","E9650374","40TE Case Connection Screw Pack (Sundry)",132,1,"",""]
[null,"3","6",null,null,null,null,null,null,null,null,null,"36","36","E9650376","40TE Mtg Flange Cover Plate (Sundry)",134,1,1,134]
[null,"3","6",null,null,null,null,null,null,null,null,null,"36","56","E9650376","40TE Mtg Flange Cover Plate (Sundry)",134,1,"",""]
[null,"3","6",null,null,null,null,null,null,null,null,null,"36","39","E9650376","40TE Mtg Flange Cover Plate (Sundry)",134,1,"",""]
[null,"3","6",null,null,null,null,null,null,null,null,null,"36","59","E9650376","40TE Mtg Flange Cover Plate (Sundry)",134,1,"",""]
[null,"3",null,{"$f":"MID($A$2,8,1)","v":"4"},null,null,null,null,null,null,null,null,{"$f":"CONCATENATE(B223,D223)","v":"34"},"39","E9650419","PCB ASSY - Px30 NCIT BOARD Issue A","SLOT 04",1,"",""]
[null,"3",null,{"$f":"MID($A$2,8,1)","v":"4"},null,null,null,null,null,null,null,null,{"$f":"CONCATENATE(B224,D224)","v":"34"},"39","E9650419","NCIT PCB Assembly","SLOT 04",1,"",""]
[null,"3",null,{"$f":"MID($A$2,8,1)","v":"4"},null,null,null,null,null,null,null,null,{"$f":"CONCATENATE(B225,D225)","v":"34"},"59","E9650419","NCIT PCB Assembly","SLOT 04",1,"",""]
[null,"3",null,{"$f":"MID($A$2,8,1)","v":"4"},null,null,null,null,null,null,null,null,{"$f":"CONCATENATE(B226,D226)","v":"34"},"89","E9650419","PCB ASSY - Px30 NCIT BOARD Issue A","SLOT 04",1,"",""]
[null,"3",null,{"$f":"MID($A$2,8,1)","v":"4"},null,null,null,null,null,null,null,null,{"$f":"CONCATENATE(B227,D227)","v":"34"},"89","E9650419","NCIT PCB Assembly","SLOT 04",1,"",""]
[null,null,{"$f":"MID($A$2,6,1)","v":"6"},null,null,null,null,null,null,null,null,null,{"$f":"C228","v":"6"},"9","E9650460","Earthing Pack (Sundry)"," ",1,"",""]
[null,null,{"$f":"MID($A$2,6,1)","v":"6"},null,null,null,null,null,null,null,null,null,{"$f":"C229","v":"6"},"6","E9650460","Earthing Pack (Sundry)"," ",1,1," "]
[null,null,null,null,null,null,null,null,null,null,null,null," "," ","E9650473","Earth Spring (MMI)",80,2,2,80]
[null,{"$f":"MID($A$2,5,1)","v":"3"},{"$f":"MID($A$2,6,1)","v":"6"},null,null,null,null,null,null,null,null,null,{"$f":"CONCATENATE(B231,C231)","v":"36"},"36","E9650488","Frame Fairing 40TE (Panel Mount) (Sundry)",137,1,1,137]
[null,{"$f":"MID($A$2,5,1)","v":"3"},"6",null,null,null,null,null,null,null,null,null,{"$f":"CONCATENATE(B232,C232)","v":"36"},"56","E9650488","Frame Fairing 40TE (Panel Mount) (Sundry)",137,1,"",""]
[null,{"$f":"MID($A$2,5,1)","v":"3"},"6",null,null,null,null,null,null,null,null,null,{"$f":"CONCATENATE(B233,C233)","v":"36"},"39","E9650488","Frame Fairing 40TE (Panel Mount) (Sundry)",137,1,"",""]
[null,{"$f":"MID($A$2,5,1)","v":"3"},"6",null,null,null,null,null,null,null,null,null,{"$f":"CONCATENATE(B234,C234)","v":"36"},"59","E9650488","Frame Fairing 40TE (Panel Mount) (Sundry)",137,1,"",""]
[null,null,"6",null,null,null,null,null,null,null,null,null,{"$f":"C235","v":"6"},"6","E9650546"," Screw Pack (Panel Mount 40 & 84 TE)(Sundry)",121,1,1,121]
[null,null,"6",null,null,null,null,null,null,null,null,null,{"$f":"C236","v":"6"},"9","E9650546"," Screw Pack (Panel Mount 40 & 84 TE)(Sundry)",121,1,"",""]
[null,{"$f":"MID($A$2,5,1)","v":"3"},"6",null,null,null,null,null,null,null,null,null,{"$f":"CONCATENATE(B237,C237)","v":"36"},"85",{"$f":"HLOOKUP('Date Drivers'!$B$1,'Date Drivers'!$B$2:$AI$222,212)","v":"E9651366"},"Ribbon Cable 84TE Surface Mount",79,1,{"$f":"IF(AND($M237<>\"\",$M237=$N237),$R237,\"\")","v":""},{"$f":"IF(AND($M237<>\"\",$M237=$N237),$Q237,\"\")","v":""}]
[null,{"$f":"MID($A$2,5,1)","v":"3"},"6",null,null,null,null,null,null,null,null,null,{"$f":"CONCATENATE(B238,C238)","v":"36"},"89","E9650722","Frame Fairing 84TE (Panel Mount) (Sundry)",137,1,"",""]
[null,{"$f":"MID($A$2,5,1)","v":"3"},"6",null,null,null,null,null,null,null,null,null,{"$f":"CONCATENATE(B239,C239)","v":"36"},"86","E9650722","Frame Fairing 84TE (Panel Mount) (Sundry)",137,1,"",""]
[null,null,null,null,null,null,{"$f":"MID($A$2,11,1)","v":"0"},null,null,null,null,null,{"$f":"G240","v":"0"},"7","E9650735","RTD PCB","SLOT 03",1,"",""]
[null,null,null,null,null,null,{"$f":"MID($A$2,11,1)","v":"0"},null,null,null,null,null,{"$f":"G241","v":"0"},"8","E9650735","RTD PCB","SLOT 03",1,"",""]
[null,null,null,null,null,null,{"$f":"MID($A$2,11,1)","v":"0"},null,null,null,null,null,{"$f":"G242","v":"0"},"9","E9650735","RTD PCB","SLOT 03",1,"",""]
[null,null,null,null,null,null,{"$f":"MID($A$2,11,1)","v":"0"},null,null,null,null,null,{"$f":"G243","v":"0"},"F","E9650735","RTD PCB","SLOT 03",1,"",""]
[null,{"$f":"MID($A$2,5,1)","v":"3"},{"$f":"MID($A$2,6,1)","v":"6"},null,null,null,null,null,null,null,null,null,{"$f":"CONCATENATE(B244,C244)","v":"36"},"86",{"$f":"HLOOKUP('Date Drivers'!$B$1,'Date Drivers'!$B$2:$AI$222,210)","v":"E9651908"},"Ribbon Cable 84TE Graphic (rack&panel)",79,1,"",""]
[null,null,null,null,null,null,null,null,null,null,{"$f":"MID($A$2,17,1)","v":"0"},null,{"$f":"K245","v":"0"},"A",{"$f":"IF(Configurator!$D$24>\"I\",\"E9651567\",\"E9650827\")","v":"E9651567"},{"$f":"IF(Configurator!$D$24>\"I\",\"InterMiCOM Board COM3 with 80C32 Wired RS485\",\"InterMiCOM Board COM3 Wired RS485\")","v":"InterMiCOM Board COM3 with 80C32 Wired RS485"},"SLOT 03",1,"",""]
[null,null,null,null,null,null,null,null,null,null,{"$f":"MID($A$2,17,1)","v":"0"},null,{"$f":"K246","v":"0"},"C",{"$f":"IF(Configurator!$D$24>\"I\",\"E9651569\",\"E9650828\")","v":"E9651569"},{"$f":"IF(Configurator!$D$24>\"I\",\"InterMiCOM Board COM3 with 80C32 Fibre Optic Glass ST\",\"InterMiCOM Board COM3 Fibre Optic Glass ST\")","v":"InterMiCOM Board COM3 with 80C32 Fibre Optic Glass ST"},"SLOT 03",1,"",""]
[null,null,null,null,null,null,null,null,null,null,{"$f":"MID($A$2,17,1)","v":"0"},null,{"$f":"K247","v":"0"},"B",{"$f":"IF(Configurator!$D$24>\"I\",\"E9651568\",\"E9650829\")","v":"E9651568"},{"$f":"IF(Configurator!$D$24>\"I\",\"InterMiCOM Board COM3 with 80C32 Fibre Optic Plastic FSMA\",\"InterMiCOM Board COM3 Fibre Optic Plastic FSMA\")","v":"InterMiCOM Board COM3 with 80C32 Fibre Optic Plastic FSMA"},"SLOT 03",1,"",""]
[null,null,null,null,null,null,null,null,null,null,{"$f":"MID($A$2,17,1)","v":"0"},null,{"$f":"K248","v":"0"},"D",{"$f":"IF(Configurator!$D$24>\"I\",\"E9651566\",\"E9650830\")","v":"E9651566"},{"$f":"IF(Configurator!$D$24>\"I\",\"InterMiCOM Board COM3 with 80C32 Wired RS232\",\"InterMiCOM Board for InterMiCOM Wired RS232\")","v":"InterMiCOM Board COM3 with 80C32 Wired RS232"},"SLOT 03",1,"",""]
[null,{"$f":"MID($A$2,5,1)","v":"3"},null,null,null,{"$f":"MID($A$2,10,1)","v":"F"},null,null,{"$f":"MID($A$2,15,1)","v":"2"},null,null,null,{"$f":"CONCATENATE(B249,F249,I249)","v":"3F2"},"333","E9651300","Power Supply 24V 4I/8O 73/110V","SLOT 09",1,"",""]
[null,"3",null,null,null,"F",null,null,"2",null,null,null,"3F2","363","E9651300","Power Supply 24V 4I/8O 73/110V","SLOT 09",1,"",""]
[null,"3",null,null,null,"F",null,null,"2",null,null,null,"3F2","383","E9651300","Power Supply 24V 4I/8O 73/110V","SLOT 09",1,"",""]
[null,"3",null,null,null,"F",null,null,"2",null,null,null,"3F2","3A3","E9651300","Power Supply 24V 4I/8O 73/110V","SLOT 09",1,{"$f":"IF(AND($M252<>\"\",$M252=$N252),$R252,\"\")","v":""},{"$f":"IF(AND($M252<>\"\",$M252=$N252),$Q252,\"\")","v":""}]
[null,"3",null,null,null,"F",null,null,"2",null,null,null,"3F2","3C3","E9651300","Power Supply 24V 4I/8O 73/110V","SLOT 09",1,{"$f":"IF(AND($M253<>\"\",$M253=$N253),$R253,\"\")","v":""},{"$f":"IF(AND($M253<>\"\",$M253=$N253),$Q253,\"\")","v":""}]
[null,"3",null,null,null,"F",null,null,"2",null,null,null,"3F2","533","E9651300","Power Supply 24V 4I/8O 73/110V","SLOT 09",1,"",""]
[null,"3",null,null,null,"F",null,null,"2",null,null,null,"3F2","563","E9651300","Power Supply 24V 4I/8O 73/110V","SLOT 09",1,"",""]
[null,"3",null,null,null,"F",null,null,"2",null,null,null,"3F2","583","E9651300","Power Supply 24V 4I/8O 73/110V","SLOT 09",1,"",""]
[null,"3",null,null,null,"F",null,null,"2",null,null,null,"3F2","5A3","E9651300","Power Supply 24V 4I/8O 73/110V","SLOT 09",1,{"$f":"IF(AND($M257<>\"\",$M257=$N257),$R257,\"\")","v":""},{"$f":"IF(AND($M257<>\"\",$M257=$N257),$Q257,\"\")","v":""}]
[null,"3",null,null,null,"F",null,null,"2",null,null,null,"3F2","5C3","E9651300","Power Supply 24V 4I/8O 73/110V","SLOT 09",1,{"$f":"IF(AND($M258<>\"\",$M258=$N258),$R258,\"\")","v":""},{"$f":"IF(AND($M258<>\"\",$M258=$N258),$Q258,\"\")","v":""}]
[null,"3",null,null,null,"F",null,null,"2",null,null,null,"3F2","833","E9651300","Power Supply 24V 4I/8O 73/110V","SLOT 20",1,"",""]
[null,"3",null,null,null,"F",null,null,"2",null,null,null,"3F2","863","E9651300","Power Supply 24V 4I/8O 73/110V","SLOT 20",1,"",""]
[null,"3",null,null,null,"F",null,null,"2",null,null,null,"3F2","883","E9651300","Power Supply 24V 4I/8O 73/110V","SLOT 20",1,"",""]
[null,"3",null,null,null,"F",null,null,"2",null,null,null,"3F2","8A3","E9651300","Power Supply 24V 4I/8O 73/110V","SLOT 20",1,"",""]
[null,"3",null,null,null,"F",null,null,"2",null,null,null,"3F2","8C3","E9651300","Power Supply 24V 4I/8O 73/110V","SLOT 20",1,"",""]
[null,{"$f":"MID($A$2,5,1)","v":"3"},null,null,null,{"$f":"MID($A$2,10,1)","v":"F"},null,null,{"$f":"MID($A$2,15,1)","v":"2"},null,null,null,{"$f":"CONCATENATE(B264,F264,I264)","v":"3F2"},"3E3","E9651536","Power Supply 24-60V 4I/8O 73/110V","SLOT 09",1,"",""]
[null,"3",null,null,null,"F",null,null,"2",null,null,null,"3F2","3G3","E9651536","Power Supply 24-60V 4I/8O 73/110V","SLOT 09",1,"",""]
[null,"3",null,null,null,"F",null,null,"2",null,null,null,{"$f":"CONCATENATE(B266,F266,I266)","v":"3F2"},"3J3","E9651536","Power Supply 24-60V 4I/8O 73/110V","SLOT 09",1,{"$f":"IF(AND($M266<>\"\",$M266=$N266),$R266,\"\")","v":""},{"$f":"IF(AND($M266<>\"\",$M266=$N266),$Q266,\"\")","v":""}]
[null,"3",null,null,null,"F",null,null,"2",null,null,null,{"$f":"CONCATENATE(B267,F267,I267)","v":"3F2"},"3L3","E9651536","Power Supply 24-60V 4I/8O 73/110V","SLOT 09",1,{"$f":"IF(AND($M267<>\"\",$M267=$N267),$R267,\"\")","v":""},{"$f":"IF(AND($M267<>\"\",$M267=$N267),$Q267,\"\")","v":""}]
[null,"3",null,null,null,"F",null,null,"2",null,null,null,"3F2","5E3","E9651536","Power Supply 24-60V 4I/8O 73/110V","SLOT 09",1,"",""]
[null,"3",null,null,null,"F",null,null,"2",null,null,null,"3F2","5G3","E9651536","Power Supply 24-60V 4I/8O 73/110V","SLOT 09",1,"",""]
[null,"3",null,null,null,"F",null,null,"2",null,null,null,{"$f":"CONCATENATE(B270,F270,I270)","v":"3F2"},"5J3","E9651536","Power Supply 24-60V 4I/8O 73/110V","SLOT 09",1,{"$f":"IF(AND($M270<>\"\",$M270=$N270),$R270,\"\")","v":""},{"$f":"IF(AND($M270<>\"\",$M270=$N270),$Q270,\"\")","v":""}]
[null,"3",null,null,null,"F",null,null,"2",null,null,null,{"$f":"CONCATENATE(B271,F271,I271)","v":"3F2"},"5L3","E9651536","Power Supply 24-60V 4I/8O 73/110V","SLOT 09",1,{"$f":"IF(AND($M271<>\"\",$M271=$N271),$R271,\"\")","v":""},{"$f":"IF(AND($M271<>\"\",$M271=$N271),$Q271,\"\")","v":""}]
[null,"3",null,null,null,"F",null,null,"2",null,null,null,"3F2","8E3","E9651536","Power Supply 24-60V 4I/8O 73/110V","SLOT 20",1,"",""]
[null,"3",null,null,null,"F",null,null,"2",null,null,null,"3F2","8G3","E9651536","Power Supply 24-60V 4I/8O 73/110V","SLOT 20",1,"",""]
[null,"3",null,null,null,"F",null,null,"2",null,null,null,"3F2","8J3","E9651536","Power Supply 24-60V 4I/8O 73/110V","SLOT 20",1,"",""]
[null,"3",null,null,null,"F",null,null,"2",null,null,null,"3F2","8L3","E9651536","Power Supply 24-60V 4I/8O 73/110V","SLOT 20",1,"",""]
[null,"3",null,null,null,"F",null,null,"2",null,null,null,{"$f":"CONCATENATE(B276,F276,I276)","v":"3F2"},"343","E9651301","Power Supply 48-250V 4I/8O 73/110V","SLOT 09",1,"",""]
[null,"3",null,null,null,"F",null,null,"2",null,null,null,"3F2","373","E9651301","Power Supply 48-250V 4I/8O 73/110V","SLOT 09",1,"",""]
[null,"3",null,null,null,"F",null,null,"2",null,null,null,"3F2","393","E9651301","Power Supply 48-250V 4I/8O 73/110V","SLOT 09",1,"",""]
[null,"3",null,null,null,"F",null,null,"2",null,null,null,"3F2","3B3","E9651301","Power Supply 48-250V 4I/8O 73/110V","SLOT 09",1,"",""]
[null,"3",null,null,null,"F",null,null,"2",null,null,null,"3F2","3D3","E9651301","Power Supply 48-250V 4I/8O 73/110V","SLOT 09",1,"",""]
[null,"3",null,null,null,"F",null,null,"2",null,null,null,"3F2","543","E9651301","Power Supply 48-250V 4I/8O 73/110V","SLOT 09",1,"",""]
[null,"3",null,null,null,"F",null,null,"2",null,null,null,"3F2","573","E9651301","Power Supply 48-250V 4I/8O 73/110V","SLOT 09",1,"",""]
[null,"3",null,null,null,"F",null,null,"2",null,null,null,"3F2","593","E9651301","Power Supply 48-250V 4I/8O 73/110V","SLOT 09",1,"",""]
[null,"3",null,null,null,"F",null,null,"2",null,null,null,"3F2","5B3","E9651301","Power Supply 48-250V 4I/8O 73/110V","SLOT 09",1,"",""]
[null,"3",null,null,null,"F",null,null,"2",null,null,null,"3F2","5D3","E9651301","Power Supply 48-250V 4I/8O 73/110V","SLOT 09",1,"",""]
[null,"3",null,null,null,"F",null,null,"2",null,null,null,"3F2","843","E9651301","Power Supply 48-250V 4I/8O 73/110V","SLOT 20",1,"",""]
[null,"3",null,null,null,"F",null,null,"2",null,null,null,"3F2","873","E9651301","Power Supply 48-250V 4I/8O 73/110V","SLOT 20",1,"",""]
[null,"3",null,null,null,"F",null,null,"2",null,null,null,"3F2","893","E9651301","Power Supply 48-250V 4I/8O 73/110V","SLOT 20",1,"",""]
[null,"3",null,null,null,"F",null,null,"2",null,null,null,"3F2","8B3","E9651301","Power Supply 48-250V 4I/8O 73/110V","SLOT 20",1,"",""]
[null,"3",null,null,null,"F",null,null,"2",null,null,null,"3F2","8D3","E9651301","Power Supply 48-250V 4I/8O 73/110V","SLOT 20",1,"",""]
[null,"3",null,null,null,"F",null,null,"2",null,null,null,"3F2","3F3","E9651546","Power Supply 60-250V 4I/8O 73/110V","SLOT 09",1,"",""]
[null,"3",null,null,null,"F",null,null,"2",null,null,null,"3F2","3H3","E9651546","Power Supply 60-250V 4I/8O 73/110V","SLOT 09",1,"",""]
[null,"3",null,null,null,"F",null,null,"2",null,null,null,"3F2","3K3","E9651546","Power Supply 60-250V 4I/8O 73/110V","SLOT 09",1,"",""]
[null,"3",null,null,null,"F",null,null,"2",null,null,null,"3F2","3M3","E9651546","Power Supply 60-250V 4I/8O 73/110V","SLOT 09",1,"",""]
[null,"3",null,null,null,"F",null,null,"2",null,null,null,"3F2","5F3","E9651546","Power Supply 60-250V 4I/8O 73/110V","SLOT 09",1,"",""]
[null,"3",null,null,null,"F",null,null,"2",null,null,null,"3F2","5H3","E9651546","Power Supply 60-250V 4I/8O 73/110V","SLOT 09",1,"",""]
[null,"3",null,null,null,"F",null,null,"2",null,null,null,"3F2","5K3","E9651546","Power Supply 60-250V 4I/8O 73/110V","SLOT 09",1,"",""]
[null,"3",null,null,null,"F",null,null,"2",null,null,null,"3F2","5M3","E9651546","Power Supply 60-250V 4I/8O 73/110V","SLOT 09",1,"",""]
[null,"3",null,null,null,"F",null,null,"2",null,null,null,"3F2","8F3","E9651546","Power Supply 60-250V 4I/8O 73/110V","SLOT 20",1,"",""]
[null,"3",null,null,null,"F",null,null,"2",null,null,null,"3F2","8H3","E9651546","Power Supply 60-250V 4I/8O 73/110V","SLOT 20",1,"",""]
[null,"3",null,null,null,"F",null,null,"2",null,null,null,"3F2","8K3","E9651546","Power Supply 60-250V 4I/8O 73/110V","SLOT 20",1,"",""]
[null,"3",null,null,null,"F",null,null,"2",null,null,null,"3F2","8M3","E9651546","Power Supply 60-250V 4I/8O 73/110V","SLOT 20",1,"",""]
[null,"3",null,null,null,null,{"$f":"MID($A$2,11,1)","v":"0"},null,"2",null,null,null,{"$f":"CONCATENATE(B303,G303,I303)","v":"302"},"343","E9651304","PCB ASSY - 24 INPUT BOARD(110V) ISSUE B","SLOT 08",1,"",""]
[null,"3",null,null,null,null,"0",null,"2",null,null,null,"302","353","E9651304","PCB ASSY - 24 INPUT BOARD(110V) ISSUE B","SLOT 08",1,"",""]
[null,{"$f":"MID($A$2,5,1)","v":"3"},null,null,null,null,"0",null,{"$f":"MID($A$2,15,1)","v":"2"},null,null,null,"302","359","E9651304","PCB ASSY - 24 INPUT BOARD(110V) ISSUE B","SLOT 08",1,"",""]
[null,"3",null,null,null,null,"0",null,"2",null,null,null,"302","393","E9651304","PCB ASSY - 24 INPUT BOARD(110V) ISSUE B","SLOT 08",1,"",""]
[null,"3",null,null,null,null,"0",null,"2",null,null,null,"302","543","E9651304","PCB ASSY - 24 INPUT BOARD(110V) ISSUE B","SLOT 08",1,"",""]
[null,"3",null,null,null,null,"0",null,"2",null,null,null,"302","553","E9651304","PCB ASSY - 24 INPUT BOARD(110V) ISSUE B","SLOT 08",1,"",""]
[null,"3",null,null,null,null,"0",null,"2",null,null,null,"302","559","E9651304","PCB ASSY - 24 INPUT BOARD(110V) ISSUE B","SLOT 08",1,"",""]
[null,"3",null,null,null,null,"0",null,"2",null,null,null,"302","593","E9651304","PCB ASSY - 24 INPUT BOARD(110V) ISSUE B","SLOT 08",1,"",""]
[null,"3",null,null,null,null,"0",null,"2",null,null,null,"302","843","E9651304","PCB ASSY - 24 INPUT BOARD(110V) ISSUE B","SLOT 16",1,"",""]
[null,"3",null,null,null,null,"0",null,"2",null,null,null,"302","853","E9651304","PCB ASSY - 24 INPUT BOARD(110V) ISSUE B","SLOT 16",1,"",""]
[null,"3",null,null,null,null,"0",null,"2",null,null,null,"302","893","E9651304","PCB ASSY - 24 INPUT BOARD(110V) ISSUE B","SLOT 16",1,"",""]
[null,"3",null,null,null,null,"0",null,"2",null,null,null,"302","3A3","E9651304","24I Input Output PCB","SLOT 08",1,"",""]
[null,"3",null,null,null,null,"0",null,"2",null,null,null,"302","3B3","E9651304","24I Input Output PCB","SLOT 08",1,"",""]
[null,"3",null,null,null,null,"0",null,"2",null,null,null,"302","3B3","E9651304","24I Input Output PCB","SLOT 03",1,"",""]
[null,"3",null,null,null,null,"0",null,"2",null,null,null,"302","5A3","E9651304","24I Input Output PCB","SLOT 08",1,"",""]
[null,"3",null,null,null,null,"0",null,"2",null,null,null,"302","5B3","E9651304","24I Input Output PCB","SLOT 08",1,"",""]
[null,"3",null,null,null,null,"0",null,"2",null,null,null,"302","5B3","E9651304","24I Input Output PCB","SLOT 03",1,"",""]
[null,"3",null,null,null,null,"0",null,"2",null,null,null,"302","8A3","E9651304","24I Input Output PCB","SLOT 16",1,"",""]
[null,"3",null,null,null,null,"0",null,"2",null,null,null,"302","8B3","E9651304","24I Input Output PCB","SLOT 16",1,"",""]
[null,"3",null,null,null,null,"0",null,"2",null,null,null,"302","8B3","E9651304","24I Input Output PCB","SLOT 03",1,"",""]
[null,"3",null,null,null,null,null,{"$f":"MID($A$2,14,1)","v":"0"},"2",null,null,null,{"$f":"CONCATENATE(B323,H323,I323)","v":"302"},"303","E9651305","6I 6O Input Output PCB","SLOT 06",1,"",""]
[null,"3",null,null,null,null,null,"0","2",null,null,null,{"$f":"CONCATENATE(B324,H324,I324)","v":"302"},"503","E9651305","6I 6O Input Output PCB","SLOT 06",1,"",""]
[null,"3",null,null,{"$f":"MID($A$2,9,1)","v":"5"},null,null,"0","2",null,null,null,{"$f":"CONCATENATE(B325,E325,H325,I325)","v":"3502"},"3503","E9651305","6I 6O Input Output PCB","SLOT 07",1,"",""]
[null,"3",null,null,{"$f":"MID($A$2,9,1)","v":"5"},null,null,"0","2",null,null,null,{"$f":"CONCATENATE(B326,E326,H326,I326)","v":"3502"},"5503","E9651305","6I 6O Input Output PCB","SLOT 07",1,"",""]
[null,"3",null,null,{"$f":"MID($A$2,9,1)","v":"5"},null,null,"0","2",null,null,null,{"$f":"CONCATENATE(B327,E327,H327,I327)","v":"3502"},"3513","E9651305","6I 6O Input Output PCB","SLOT 07",1,"",""]
[null,"3",null,null,{"$f":"MID($A$2,9,1)","v":"5"},null,null,"0","2",null,null,null,{"$f":"CONCATENATE(B328,E328,H328,I328)","v":"3502"},"5513","E9651305","6I 6O Input Output PCB","SLOT 07",1,"",""]
[null,"3",null,null,null,null,null,"0","2",null,null,null,{"$f":"CONCATENATE(B329,H329,I329)","v":"302"},"803","E9651305","6I 6O Input Output PCB","SLOT 12",1,"",""]
[null,"3",null,null,{"$f":"MID($A$2,9,1)","v":"5"},null,null,"0","2",null,null,null,{"$f":"CONCATENATE(B330,E330,H330,I330)","v":"3502"},"8503","E9651305","6I 6O Input Output PCB","SLOT 14",1,"",""]
[null,"3",null,null,{"$f":"MID($A$2,9,1)","v":"5"},null,null,"0","2",null,null,null,{"$f":"CONCATENATE(B331,E331,H331,I331)","v":"3502"},"8513","E9651305","6I 6O Input Output PCB","SLOT 14",1,"",""]
[null,"3",null,null,null,null,{"$f":"MID($A$2,11,1)","v":"0"},null,"2",null,null,null,{"$f":"CONCATENATE(B332,G332,I332)","v":"302"},"323","E9651307","4I Analogue PCB","SLOT 08",1,"",""]
[null,"3",null,null,null,null,"0",null,"2",null,null,null,"302","333","E9651307","4I Analogue PCB","SLOT 08",1,"",""]
[null,"3",null,null,null,null,"0",null,"2",null,null,null,"302","383","E9651307","4I Analogue PCB","SLOT 08",1,"",""]
[null,"3",null,null,null,null,"0",null,"2",null,null,null,"302","523","E9651307","4I Analogue PCB","SLOT 08",1,{"$f":"IF(AND($M335<>\"\",$M335=$N335),$R335,\"\")","v":""},{"$f":"IF(AND($M335<>\"\",$M335=$N335),$Q335,\"\")","v":""}]
[null,"3",null,null,null,null,"0",null,"2",null,null,null,"302","533","E9651307","4I Analogue PCB","SLOT 08",1,"",""]
[null,"3",null,null,null,null,"0",null,"2",null,null,null,"302","583","E9651307","4I Analogue PCB","SLOT 08",1,"",""]
[null,"3",null,null,null,null,"0",null,"2",null,null,null,"302","823","E9651307","4I Analogue PCB","SLOT 16",1,"",""]
[null,"3",null,null,null,null,"0",null,"2",null,null,null,"302","833","E9651307","4I Analogue PCB","SLOT 16",1,"",""]
[null,"3",null,null,null,null,"0",null,"2",null,null,null,"302","883","E9651307","4I Analogue PCB","SLOT 16",1,"",""]
[null,"3",null,null,null,null,"0",null,"2",null,null,null,"302","3A3","E9651307","4I Analogue PCB","SLOT 03",1,"",""]
[null,"3",null,null,null,null,"0",null,"2",null,null,null,"302","5A3","E9651307","4I Analogue PCB","SLOT 03",1,"",""]
[null,"3",null,null,null,null,"0",null,"2",null,null,null,"302","8A3","E9651307","4I Analogue PCB","SLOT 03",1,"",""]
[null,"3",null,null,null,{"$f":"MID($A$2,10,1)","v":"F"},null,null,"2",null,null,null,{"$f":"CONCATENATE(B344,F344,I344)","v":"3F2"},"331","E9651328","Power Supply 24V 4I/8O 90/127V","SLOT 09",1,"",""]
[null,"3",null,null,null,"F",null,null,"2",null,null,null,"3F2","361","E9651328","Power Supply 24V 4I/8O 90/127V","SLOT 09",1,"",""]
[null,"3",null,null,null,"F",null,null,"2",null,null,null,"3F2","381","E9651328","Power Supply 24V 4I/8O 90/127V","SLOT 09",1,"",""]
[null,"3",null,null,null,"F",null,null,"2",null,null,null,"3F2","531","E9651328","Power Supply 24V 4I/8O 90/127V","SLOT 09",1,"",""]
[null,"3",null,null,null,"F",null,null,"2",null,null,null,"3F2","561","E9651328","Power Supply 24V 4I/8O 90/127V","SLOT 09",1,"",""]
[null,"3",null,null,null,"F",null,null,"2",null,null,null,"3F2","581","E9651328","Power Supply 24V 4I/8O 90/127V","SLOT 09",1,"",""]
[null,"3",null,null,null,"F",null,null,"2",null,null,null,"3F2","3A1","E9651328","Power Supply 24V 4I/8O 90/127V","SLOT 09",1,"",""]
[null,"3",null,null,null,"F",null,null,"2",null,null,null,"3F2","5A1","E9651328","Power Supply 24V 4I/8O 90/127V","SLOT 09",1,"",""]
[null,"3",null,null,null,"F",null,null,"2",null,null,null,"3F2","3C1","E9651328","Power Supply 24V 4I/8O 90/127V","SLOT 09",1,"",""]
[null,"3",null,null,null,"F",null,null,"2",null,null,null,"3F2","5C1","E9651328","Power Supply 24V 4I/8O 90/127V","SLOT 09",1,"",""]
[null,"3",null,null,null,"F",null,null,"2",null,null,null,"3F2","831","E9651328","Power Supply 24V 4I/8O 90/127V","SLOT 20",1,"",""]
[null,"3",null,null,null,"F",null,null,"2",null,null,null,"3F2","861","E9651328","Power Supply 24V 4I/8O 90/127V","SLOT 20",1,"",""]
[null,"3",null,null,null,"F",null,null,"2",null,null,null,"3F2","881","E9651328","Power Supply 24V 4I/8O 90/127V","SLOT 20",1,"",""]
[null,"3",null,null,null,"F",null,null,"2",null,null,null,"3F2","8A1","E9651328","Power Supply 24V 4I/8O 90/127V","SLOT 20",1,"",""]
[null,"3",null,null,null,"F",null,null,"2",null,null,null,"3F2","8C1","E9651328","Power Supply 24V 4I/8O 90/127V","SLOT 20",1,"",""]
[null,"3",null,null,null,{"$f":"MID($A$2,10,1)","v":"F"},null,null,"2",null,null,null,{"$f":"CONCATENATE(B359,F359,I359)","v":"3F2"},"3E1","E9651537","Power Supply 24-60V 4I/8O 90/127V","SLOT 09",1,"",""]
[null,"3",null,null,null,"F",null,null,"2",null,null,null,"3F2","3G1","E9651537","Power Supply 24-60V 4I/8O 90/127V","SLOT 09",1,"",""]
[null,"3",null,null,null,"F",null,null,"2",null,null,null,"3F2","5E1","E9651537","Power Supply 24-60V 4I/8O 90/127V","SLOT 09",1,"",""]
[null,{"$f":"MID($A$2,5,1)","v":"3"},null,null,null,"F",null,null,{"$f":"MID($A$2,15,1)","v":"2"},null,null,null,"3F2","5G1","E9651537","Power Supply 24-60V 4I/8O 90/127V","SLOT 09",1,"",""]
[null,"3",null,null,null,"F",null,null,"2",null,null,null,"3F2","3J1","E9651537","Power Supply 24-60V 4I/8O 90/127V","SLOT 09",1,"",""]
[null,"3",null,null,null,"F",null,null,"2",null,null,null,"3F2","5J1","E9651537","Power Supply 24-60V 4I/8O 90/127V","SLOT 09",1,"",""]
[null,"3",null,null,null,"F",null,null,"2",null,null,null,"3F2","3L1","E9651537","Power Supply 24-60V 4I/8O 90/127V","SLOT 09",1,"",""]
[null,"3",null,null,null,"F",null,null,"2",null,null,null,"3F2","5L1","E9651537","Power Supply 24-60V 4I/8O 90/127V","SLOT 09",1,"",""]
[null,"3",null,null,null,"F",null,null,"2",null,null,null,"3F2","8E1","E9651537","Power Supply 24-60V 4I/8O 90/127V","SLOT 20",1,"",""]
[null,"3",null,null,null,"F",null,null,"2",null,null,null,"3F2","8G1","E9651537","Power Supply 24-60V 4I/8O 90/127V","SLOT 20",1,"",""]
[null,"3",null,null,null,"F",null,null,"2",null,null,null,"3F2","8J1","E9651537","Power Supply 24-60V 4I/8O 90/127V","SLOT 20",1,"",""]
[null,"3",null,null,null,"F",null,null,"2",null,null,null,"3F2","8L1","E9651537","Power Supply 24-60V 4I/8O 90/127V","SLOT 20",1,"",""]
[null,"3",null,null,null,"F",null,null,"2",null,null,null,{"$f":"CONCATENATE(B371,F371,I371)","v":"3F2"},"341","E9651329","Power Supply 48-250V 4I/8O 90/127V","SLOT 09",1,"",""]
[null,"3",null,null,null,"F",null,null,"2",null,null,null,"3F2","371","E9651329","Power Supply 48-250V 4I/8O 90/127V","SLOT 09",1,"",""]
[null,"3",null,null,null,"F",null,null,"2",null,null,null,"3F2","391","E9651329","Power Supply 48-250V 4I/8O 90/127V","SLOT 09",1,"",""]
[null,"3",null,null,null,"F",null,null,"2",null,null,null,"3F2","541","E9651329","Power Supply 48-250V 4I/8O 90/127V","SLOT 09",1,"",""]
[null,"3",null,null,null,"F",null,null,"2",null,null,null,"3F2","571","E9651329","Power Supply 48-250V 4I/8O 90/127V","SLOT 09",1,"",""]
[null,"3",null,null,null,"F",null,null,"2",null,null,null,"3F2","591","E9651329","Power Supply 48-250V 4I/8O 90/127V","SLOT 09",1,"",""]
[null,"3",null,null,null,"F",null,null,"2",null,null,null,"3F2","3B1","E9651329","Power Supply 48-250V 4I/8O 90/127V","SLOT 09",1,"",""]
[null,"3",null,null,null,"F",null,null,"2",null,null,null,"3F2","3D1","E9651329","Power Supply 48-250V 4I/8O 90/127V","SLOT 09",1,"",""]
[null,"3",null,null,null,"F",null,null,"2",null,null,null,"3F2","5B1","E9651329","Power Supply 48-250V 4I/8O 90/127V","SLOT 09",1,"",""]
[null,"3",null,null,null,"F",null,null,"2",null,null,null,"3F2","5D1","E9651329","Power Supply 48-250V 4I/8O 90/127V","SLOT 09",1,"",""]
[null,"3",null,null,null,"F",null,null,"2",null,null,null,"3F2","841","E9651329","Power Supply 48-250V 4I/8O 90/127V","SLOT 20",1,"",""]
[null,"3",null,null,null,"F",null,null,"2",null,null,null,"3F2","871","E9651329","Power Supply 48-250V 4I/8O 90/127V","SLOT 20",1,"",""]
[null,"3",null,null,null,"F",null,null,"2",null,null,null,"3F2","891","E9651329","Power Supply 48-250V 4I/8O 90/127V","SLOT 20",1,"",""]
[null,"3",null,null,null,"F",null,null,"2",null,null,null,"3F2","8B1","E9651329","Power Supply 48-250V 4I/8O 90/127V","SLOT 20",1,"",""]
[null,"3",null,null,null,"F",null,null,"2",null,null,null,"3F2","8D1","E9651329","Power Supply 48-250V 4I/8O 90/127V","SLOT 20",1,"",""]
[null,"3",null,null,null,"F",null,null,"2",null,null,null,"3F2","3F1","E9651547","Power Supply 60-250V 4I/8O 90/127V","SLOT 09",1,"",""]
[null,"3",null,null,null,"F",null,null,"2",null,null,null,"3F2","3H1","E9651547","Power Supply 60-250V 4I/8O 90/127V","SLOT 09",1,"",""]
[null,"3",null,null,null,"F",null,null,"2",null,null,null,"3F2","5F1","E9651547","Power Supply 60-250V 4I/8O 90/127V","SLOT 09",1,"",""]
[null,"3",null,null,null,"F",null,null,"2",null,null,null,"3F2","5H1","E9651547","Power Supply 60-250V 4I/8O 90/127V","SLOT 09",1,"",""]
[null,"3",null,null,null,"F",null,null,"2",null,null,null,"3F2","3K1","E9651547","Power Supply 60-250V 4I/8O 90/127V","SLOT 09",1,"",""]
[null,"3",null,null,null,"F",null,null,"2",null,null,null,"3F2","3M1","E9651547","Power Supply 60-250V 4I/8O 90/127V","SLOT 09",1,"",""]
[null,"3",null,null,null,"F",null,null,"2",null,null,null,"3F2","5K1","E9651547","Power Supply 60-250V 4I/8O 90/127V","SLOT 09",1,"",""]
[null,"3",null,null,null,"F",null,null,"2",null,null,null,"3F2","5M1","E9651547","Power Supply 60-250V 4I/8O 90/127V","SLOT 09",1,"",""]
[null,"3",null,null,null,"F",null,null,"2",null,null,null,"3F2","8F1","E9651547","Power Supply 60-250V 4I/8O 90/127V","SLOT 20",1,"",""]
[null,"3",null,null,null,"F",null,null,"2",null,null,null,"3F2","8H1","E9651547","Power Supply 60-250V 4I/8O 90/127V","SLOT 20",1,"",""]
[null,"3",null,null,null,"F",null,null,"2",null,null,null,"3F2","8K1","E9651547","Power Supply 60-250V 4I/8O 90/127V","SLOT 20",1,"",""]
[null,"3",null,null,null,"F",null,null,"2",null,null,null,"3F2","8M1","E9651547","Power Supply 60-250V 4I/8O 90/127V","SLOT 20",1,"",""]
[null,"3",null,null,null,null,{"$f":"MID($A$2,11,1)","v":"0"},null,"2",null,null,null,{"$f":"CONCATENATE(B398,G398,I398)","v":"302"},"341","E9651332","24I Input Output PCB","SLOT 08",1,"",""]
[null,"3",null,null,null,null,"0",null,"2",null,null,null,"302","351","E9651332","24I Input Output PCB","SLOT 08",1,"",""]
[null,"3",null,null,null,null,"0",null,"2",null,null,null,"302","391","E9651332","24I Input Output PCB","SLOT 08",1,"",""]
[null,"3",null,null,null,null,"0",null,"2",null,null,null,"302","541","E9651332","24I Input Output PCB","SLOT 08",1,"",""]
[null,"3",null,null,null,null,"0",null,"2",null,null,null,"302","551","E9651332","24I Input Output PCB","SLOT 08",1,"",""]
[null,"3",null,null,null,null,"0",null,"2",null,null,null,"302","591","E9651332","24I Input Output PCB","SLOT 08",1,"",""]
[null,"3",null,null,null,null,"0",null,"2",null,null,null,"302","841","E9651332","24I Input Output PCB","SLOT 16",1,"",""]
[null,{"$f":"MID($A$2,5,1)","v":"3"},null,null,null,null,"0",null,{"$f":"MID($A$2,15,1)","v":"2"},null,null,null,"302","851","E9651332","24I Input Output PCB","SLOT 16",1,"",""]
[null,"3",null,null,null,null,"0",null,"2",null,null,null,"302","891","E9651332","24I Input Output PCB","SLOT 16",1,"",""]
[null,"3",null,null,null,null,"0",null,"2",null,null,null,"302","3A1","E9651332","24I Input Output PCB","SLOT 08",1,"",""]
[null,"3",null,null,null,null,"0",null,"2",null,null,null,"302","3B1","E9651332","24I Input Output PCB","SLOT 08",1,"",""]
[null,"3",null,null,null,null,"0",null,"2",null,null,null,"302","3B1","E9651332","24I Input Output PCB","SLOT 03",1,"",""]
[null,"3",null,null,null,null,"0",null,"2",null,null,null,"302","5A1","E9651332","24I Input Output PCB","SLOT 08",1,"",""]
[null,"3",null,null,null,null,"0",null,"2",null,null,null,"302","5B1","E9651332","24I Input Output PCB","SLOT 08",1,"",""]
[null,"3",null,null,null,null,"0",null,"2",null,null,null,"302","5B1","E9651332","24I Input Output PCB","SLOT 03",1,"",""]
[null,"3",null,null,null,null,"0",null,"2",null,null,null,"302","8A1","E9651332","24I Input Output PCB","SLOT 16",1,"",""]
[null,"3",null,null,null,null,"0",null,"2",null,null,null,"302","8B1","E9651332","24I Input Output PCB","SLOT 16",1,"",""]
[null,"3",null,null,null,null,"0",null,"2",null,null,null,"302","8B1","E9651332","24I Input Output PCB","SLOT 03",1,"",""]
[null,"3",null,null,null,null,null,{"$f":"MID($A$2,14,1)","v":"0"},"2",null,null,null,{"$f":"CONCATENATE(B416,H416,I416)","v":"302"},"301","E9651333","6I 6O Input Output PCB","SLOT 06",1,"",""]
[null,"3",null,null,null,null,null,"0","2",null,null,null,{"$f":"CONCATENATE(B417,H417,I417)","v":"302"},"501","E9651333","6I 6O Input Output PCB","SLOT 06",1,"",""]
[null,"3",null,null,{"$f":"MID($A$2,9,1)","v":"5"},null,null,"0","2",null,null,null,{"$f":"CONCATENATE(B418,E418,H418,I418)","v":"3502"},"3501","E9651333","6I 6O Input Output PCB","SLOT 07",1,"",""]
[null,"3",null,null,{"$f":"MID($A$2,9,1)","v":"5"},null,null,"0","2",null,null,null,{"$f":"CONCATENATE(B419,E419,H419,I419)","v":"3502"},"5501","E9651333","6I 6O Input Output PCB","SLOT 07",1,"",""]
[null,"3",null,null,{"$f":"MID($A$2,9,1)","v":"5"},null,null,"0","2",null,null,null,{"$f":"CONCATENATE(B420,E420,H420,I420)","v":"3502"},"3511","E9651333","6I 6O Input Output PCB","SLOT 07",1,"",""]
[null,"3",null,null,{"$f":"MID($A$2,9,1)","v":"5"},null,null,"0","2",null,null,null,{"$f":"CONCATENATE(B421,E421,H421,I421)","v":"3502"},"5511","E9651333","6I 6O Input Output PCB","SLOT 07",1,"",""]
[null,"3",null,null,null,null,null,"0","2",null,null,null,{"$f":"CONCATENATE(B422,H422,I422)","v":"302"},"801","E9651333","6I 6O Input Output PCB","SLOT 12",1,"",""]
[null,"3",null,null,{"$f":"MID($A$2,9,1)","v":"5"},null,null,"0","2",null,null,null,{"$f":"CONCATENATE(B423,E423,H423,I423)","v":"3502"},"8501","E9651333","6I 6O Input Output PCB","SLOT 14",1,"",""]
[null,"3",null,null,{"$f":"MID($A$2,9,1)","v":"5"},null,null,"0","2",null,null,null,{"$f":"CONCATENATE(B424,E424,H424,I424)","v":"3502"},"8511","E9651333","6I 6O Input Output PCB","SLOT 14",1,"",""]
[null,"3",null,null,null,null,{"$f":"MID($A$2,11,1)","v":"0"},null,"2",null,null,null,{"$f":"CONCATENATE(B425,G425,I425)","v":"302"},"321","E9651335","4I Analogue PCB","SLOT 08",1,"",""]
[null,"3",null,null,null,null,"0",null,"2",null,null,null,"302","331","E9651335","4I Analogue PCB","SLOT 08",1,"",""]
[null,"3",null,null,null,null,"0",null,"2",null,null,null,"302","381","E9651335","4I Analogue PCB","SLOT 08",1,"",""]
[null,"3",null,null,null,null,"0",null,"2",null,null,null,"302","521","E9651335","4I Analogue PCB","SLOT 08",1,"",""]
[null,"3",null,null,null,null,"0",null,"2",null,null,null,"302","531","E9651335","4I Analogue PCB","SLOT 08",1,"",""]
[null,"3",null,null,null,null,"0",null,"2",null,null,null,"302","581","E9651335","4I Analogue PCB","SLOT 08",1,"",""]
[null,"3",null,null,null,null,"0",null,"2",null,null,null,"302","821","E9651335","4I Analogue PCB","SLOT 16",1,"",""]
[null,"3",null,null,null,null,"0",null,"2",null,null,null,"302","831","E9651335","4I Analogue PCB","SLOT 16",1,"",""]
[null,"3",null,null,null,null,"0",null,"2",null,null,null,"302","881","E9651335","4I Analogue PCB","SLOT 16",1,"",""]
[null,"3",null,null,null,null,"0",null,"2",null,null,null,"302","3A1","E9651335","4I Analogue PCB","SLOT 03",1,"",""]
[null,"3",null,null,null,null,"0",null,"2",null,null,null,"302","5A1","E9651335","4I Analogue PCB","SLOT 03",1,"",""]
[null,"3",null,null,null,null,"0",null,"2",null,null,null,"302","8A1","E9651335","4I Analogue PCB","SLOT 03",1,"",""]
[null,"3",null,null,null,{"$f":"MID($A$2,10,1)","v":"F"},null,null,"2",null,null,null,{"$f":"CONCATENATE(B437,F437,I437)","v":"3F2"},"332","E9651356","Power Supply 24V 4I/8O 155V","SLOT 09",1,"",""]
[null,"3",null,null,null,"F",null,null,"2",null,null,null,"3F2","362","E9651356","Power Supply 24V 4I/8O 155V","SLOT 09",1,"",""]
[null,"3",null,null,null,"F",null,null,"2",null,null,null,"3F2","382","E9651356","Power Supply 24V 4I/8O 155V","SLOT 09",1,"",""]
[null,"3",null,null,null,"F",null,null,"2",null,null,null,"3F2","532","E9651356","Power Supply 24V 4I/8O 155V","SLOT 09",1,"",""]
[null,"3",null,null,null,"F",null,null,"2",null,null,null,"3F2","562","E9651356","Power Supply 24V 4I/8O 155V","SLOT 09",1,"",""]
[null,"3",null,null,null,"F",null,null,"2",null,null,null,"3F2","582","E9651356","Power Supply 24V 4I/8O 155V","SLOT 09",1,"",""]
[null,"3",null,null,null,"F",null,null,"2",null,null,null,"3F2","3A2","E9651356","Power Supply 24V 4I/8O 155V","SLOT 09",1,"",""]
[null,"3",null,null,null,"F",null,null,"2",null,null,null,"3F2","3C2","E9651356","Power Supply 24V 4I/8O 155V","SLOT 09",1,"",""]
[null,"3",null,null,null,"F",null,null,"2",null,null,null,"3F2","5A2","E9651356","Power Supply 24V 4I/8O 155V","SLOT 09",1,"",""]
[null,"3",null,null,null,"F",null,null,"2",null,null,null,"3F2","5C2","E9651356","Power Supply 24V 4I/8O 155V","SLOT 09",1,"",""]
[null,"3",null,null,null,"F",null,null,"2",null,null,null,"3F2","832","E9651356","Power Supply 24V 4I/8O 155V","SLOT 20",1,"",""]
[null,"3",null,null,null,"F",null,null,"2",null,null,null,"3F2","862","E9651356","Power Supply 24V 4I/8O 155V","SLOT 20",1,"",""]
[null,"3",null,null,null,"F",null,null,"2",null,null,null,"3F2","882","E9651356","Power Supply 24V 4I/8O 155V","SLOT 20",1,"",""]
[null,"3",null,null,null,"F",null,null,"2",null,null,null,"3F2","8A2","E9651356","Power Supply 24V 4I/8O 155V","SLOT 20",1,"",""]
[null,"3",null,null,null,"F",null,null,"2",null,null,null,"3F2","8C2","E9651356","Power Supply 24V 4I/8O 155V","SLOT 20",1,"",""]
[null,"3",null,null,null,{"$f":"MID($A$2,10,1)","v":"F"},null,null,"2",null,null,null,{"$f":"CONCATENATE(B452,F452,I452)","v":"3F2"},"3E2","E9651538","Power Supply 24-60V 4I/8O 155V","SLOT 09",1,"",""]
[null,"3",null,null,null,"F",null,null,"2",null,null,null,"3F2","3G2","E9651538","Power Supply 24-60V 4I/8O 155V","SLOT 09",1,{"$f":"IF(AND($M453<>\"\",$M453=$N453),$R453,\"\")","v":""},{"$f":"IF(AND($M453<>\"\",$M453=$N453),$Q453,\"\")","v":""}]
[null,"3",null,null,null,"F",null,null,"2",null,null,null,"3F2","5E2","E9651538","Power Supply 24-60V 4I/8O 155V","SLOT 09",1,"",""]
[null,"3",null,null,null,"F",null,null,"2",null,null,null,"3F2","5G2","E9651538","Power Supply 24-60V 4I/8O 155V","SLOT 09",1,"",""]
[null,"3",null,null,null,"F",null,null,"2",null,null,null,"3F2","3J2","E9651538","Power Supply 24-60V 4I/8O 155V","SLOT 09",1,"",""]
[null,"3",null,null,null,"F",null,null,"2",null,null,null,"3F2","3L2","E9651538","Power Supply 24-60V 4I/8O 155V","SLOT 09",1,"",""]
[null,"3",null,null,null,"F",null,null,"2",null,null,null,"3F2","5J2","E9651538","Power Supply 24-60V 4I/8O 155V","SLOT 09",1,"",""]
[null,"3",null,null,null,"F",null,null,"2",null,null,null,"3F2","5L2","E9651538","Power Supply 24-60V 4I/8O 155V","SLOT 09",1,"",""]
[null,"3",null,null,null,"F",null,null,"2",null,null,null,"3F2","8E2","E9651538","Power Supply 24-60V 4I/8O 155V","SLOT 20",1,"",""]
[null,{"$f":"MID($A$2,5,1)","v":"3"},null,null,null,"F",null,null,{"$f":"MID($A$2,15,1)","v":"2"},null,null,null,"3F2","8G2","E9651538","Power Supply 24-60V 4I/8O 155V","SLOT 20",1,"",""]
[null,"3",null,null,null,"F",null,null,"2",null,null,null,"3F2","8J2","E9651538","Power Supply 24-60V 4I/8O 155V","SLOT 20",1,"",""]
[null,"3",null,null,null,"F",null,null,"2",null,null,null,"3F2","8L2","E9651538","Power Supply 24-60V 4I/8O 155V","SLOT 20",1,"",""]
[null,"3",null,null,null,"F",null,null,"2",null,null,null,{"$f":"CONCATENATE(B464,F464,I464)","v":"3F2"},"342","E9651357","Power Supply 48-250V 4I/8O 155V","SLOT 09",1,"",""]
[null,"3",null,null,null,"F",null,null,"2",null,null,null,"3F2","372","E9651357","Power Supply 48-250V 4I/8O 155V","SLOT 09",1,"",""]
[null,"3",null,null,null,"F",null,null,"2",null,null,null,"3F2","392","E9651357","Power Supply 48-250V 4I/8O 155V","SLOT 09",1,"",""]
[null,"3",null,null,null,"F",null,null,"2",null,null,null,"3F2","542","E9651357","Power Supply 48-250V 4I/8O 155V","SLOT 09",1,"",""]
[null,"3",null,null,null,"F",null,null,"2",null,null,null,"3F2","572","E9651357","Power Supply 48-250V 4I/8O 155V","SLOT 09",1,"",""]
[null,"3",null,null,null,"F",null,null,"2",null,null,null,"3F2","592","E9651357","Power Supply 48-250V 4I/8O 155V","SLOT 09",1,"",""]
[null,"3",null,null,null,"F",null,null,"2",null,null,null,"3F2","3B2","E9651357","Power Supply 48-250V 4I/8O 155V","SLOT 09",1,"",""]
[null,"3",null,null,null,"F",null,null,"2",null,null,null,"3F2","3D2","E9651357","Power Supply 48-250V 4I/8O 155V","SLOT 09",1,"",""]
[null,"3",null,null,null,"F",null,null,"2",null,null,null,"3F2","5B2","E9651357","Power Supply 48-250V 4I/8O 155V","SLOT 09",1,"",""]
[null,"3",null,null,null,"F",null,null,"2",null,null,null,"3F2","5D2","E9651357","Power Supply 48-250V 4I/8O 155V","SLOT 09",1,"",""]
[null,"3",null,null,null,"F",null,null,"2",null,null,null,"3F2","842","E9651357","Power Supply 48-250V 4I/8O 155V","SLOT 20",1,"",""]
[null,"3",null,null,null,"F",null,null,"2",null,null,null,"3F2","872","E9651357","Power Supply 48-250V 4I/8O 155V","SLOT 20",1,"",""]
[null,"3",null,null,null,"F",null,null,"2",null,null,null,"3F2","892","E9651357","Power Supply 48-250V 4I/8O 155V","SLOT 20",1,"",""]
[null,"3",null,null,null,"F",null,null,"2",null,null,null,"3F2","8B2","E9651357","Power Supply 48-250V 4I/8O 155V","SLOT 20",1,"",""]
[null,"3",null,null,null,"F",null,null,"2",null,null,null,"3F2","8D2","E9651357","Power Supply 48-250V 4I/8O 155V","SLOT 20",1,"",""]
[null,"3",null,null,null,"F",null,null,"2",null,null,null,"3F2","3F2","E9651548","Power Supply 60-250V 4I/8O 155V","SLOT 09",1,1,"SLOT 09"]
[null,"3",null,null,null,"F",null,null,"2",null,null,null,"3F2","3H2","E9651548","Power Supply 60-250V 4I/8O 155V","SLOT 09",1,"",""]
[null,"3",null,null,null,"F",null,null,"2",null,null,null,"3F2","5F2","E9651548","Power Supply 60-250V 4I/8O 155V","SLOT 09",1,"",""]
[null,"3",null,null,null,"F",null,null,"2",null,null,null,"3F2","5H2","E9651548","Power Supply 60-250V 4I/8O 155V","SLOT 09",1,"",""]
[null,"3",null,null,null,"F",null,null,"2",null,null,null,"3F2","3K2","E9651548","Power Supply 60-250V 4I/8O 155V","SLOT 09",1,"",""]
[null,"3",null,null,null,"F",null,null,"2",null,null,null,"3F2","3M2","E9651548","Power Supply 60-250V 4I/8O 155V","SLOT 09",1,"",""]
[null,"3",null,null,null,"F",null,null,"2",null,null,null,"3F2","5K2","E9651548","Power Supply 60-250V 4I/8O 155V","SLOT 09",1,"",""]
[null,"3",null,null,null,"F",null,null,"2",null,null,null,"3F2","5M2","E9651548","Power Supply 60-250V 4I/8O 155V","SLOT 09",1,"",""]
[null,"3",null,null,null,"F",null,null,"2",null,null,null,"3F2","8F2","E9651548","Power Supply 60-250V 4I/8O 155V","SLOT 20",1,"",""]
[null,"3",null,null,null,"F",null,null,"2",null,null,null,"3F2","8H2","E9651548","Power Supply 60-250V 4I/8O 155V","SLOT 20",1,"",""]
[null,"3",null,null,null,"F",null,null,"2",null,null,null,"3F2","8K2","E9651548","Power Supply 60-250V 4I/8O 155V","SLOT 20",1,"",""]
[null,"3",null,null,null,"F",null,null,"2",null,null,null,"3F2","8M2","E9651548","Power Supply 60-250V 4I/8O 155V","SLOT 20",1,"",""]
[null,"3",null,null,null,null,{"$f":"MID($A$2,11,1)","v":"0"},null,"2",null,null,null,{"$f":"CONCATENATE(B491,G491,I491)","v":"302"},"342","E9651360","24I Input Output PCB","SLOT 08",1,"",""]
[null,"3",null,null,null,null,"0",null,"2",null,null,null,"302","352","E9651360","24I Input Output PCB","SLOT 08",1,"",""]
[null,"3",null,null,null,null,"0",null,"2",null,null,null,"302","392","E9651360","24I Input Output PCB","SLOT 08",1,"",""]
[null,"3",null,null,null,null,"0",null,"2",null,null,null,"302","542","E9651360","24I Input Output PCB","SLOT 08",1,"",""]
[null,"3",null,null,null,null,"0",null,"2",null,null,null,"302","552","E9651360","24I Input Output PCB","SLOT 08",1,"",""]
[null,"3",null,null,null,null,"0",null,"2",null,null,null,"302","592","E9651360","24I Input Output PCB","SLOT 08",1,"",""]
[null,"3",null,null,null,null,"0",null,"2",null,null,null,"302","842","E9651360","24I Input Output PCB","SLOT 16",1,"",""]
[null,"3",null,null,null,null,"0",null,"2",null,null,null,"302","852","E9651360","24I Input Output PCB","SLOT 16",1,"",""]
[null,"3",null,null,null,null,"0",null,"2",null,null,null,"302","892","E9651360","24I Input Output PCB","SLOT 16",1,"",""]
[null,"3",null,null,null,null,"0",null,"2",null,null,null,"302","3A2","E9651360","24I Input Output PCB","SLOT 08",1,"",""]
[null,"3",null,null,null,null,"0",null,"2",null,null,null,"302","3B2","E9651360","24I Input Output PCB","SLOT 08",1,"",""]
[null,"3",null,null,null,null,"0",null,"2",null,null,null,"302","3B2","E9651360","24I Input Output PCB","SLOT 03",1,"",""]
[null,"3",null,null,null,null,"0",null,"2",null,null,null,"302","5A2","E9651360","24I Input Output PCB","SLOT 08",1,"",""]
[null,"3",null,null,null,null,"0",null,"2",null,null,null,"302","5B2","E9651360","24I Input Output PCB","SLOT 08",1,"",""]
[null,"3",null,null,null,null,"0",null,"2",null,null,null,"302","5B2","E9651360","24I Input Output PCB","SLOT 03",1,"",""]
[null,"3",null,null,null,null,"0",null,"2",null,null,null,"302","8A2","E9651360","24I Input Output PCB","SLOT 16",1,"",""]
[null,"3",null,null,null,null,"0",null,"2",null,null,null,"302","8B2","E9651360","24I Input Output PCB","SLOT 16",1,"",""]
[null,"3",null,null,null,null,"0",null,"2",null,null,null,"302","8B2","E9651360","24I Input Output PCB","SLOT 03",1,"",""]
[null,"3",null,null,null,null,null,{"$f":"MID($A$2,14,1)","v":"0"},"2",null,null,null,{"$f":"CONCATENATE(B509,H509,I509)","v":"302"},"302","E9651361","6I 6O Input Output PCB","SLOT 06",1,1,"SLOT 06"]
[null,"3",null,null,null,null,null,"0","2",null,null,null,{"$f":"CONCATENATE(B510,H510,I510)","v":"302"},"502","E9651361","6I 6O Input Output PCB","SLOT 06",1,"",""]
[null,"3",null,null,{"$f":"MID($A$2,9,1)","v":"5"},null,null,"0","2",null,null,null,{"$f":"CONCATENATE(B511,E511,H511,I511)","v":"3502"},"3502","E9651361","6I 6O Input Output PCB","SLOT 07",1,1,"SLOT 07"]
[null,"3",null,null,{"$f":"MID($A$2,9,1)","v":"5"},null,null,"0","2",null,null,null,{"$f":"CONCATENATE(B512,E512,H512,I512)","v":"3502"},"5502","E9651361","6I 6O Input Output PCB","SLOT 07",1,"",""]
[null,"3",null,null,{"$f":"MID($A$2,9,1)","v":"5"},null,null,"0","2",null,null,null,{"$f":"CONCATENATE(B513,E513,H513,I513)","v":"3502"},"3512","E9651361","6I 6O Input Output PCB","SLOT 07",1,"",""]
[null,{"$f":"MID($A$2,5,1)","v":"3"},null,null,{"$f":"MID($A$2,9,1)","v":"5"},null,null,"0",{"$f":"MID($A$2,15,1)","v":"2"},null,null,null,{"$f":"CONCATENATE(B514,E514,H514,I514)","v":"3502"},"5512","E9651361","6I 6O Input Output PCB","SLOT 07",1,"",""]
[null,"3",null,null,null,null,null,"0","2",null,null,null,{"$f":"CONCATENATE(B515,H515,I515)","v":"302"},"802","E9651361","6I 6O Input Output PCB","SLOT 12",1,"",""]
[null,"3",null,null,{"$f":"MID($A$2,9,1)","v":"5"},null,null,"0","2",null,null,null,{"$f":"CONCATENATE(B516,E516,H516,I516)","v":"3502"},"8502","E9651361","6I 6O Input Output PCB","SLOT 14",1,"",""]
[null,"3",null,null,{"$f":"MID($A$2,9,1)","v":"5"},null,null,"0","2",null,null,null,{"$f":"CONCATENATE(B517,E517,H517,I517)","v":"3502"},"8512","E9651361","6I 6O Input Output PCB","SLOT 14",1,"",""]
[null,"3",null,null,null,null,{"$f":"MID($A$2,11,1)","v":"0"},null,"2",null,null,null,{"$f":"CONCATENATE(B518,G518,I518)","v":"302"},"322","E9651363","4I Analogue PCB","SLOT 08",1,"",""]
[null,"3",null,null,null,null,"0",null,"2",null,null,null,"302","332","E9651363","4I Analogue PCB","SLOT 08",1,"",""]
[null,"3",null,null,null,null,"0",null,"2",null,null,null,"302","382","E9651363","4I Analogue PCB","SLOT 08",1,"",""]
[null,"3",null,null,null,null,"0",null,"2",null,null,null,"302","522","E9651363","4I Analogue PCB","SLOT 08",1,"",""]
[null,"3",null,null,null,null,"0",null,"2",null,null,null,"302","532","E9651363","4I Analogue PCB","SLOT 08",1,"",""]
[null,"3",null,null,null,null,"0",null,"2",null,null,null,"302","582","E9651363","4I Analogue PCB","SLOT 08",1,"",""]
[null,"3",null,null,null,null,"0",null,"2",null,null,null,"302","822","E9651363","4I Analogue PCB","SLOT 16",1,"",""]
[null,"3",null,null,null,null,"0",null,"2",null,null,null,"302","832","E9651363","4I Analogue PCB","SLOT 16",1,"",""]
[null,"3",null,null,null,null,"0",null,"2",null,null,null,"302","882","E9651363","4I Analogue PCB","SLOT 16",1,"",""]
[null,"3",null,null,null,null,"0",null,"2",null,null,null,"302","3A2","E9651363","4I Analogue PCB","SLOT 03",1,"",""]
[null,"3",null,null,null,null,"0",null,"2",null,null,null,"302","5A2","E9651363","4I Analogue PCB","SLOT 03",1,"",""]
[null,"3",null,null,null,null,"0",null,"2",null,null,null,"302","8A2","E9651363","4I Analogue PCB","SLOT 03",1,"",""]
[null,"3",{"$f":"MID($A$2,6,1)","v":"6"},null,null,null,null,null,null,null,null,null,{"$f":"CONCATENATE(B530,C530)","v":"36"},"87","E9651366","Px30 DHMI RIBBON CABLE 84TE S/M(GRAPHIC)",79,1,"",""]
[null,"3",{"$f":"MID($A$2,6,1)","v":"6"},null,null,null,null,null,null,null,null,null,{"$f":"CONCATENATE(B531,C531)","v":"36"},"36",{"$f":"HLOOKUP('Date Drivers'!$B$1,'Date Drivers'!$B$2:$AI$222,209)","v":"E9651367"},"Ribbon Cable 40TE Text & Graphic (rack&panel)",79,1,1,79]
[null,"3",{"$f":"MID($A$2,6,1)","v":"6"},null,null,null,null,null,null,null,null,null,{"$f":"CONCATENATE(B532,C532)","v":"36"},"56",{"$f":"HLOOKUP('Date Drivers'!$B$1,'Date Drivers'!$B$2:$AI$222,209)","v":"E9651367"},"Ribbon Cable 40TE Text & Graphic (rack&panel)",79,1,"",""]
[null,"3",{"$f":"MID($A$2,6,1)","v":"6"},null,null,null,null,null,null,null,null,null,{"$f":"CONCATENATE(B533,C533)","v":"36"},"39","E9651367","Px30 DHMI RIBBON CABLE 40TE FLUSH(GRAPH)",79,1,"",""]
[null,"3",{"$f":"MID($A$2,6,1)","v":"6"},null,null,null,null,null,null,null,null,null,{"$f":"CONCATENATE(B534,C534)","v":"36"},"59","E9651367","Px30 DHMI RIBBON CABLE 40TE FLUSH(GRAPH)",79,1,"",""]
[null,null,null,null,null,null,null,null,null,{"$f":"MID($A$2,16,1)","v":"E"},null,null,{"$f":"J535","v":"E"},"H","E9651426","PCB ASSY- Px30 ETHERNET 10BASE-FL A/06","SLOT 22",1,"",""]
[null,null,null,null,null,null,null,null,null,{"$f":"MID($A$2,16,1)","v":"E"},null,null,{"$f":"J536","v":"E"},"J","E9651427","PCB ASSY- Px30 ETHERNET 100BASE A/06","SLOT 22",1,"",""]
[null,{"$f":"MID($A$2,5,1)","v":"3"},null,null,null,{"$f":"MID($A$2,10,1)","v":"F"},null,null,{"$f":"MID($A$2,15,1)","v":"2"},null,null,null,{"$f":"CONCATENATE(B537,F537,I537)","v":"3F2"},"344","E9651437","Power Supply 48-250V 4I/8O 146V","SLOT 09",1,"",""]
[null,"3",null,null,null,"F",null,null,"2",null,null,null,"3F2","374","E9651437","Power Supply 48-250V 4I/8O 146V","SLOT 09",1,"",""]
[null,"3",null,null,null,"F",null,null,"2",null,null,null,"3F2","394","E9651437","Power Supply 48-250V 4I/8O 146V","SLOT 09",1,"",""]
[null,"3",null,null,null,"F",null,null,"2",null,null,null,"3F2","544","E9651437","Power Supply 48-250V 4I/8O 146V","SLOT 09",1,"",""]
[null,"3",null,null,null,"F",null,null,"2",null,null,null,"3F2","574","E9651437","Power Supply 48-250V 4I/8O 146V","SLOT 09",1,"",""]
[null,"3",null,null,null,"F",null,null,"2",null,null,null,"3F2","594","E9651437","Power Supply 48-250V 4I/8O 146V","SLOT 09",1,"",""]
[null,"3",null,null,null,"F",null,null,"2",null,null,null,"3F2","3B4","E9651437","Power Supply 48-250V 4I/8O 146V","SLOT 09",1,"",""]
[null,"3",null,null,null,"F",null,null,"2",null,null,null,"3F2","3D4","E9651437","Power Supply 48-250V 4I/8O 146V","SLOT 09",1,"",""]
[null,"3",null,null,null,"F",null,null,"2",null,null,null,"3F2","5B4","E9651437","Power Supply 48-250V 4I/8O 146V","SLOT 09",1,"",""]
[null,"3",null,null,null,"F",null,null,"2",null,null,null,"3F2","5D4","E9651437","Power Supply 48-250V 4I/8O 146V","SLOT 09",1,"",""]
[null,"3",null,null,null,"F",null,null,"2",null,null,null,"3F2","844","E9651437","Power Supply 48-250V 4I/8O 146V","SLOT 20",1,"",""]
[null,"3",null,null,null,"F",null,null,"2",null,null,null,"3F2","874","E9651437","Power Supply 48-250V 4I/8O 146V","SLOT 20",1,"",""]
[null,"3",null,null,null,"F",null,null,"2",null,null,null,"3F2","894","E9651437","Power Supply 48-250V 4I/8O 146V","SLOT 20",1,"",""]
[null,"3",null,null,null,"F",null,null,"2",null,null,null,"3F2","8D4","E9651437","Power Supply 48-250V 4I/8O 146V","SLOT 20",1,"",""]
[null,"3",null,null,null,"F",null,null,"2",null,null,null,"3F2","8B4","E9651437","Power Supply 48-250V 4I/8O 146V","SLOT 20",1,"",""]
[null,{"$f":"MID($A$2,5,1)","v":"3"},null,null,null,{"$f":"MID($A$2,10,1)","v":"F"},null,null,{"$f":"MID($A$2,15,1)","v":"2"},null,null,null,{"$f":"CONCATENATE(B552,F552,I552)","v":"3F2"},"3F4","E9651549","Power Supply 60-250V 4I/8O 146V","SLOT 09",1,"",""]
[null,"3",null,null,null,"F",null,null,"2",null,null,null,"3F2","3H4","E9651549","Power Supply 60-250V 4I/8O 146V","SLOT 09",1,{"$f":"IF(AND($M553<>\"\",$M553=$N553),$R553,\"\")","v":""},{"$f":"IF(AND($M553<>\"\",$M553=$N553),$Q553,\"\")","v":""}]
[null,"3",null,null,null,"F",null,null,"2",null,null,null,"3F2","5F4","E9651549","Power Supply 60-250V 4I/8O 146V","SLOT 09",1,"",""]
[null,"3",null,null,null,"F",null,null,"2",null,null,null,"3F2","5H4","E9651549","Power Supply 60-250V 4I/8O 146V","SLOT 09",1,"",""]
[null,"3",null,null,null,"F",null,null,"2",null,null,null,"3F2","3K4","E9651549","Power Supply 60-250V 4I/8O 146V","SLOT 09",1,"",""]
[null,"3",null,null,null,"F",null,null,"2",null,null,null,"3F2","3M4","E9651549","Power Supply 60-250V 4I/8O 146V","SLOT 09",1,"",""]
[null,"3",null,null,null,"F",null,null,"2",null,null,null,"3F2","5K4","E9651549","Power Supply 60-250V 4I/8O 146V","SLOT 09",1,"",""]
[null,"3",null,null,null,"F",null,null,"2",null,null,null,"3F2","5M4","E9651549","Power Supply 60-250V 4I/8O 146V","SLOT 09",1,"",""]
[null,"3",null,null,null,"F",null,null,"2",null,null,null,"3F2","8F4","E9651549","Power Supply 60-250V 4I/8O 146V","SLOT 20",1,"",""]
[null,"3",null,null,null,"F",null,null,"2",null,null,null,"3F2","8H4","E9651549","Power Supply 60-250V 4I/8O 146V","SLOT 20",1,"",""]
[null,"3",null,null,null,"F",null,null,"2",null,null,null,"3F2","8M4","E9651549","Power Supply 60-250V 4I/8O 146V","SLOT 20",1,"",""]
[null,"3",null,null,null,"F",null,null,"2",null,null,null,"3F2","8K4","E9651549","Power Supply 60-250V 4I/8O 146V","SLOT 20",1,"",""]
[null,"3",null,null,null,"F",null,null,"2",null,null,null,{"$f":"CONCATENATE(B564,F564,I564)","v":"3F2"},"334","E9651439","Power Supply 24V 4I/8O 146V","SLOT 09",1,"",""]
[null,"3",null,null,null,"F",null,null,"2",null,null,null,"3F2","364","E9651439","Power Supply 24V 4I/8O 146V","SLOT 09",1,"",""]
[null,"3",null,null,null,"F",null,null,"2",null,null,null,"3F2","384","E9651439","Power Supply 24V 4I/8O 146V","SLOT 09",1,"",""]
[null,"3",null,null,null,"F",null,null,"2",null,null,null,"3F2","534","E9651439","Power Supply 24V 4I/8O 146V","SLOT 09",1,"",""]
[null,"3",null,null,null,"F",null,null,"2",null,null,null,"3F2","564","E9651439","Power Supply 24V 4I/8O 146V","SLOT 09",1,"",""]
[null,"3",null,null,null,"F",null,null,"2",null,null,null,"3F2","584","E9651439","Power Supply 24V 4I/8O 146V","SLOT 09",1,"",""]
[null,"3",null,null,null,"F",null,null,"2",null,null,null,"3F2","3A4","E9651439","Power Supply 24V 4I/8O 146V","SLOT 09",1,"",""]
[null,"3",null,null,null,"F",null,null,"2",null,null,null,"3F2","3C4","E9651439","Power Supply 24V 4I/8O 146V","SLOT 09",1,"",""]
[null,"3",null,null,null,"F",null,null,"2",null,null,null,"3F2","5A4","E9651439","Power Supply 24V 4I/8O 146V","SLOT 09",1,"",""]
[null,"3",null,null,null,"F",null,null,"2",null,null,null,"3F2","5C4","E9651439","Power Supply 24V 4I/8O 146V","SLOT 09",1,"",""]
[null,"3",null,null,null,"F",null,null,"2",null,null,null,"3F2","834","E9651439","Power Supply 24V 4I/8O 146V","SLOT 20",1,"",""]
[null,"3",null,null,null,"F",null,null,"2",null,null,null,"3F2","864","E9651439","Power Supply 24V 4I/8O 146V","SLOT 20",1,"",""]
[null,"3",null,null,null,"F",null,null,"2",null,null,null,"3F2","884","E9651439","Power Supply 24V 4I/8O 146V","SLOT 20",1,"",""]
[null,"3",null,null,null,"F",null,null,"2",null,null,null,"3F2","8A4","E9651439","Power Supply 24V 4I/8O 146V","SLOT 20",1,"",""]
[null,"3",null,null,null,"F",null,null,"2",null,null,null,"3F2","8C4","E9651439","Power Supply 24V 4I/8O 146V","SLOT 20",1,"",""]
[null,"3",null,null,null,"F",null,null,"2",null,null,null,"3F2","3E4","E9651539","Power Supply 24-60V 4I/8O 146V","SLOT 09",1,"",""]
[null,"3",null,null,null,"F",null,null,"2",null,null,null,"3F2","3G4","E9651539","Power Supply 24-60V 4I/8O 146V","SLOT 09",1,"",""]
[null,"3",null,null,null,"F",null,null,"2",null,null,null,"3F2","5E4","E9651539","Power Supply 24-60V 4I/8O 146V","SLOT 09",1,"",""]
[null,"3",null,null,null,"F",null,null,"2",null,null,null,"3F2","5G4","E9651539","Power Supply 24-60V 4I/8O 146V","SLOT 09",1,"",""]
[null,"3",null,null,null,"F",null,null,"2",null,null,null,"3F2","3J4","E9651539","Power Supply 24-60V 4I/8O 146V","SLOT 09",1,"",""]
[null,"3",null,null,null,"F",null,null,"2",null,null,null,"3F2","3L4","E9651539","Power Supply 24-60V 4I/8O 146V","SLOT 09",1,"",""]
[null,"3",null,null,null,"F",null,null,"2",null,null,null,"3F2","5J4","E9651539","Power Supply 24-60V 4I/8O 146V","SLOT 09",1,"",""]
[null,"3",null,null,null,"F",null,null,"2",null,null,null,"3F2","5L4","E9651539","Power Supply 24-60V 4I/8O 146V","SLOT 09",1,"",""]
[null,"3",null,null,null,"F",null,null,"2",null,null,null,"3F2","8E4","E9651539","Power Supply 24-60V 4I/8O 146V","SLOT 20",1,"",""]
[null,"3",null,null,null,"F",null,null,"2",null,null,null,"3F2","8G4","E9651539","Power Supply 24-60V 4I/8O 146V","SLOT 20",1,"",""]
[null,"3",null,null,null,"F",null,null,"2",null,null,null,"3F2","8J4","E9651539","Power Supply 24-60V 4I/8O 146V","SLOT 20",1,"",""]
[null,"3",null,null,null,"F",null,null,"2",null,null,null,"3F2","8L4","E9651539","Power Supply 24-60V 4I/8O 146V","SLOT 20",1,"",""]
[null,"3",null,null,null,null,{"$f":"MID($A$2,11,1)","v":"0"},null,"2",null,null,null,{"$f":"CONCATENATE(B591,G591,I591)","v":"302"},"344","E9651443","PCB ASSY-Px30 24INPUT(220VCHINA)ISSUE B","SLOT 08",1,"",""]
[null,"3",null,null,null,null,"0",null,"2",null,null,null,"302","354","E9651443","PCB ASSY-Px30 24INPUT(220VCHINA)ISSUE B","SLOT 08",1,"",""]
[null,{"$f":"MID($A$2,5,1)","v":"3"},null,null,null,null,"0",null,{"$f":"MID($A$2,15,1)","v":"2"},null,null,null,"302","394","E9651443","PCB ASSY-Px30 24INPUT(220VCHINA)ISSUE B","SLOT 08",1,"",""]
[null,"3",null,null,null,null,"0",null,"2",null,null,null,"302","544","E9651443","PCB ASSY-Px30 24INPUT(220VCHINA)ISSUE B","SLOT 08",1,"",""]
[null,"3",null,null,null,null,"0",null,"2",null,null,null,"302","554","E9651443","PCB ASSY-Px30 24INPUT(220VCHINA)ISSUE B","SLOT 08",1,"",""]
[null,"3",null,null,null,null,"0",null,"2",null,null,null,"302","594","E9651443","PCB ASSY-Px30 24INPUT(220VCHINA)ISSUE B","SLOT 08",1,"",""]
[null,"3",null,null,null,null,"0",null,"2",null,null,null,"302","844","E9651443","PCB ASSY-Px30 24INPUT(220VCHINA)ISSUE B","SLOT 16",1,"",""]
[null,"3",null,null,null,null,"0",null,"2",null,null,null,"302","854","E9651443","PCB ASSY-Px30 24INPUT(220VCHINA)ISSUE B","SLOT 16",1,"",""]
[null,"3",null,null,null,null,"0",null,"2",null,null,null,"302","894","E9651443","PCB ASSY-Px30 24INPUT(220VCHINA)ISSUE B","SLOT 16",1,"",""]
[null,"3",null,null,null,null,"0",null,"2",null,null,null,"302","3A4","E9651443","24I Input Output PCB","SLOT 08",1,"",""]
[null,"3",null,null,null,null,"0",null,"2",null,null,null,"302","3B4","E9651443","24I Input Output PCB","SLOT 08",1,"",""]
[null,"3",null,null,null,null,"0",null,"2",null,null,null,"302","3B4","E9651443","24I Input Output PCB","SLOT 03",1,"",""]
[null,"3",null,null,null,null,"0",null,"2",null,null,null,"302","5A4","E9651443","24I Input Output PCB","SLOT 08",1,"",""]
[null,"3",null,null,null,null,"0",null,"2",null,null,null,"302","5B4","E9651443","24I Input Output PCB","SLOT 08",1,"",""]
[null,"3",null,null,null,null,"0",null,"2",null,null,null,"302","5B4","E9651443","24I Input Output PCB","SLOT 03",1,"",""]
[null,"3",null,null,null,null,"0",null,"2",null,null,null,"302","8A4","E9651443","24I Input Output PCB","SLOT 16",1,"",""]
[null,"3",null,null,null,null,"0",null,"2",null,null,null,"302","8B4","E9651443","24I Input Output PCB","SLOT 16",1,"",""]
[null,"3",null,null,null,null,"0",null,"2",null,null,null,"302","8B4","E9651443","24I Input Output PCB","SLOT 03",1,"",""]
[null,"3",null,null,null,null,null,{"$f":"MID($A$2,14,1)","v":"0"},"2",null,null,null,{"$f":"CONCATENATE(B609,H609,I609)","v":"302"},"304","E9651444","6I 6O Input Output PCB","SLOT 06",1,"",""]
[null,"3",null,null,null,null,null,"0","2",null,null,null,{"$f":"CONCATENATE(B610,H610,I610)","v":"302"},"504","E9651444","6I 6O Input Output PCB","SLOT 06",1,"",""]
[null,"3",null,null,{"$f":"MID($A$2,9,1)","v":"5"},null,null,"0","2",null,null,null,{"$f":"CONCATENATE(B611,E611,H611,I611)","v":"3502"},"3504","E9651444","6I 6O Input Output PCB","SLOT 07",1,"",""]
[null,"3",null,null,{"$f":"MID($A$2,9,1)","v":"5"},null,null,"0","2",null,null,null,{"$f":"CONCATENATE(B612,E612,H612,I612)","v":"3502"},"5504","E9651444","6I 6O Input Output PCB","SLOT 07",1,"",""]
[null,"3",null,null,{"$f":"MID($A$2,9,1)","v":"5"},null,null,"0","2",null,null,null,{"$f":"CONCATENATE(B613,E613,H613,I613)","v":"3502"},"3514","E9651444","6I 6O Input Output PCB","SLOT 07",1,"",""]
[null,"3",null,null,{"$f":"MID($A$2,9,1)","v":"5"},null,null,"0","2",null,null,null,{"$f":"CONCATENATE(B614,E614,H614,I614)","v":"3502"},"5514","E9651444","6I 6O Input Output PCB","SLOT 07",1,"",""]
[null,"3",null,null,null,null,null,"0","2",null,null,null,{"$f":"CONCATENATE(B615,H615,I615)","v":"302"},"804","E9651444","6I 6O Input Output PCB","SLOT 12",1,"",""]
[null,"3",null,null,{"$f":"MID($A$2,9,1)","v":"5"},null,null,"0","2",null,null,null,{"$f":"CONCATENATE(B616,E616,H616,I616)","v":"3502"},"8504","E9651444","6I 6O Input Output PCB","SLOT 14",1,"",""]
[null,"3",null,null,{"$f":"MID($A$2,9,1)","v":"5"},null,null,"0","2",null,null,null,{"$f":"CONCATENATE(B617,E617,H617,I617)","v":"3502"},"8514","E9651444","6I 6O Input Output PCB","SLOT 14",1,"",""]
[null,"3",null,null,null,null,{"$f":"MID($A$2,11,1)","v":"0"},null,"2",null,null,null,{"$f":"CONCATENATE(B618,G618,I618)","v":"302"},"324","E9651446","4I Analogue PCB","SLOT 08",1,"",""]
[null,"3",null,null,null,null,"0",null,"2",null,null,null,"302","334","E9651446","4I Analogue PCB","SLOT 08",1,"",""]
[null,"3",null,null,null,null,"0",null,"2",null,null,null,"302","384","E9651446","4I Analogue PCB","SLOT 08",1,"",""]
[null,"3",null,null,null,null,"0",null,"2",null,null,null,"302","524","E9651446","4I Analogue PCB","SLOT 08",1,"",""]
[null,"3",null,null,null,null,"0",null,"2",null,null,null,"302","534","E9651446","4I Analogue PCB","SLOT 08",1,"",""]
[null,"3",null,null,null,null,"0",null,"2",null,null,null,"302","584","E9651446","4I Analogue PCB","SLOT 08",1,"",""]
[null,"3",null,null,null,null,"0",null,"2",null,null,null,"302","824","E9651446","4I Analogue PCB","SLOT 16",1,"",""]
[null,"3",null,null,null,null,"0",null,"2",null,null,null,"302","834","E9651446","4I Analogue PCB","SLOT 16",1,"",""]
[null,"3",null,null,null,null,"0",null,"2",null,null,null,"302","884","E9651446","4I Analogue PCB","SLOT 16",1,"",""]
[null,"3",null,null,null,null,"0",null,"2",null,null,null,"302","3A4","E9651446","4I Analogue PCB","SLOT 03",1,"",""]
[null,"3",null,null,null,null,"0",null,"2",null,null,null,"302","5A4","E9651446","4I Analogue PCB","SLOT 03",1,"",""]
[null,"3",null,null,null,null,"0",null,"2",null,null,null,"302","8A4","E9651446","4I Analogue PCB","SLOT 03",1,"",""]
[null,null,null,null,null,null,null,null,null,{"$f":"MID($A$2,16,1)","v":"E"},null,null,{"$f":"J630","v":"E"},"K","E9651471","Px30 ETHERNET 100-BASE ST ISSUE A/02","SLOT 22",1,"",""]
[null,null,null,null,null,null,null,null,null,"E",null,null,"E","M",{"$f":"HLOOKUP('Date Drivers'!$B$1,'Date Drivers'!$B$2:$AI$262,227)","v":"E9652109"},"Final Assy DREB Module SHP"," ",1,"",""]
[null,null,null,null,null,null,null,null,null,"E",null,null,"E","N",{"$f":"HLOOKUP('Date Drivers'!$B$1,'Date Drivers'!$B$2:$AI$262,228)","v":"E9652110"},"Final Assy DREB Module RSTP"," ",1,"",""]
[null,null,null,null,null,null,null,null,null,"E",null,null,"E","P",{"$f":"HLOOKUP('Date Drivers'!$B$1,'Date Drivers'!$B$2:$AI$262,229)","v":"E9652111"},"Final Assy DREB Module DHP"," ",1,"",""]
[null,null,null,null,null,null,null,null,null,"E",null,null,"E","Q",{"$f":"HLOOKUP('Date Drivers'!$B$1,'Date Drivers'!$B$2:$AI$262,234)","v":"E9652158"},"Final Assy DREB Module PRP"," ",1,"",""]
[null,null,null,null,null,null,null,null,null,"E",null,null,"E","0",{"$f":"'Processor Lookup'!$B$7","v":"E9652182"},"Processor Board","SLOT 01",1,"",""]
[null,null,null,null,null,null,null,null,null,{"$f":"MID($A$2,16,1)","v":"E"},null,null,{"$f":"J636","v":"E"},"G",{"$f":"'Processor Lookup'!$B$7","v":"E9652182"},"Processor Board","SLOT 01",1,"",""]
[null,null,null,null,null,null,null,null,null,"E",null,null,"E","E",{"$f":"'Processor Lookup'!$B$7","v":"E9652182"},"Processor Board","SLOT 01",1,{"$f":"IF(AND($M637<>\"\",$M637=$N637),$R637,\"\")","v":1},{"$f":"IF(AND($M637<>\"\",$M637=$N637),$Q637,\"\")","v":"SLOT 01"}]
[null,null,null,null,null,null,null,null,null,"E",null,null,"E","F",{"$f":"'Processor Lookup'!$B$7","v":"E9652182"},"Processor Board","SLOT 01",1,{"$f":"IF(AND($M638<>\"\",$M638=$N638),$R638,\"\")","v":""},{"$f":"IF(AND($M638<>\"\",$M638=$N638),$Q638,\"\")","v":""}]
[null,null,null,null,null,null,null,null,null,"E",null,null,"E","H",{"$f":"'Processor Lookup'!$B$7","v":"E9652182"},"Processor Board","SLOT 01",1,{"$f":"IF(AND($M639<>\"\",$M639=$N639),$R639,\"\")","v":""},{"$f":"IF(AND($M639<>\"\",$M639=$N639),$Q639,\"\")","v":""}]
[null,null,null,null,null,null,null,null,null,"E",null,null,"E","J",{"$f":"'Processor Lookup'!$B$7","v":"E9652182"},"Processor Board","SLOT 01",1,{"$f":"IF(AND($M640<>\"\",$M640=$N640),$R640,\"\")","v":""},{"$f":"IF(AND($M640<>\"\",$M640=$N640),$Q640,\"\")","v":""}]
[null,null,null,null,null,null,null,null,null,"E",null,null,"E","K",{"$f":"'Processor Lookup'!$B$7","v":"E9652182"},"Processor Board","SLOT 01",1,{"$f":"IF(AND($M641<>\"\",$M641=$N641),$R641,\"\")","v":""},{"$f":"IF(AND($M641<>\"\",$M641=$N641),$Q641,\"\")","v":""}]
[null,null,null,null,null,null,null,null,null,"E",null,null,"E","R",{"$f":"'Processor Lookup'!$B$7","v":"E9652182"},"Processor Board","SLOT 01",1,{"$f":"IF(AND($M642<>\"\",$M642=$N642),$R642,\"\")","v":""},{"$f":"IF(AND($M642<>\"\",$M642=$N642),$Q642,\"\")","v":""}]
[null,null,null,null,null,null,null,null,null,"E",null,null,"E","S",{"$f":"'Processor Lookup'!$B$7","v":"E9652182"},"Processor Board","SLOT 01",1,"",""]
[null,null,null,null,null,null,null,null,null,"E",null,null,"E","T",{"$f":"'Processor Lookup'!$B$7","v":"E9652182"},"Processor Board","SLOT 01",1,"",""]
[null,null,null,null,null,null,null,null,null,"E",null,null,"E","U",{"$f":"'Processor Lookup'!$B$7","v":"E9652182"},"Processor Board","SLOT 01",1,"",""]
[null,null,null,null,null,null,null,null,null,"E",null,null,"E","V",{"$f":"'Processor Lookup'!$B$7","v":"E9652182"},"Processor Board","SLOT 01",1,"",""]
[null,null,null,null,null,null,null,null,null,"E",null,null,"E","W",{"$f":"'Processor Lookup'!$B$7","v":"E9652182"},"Processor Board","SLOT 01",1,"",""]
[null,null,null,null,null,null,null,null,null,"E",null,null,"E","X",{"$f":"'Processor Lookup'!$B$7","v":"E9652182"},"Processor Board","SLOT 01",1,"",""]
[null,null,null,null,null,null,null,null,null,"E",null,null,"E","Y",{"$f":"'Processor Lookup'!$B$7","v":"E9652182"},"Processor Board","SLOT 01",1,"",""]
[null,null,null,null,null,null,null,null,null,"E",null,null,{"$f":"J650","v":"E"},"R","E9652161","Single Ethernet PCBA 100Base-Tx 1xRJ45 w/o CS","SLOT 02",1,{"$f":"IF(AND($M650<>\"\",$M650=$N650),$R650,\"\")","v":""},{"$f":"IF(AND($M650<>\"\",$M650=$N650),$Q650,\"\")","v":""}]
[null,null,null,null,null,null,null,null,null,"E",null,null,"E","S","E9652162","Single Ethernet PCBA 100Base-[T/F] x 1xRJ45 & 1xLC w/o CS","SLOT 02",1,"",""]
[null,null,null,null,null,null,null,null,null,"E",null,null,"E","T","E9652159","Dual Ethernet PCBA 100Base-Tx HSR/PRP 3xRJ45 w/o CS","SLOT 02",1,"",""]
[null,null,null,null,null,null,null,null,null,"E",null,null,"E","U","E9652160","Dual Ethernet PCBA 100Base-[T/F] x HSR/PRP 1xRJ45 & 2xLC w/o CS","SLOT 02",1,"",""]
[null,null,null,null,null,null,null,null,null,"E",null,null,"E","V","E9652161","Single Ethernet PCBA 100Base-Tx 1xRJ45 with CS","SLOT 02",1,"",""]
[null,null,null,null,null,null,null,null,null,"E",null,null,"E","W","E9652162","Single Ethernet PCBA 100Base-[T/F] x 1xRJ45 & 1xLC with CS","SLOT 02",1,"",""]
[null,null,null,null,null,null,null,null,null,"E",null,null,"E","X","E9652159","Dual Ethernet PCBA 100Base-Tx HSR/PRP 3xRJ45 with CS","SLOT 02",1,"",""]
[null,null,null,null,null,null,null,null,null,"E",null,null,"E","Y","E9652160","Dual Ethernet PCBA 100Base-[T/F] x HSR/PRP 1xRJ45 & 2xLC with CS","SLOT 02",1,"",""]
[null,null,null,null,null,null,null,null,null,null,null,null,{"$f":"IF(Configurator!$L$7>\"O\",\"1\",\"0\")","v":"0"},"1","EA05001923","QNX License"," ",1,"",""]
[null,null,null,null,null,null,null,null,null,"E",null,null,{"$f":"J659","v":"E"},"R","EA05001924","Connector for IRIG-B"," ",1,"",""]
[null,null,null,null,null,null,null,null,null,"E",null,null,"E","S","EA05001924","Connector for IRIG-B"," ",1,"",""]
[null,null,null,null,null,null,null,null,null,"E",null,null,"E","T","EA05001924","Connector for IRIG-B"," ",1,"",""]
[null,null,null,null,null,null,null,null,null,"E",null,null,"E","U","EA05001924","Connector for IRIG-B"," ",1,"",""]
[null,null,null,null,null,null,null,null,null,"E",null,null,"E","V","EA05001924","Connector for IRIG-B"," ",1,"",""]
[null,null,null,null,null,null,null,null,null,"E",null,null,"E","W","EA05001924","Connector for IRIG-B"," ",1,"",""]
[null,null,null,null,null,null,null,null,null,"E",null,null,"E","X","EA05001924","Connector for IRIG-B"," ",1,"",""]
[null,null,null,null,null,null,null,null,null,"E",null,null,"E","Y","EA05001924","Connector for IRIG-B"," ",1,"",""]
[null,null,{"$f":"MID($A$2,16,1)","v":"E"},null,null,null,null,null,null,null,null,null,{"$f":"C667","v":"E"},"5","EA05001922","Insulation Piece"," ",1,"",""]
[null,null,{"$f":"MID($A$2,16,1)","v":"E"},null,null,null,null,null,null,null,null,null,{"$f":"C668","v":"E"},"7","EA05001922","Insulation Piece"," ",1,"",""]
[null,{"$f":"MID($A$2,5,1)","v":"3"},null,null,null,{"$f":"MID($A$2,10,1)","v":"F"},null,null,null,null,null,null,{"$f":"CONCATENATE(B669,F669)","v":"3F"},"3C","E9651493","Binary I/O 4 output relays high break","SLOT 10",1,{"$f":"IF(AND($M669<>\"\",$M669=$N669),$R669,\"\")","v":""},{"$f":"IF(AND($M669<>\"\",$M669=$N669),$Q669,\"\")","v":""}]
[null,"3",null,null,null,"F",null,null,null,null,null,null,"3F","3D","E9651493","Binary I/O 4 output relays high break","SLOT 10",1,"",""]
[null,"3",null,null,null,"F",null,null,null,null,null,null,"3F","5C","E9651493","Binary I/O 4 output relays high break","SLOT 10",1,"",""]
[null,"3",null,null,null,"F",null,null,null,null,null,null,"3F","5D","E9651493","Binary I/O 4 output relays high break","SLOT 10",1,"",""]
[null,"3",null,null,null,"F",null,null,null,null,null,null,"3F","8C","E9651493","Binary I/O 4 output relays high break","SLOT 18",1,"",""]
[null,"3",null,null,null,"F",null,null,null,null,null,null,"3F","8D","E9651493","Binary I/O 4 output relays high break","SLOT 18",1,"",""]
[null,{"$f":"MID($A$2,5,1)","v":"3"},null,null,null,{"$f":"MID($A$2,10,1)","v":"F"},null,null,null,null,null,null,{"$f":"CONCATENATE(B675,F675)","v":"3F"},"3L","E9651493","Binary I/O 4 output relays high break","SLOT 10",1,{"$f":"IF(AND($M675<>\"\",$M675=$N675),$R675,\"\")","v":""},{"$f":"IF(AND($M675<>\"\",$M675=$N675),$Q675,\"\")","v":""}]
[null,"3",null,null,null,"F",null,null,null,null,null,null,"3F","3M","E9651493","Binary I/O 4 output relays high break","SLOT 10",1,"",""]
[null,"3",null,null,null,"F",null,null,null,null,null,null,"3F","5L","E9651493","Binary I/O 4 output relays high break","SLOT 10",1,"",""]
[null,"3",null,null,null,"F",null,null,null,null,null,null,"3F","5M","E9651493","Binary I/O 4 output relays high break","SLOT 10",1,"",""]
[null,"3",null,null,null,"F",null,null,null,null,null,null,"3F","8L","E9651493","Binary I/O 4 output relays high break","SLOT 18",1,"",""]
[null,"3",null,null,null,"F",null,null,null,null,null,null,"3F","8M","E9651493","Binary I/O 4 output relays high break","SLOT 18",1,"",""]
[null,"3",null,null,null,"F",null,null,{"$f":"MID($A$2,15,1)","v":"2"},null,null,null,{"$f":"CONCATENATE(B681,F681,I681)","v":"3F2"},"3A0","E9651512","Binary I/O 6Inputs/ 3Outputs","SLOT 10",1,"",""]
[null,"3",null,null,null,"F",null,null,"2",null,null,null,"3F2","3B0","E9651512","Binary I/O 6Inputs/ 3Outputs","SLOT 10",1,"",""]
[null,"3",null,null,null,"F",null,null,"2",null,null,null,"3F2","5A0","E9651512","Binary I/O 6Inputs/ 3Outputs","SLOT 10",1,"",""]
[null,"3",null,null,null,"F",null,null,"2",null,null,null,"3F2","5B0","E9651512","Binary I/O 6Inputs/ 3Outputs","SLOT 10",1,"",""]
[null,"3",null,null,null,"F",null,null,"2",null,null,null,"3F2","8A0","E9651512","Binary I/O 6Inputs/ 3Outputs","SLOT 18",1,"",""]
[null,"3",null,null,null,"F",null,null,"2",null,null,null,"3F2","8B0","E9651512","Binary I/O 6Inputs/ 3Outputs","SLOT 18",1,"",""]
[null,"3",null,null,null,"F",null,null,"2",null,null,null,"3F2","3A3","E9651513","Binary I/O 6Inputs/ 3Outputs","SLOT 10",1,"",""]
[null,"3",null,null,null,"F",null,null,"2",null,null,null,"3F2","3B3","E9651513","Binary I/O 6Inputs/ 3Outputs","SLOT 10",1,"",""]
[null,"3",null,null,null,"F",null,null,"2",null,null,null,"3F2","5A3","E9651513","Binary I/O 6Inputs/ 3Outputs","SLOT 10",1,"",""]
[null,"3",null,null,null,"F",null,null,"2",null,null,null,"3F2","5B3","E9651513","Binary I/O 6Inputs/ 3Outputs","SLOT 10",1,"",""]
[null,"3",null,null,null,"F",null,null,"2",null,null,null,"3F2","8A3","E9651513","Binary I/O 6Inputs/ 3Outputs","SLOT 18",1,"",""]
[null,"3",null,null,null,"F",null,null,"2",null,null,null,"3F2","8B3","E9651513","Binary I/O 6Inputs/ 3Outputs","SLOT 18",1,"",""]
[null,"3",null,null,null,"F",null,null,"2",null,null,null,"3F2","3A1","E9651514","Binary I/O 6Inputs/ 3Outputs","SLOT 10",1,"",""]
[null,"3",null,null,null,"F",null,null,"2",null,null,null,"3F2","3B1","E9651514","Binary I/O 6Inputs/ 3Outputs","SLOT 10",1,"",""]
[null,"3",null,null,null,"F",null,null,"2",null,null,null,"3F2","5A1","E9651514","Binary I/O 6Inputs/ 3Outputs","SLOT 10",1,"",""]
[null,"3",null,null,null,"F",null,null,"2",null,null,null,"3F2","5B1","E9651514","Binary I/O 6Inputs/ 3Outputs","SLOT 10",1,"",""]
[null,"3",null,null,null,"F",null,null,"2",null,null,null,"3F2","8A1","E9651514","Binary I/O 6Inputs/ 3Outputs","SLOT 18",1,"",""]
[null,"3",null,null,null,"F",null,null,"2",null,null,null,"3F2","8B1","E9651514","Binary I/O 6Inputs/ 3Outputs","SLOT 18",1,"",""]
[null,"3",null,null,null,"F",null,null,"2",null,null,null,"3F2","3A2","E9651515","Binary I/O 6Inputs/ 3Outputs","SLOT 10",1,"",""]
[null,"3",null,null,null,"F",null,null,"2",null,null,null,"3F2","3B2","E9651515","Binary I/O 6Inputs/ 3Outputs","SLOT 10",1,"",""]
[null,"3",null,null,null,"F",null,null,"2",null,null,null,"3F2","5A2","E9651515","Binary I/O 6Inputs/ 3Outputs","SLOT 10",1,"",""]
[null,"3",null,null,null,"F",null,null,"2",null,null,null,"3F2","5B2","E9651515","Binary I/O 6Inputs/ 3Outputs","SLOT 10",1,"",""]
[null,"3",null,null,null,"F",null,null,"2",null,null,null,"3F2","8A2","E9651515","Binary I/O 6Inputs/ 3Outputs","SLOT 18",1,"",""]
[null,"3",null,null,null,"F",null,null,"2",null,null,null,"3F2","8B2","E9651515","Binary I/O 6Inputs/ 3Outputs","SLOT 18",1,"",""]
[null,"3",null,null,null,"F",null,null,"2",null,null,null,"3F2","3A4","E9651516","Binary I/O 6Inputs/ 3Outputs","SLOT 10",1,"",""]
[null,"3",null,null,null,"F",null,null,"2",null,null,null,"3F2","3B4","E9651516","Binary I/O 6Inputs/ 3Outputs","SLOT 10",1,"",""]
[null,"3",null,null,null,"F",null,null,"2",null,null,null,"3F2","5A4","E9651516","Binary I/O 6Inputs/ 3Outputs","SLOT 10",1,"",""]
[null,"3",null,null,null,"F",null,null,"2",null,null,null,"3F2","5B4","E9651516","Binary I/O 6Inputs/ 3Outputs","SLOT 10",1,"",""]
[null,"3",null,null,null,"F",null,null,"2",null,null,null,"3F2","8A4","E9651516","Binary I/O 6Inputs/ 3Outputs","SLOT 18",1,"",""]
[null,"3",null,null,null,"F",null,null,"2",null,null,null,"3F2","8B4","E9651516","Binary I/O 6Inputs/ 3Outputs","SLOT 18",1,"",""]
[null,"3",null,null,null,"F",null,null,{"$f":"MID($A$2,15,1)","v":"2"},null,null,null,{"$f":"CONCATENATE(B711,F711,I711)","v":"3F2"},"3J0","E9651512","Binary I/O 6Inputs/ 3Outputs","SLOT 10",1,"",""]
[null,"3",null,null,null,"F",null,null,"2",null,null,null,"3F2","3K0","E9651512","Binary I/O 6Inputs/ 3Outputs","SLOT 10",1,"",""]
[null,"3",null,null,null,"F",null,null,"2",null,null,null,"3F2","5J0","E9651512","Binary I/O 6Inputs/ 3Outputs","SLOT 10",1,"",""]
[null,"3",null,null,null,"F",null,null,"2",null,null,null,"3F2","5K0","E9651512","Binary I/O 6Inputs/ 3Outputs","SLOT 10",1,"",""]
[null,"3",null,null,null,"F",null,null,"2",null,null,null,"3F2","8J0","E9651512","Binary I/O 6Inputs/ 3Outputs","SLOT 18",1,"",""]
[null,"3",null,null,null,"F",null,null,"2",null,null,null,"3F2","8K0","E9651512","Binary I/O 6Inputs/ 3Outputs","SLOT 18",1,"",""]
[null,"3",null,null,null,"F",null,null,"2",null,null,null,"3F2","3J3","E9651513","Binary I/O 6Inputs/ 3Outputs","SLOT 10",1,"",""]
[null,"3",null,null,null,"F",null,null,"2",null,null,null,"3F2","3K3","E9651513","Binary I/O 6Inputs/ 3Outputs","SLOT 10",1,"",""]
[null,"3",null,null,null,"F",null,null,"2",null,null,null,"3F2","5J3","E9651513","Binary I/O 6Inputs/ 3Outputs","SLOT 10",1,"",""]
[null,"3",null,null,null,"F",null,null,"2",null,null,null,"3F2","5K3","E9651513","Binary I/O 6Inputs/ 3Outputs","SLOT 10",1,"",""]
[null,"3",null,null,null,"F",null,null,"2",null,null,null,"3F2","8J3","E9651513","Binary I/O 6Inputs/ 3Outputs","SLOT 18",1,"",""]
[null,"3",null,null,null,"F",null,null,"2",null,null,null,"3F2","8K3","E9651513","Binary I/O 6Inputs/ 3Outputs","SLOT 18",1,"",""]
[null,"3",null,null,null,"F",null,null,"2",null,null,null,"3F2","3J1","E9651514","Binary I/O 6Inputs/ 3Outputs","SLOT 10",1,"",""]
[null,"3",null,null,null,"F",null,null,"2",null,null,null,"3F2","3K1","E9651514","Binary I/O 6Inputs/ 3Outputs","SLOT 10",1,"",""]
[null,"3",null,null,null,"F",null,null,"2",null,null,null,"3F2","5J1","E9651514","Binary I/O 6Inputs/ 3Outputs","SLOT 10",1,"",""]
[null,"3",null,null,null,"F",null,null,"2",null,null,null,"3F2","5K1","E9651514","Binary I/O 6Inputs/ 3Outputs","SLOT 10",1,"",""]
[null,"3",null,null,null,"F",null,null,"2",null,null,null,"3F2","8J1","E9651514","Binary I/O 6Inputs/ 3Outputs","SLOT 18",1,"",""]
[null,"3",null,null,null,"F",null,null,"2",null,null,null,"3F2","8K1","E9651514","Binary I/O 6Inputs/ 3Outputs","SLOT 18",1,"",""]
[null,"3",null,null,null,"F",null,null,"2",null,null,null,"3F2","3J2","E9651515","Binary I/O 6Inputs/ 3Outputs","SLOT 10",1,"",""]
[null,"3",null,null,null,"F",null,null,"2",null,null,null,"3F2","3K2","E9651515","Binary I/O 6Inputs/ 3Outputs","SLOT 10",1,"",""]
[null,"3",null,null,null,"F",null,null,"2",null,null,null,"3F2","5J2","E9651515","Binary I/O 6Inputs/ 3Outputs","SLOT 10",1,"",""]
[null,"3",null,null,null,"F",null,null,"2",null,null,null,"3F2","5K2","E9651515","Binary I/O 6Inputs/ 3Outputs","SLOT 10",1,"",""]
[null,"3",null,null,null,"F",null,null,"2",null,null,null,"3F2","8J2","E9651515","Binary I/O 6Inputs/ 3Outputs","SLOT 18",1,"",""]
[null,"3",null,null,null,"F",null,null,"2",null,null,null,"3F2","8K2","E9651515","Binary I/O 6Inputs/ 3Outputs","SLOT 18",1,"",""]
[null,"3",null,null,null,"F",null,null,"2",null,null,null,"3F2","3J4","E9651516","Binary I/O 6Inputs/ 3Outputs","SLOT 10",1,"",""]
[null,"3",null,null,null,"F",null,null,"2",null,null,null,"3F2","3K4","E9651516","Binary I/O 6Inputs/ 3Outputs","SLOT 10",1,"",""]
[null,{"$f":"MID($A$2,5,1)","v":"3"},null,null,null,"F",null,null,"2",null,null,null,"3F2","5J4","E9651516","Binary I/O 6Inputs/ 3Outputs","SLOT 10",1,"",""]
[null,"3",null,null,null,"F",null,null,"2",null,null,null,"3F2","5K4","E9651516","Binary I/O 6Inputs/ 3Outputs","SLOT 10",1,"",""]
[null,"3",null,null,null,"F",null,null,"2",null,null,null,"3F2","8J4","E9651516","Binary I/O 6Inputs/ 3Outputs","SLOT 18",1,"",""]
[null,"3",null,null,null,"F",null,null,"2",null,null,null,"3F2","8K4","E9651516","Binary I/O 6Inputs/ 3Outputs","SLOT 18",1,"",""]
[null,"3",null,null,null,null,null,{"$f":"MID($A$2,14,1)","v":"0"},"2",null,null,null,{"$f":"CONCATENATE(B741,H741,I741)","v":"302"},"310","E9651517","6I 6O Input Output PCB high break","SLOT 06",1,"",""]
[null,"3",null,null,null,null,null,"0","2",null,null,null,{"$f":"CONCATENATE(B742,H742,I742)","v":"302"},"510","E9651517","6I 6O Input Output PCB high break","SLOT 06",1,"",""]
[null,"3",null,null,null,null,null,"0",{"$f":"MID($A$2,15,1)","v":"2"},null,null,null,{"$f":"CONCATENATE(B743,H743,I743)","v":"302"},"320","E9651517","6I 6O Input Output PCB high break","SLOT 06",1,"",""]
[null,"3",null,null,null,null,null,"0","2",null,null,null,{"$f":"CONCATENATE(B744,H744,I744)","v":"302"},"520","E9651517","6I 6O Input Output PCB high break","SLOT 06",1,"",""]
[null,"3",null,null,{"$f":"MID($A$2,9,1)","v":"5"},null,null,"0","2",null,null,null,{"$f":"CONCATENATE(B745,E745,H745,I745)","v":"3502"},"3520","E9651517","6I 6O Input Output PCB high break","SLOT 07",1,"",""]
[null,"3",null,null,{"$f":"MID($A$2,9,1)","v":"5"},null,null,"0","2",null,null,null,{"$f":"CONCATENATE(B746,E746,H746,I746)","v":"3502"},"5520","E9651517","6I 6O Input Output PCB high break","SLOT 07",1,"",""]
[null,"3",null,null,null,null,null,"0","2",null,null,null,{"$f":"CONCATENATE(B747,H747,I747)","v":"302"},"810","E9651517","6I 6O Input Output PCB high break","SLOT 12",1,"",""]
[null,"3",null,null,null,null,null,"0","2",null,null,null,{"$f":"CONCATENATE(B748,H748,I748)","v":"302"},"820","E9651517","6I 6O Input Output PCB high break","SLOT 12",1,"",""]
[null,"3",null,null,{"$f":"MID($A$2,9,1)","v":"5"},null,null,"0","2",null,null,null,{"$f":"CONCATENATE(B749,E749,H749,I749)","v":"3502"},"8520","E9651517","6I 6O Input Output PCB high break","SLOT 14",1,"",""]
[null,"3",null,null,null,null,null,"0","2",null,null,null,{"$f":"CONCATENATE(B750,H750,I750)","v":"302"},"313","E9651518","6I 6O Input Output PCB high break","SLOT 06",1,"",""]
[null,"3",null,null,null,null,null,"0","2",null,null,null,{"$f":"CONCATENATE(B751,H751,I751)","v":"302"},"513","E9651518","6I 6O Input Output PCB high break","SLOT 06",1,"",""]
[null,"3",null,null,null,null,null,"0","2",null,null,null,{"$f":"CONCATENATE(B752,H752,I752)","v":"302"},"323","E9651518","6I 6O Input Output PCB high break","SLOT 06",1,"",""]
[null,"3",null,null,null,null,null,"0","2",null,null,null,{"$f":"CONCATENATE(B753,H753,I753)","v":"302"},"523","E9651518","6I 6O Input Output PCB high break","SLOT 06",1,"",""]
[null,"3",null,null,{"$f":"MID($A$2,9,1)","v":"5"},null,null,"0","2",null,null,null,{"$f":"CONCATENATE(B754,E754,H754,I754)","v":"3502"},"3523","E9651518","6I 6O Input Output PCB high break","SLOT 07",1,"",""]
[null,"3",null,null,{"$f":"MID($A$2,9,1)","v":"5"},null,null,"0","2",null,null,null,{"$f":"CONCATENATE(B755,E755,H755,I755)","v":"3502"},"5523","E9651518","6I 6O Input Output PCB high break","SLOT 07",1,"",""]
[null,"3",null,null,null,null,null,"0","2",null,null,null,{"$f":"CONCATENATE(B756,H756,I756)","v":"302"},"813","E9651518","6I 6O Input Output PCB high break","SLOT 12",1,"",""]
[null,"3",null,null,null,null,null,"0","2",null,null,null,{"$f":"CONCATENATE(B757,H757,I757)","v":"302"},"823","E9651518","6I 6O Input Output PCB high break","SLOT 12",1,"",""]
[null,"3",null,null,{"$f":"MID($A$2,9,1)","v":"5"},null,null,"0","2",null,null,null,{"$f":"CONCATENATE(B758,E758,H758,I758)","v":"3502"},"8523","E9651518","6I 6O Input Output PCB high break","SLOT 14",1,"",""]
[null,"3",null,null,null,null,null,"0","2",null,null,null,{"$f":"CONCATENATE(B759,H759,I759)","v":"302"},"311","E9651519","6I 6O Input Output PCB high break","SLOT 06",1,"",""]
[null,"3",null,null,null,null,null,"0","2",null,null,null,{"$f":"CONCATENATE(B760,H760,I760)","v":"302"},"511","E9651519","6I 6O Input Output PCB high break","SLOT 06",1,"",""]
[null,"3",null,null,null,null,null,"0","2",null,null,null,{"$f":"CONCATENATE(B761,H761,I761)","v":"302"},"321","E9651519","6I 6O Input Output PCB high break","SLOT 06",1,"",""]
[null,"3",null,null,null,null,null,"0","2",null,null,null,{"$f":"CONCATENATE(B762,H762,I762)","v":"302"},"521","E9651519","6I 6O Input Output PCB high break","SLOT 06",1,"",""]
[null,"3",null,null,{"$f":"MID($A$2,9,1)","v":"5"},null,null,"0","2",null,null,null,{"$f":"CONCATENATE(B763,E763,H763,I763)","v":"3502"},"3521","E9651519","6I 6O Input Output PCB high break","SLOT 07",1,"",""]
[null,"3",null,null,{"$f":"MID($A$2,9,1)","v":"5"},null,null,"0","2",null,null,null,{"$f":"CONCATENATE(B764,E764,H764,I764)","v":"3502"},"5521","E9651519","6I 6O Input Output PCB high break","SLOT 07",1,"",""]
[null,"3",null,null,null,null,null,"0","2",null,null,null,{"$f":"CONCATENATE(B765,H765,I765)","v":"302"},"811","E9651519","6I 6O Input Output PCB high break","SLOT 12",1,"",""]
[null,"3",null,null,null,null,null,"0","2",null,null,null,{"$f":"CONCATENATE(B766,H766,I766)","v":"302"},"821","E9651519","6I 6O Input Output PCB high break","SLOT 12",1,"",""]
[null,"3",null,null,{"$f":"MID($A$2,9,1)","v":"5"},null,null,"0","2",null,null,null,{"$f":"CONCATENATE(B767,E767,H767,I767)","v":"3502"},"8521","E9651519","6I 6O Input Output PCB high break","SLOT 14",1,"",""]
[null,"3",null,null,null,null,null,"0","2",null,null,null,{"$f":"CONCATENATE(B768,H768,I768)","v":"302"},"312","E9651520","6I 6O Input Output PCB high break","SLOT 06",1,{"$f":"IF(AND($M768<>\"\",$M768=$N768),$R768,\"\")","v":""},{"$f":"IF(AND($M768<>\"\",$M768=$N768),$Q768,\"\")","v":""}]
[null,{"$f":"MID($A$2,5,1)","v":"3"},null,null,null,null,null,"0","2",null,null,null,{"$f":"CONCATENATE(B769,H769,I769)","v":"302"},"512","E9651520","6I 6O Input Output PCB high break","SLOT 06",1,"",""]
[null,"3",null,null,null,null,null,"0","2",null,null,null,{"$f":"CONCATENATE(B770,H770,I770)","v":"302"},"322","E9651520","6I 6O Input Output PCB high break","SLOT 06",1,"",""]
[null,"3",null,null,null,null,null,"0","2",null,null,null,{"$f":"CONCATENATE(B771,H771,I771)","v":"302"},"522","E9651520","6I 6O Input Output PCB high break","SLOT 06",1,"",""]
[null,"3",null,null,{"$f":"MID($A$2,9,1)","v":"5"},null,null,"0","2",null,null,null,{"$f":"CONCATENATE(B772,E772,H772,I772)","v":"3502"},"3522","E9651520","6I 6O Input Output PCB high break","SLOT 07",1,"",""]
[null,"3",null,null,{"$f":"MID($A$2,9,1)","v":"5"},null,null,"0","2",null,null,null,{"$f":"CONCATENATE(B773,E773,H773,I773)","v":"3502"},"5522","E9651520","6I 6O Input Output PCB high break","SLOT 07",1,"",""]
[null,"3",null,null,null,null,null,"0","2",null,null,null,{"$f":"CONCATENATE(B774,H774,I774)","v":"302"},"812","E9651520","6I 6O Input Output PCB high break","SLOT 12",1,"",""]
[null,"3",null,null,null,null,null,"0",{"$f":"MID($A$2,15,1)","v":"2"},null,null,null,{"$f":"CONCATENATE(B775,H775,I775)","v":"302"},"822","E9651520","6I 6O Input Output PCB high break","SLOT 12",1,"",""]
[null,"3",null,null,{"$f":"MID($A$2,9,1)","v":"5"},null,null,"0","2",null,null,null,{"$f":"CONCATENATE(B776,E776,H776,I776)","v":"3502"},"8522","E9651520","6I 6O Input Output PCB high break","SLOT 14",1,"",""]
[null,"3",null,null,null,null,null,"0","2",null,null,null,{"$f":"CONCATENATE(B777,H777,I777)","v":"302"},"314","E9651521","6I 6O Input Output PCB high break","SLOT 06",1,"",""]
[null,"3",null,null,null,null,null,"0","2",null,null,null,{"$f":"CONCATENATE(B778,H778,I778)","v":"302"},"514","E9651521","6I 6O Input Output PCB high break","SLOT 06",1,"",""]
[null,"3",null,null,null,null,null,"0","2",null,null,null,{"$f":"CONCATENATE(B779,H779,I779)","v":"302"},"324","E9651521","6I 6O Input Output PCB high break","SLOT 06",1,"",""]
[null,"3",null,null,null,null,null,"0","2",null,null,null,{"$f":"CONCATENATE(B780,H780,I780)","v":"302"},"524","E9651521","6I 6O Input Output PCB high break","SLOT 06",1,"",""]
[null,"3",null,null,{"$f":"MID($A$2,9,1)","v":"5"},null,null,"0","2",null,null,null,{"$f":"CONCATENATE(B781,E781,H781,I781)","v":"3502"},"3524","E9651521","6I 6O Input Output PCB high break","SLOT 07",1,"",""]
[null,"3",null,null,{"$f":"MID($A$2,9,1)","v":"5"},null,null,"0","2",null,null,null,{"$f":"CONCATENATE(B782,E782,H782,I782)","v":"3502"},"5524","E9651521","6I 6O Input Output PCB high break","SLOT 07",1,"",""]
[null,"3",null,null,null,null,null,"0","2",null,null,null,{"$f":"CONCATENATE(B783,H783,I783)","v":"302"},"814","E9651521","6I 6O Input Output PCB high break","SLOT 12",1,"",""]
[null,"3",null,null,null,null,null,"0","2",null,null,null,{"$f":"CONCATENATE(B784,H784,I784)","v":"302"},"824","E9651521","6I 6O Input Output PCB high break","SLOT 12",1,"",""]
[null,"3",null,null,{"$f":"MID($A$2,9,1)","v":"5"},null,null,"0","2",null,null,null,{"$f":"CONCATENATE(B785,E785,H785,I785)","v":"3502"},"8524","E9651521","6I 6O Input Output PCB high break","SLOT 14",1,"",""]
[null,"3",{"$f":"MID($A$2,6,1)","v":"6"},null,null,null,null,null,null,null,null,null,{"$f":"CONCATENATE(B786,C786)","v":"36"},"35",{"$f":"IF(Configurator!$D$24>\"I\",\"EA05000794\",\"E9650320\")","v":"EA05000794"},"40TE MMI Assembly (Graphic)",35,1,"",""]
[null,"3","6",null,null,null,null,null,null,null,null,null,"36","36",{"$f":"IF(Configurator!$D$24>\"I\",\"EA05000794\",\"E9650320\")","v":"EA05000794"},"40TE MMI Assembly (Graphic)",35,1,1,35]
[null,"3","6",null,null,null,null,null,null,null,null,null,"36","55",{"$f":"IF(Configurator!$D$24>\"I\",\"EA05000794\",\"E9650320\")","v":"EA05000794"},"40TE MMI Assembly (Graphic)",35,1,"",""]
[null,"3","6",null,null,null,null,null,null,null,null,null,"36","56",{"$f":"IF(Configurator!$D$24>\"I\",\"EA05000794\",\"E9650320\")","v":"EA05000794"},"40TE MMI Assembly (Graphic)",35,1,"",""]
[null,"3","6",null,null,null,null,null,null,null,null,null,"36","37","E9651907","40TE DHMI adapter front panel assembly"," ",1,"",""]
[null,"3","6",null,null,null,null,null,null,null,null,null,"36","39","E9651907","40TE DHMI adapter front panel assembly"," ",1,"",""]
[null,"3","6",null,null,null,null,null,null,null,null,null,"36","57","E9651907","40TE DHMI adapter front panel assembly"," ",1,"",""]
[null,"3","6",null,null,null,null,null,null,null,null,null,"36","59","E9651907","40TE DHMI adapter front panel assembly"," ",1,"",""]
[null,"3","6",null,null,null,null,null,null,null,null,null,"36","89","E9651908","Px30 DHMI RIBBON CABLE 84TE FLUSH(TXT/GR",79,1,"",""]
[null,null,"6",null,null,null,null,null,null,null,null,null,{"$f":"C795","v":"6"},"7","EA05001193","40TE Detachable HMI Assembly (Graphic)",35,1,"",""]
[null,null,"6",null,null,null,null,null,null,null,null,null,{"$f":"C796","v":"6"},"9","EA05001193","40TE Detachable HMI Assembly (Graphic)",35,1,"",""]
[null,{"$f":"MID($A$2,5,1)","v":"3"},"6",null,null,null,null,null,null,null,null,null,{"$f":"CONCATENATE(B797,C797)","v":"36"},"35",{"$f":"HLOOKUP('Date Drivers'!$B$1,'Date Drivers'!$B$2:$AI$222,211)","v":"E9651914"},"Ribbon Cable 40TE Surface Mount (text&graphic)",79,1,"",""]
[null,"3","6",null,null,null,null,null,null,null,null,null,"36","55",{"$f":"HLOOKUP('Date Drivers'!$B$1,'Date Drivers'!$B$2:$AI$222,211)","v":"E9651914"},"Ribbon Cable 40TE Surface Mount (text&graphic)",79,1,"",""]
[null,"3","6",null,null,null,null,null,null,null,null,null,"36","37","E9651914","420MM RIBBON CABLE Px30 DHMI (S/MOUNT)",79,1,"",""]
[null,"3","6",null,null,null,null,null,null,null,null,null,"36","57","E9651914","420MM RIBBON CABLE Px30 DHMI (S/MOUNT)",79,1,"",""]
[null,"3","6",null,null,null,null,null,null,null,null,null,"36","87","E9651920","84TE DHMI adapter front panel assembly"," ",1,"",""]
[null,"3","6",null,null,null,null,null,null,null,null,null,"36","89","E9651920","84TE DHMI adapter front panel assembly"," ",1,"",""]
[null,"3",null,null,null,{"$f":"MID($A$2,10,1)","v":"F"},null,null,null,null,null,null,{"$f":"CONCATENATE(B803,F803)","v":"3F"},"36","E9651990","Flash guard"," ",1,"",""]
[null,"3",null,null,null,"F",null,null,null,null,null,null,{"$f":"CONCATENATE(B804,F804)","v":"3F"},"37","E9651990","Flash guard"," ",1,"",""]
[null,"3",null,null,null,"F",null,null,null,null,null,null,"3F","38","E9651990","Flash guard"," ",1,"",""]
[null,"3",null,null,null,"F",null,null,null,null,null,null,"3F","39","E9651990","Flash guard"," ",1,"",""]
[null,"3",null,null,null,"F",null,null,null,null,null,null,"3F","3A","E9651990","Flash guard"," ",1,"",""]
[null,"3",null,null,null,"F",null,null,null,null,null,null,"3F","3B","E9651990","Flash guard"," ",1,"",""]
[null,"3",null,null,null,"F",null,null,null,null,null,null,"3F","3C","E9651990","Flash guard"," ",1,"",""]
[null,"3",null,null,null,"F",null,null,null,null,null,null,"3F","3D","E9651990","Flash guard"," ",1,"",""]
[null,"3",null,null,null,"F",null,null,null,null,null,null,"3F","3G","E9651990","Flash guard"," ",1,"",""]
[null,"3",null,null,null,"F",null,null,null,null,null,null,"3F","3H","E9651990","Flash guard"," ",1,"",""]
[null,"3",null,null,null,"F",null,null,null,null,null,null,"3F","3J","E9651990","Flash guard"," ",1,"",""]
[null,"3",null,null,null,"F",null,null,null,null,null,null,"3F","3K","E9651990","Flash guard"," ",1,"",""]
[null,"3",null,null,null,"F",null,null,null,null,null,null,"3F","3L","E9651990","Flash guard"," ",1,"",""]
[null,"3",null,null,null,"F",null,null,null,null,null,null,"3F","3M","E9651990","Flash guard"," ",1,"",""]
[null,"3",null,null,null,{"$f":"MID($A$2,10,1)","v":"F"},null,null,null,null,null,null,{"$f":"CONCATENATE(B817,F817)","v":"3F"},"56","E9651990","Flash guard"," ",1,"",""]
[null,"3",null,null,null,"F",null,null,null,null,null,null,{"$f":"CONCATENATE(B818,F818)","v":"3F"},"57","E9651990","Flash guard"," ",1,"",""]
[null,"3",null,null,null,"F",null,null,null,null,null,null,"3F","58","E9651990","Flash guard"," ",1,"",""]
[null,"3",null,null,null,"F",null,null,null,null,null,null,"3F","59","E9651990","Flash guard"," ",1,"",""]
[null,"3",null,null,null,"F",null,null,null,null,null,null,"3F","5A","E9651990","Flash guard"," ",1,"",""]
[null,"3",null,null,null,"F",null,null,null,null,null,null,"3F","5B","E9651990","Flash guard"," ",1,"",""]
[null,"3",null,null,null,"F",null,null,null,null,null,null,"3F","5C","E9651990","Flash guard"," ",1,"",""]
[null,"3",null,null,null,"F",null,null,null,null,null,null,"3F","5D","E9651990","Flash guard"," ",1,"",""]
[null,"3",null,null,null,{"$f":"MID($A$2,10,1)","v":"F"},null,null,null,null,null,null,"3F","5G","E9651990","Flash guard"," ",1,"",""]
[null,"3",null,null,null,"F",null,null,null,null,null,null,"3F","5H","E9651990","Flash guard"," ",1,"",""]
[null,"3",null,null,null,"F",null,null,null,null,null,null,"3F","5J","E9651990","Flash guard"," ",1,"",""]
[null,"3",null,null,null,"F",null,null,null,null,null,null,"3F","5K","E9651990","Flash guard"," ",1,"",""]
[null,"3",null,null,null,"F",null,null,null,null,null,null,"3F","5L","E9651990","Flash guard"," ",1,"",""]
[null,"3",null,null,null,"F",null,null,null,null,null,null,"3F","5M","E9651990","Flash guard"," ",1,"",""]
[null,null,{"$f":"MID($A$2,6,1)","v":"6"},null,null,null,null,null,null,null,null,null,{"$f":"C831","v":"6"},"5",{"$f":"HLOOKUP('Date Drivers'!$B$1,'Date Drivers'!$B$2:$AI$204,199)","v":"EGN9011012"},"Std Px30 Label Sheet Printed",104,1,"",""]
[null,null,{"$f":"MID($A$2,6,1)","v":"6"},null,null,null,null,null,null,null,null,null,{"$f":"C832","v":"6"},"6",{"$f":"HLOOKUP('Date Drivers'!$B$1,'Date Drivers'!$B$2:$AI$204,199)","v":"EGN9011012"},"Std Px30 Label Sheet Printed",104,1,1,104]
[null,null,{"$f":"MID($A$2,6,1)","v":"6"},null,null,null,null,null,null,null,null,null,{"$f":"C833","v":"6"},"7",{"$f":"HLOOKUP('Date Drivers'!$B$1,'Date Drivers'!$B$2:$AI$204,199)","v":"EGN9011012"},"Std Px30 Label Sheet Printed",104,2,"",""]
[null,null,{"$f":"MID($A$2,6,1)","v":"6"},null,null,null,null,null,null,null,null,null,{"$f":"C834","v":"6"},"9",{"$f":"HLOOKUP('Date Drivers'!$B$1,'Date Drivers'!$B$2:$AI$204,199)","v":"EGN9011012"},"Std Px30 Label Sheet Printed",104,2,"",""]
[null,{"$f":"MID($A$2,5,1)","v":"3"},null,null,null,null,null,null,null,null,null,null,{"$f":"B835","v":"3"},"3",{"$f":"HLOOKUP('Date Drivers'!$B$1,'Date Drivers'!$B$2:$AI$204,200)","v":"EGN9011013"},"Pin Connector Backplate Labels",105,1,1,105]
[null,{"$f":"MID($A$2,5,1)","v":"3"},null,null,null,null,null,null,null,null,null,null,{"$f":"B836","v":"3"},"3",{"$f":"HLOOKUP('Date Drivers'!$B$1,'Date Drivers'!$B$2:$AI$204,201)","v":"EGN9011015"},"Pin Connector Labels"," ",1,1," "]
[null,null,null,null,null,null,null,null,null,null,null,null," "," ",{"$f":"HLOOKUP('Date Drivers'!$B$1,'Date Drivers'!$B$2:$AI$204,202)","v":"EGN9011045"},"Slot Position Label"," ",1,1," "]
[null,{"$f":"MID($A$2,5,1)","v":"3"},{"$f":"MID($A$2,6,1)","v":"6"},null,null,null,null,null,null,null,null,null,{"$f":"CONCATENATE(B838,C838)","v":"36"},"85","EGN9062001","LABELS - Px30 MMI 40TE & 84TE (TEXT) & 84TE GRAPHIC"," ",1,"",""]
[null,"3","6",null,null,null,null,null,null,null,null,null,"36","86","EGN9062001","LABELS - Px30 MMI 40TE & 84TE (TEXT) & 84TE GRAPHIC"," ",1,"",""]
[null,"3","6",null,null,null,null,null,null,null,null,null,"36","35",{"$f":"HLOOKUP('Date Drivers'!$B$1,'Date Drivers'!$B$2:$AI$204,198)","v":"EGN9063001"},"Label Set 40TE(MMI) (Graphic)"," ",1,"",""]
[null,"3","6",null,null,null,null,null,null,null,null,null,"36","36",{"$f":"HLOOKUP('Date Drivers'!$B$1,'Date Drivers'!$B$2:$AI$204,198)","v":"EGN9063001"},"Label Set 40TE(MMI) (Graphic)"," ",1,1," "]
[null,"3","6",null,null,null,null,null,null,null,null,null,"36","55",{"$f":"HLOOKUP('Date Drivers'!$B$1,'Date Drivers'!$B$2:$AI$204,198)","v":"EGN9063001"},"Label Set 40TE(MMI) (Graphic)"," ",1,"",""]
[null,"3","6",null,null,null,null,null,null,null,null,null,"36","56",{"$f":"HLOOKUP('Date Drivers'!$B$1,'Date Drivers'!$B$2:$AI$204,198)","v":"EGN9063001"},"Label Set 40TE(MMI) (Graphic)"," ",1,"",""]
[null,null,"6",null,null,null,null,null,null,null,null,null,{"$f":"C844","v":"6"},"7","EGN9115001","Germanic label set for DHMI adapter"," ",1,"",""]
[null,null,"6",null,null,null,null,null,null,null,null,null,{"$f":"C845","v":"6"},"9","EGN9115001","Germanic label set for DHMI adapter"," ",1,"",""]
[null,{"$f":"MID($A$2,5,1)","v":"3"},null,null,null,null,null,null,null,null,null,null,{"$f":"B846","v":"3"},"5","EZA0005061","M4 Terminals for MIDOS & MiCOM x 28"," ",1,"",""]
[null,"3",null,null,null,null,null,null,null,null,null,null,{"$f":"B847","v":"3"},"8","EZA0005061","M4 Terminals for MIDOS & MiCOM x 28"," ",2,"",""]
[null,"3",null,null,{"$f":"MID($A$2,9,1)","v":"5"},null,null,null,null,null,null,null,{"$f":"CONCATENATE(B848,E848)","v":"35"},"85","EZA0005061","M4 Terminals for MIDOS & MiCOM x 28"," ",1,"",""]
[null,"3",null,null,null,{"$f":"MID($A$2,10,1)","v":"F"},null,null,null,null,null,null,{"$f":"CONCATENATE(B849,F849)","v":"3F"},"86","EZA0005061","M4 Terminals for MIDOS & MiCOM x 28"," ",1,"",""]
[null,"3",null,null,null,"F",null,null,null,null,null,null,"3F","87","EZA0005061","M4 Terminals for MIDOS & MiCOM x 28"," ",1,"",""]
[null,"3",null,null,null,"F",null,null,null,null,null,null,{"$f":"CONCATENATE(B851,F851)","v":"3F"},"88","EZA0005061","M4 Terminals for MIDOS & MiCOM x 28"," ",1,"",""]
[null,"3",null,null,null,"F",null,null,null,null,null,null,"3F","89","EZA0005061","M4 Terminals for MIDOS & MiCOM x 28"," ",1,"",""]
[null,"3",null,null,null,"F",null,null,null,null,null,null,"3F","8A","EZA0005061","M4 Terminals for MIDOS & MiCOM x 28"," ",1,"",""]
[null,"3",null,null,null,"F",null,null,null,null,null,null,"3F","8B","EZA0005061","M4 Terminals for MIDOS & MiCOM x 28"," ",1,"",""]
[null,"3",null,null,null,"F",null,null,null,null,null,null,"3F","8C","EZA0005061","M4 Terminals for MIDOS & MiCOM x 28"," ",1,"",""]
[null,"3",null,null,null,"F",null,null,null,null,null,null,"3F","8D","EZA0005061","M4 Terminals for MIDOS & MiCOM x 28"," ",1,"",""]
[null,"3",null,null,null,"F",null,null,null,null,null,null,"3F","8G","EZA0005061","M4 Terminals for MIDOS & MiCOM x 28"," ",1,"",""]
[null,"3",null,null,null,"F",null,null,null,null,null,null,"3F","8H","EZA0005061","M4 Terminals for MIDOS & MiCOM x 28"," ",1,{"$f":"IF(AND($M858<>\"\",$M858=$N858),$R858,\"\")","v":""},{"$f":"IF(AND($M858<>\"\",$M858=$N858),$Q858,\"\")","v":""}]
[null,"3",null,null,null,"F",null,null,null,null,null,null,"3F","8J","EZA0005061","M4 Terminals for MIDOS & MiCOM x 28"," ",1,"",""]
[null,"3",null,null,null,"F",null,null,null,null,null,null,"3F","8K","EZA0005061","M4 Terminals for MIDOS & MiCOM x 28"," ",1,"",""]
[null,"3",null,null,null,"F",null,null,null,null,null,null,"3F","8L","EZA0005061","M4 Terminals for MIDOS & MiCOM x 28"," ",1,"",""]
[null,"3",null,null,null,"F",null,null,null,null,null,null,"3F","8M","EZA0005061","M4 Terminals for MIDOS & MiCOM x 28"," ",1,"",""]
[null,"3",null,null,null,null,{"$f":"MID($A$2,11,1)","v":"0"},null,null,null,null,null,{"$f":"CONCATENATE(B863,G863)","v":"30"},"82","EZA0005061","M4 Terminals for MIDOS & MiCOM x 28"," ",1,"",""]
[null,"3",null,null,null,null,"0",null,null,null,null,null,"30","83","EZA0005061","M4 Terminals for MIDOS & MiCOM x 28"," ",1,"",""]
[null,"3",null,null,null,null,"0",null,null,null,null,null,"30","84","EZA0005061","M4 Terminals for MIDOS & MiCOM x 28"," ",1,"",""]
[null,"3",null,null,null,null,"0",null,null,null,null,null,"30","85","EZA0005061","M4 Terminals for MIDOS & MiCOM x 28"," ",1,"",""]
[null,"3",null,null,null,null,"0",null,null,null,null,null,"30","87","EZA0005061","M4 Terminals for MIDOS & MiCOM x 28"," ",1,"",""]
[null,"3",null,null,null,null,"0",null,null,null,null,null,"30","88","EZA0005061","M4 Terminals for MIDOS & MiCOM x 28"," ",1,"",""]
[null,"3",null,null,null,null,"0",null,null,null,null,null,"30","89","EZA0005061","M4 Terminals for MIDOS & MiCOM x 28"," ",1,"",""]
[null,"3",null,null,null,null,null,null,null,null,null,null,{"$f":"B870","v":"3"},"3","EZB4018110","Heavy duty terminal block fixing screw"," ",8,8," "]
[null,"3",null,null,null,null,null,null,null,null,null,null,{"$f":"B871","v":"3"},"5","EZB4018110","Heavy duty terminal block fixing screw"," ",8,"",""]
[null,"3",null,null,null,null,null,null,null,null,null,null,{"$f":"B872","v":"3"},"8","EZB4018110","Heavy duty terminal block fixing screw"," ",16,"",""]
[null,null,null,null,null,null,{"$f":"MID($A$2,11,1)","v":"0"},null,null,null,null,null,{"$f":"G873","v":"0"},"C","EZB4018110","Heavy duty terminal block fixing screw"," ",2,"",""]
[null,null,null,null,null,null,{"$f":"MID($A$2,11,1)","v":"0"},null,null,null,null,null,{"$f":"G874","v":"0"},"D","EZB4018110","Heavy duty terminal block fixing screw"," ",4,"",""]
[null,null,null,null,null,null,{"$f":"MID($A$2,11,1)","v":"0"},null,null,null,null,null,{"$f":"G875","v":"0"},"E","EZB4018110","Heavy duty terminal block fixing screw"," ",4,"",""]
[null,null,null,null,null,null,{"$f":"MID($A$2,11,1)","v":"0"},null,null,null,null,null,{"$f":"G876","v":"0"},"F","EZB4018110","Heavy duty terminal block fixing screw"," ",2,"",""]
[null,null,null,null,null,null,{"$f":"MID($A$2,11,1)","v":"0"},null,null,null,null,null,{"$f":"G877","v":"0"},"G","EZB4018110","Heavy duty terminal block fixing screw"," ",2,"",""]
[null,"3",null,null,null,null,null,null,null,null,null,null,{"$f":"B878","v":"3"},"5","EZB4022150","Fixing for frontplate, analogue/digital bus & SM rear blanking plate"," ",2,"",""]
[null,"3",null,null,null,null,null,null,null,null,null,null,{"$f":"B879","v":"3"},"8","EZB4022150","Fixing for frontplate, analogue/digital bus & SM rear blanking plate"," ",6,"",""]
[null,"3",null,null,{"$f":"MID($A$2,9,1)","v":"5"},null,null,null,null,null,null,null,{"$f":"CONCATENATE(B880,E880)","v":"35"},"85","EZB4022150","Fixing for frontplate, analogue/digital bus & SM rear blanking plate"," ",2,"",""]
[null,"3",null,null,null,{"$f":"MID($A$2,10,1)","v":"F"},null,null,null,null,null,null,{"$f":"CONCATENATE(B881,F881)","v":"3F"},"86","EZB4022150","Fixing for frontplate, analogue/digital bus & SM rear blanking plate"," ",2,"",""]
[null,"3",null,null,null,"F",null,null,null,null,null,null,"3F","87","EZB4022150","Fixing for frontplate, analogue/digital bus & SM rear blanking plate"," ",2,"",""]
[null,"3",null,null,null,"F",null,null,null,null,null,null,{"$f":"CONCATENATE(B883,F883)","v":"3F"},"88","EZB4022150","Fixing for frontplate, analogue/digital bus & SM rear blanking plate"," ",2,"",""]
[null,"3",null,null,null,"F",null,null,null,null,null,null,"3F","89","EZB4022150","Fixing for frontplate, analogue/digital bus & SM rear blanking plate"," ",2,"",""]
[null,"3",null,null,null,"F",null,null,null,null,null,null,"3F","8A","EZB4022150","Fixing for frontplate, analogue/digital bus & SM rear blanking plate"," ",2,"",""]
[null,"3",null,null,null,"F",null,null,null,null,null,null,"3F","8B","EZB4022150","Fixing for frontplate, analogue/digital bus & SM rear blanking plate"," ",2,"",""]
[null,"3",null,null,null,"F",null,null,null,null,null,null,"3F","8C","EZB4022150","Fixing for frontplate, analogue/digital bus & SM rear blanking plate"," ",2,"",""]
[null,"3",null,null,null,"F",null,null,null,null,null,null,"3F","8D","EZB4022150","Fixing for frontplate, analogue/digital bus & SM rear blanking plate"," ",2,"",""]
[null,"3",null,null,null,"F",null,null,null,null,null,null,"3F","8G","EZB4022150","Fixing for frontplate, analogue/digital bus & SM rear blanking plate"," ",2,"",""]
[null,"3",null,null,null,"F",null,null,null,null,null,null,"3F","8H","EZB4022150","Fixing for frontplate, analogue/digital bus & SM rear blanking plate"," ",2,"",""]
[null,"3",null,null,null,"F",null,null,null,null,null,null,"3F","8J","EZB4022150","Fixing for frontplate, analogue/digital bus & SM rear blanking plate"," ",2,"",""]
[null,"3",null,null,null,"F",null,null,null,null,null,null,"3F","8K","EZB4022150","Fixing for frontplate, analogue/digital bus & SM rear blanking plate"," ",2,"",""]
[null,"3",null,null,null,"F",null,null,null,null,null,null,"3F","8L","EZB4022150","Fixing for frontplate, analogue/digital bus & SM rear blanking plate"," ",2,"",""]
[null,"3",null,null,null,"F",null,null,null,null,null,null,"3F","8M","EZB4022150","Fixing for frontplate, analogue/digital bus & SM rear blanking plate"," ",2,"",""]
[null,"3",null,null,null,null,{"$f":"MID($A$2,11,1)","v":"0"},null,null,null,null,null,{"$f":"CONCATENATE(B895,G895)","v":"30"},"82","EZB4022150","Fixing for frontplate, analogue/digital bus & SM rear blanking plate"," ",2,"",""]
[null,"3",null,null,null,null,"0",null,null,null,null,null,"30","83","EZB4022150","Fixing for frontplate, analogue/digital bus & SM rear blanking plate"," ",2,"",""]
[null,"3",null,null,null,null,"0",null,null,null,null,null,"30","84","EZB4022150","Fixing for frontplate, analogue/digital bus & SM rear blanking plate"," ",2,"",""]
[null,"3",null,null,null,null,"0",null,null,null,null,null,"30","85","EZB4022150","Fixing for frontplate, analogue/digital bus & SM rear blanking plate"," ",2,"",""]
[null,"3",null,null,null,null,"0",null,null,null,null,null,"30","87","EZB4022150","Fixing for frontplate, analogue/digital bus & SM rear blanking plate"," ",2,"",""]
[null,"3",null,null,null,null,"0",null,null,null,null,null,"30","88","EZB4022150","Fixing for frontplate, analogue/digital bus & SM rear blanking plate"," ",2,"",""]
[null,"3",null,null,null,null,"0",null,null,null,null,null,{"$f":"CONCATENATE(B901,G901)","v":"30"},"89","EZB4022150","Fixing for frontplate, analogue/digital bus & SM rear blanking plate"," ",2,"",""]
[null,null,null,null,null,null,"0",null,null,null,null,null,{"$f":"G902","v":"0"},"C","EZB4022150","Fixing for frontplate, analogue/digital bus & SM rear blanking plate"," ",2,"",""]
[null,null,null,null,null,null,"0",null,null,null,null,null,{"$f":"G903","v":"0"},"D","EZB4022150","Fixing for frontplate, analogue/digital bus & SM rear blanking plate"," ",4,"",""]
[null,null,null,null,null,null,"0",null,null,null,null,null,{"$f":"G904","v":"0"},"E","EZB4022150","Fixing for frontplate, analogue/digital bus & SM rear blanking plate"," ",4,"",""]
[null,null,null,null,null,null,"0",null,null,null,null,null,{"$f":"G905","v":"0"},"F","EZB4022150","Fixing for frontplate, analogue/digital bus & SM rear blanking plate"," ",4,"",""]
[null,null,null,null,null,null,"0",null,null,null,null,null,{"$f":"G906","v":"0"},"G","EZB4022150","Fixing for frontplate, analogue/digital bus & SM rear blanking plate"," ",4,"",""]
[null,null,{"$f":"MID($A$2,6,1)","v":"6"},null,null,null,null,null,null,null,null,null,{"$f":"C907","v":"6"},"7","EZB5009041","Shakeproof washer M4 internal teeth"," ",1,"",""]
[null,null,{"$f":"MID($A$2,6,1)","v":"6"},null,null,null,null,null,null,null,null,null,{"$f":"C908","v":"6"},"5","EZB5009041","Shakeproof washer M4 internal teeth"," ",1,"",""]
[null,{"$f":"MID($A$2,5,1)","v":"3"},null,null,null,null,null,null,null,null,null,null,{"$f":"B909","v":"3"},"8","EZB5009041","Heavy duty terminal block fixing screw"," ",1,"",""]
[null,null,{"$f":"MID($A$2,6,1)","v":"6"},null,null,null,null,null,null,null,null,null,{"$f":"C910","v":"6"},"7","EZB5103041","Nut Full Hex Head Steel M4 Nickel"," ",1,"",""]
[null,null,{"$f":"MID($A$2,6,1)","v":"6"},null,null,null,null,null,null,null,null,null,{"$f":"C911","v":"6"},"5","EZB5103041","Nut Full Hex Head Steel M4 Nickel"," ",1,"",""]
[null,null,{"$f":"MID($A$2,6,1)","v":"6"},null,null,null,null,null,null,null,null,null,{"$f":"C912","v":"6"},"5","EZB5116005","M4 Flange Head Nut (Surface Mount)",77,2,"",""]
[null,null,{"$f":"MID($A$2,6,1)","v":"6"},null,null,null,null,null,null,null,null,null,{"$f":"C913","v":"6"},"7","EZB5116005","M4 Flange Head Nut (Surface Mount)",77,2,"",""]
[null,null,null,null,null,null,null,null,null,null,null,null," "," ","EZB5302076","M2.5*6 CH Screw"," ",1,1," "]
[null,{"$f":"MID($A$2,5,1)","v":"3"},null,null,null,null,{"$f":"MID($A$2,11,1)","v":"0"},null,null,null,null,null,{"$f":"CONCATENATE(B915,G915)","v":"30"},"33","EZB5307080","M2.5 Recessed Pan Head X8mm long S.Steel"," ",4,"",""]
[null,"3",null,null,null,null,{"$f":"MID($A$2,11,1)","v":"0"},null,null,null,null,null,{"$f":"CONCATENATE(B916,G916)","v":"30"},"53","EZB5307080","M2.5 Recessed Pan Head X8mm long S.Steel"," ",4,"",""]
[null,"3",null,null,null,null,{"$f":"MID($A$2,11,1)","v":"0"},null,null,null,null,null,{"$f":"CONCATENATE(B917,G917)","v":"30"},"34","EZB5307080","M2.5 Recessed Pan Head X8mm long S.Steel"," ",4,"",""]
[null,"3",null,null,null,null,{"$f":"MID($A$2,11,1)","v":"0"},null,null,null,null,null,{"$f":"CONCATENATE(B918,G918)","v":"30"},"54","EZB5307080","M2.5 Recessed Pan Head X8mm long S.Steel"," ",4,"",""]
[null,"3",null,null,null,{"$f":"MID($A$2,10,1)","v":"F"},null,null,null,null,null,null,{"$f":"CONCATENATE(B919,F919)","v":"3F"},"86","EZB5307080","M2.5 Recessed Pan Head X8mm long S.Steel"," ",2,"",""]
[null,"3",null,null,null,"F",null,null,null,null,null,null,"3F","87","EZB5307080","M2.5 Recessed Pan Head X8mm long S.Steel"," ",2,"",""]
[null,"3",null,null,null,"F",null,null,null,null,null,null,{"$f":"CONCATENATE(B921,F921)","v":"3F"},"88","EZB5307080","M2.5 Recessed Pan Head X8mm long S.Steel"," ",2,"",""]
[null,"3",null,null,null,"F",null,null,null,null,null,null,"3F","89","EZB5307080","M2.5 Recessed Pan Head X8mm long S.Steel"," ",2,"",""]
[null,"3",null,null,null,"F",null,null,null,null,null,null,"3F","8A","EZB5307080","M2.5 Recessed Pan Head X8mm long S.Steel"," ",2,"",""]
[null,"3",null,null,null,"F",null,null,null,null,null,null,"3F","8B","EZB5307080","M2.5 Recessed Pan Head X8mm long S.Steel"," ",2,"",""]
[null,"3",null,null,null,"F",null,null,null,null,null,null,"3F","8C","EZB5307080","M2.5 Recessed Pan Head X8mm long S.Steel"," ",2,"",""]
[null,"3",null,null,null,"F",null,null,null,null,null,null,"3F","8D","EZB5307080","M2.5 Recessed Pan Head X8mm long S.Steel"," ",2,"",""]
[null,"3",null,null,null,"F",null,null,null,null,null,null,"3F","8G","EZB5307080","M2.5 Recessed Pan Head X8mm long S.Steel"," ",2,"",""]
[null,"3",null,null,null,"F",null,null,null,null,null,null,"3F","8H","EZB5307080","M2.5 Recessed Pan Head X8mm long S.Steel"," ",2,"",""]
[null,"3",null,null,null,"F",null,null,null,null,null,null,"3F","8J","EZB5307080","M2.5 Recessed Pan Head X8mm long S.Steel"," ",2,"",""]
[null,"3",null,null,null,"F",null,null,null,null,null,null,"3F","8K","EZB5307080","M2.5 Recessed Pan Head X8mm long S.Steel"," ",2,"",""]
[null,"3",null,null,null,"F",null,null,null,null,null,null,"3F","8L","EZB5307080","M2.5 Recessed Pan Head X8mm long S.Steel"," ",2,"",""]
[null,"3",null,null,null,"F",null,null,null,null,null,null,"3F","8M","EZB5307080","M2.5 Recessed Pan Head X8mm long S.Steel"," ",2,"",""]
[null,"3",null,null,null,null,null,null,null,null,null,null,{"$f":"B933","v":"3"},"3","EZB5321076","Screw M3x6 Rcsd Pan Hd"," ",4,4," "]
[null,"3",null,null,null,null,null,null,null,null,null,null,{"$f":"B934","v":"3"},"5","EZB5321076","Screw M3x6 Rcsd Pan Hd"," ",4,"",""]
[null,"3",null,null,null,null,null,null,null,null,null,null,{"$f":"B935","v":"3"},"8","EZB5321076","Screw M3x6 Rcsd Pan Hd"," ",6,"",""]
[null,"3",{"$f":"MID($A$2,6,1)","v":"6"},null,null,null,null,null,null,null,null,null,{"$f":"CONCATENATE(B936,C936)","v":"36"},"36","EZB5321110","User Interface retaining screws"," ",4,4," "]
[null,"3","6",null,null,null,null,null,null,null,null,null,"36","56","EZB5321110","User Interface retaining screws"," ",4,"",""]
[null,"3","6",null,null,null,null,null,null,null,null,null,"36","86","EZB5321110","User Interface retaining screws"," ",6,"",""]
[null,"3","6",null,null,null,null,null,null,null,null,null,"36","39","EZB5321110","User Interface retaining screws"," ",4,"",""]
[null,"3","6",null,null,null,null,null,null,null,null,null,"36","59","EZB5321110","User Interface retaining screws"," ",4,"",""]
[null,"3","6",null,null,null,null,null,null,null,null,null,"36","89","EZB5321110","User Interface retaining screws"," ",6,"",""]
[null,"3","6",null,null,null,null,null,null,null,null,null,"36","35","EZB5321111","User Interface retaining screws"," ",4,"",""]
[null,"3","6",null,null,null,null,null,null,null,null,null,"36","55","EZB5321111","User Interface retaining screws"," ",4,"",""]
[null,"3","6",null,null,null,null,null,null,null,null,null,"36","85","EZB5321111","User Interface retaining screws"," ",6,{"$f":"IF(AND($M944<>\"\",$M944=$N944),$R944,\"\")","v":""},{"$f":"IF(AND($M944<>\"\",$M944=$N944),$Q944,\"\")","v":""}]
[null,"3","6",null,null,null,null,null,null,null,null,null,"36","37","EZB5321111","User Interface retaining screws"," ",4,"",""]
[null,"3","6",null,null,null,null,null,null,null,null,null,"36","57","EZB5321111","User Interface retaining screws"," ",4,"",""]
[null,"3","6",null,null,null,null,null,null,null,null,null,"36","87","EZB5321111","User Interface retaining screws"," ",6,"",""]
[null,null,null,null,null,null,null,null,null,{"$f":"MID($A$2,16,1)","v":"E"},null,null,{"$f":"J948","v":"E"},{"$f":"IF(Configurator!$L$6<\"P\",\"0\",\"n/a\")","v":"n/a"},"EZB5326058","Comms retaining screw"," ",2,"",""]
[null,null,null,null,null,null,null,null,null,"E",null,null,"E","E","EZB5326058","Comms retaining screw"," ",2,2," "]
[null,null,null,null,null,null,null,null,null,"E",null,null,"E","F","EZB5326058","Comms retaining screw"," ",2,"",""]
[null,null,null,null,null,null,null,null,null,"E",null,null,"E","G","EZB5326058","Comms retaining screw"," ",2,"",""]
[null,null,null,null,null,null,null,null,null,"E",null,null,"E","K","EZB5326058","Comms retaining screw"," ",2,"",""]
[null,null,null,null,null,null,null,null,null,"E",null,null,"E","J","EZB5326058","Comms retaining screw"," ",2,"",""]
[null,null,{"$f":"MID($A$2,6,1)","v":"6"},null,null,null,null,null,null,null,null,null,{"$f":"C954","v":"6"},"7","EZB5326076","M3 pan head screw 6\" long"," ",{"$f":"IF(Configurator!$D$12=\"8\",6,4)","v":4},"",""]
[null,null,{"$f":"MID($A$2,6,1)","v":"6"},null,null,null,null,null,null,null,null,null,{"$f":"C955","v":"6"},"5","EZB5363285","M4 Bolt (Surface Mount)",78,1,"",""]
[null,null,{"$f":"MID($A$2,6,1)","v":"6"},null,null,null,null,null,null,null,null,null,{"$f":"C956","v":"6"},"5","EZB5363295","Screw Unslotted Hex/Hd Steel M4 X 12mm"," ",1,"",""]
[null,null,{"$f":"MID($A$2,6,1)","v":"6"},null,null,null,null,null,null,null,null,null,{"$f":"C957","v":"6"},"7","EZB5363295","Screw Unslotted Hex/Hd Steel M4 X 12mm"," ",1,"",""]
[null,{"$f":"MID($A$2,5,1)","v":"3"},null,null,null,null,null,null,null,null,null,null,{"$f":"B958","v":"3"},"3","EZB5865250","Front plate fixing"," ",4,4," "]
[null,"3",null,null,null,null,null,null,null,null,null,null,{"$f":"B959","v":"3"},"5","EZB5865250","Front plate fixing"," ",4,"",""]
[null,"3",null,null,null,null,null,null,null,null,null,null,{"$f":"B960","v":"3"},"8","EZB5865250","Front plate fixing"," ",6,"",""]
[null,"3",{"$f":"MID($A$2,6,1)","v":"6"},null,null,null,null,null,null,null,null,null,{"$f":"CONCATENATE(B961,C961)","v":"36"},"36","EZB5867050","Back plate fixing screw"," ",32,32," "]
[null,"3","6",null,null,null,null,null,null,null,null,null,"36","39","EZB5867050","Back plate fixing screw"," ",32,"",""]
[null,"3","6",null,null,null,null,null,null,null,null,null,"36","56","EZB5867050","Back plate fixing screw"," ",32,"",""]
[null,"3","6",null,null,null,null,null,null,null,null,null,"36","59","EZB5867050","Back plate fixing screw"," ",32,"",""]
[null,"3","6",null,null,null,null,null,null,null,null,null,"36","86","EZB5867050","Back plate fixing screw"," ",59,"",""]
[null,"3","6",null,null,null,null,null,null,null,null,null,"36","89","EZB5867050","Back plate fixing screw"," ",59,"",""]
[null,"3","6",null,null,null,null,null,null,null,null,null,"36","35","EZB5867050","Back plate fixing screw"," ",34,"",""]
[null,"3","6",null,null,null,null,null,null,null,null,null,"36","37","EZB5867050","Back plate fixing screw"," ",34,"",""]
[null,"3","6",null,null,null,null,null,null,null,null,null,"36","55","EZB5867050","Back plate fixing screw"," ",34,"",""]
[null,"3","6",null,null,null,null,null,null,null,null,null,"36","57","EZB5867050","Back plate fixing screw"," ",34,"",""]
[null,"3","6",null,null,null,null,null,null,null,null,null,"36","85","EZB5867050","Back plate fixing screw"," ",61,"",""]
[null,"3","6",null,null,null,null,null,null,null,null,null,"36","87","EZB5867050","Back plate fixing screw"," ",61,"",""]
[null,null,"6",null,null,null,null,null,null,null,null,null,{"$f":"C973","v":"6"},"7","EZB9031052","FTP CAT5 booted patch cable"," ",1,"",""]
[null,null,"6",null,null,null,null,null,null,null,null,null,{"$f":"C974","v":"6"},"9","EZB9031052","FTP CAT5 booted patch cable"," ",1,"",""]
[null,null,null,null,null,null,null,null,{"$f":"MID($A$2,16,1)","v":"E"},{"$f":"MID($A$2,17,1)","v":"0"},{"$f":"MID($A$2,18,1)","v":"0"},null,{"$f":"CONCATENATE(I975,J975,K975)","v":"E00"},"621","EZB9031250","RS 485 Connector",130,2,"",""]
[null,null,null,null,null,null,null,null,null,null,{"$f":"MID($A$2,17,1)","v":"0"},null,{"$f":"K976","v":"0"},"A","EZB9031250","RS 485 Connector",130,1,"",""]
[null,null,null,null,null,null,null,null,null,{"$f":"MID($A$2,16,1)","v":"E"},null,null,{"$f":"J977","v":"E"},"E","EZB9031250","RS 485 Connector",130,2,2,130]
[null,null,null,null,null,null,null,null,null,{"$f":"MID($A$2,16,1)","v":"E"},null,null,{"$f":"J978","v":"E"},"H","EZB9031250","RS 485 Connector",130,1,"",""]
[null,null,null,null,null,null,null,null,null,{"$f":"MID($A$2,16,1)","v":"E"},null,null,{"$f":"J979","v":"E"},"J","EZB9031250","RS 485 Connector",130,1,"",""]
[null,null,null,null,null,null,null,null,null,{"$f":"MID($A$2,16,1)","v":"E"},null,null,{"$f":"J980","v":"E"},"K","EZB9031250","RS 485 Connector",130,1,"",""]
[null,null,null,null,null,null,null,null,{"$f":"MID($A$2,16,1)","v":"E"},{"$f":"MID($A$2,17,1)","v":"0"},{"$f":"MID($A$2,18,1)","v":"0"},null,{"$f":"CONCATENATE(I981,J981,K981)","v":"E00"},"621","EZB9031251","RS 485 Connector Cable Housing",130,2,"",""]
[null,null,null,null,null,null,null,null,null,null,{"$f":"MID($A$2,17,1)","v":"0"},null,{"$f":"K982","v":"0"},"A","EZB9031251","RS 485 Connector Cable Housing",130,1,"",""]
[null,null,null,null,null,null,null,null,null,{"$f":"MID($A$2,16,1)","v":"E"},null,null,{"$f":"J983","v":"E"},"E","EZB9031251","RS 485 Connector Cable Housing",130,2,2,130]
[null,null,null,null,null,null,null,null,null,{"$f":"MID($A$2,16,1)","v":"E"},null,null,{"$f":"J984","v":"E"},"H","EZB9031251","RS 485 Connector Cable Housing",130,1,"",""]
[null,null,null,null,null,null,null,null,null,{"$f":"MID($A$2,16,1)","v":"E"},null,null,{"$f":"J985","v":"E"},"J","EZB9031251","RS 485 Connector Cable Housing",130,1,"",""]
[null,null,null,null,null,null,null,null,null,{"$f":"MID($A$2,16,1)","v":"E"},null,null,{"$f":"J986","v":"E"},"K","EZB9031251","RS 485 Connector Cable Housing",130,1,"",""]
[null,null,null,null,null,null,null,null,null,null,{"$f":"MID($A$2,17,1)","v":"0"},null,{"$f":"K987","v":"0"},"D","EZB9031902","RS 232 Connector",130,1,"",""]
[null,null,null,null,null,null,null,null,{"$f":"MID($A$2,16,1)","v":"E"},{"$f":"MID($A$2,17,1)","v":"0"},{"$f":"MID($A$2,18,1)","v":"0"},null,{"$f":"CONCATENATE(I988,J988,K988)","v":"E00"},"622","EZB9031936","5 WAY PLUG",130,1,"",""]
[null,null,null,null,null,null,null,null,{"$f":"MID($A$2,16,1)","v":"E"},{"$f":"MID($A$2,17,1)","v":"0"},{"$f":"MID($A$2,18,1)","v":"0"},null,{"$f":"CONCATENATE(I989,J989,K989)","v":"E00"},"624","EZB9031936","5 WAY PLUG",130,1,"",""]
[null,null,null,null,null,null,null,null,null,{"$f":"MID($A$2,16,1)","v":"E"},null,null,{"$f":"J990","v":"E"},"F","EZB9031936","5 WAY PLUG",130,1,"",""]
[null,null,null,null,null,null,null,null,null,{"$f":"MID($A$2,16,1)","v":"E"},null,null,{"$f":"J991","v":"E"},"G","EZB9031936","5 WAY PLUG",130,1,"",""]
[null,{"$f":"MID($A$2,5,1)","v":"3"},null,null,null,null,null,null,null,null,null,null,{"$f":"B992","v":"3"},"8","EZB9031948","Medium Duty Terminal Block (Case)",123,2,"",""]
[null,"3",null,null,{"$f":"MID($A$2,9,1)","v":"5"},null,null,null,null,null,null,null,{"$f":"CONCATENATE(B993,E993)","v":"35"},"85","EZB9031948","Medium Duty Terminal Block (Case)",124,1,"",""]
[null,"3",null,null,null,null,{"$f":"MID($A$2,11,1)","v":"0"},null,null,null,null,null,{"$f":"CONCATENATE(B994,G994)","v":"30"},"82","EZB9031948","Medium Duty Terminal Block (Case)",125,1,"",""]
[null,"3",null,null,null,null,"0",null,null,null,null,null,"30","83","EZB9031948","Medium Duty Terminal Block (Case)",125,1,"",""]
[null,"3",null,null,null,null,"0",null,null,null,null,null,"30","84","EZB9031948","Medium Duty Terminal Block (Case)",125,1,"",""]
[null,"3",null,null,null,null,"0",null,null,null,null,null,"30","85","EZB9031948","Medium Duty Terminal Block (Case)",125,1,"",""]
[null,"3",null,null,null,null,"0",null,null,null,null,null,"30","87","EZB9031991","Pin Terminal Block (Case)",125,3,"",""]
[null,"3",null,null,null,null,"0",null,null,null,null,null,{"$f":"CONCATENATE(B999,G999)","v":"30"},"88","EZB9031991","Pin Terminal Block (Case)",125,3,"",""]
[null,"3",null,null,null,null,"0",null,null,null,null,null,"30","89","EZB9031991","Pin Terminal Block (Case)",125,3,"",""]
[null,"3",null,null,null,null,"0",null,null,null,null,null,{"$f":"CONCATENATE(B1001,G1001)","v":"30"},"89","EZB9031948","Medium Duty Terminal Block (Case)",125,1,"",""]
[null,"3",null,null,null,null,"0",null,null,null,null,null,{"$f":"CONCATENATE(B1002,G1002)","v":"30"},"8A","EZB9031948","Medium Duty Terminal Block (Case)",125,1,"",""]
[null,"3",null,null,null,null,"0",null,null,null,null,null,{"$f":"CONCATENATE(B1003,G1003)","v":"30"},"8A","EZB9031991","Pin Terminal Block (Case)",125,3,"",""]
[null,"3",null,null,null,null,"0",null,null,null,null,null,"30","8B","EZB9031948","Medium Duty Terminal Block (Case)",125,1,"",""]
[null,"3",null,null,null,null,"0",null,null,null,null,null,{"$f":"CONCATENATE(B1005,G1005)","v":"30"},"8C","EZB9031948","Medium Duty Terminal Block (Case)",125,1,"",""]
[null,"3",null,null,null,null,"0",null,null,null,null,null,{"$f":"CONCATENATE(B1006,G1006)","v":"30"},"8D","EZB9031948","Medium Duty Terminal Block (Case)",125,2,"",""]
[null,"3",null,null,null,null,"0",null,null,null,null,null,{"$f":"CONCATENATE(B1007,G1007)","v":"30"},"8E","EZB9031948","Medium Duty Terminal Block (Case)",125,2,"",""]
[null,"3",null,null,null,null,"0",null,null,null,null,null,{"$f":"CONCATENATE(B1008,G1008)","v":"30"},"8F","EZB9031948","Medium Duty Terminal Block (Case)",125,1,"",""]
[null,"3",null,null,null,null,"0",null,null,null,null,null,{"$f":"CONCATENATE(B1009,G1009)","v":"30"},"8G","EZB9031948","Medium Duty Terminal Block (Case)",125,1,"",""]
[null,"3",null,null,null,{"$f":"MID($A$2,10,1)","v":"F"},null,null,null,null,null,null,{"$f":"CONCATENATE(B1010,F1010)","v":"3F"},"86","EZB9031948","Medium Duty Terminal Block (Case)",126,1,"",""]
[null,"3",null,null,null,"F",null,null,null,null,null,null,"3F","87","EZB9031948","Medium Duty Terminal Block (Case)",126,1,"",""]
[null,"3",null,null,null,"F",null,null,null,null,null,null,{"$f":"CONCATENATE(B1012,F1012)","v":"3F"},"88","EZB9031948","Medium Duty Terminal Block (Case)",126,1,"",""]
[null,"3",null,null,null,"F",null,null,null,null,null,null,"3F","89","EZB9031948","Medium Duty Terminal Block (Case)",126,1,"",""]
[null,"3",null,null,null,"F",null,null,null,null,null,null,"3F","8C","EZB9031948","Medium Duty Terminal Block (Case)",126,1,"",""]
[null,"3",null,null,null,"F",null,null,null,null,null,null,"3F","8D","EZB9031948","Medium Duty Terminal Block (Case)",126,1,"",""]
[null,"3",null,null,null,"F",null,null,null,null,null,null,"3F","8A","EZB9031948","Medium Duty Terminal Block (Case)",126,1,"",""]
[null,"3",null,null,null,"F",null,null,null,null,null,null,"3F","8B","EZB9031948","Medium Duty Terminal Block (Case)",126,1,"",""]
[null,"3",null,null,null,"F",null,null,null,null,null,null,"3F","8G","EZB9031948","Medium Duty Terminal Block (Case)",126,1,"",""]
[null,"3",null,null,null,"F",null,null,null,null,null,null,"3F","8H","EZB9031948","Medium Duty Terminal Block (Case)",126,1,"",""]
[null,"3",null,null,null,"F",null,null,null,null,null,null,"3F","8J","EZB9031948","Medium Duty Terminal Block (Case)",126,1,"",""]
[null,"3",null,null,null,"F",null,null,null,null,null,null,"3F","8K","EZB9031948","Medium Duty Terminal Block (Case)",126,1,"",""]
[null,"3",null,null,null,"F",null,null,null,null,null,null,"3F","8L","EZB9031948","Medium Duty Terminal Block (Case)",126,1,"",""]
[null,"3",null,null,null,"F",null,null,null,null,null,null,"3F","8M","EZB9031948","Medium Duty Terminal Block (Case)",126,1,"",""]
[null,"3",null,null,null,null,null,null,null,null,null,null,{"$f":"B1024","v":"3"},"3","EZB9031991","Pin Terminal Block (Case)",123,6,6,123]
[null,"3",null,{"$f":"MID($A$2,8,1)","v":"4"},null,null,null,null,null,null,null,null,{"$f":"CONCATENATE(B1025,D1025)","v":"34"},"34","EZB9031991","Pin Terminal Block (Case)",123,1,1,123]
[null,"3",null,{"$f":"MID($A$2,8,1)","v":"4"},null,null,null,null,null,null,null,null,{"$f":"CONCATENATE(B1026,D1026)","v":"34"},"35","EZB9031991","Pin Terminal Block (Case)",123,1,"",""]
[null,"3",null,null,null,null,null,null,null,null,null,null,{"$f":"B1027","v":"3"},"5","EZB9031991","Pin Terminal Block (Case)",123,6,"",""]
[null,"3",null,null,{"$f":"MID($A$2,9,1)","v":"5"},null,null,null,null,null,null,null,{"$f":"CONCATENATE(B1028,E1028)","v":"35"},"35","EZB9031991","Pin Terminal Block (Case)",124,3,3,124]
[null,"3",null,null,{"$f":"MID($A$2,9,1)","v":"5"},null,null,null,null,null,null,null,{"$f":"CONCATENATE(B1029,E1029)","v":"35"},"55","EZB9031991","Pin Terminal Block (Case)",124,3,{"$f":"IF(AND($M1029<>\"\",$M1029=$N1029),$R1029,\"\")","v":""},{"$f":"IF(AND($M1029<>\"\",$M1029=$N1029),$Q1029,\"\")","v":""}]
[null,"3",null,null,null,null,{"$f":"MID($A$2,11,1)","v":"0"},null,null,null,null,null,{"$f":"CONCATENATE(B1030,G1030)","v":"30"},"32","EZB9031991","Pin Terminal Block (Case)",125,3,"",""]
[null,"3",null,null,null,null,"0",null,null,null,null,null,"30","33","EZB9031991","Pin Terminal Block (Case)",125,3,"",""]
[null,"3",null,null,null,null,"0",null,null,null,null,null,"30","34","EZB9031991","Pin Terminal Block (Case)",125,3,"",""]
[null,"3",null,null,null,null,"0",null,null,null,null,null,"30","35","EZB9031991","Pin Terminal Block (Case)",125,3,"",""]
[null,"3",null,null,null,null,"0",null,null,null,null,null,"30","37","EZB9031991","Pin Terminal Block (Case)",125,3,"",""]
[null,"3",null,null,null,null,"0",null,null,null,null,null,{"$f":"CONCATENATE(B1035,G1035)","v":"30"},"38","EZB9031991","Pin Terminal Block (Case)",125,6,"",""]
[null,"3",null,null,null,null,"0",null,null,null,null,null,{"$f":"CONCATENATE(B1036,G1036)","v":"30"},"39","EZB9031991","Pin Terminal Block (Case)",125,6,"",""]
[null,"3",null,null,null,null,"0",null,null,null,null,null,"30","3A","EZB9031991","Pin Terminal Block (Case)",125,6,"",""]
[null,"3",null,null,null,null,"0",null,null,null,null,null,"30","3B","EZB9031991","Pin Terminal Block (Case)",125,6,"",""]
[null,"3",null,null,null,null,"0",null,null,null,null,null,"30","52","EZB9031991","Pin Terminal Block (Case)",125,3,"",""]
[null,"3",null,null,null,null,"0",null,null,null,null,null,"30","53","EZB9031991","Pin Terminal Block (Case)",125,3,"",""]
[null,"3",null,null,null,null,"0",null,null,null,null,null,"30","54","EZB9031991","Pin Terminal Block (Case)",125,3,"",""]
[null,{"$f":"MID($A$2,5,1)","v":"3"},null,null,null,null,"0",null,null,null,null,null,"30","55","EZB9031991","Pin Terminal Block (Case)",125,3,"",""]
[null,"3",null,null,null,null,"0",null,null,null,null,null,"30","57","EZB9031991","Pin Terminal Block (Case)",125,3,"",""]
[null,"3",null,null,null,null,"0",null,null,null,null,null,{"$f":"CONCATENATE(B1044,G1044)","v":"30"},"58","EZB9031991","Pin Terminal Block (Case)",125,6,"",""]
[null,"3",null,null,null,null,"0",null,null,null,null,null,{"$f":"CONCATENATE(B1045,G1045)","v":"30"},"59","EZB9031991","Pin Terminal Block (Case)",125,6,"",""]
[null,"3",null,null,null,null,"0",null,null,null,null,null,"30","5A","EZB9031991","Pin Terminal Block (Case)",125,6,"",""]
[null,"3",null,null,null,null,"0",null,null,null,null,null,"30","5B","EZB9031991","Pin Terminal Block (Case)",125,6,"",""]
[null,"3",null,null,null,null,"0",null,null,null,null,null,{"$f":"CONCATENATE(B1048,G1048)","v":"30"},"8B","EZB9031991","Pin Terminal Block (Case)",125,3,"",""]
[null,"3",null,null,null,null,"0",null,null,null,null,null,"30","3C","EZB9031991","Pin Terminal Block (Case)"," ",3,"",""]
[null,"3",null,null,null,null,"0",null,null,null,null,null,"30","3D","EZB9031991","Pin Terminal Block (Case)"," ",6,"",""]
[null,"3",null,null,null,null,"0",null,null,null,null,null,"30","3E","EZB9031991","Pin Terminal Block (Case)"," ",6,"",""]
[null,"3",null,null,null,null,"0",null,null,null,null,null,"30","3F","EZB9031991","Pin Terminal Block (Case)"," ",6,"",""]
[null,"3",null,null,null,null,"0",null,null,null,null,null,"30","3G","EZB9031991","Pin Terminal Block (Case)"," ",3,"",""]
[null,"3",null,null,null,null,"0",null,null,null,null,null,"30","5C","EZB9031991","Pin Terminal Block (Case)"," ",3,"",""]
[null,"3",null,null,null,null,"0",null,null,null,null,null,{"$f":"CONCATENATE(B1055,G1055)","v":"30"},"5D","EZB9031991","Pin Terminal Block (Case)"," ",6,"",""]
[null,"3",null,null,null,null,"0",null,null,null,null,null,{"$f":"CONCATENATE(B1056,G1056)","v":"30"},"5E","EZB9031991","Pin Terminal Block (Case)"," ",6,"",""]
[null,"3",null,null,null,null,"0",null,null,null,null,null,{"$f":"CONCATENATE(B1057,G1057)","v":"30"},"5F","EZB9031991","Pin Terminal Block (Case)"," ",6,"",""]
[null,"3",null,null,null,null,"0",null,null,null,null,null,{"$f":"CONCATENATE(B1058,G1058)","v":"30"},"5G","EZB9031991","Pin Terminal Block (Case)"," ",3,"",""]
[null,"3",null,null,null,{"$f":"MID($A$2,10,1)","v":"F"},null,null,null,null,null,null,{"$f":"CONCATENATE(B1059,F1059)","v":"3F"},"36","EZB9031991","Pin Terminal Block (Case)",126,3,{"$f":"IF(AND($M1059<>\"\",$M1059=$N1059),$R1059,\"\")","v":""},{"$f":"IF(AND($M1059<>\"\",$M1059=$N1059),$Q1059,\"\")","v":""}]
[null,"3",null,null,null,"F",null,null,null,null,null,null,"3F","37","EZB9031991","Pin Terminal Block (Case)",126,3,"",""]
[null,"3",null,null,null,"F",null,null,null,null,null,null,"3F","38","EZB9031991","Pin Terminal Block (Case)",126,3,"",""]
[null,"3",null,null,null,"F",null,null,null,null,null,null,{"$f":"CONCATENATE(B1062,F1062)","v":"3F"},"39","EZB9031991","Pin Terminal Block (Case)",126,3,"",""]
[null,"3",null,null,null,"F",null,null,null,null,null,null,"3F","3A","EZB9031991","Pin Terminal Block (Case)",126,3,"",""]
[null,"3",null,null,null,"F",null,null,null,null,null,null,"3F","3B","EZB9031991","Pin Terminal Block (Case)",126,3,"",""]
[null,"3",null,null,null,"F",null,null,null,null,null,null,"3F","3C","EZB9031991","Pin Terminal Block (Case)",126,3,"",""]
[null,"3",null,null,null,"F",null,null,null,null,null,null,"3F","3D","EZB9031991","Pin Terminal Block (Case)",126,3,"",""]
[null,"3",null,null,null,"F",null,null,null,null,null,null,"3F","3G","EZB9031991","Pin Terminal Block (Case)",126,3,"",""]
[null,"3",null,null,null,"F",null,null,null,null,null,null,"3F","3H","EZB9031991","Pin Terminal Block (Case)",126,3,"",""]
[null,"3",null,null,null,"F",null,null,null,null,null,null,"3F","3J","EZB9031991","Pin Terminal Block (Case)",126,3,"",""]
[null,"3",null,null,null,"F",null,null,null,null,null,null,"3F","3K","EZB9031991","Pin Terminal Block (Case)",126,3,"",""]
[null,"3",null,null,null,"F",null,null,null,null,null,null,"3F","3L","EZB9031991","Pin Terminal Block (Case)",126,3,"",""]
[null,"3",null,null,null,"F",null,null,null,null,null,null,"3F","3M","EZB9031991","Pin Terminal Block (Case)",126,3,"",""]
[null,"3",null,null,null,"F",null,null,null,null,null,null,"3F","56","EZB9031991","Pin Terminal Block (Case)",126,3,"",""]
[null,"3",null,null,null,"F",null,null,null,null,null,null,"3F","57","EZB9031991","Pin Terminal Block (Case)",126,3,"",""]
[null,"3",null,null,null,"F",null,null,null,null,null,null,{"$f":"CONCATENATE(B1075,F1075)","v":"3F"},"58","EZB9031991","Pin Terminal Block (Case)",126,3,"",""]
[null,"3",null,null,null,"F",null,null,null,null,null,null,"3F","59","EZB9031991","Pin Terminal Block (Case)",126,3,"",""]
[null,"3",null,null,null,"F",null,null,null,null,null,null,"3F","5A","EZB9031991","Pin Terminal Block (Case)",126,3,"",""]
[null,"3",null,null,null,"F",null,null,null,null,null,null,"3F","5B","EZB9031991","Pin Terminal Block (Case)",126,3,"",""]
[null,"3",null,null,null,"F",null,null,null,null,null,null,"3F","5C","EZB9031991","Pin Terminal Block (Case)",126,3,"",""]
[null,"3",null,null,null,"F",null,null,null,null,null,null,"3F","5D","EZB9031991","Pin Terminal Block (Case)",126,3,"",""]
[null,"3",null,null,null,"F",null,null,null,null,null,null,"3F","5G","EZB9031991","Pin Terminal Block (Case)",126,3,"",""]
[null,"3",null,null,null,"F",null,null,null,null,null,null,"3F","5H","EZB9031991","Pin Terminal Block (Case)",126,3,"",""]
[null,"3",null,null,null,"F",null,null,null,null,null,null,"3F","5J","EZB9031991","Pin Terminal Block (Case)",126,3,"",""]
[null,"3",null,null,null,"F",null,null,null,null,null,null,"3F","5K","EZB9031991","Pin Terminal Block (Case)",126,3,"",""]
[null,"3",null,null,null,"F",null,null,null,null,null,null,"3F","5L","EZB9031991","Pin Terminal Block (Case)",126,3,"",""]
[null,"3",null,null,null,"F",null,null,null,null,null,null,"3F","5M","EZB9031991","Pin Terminal Block (Case)",126,3,"",""]
[null,null,null,null,null,null,null,null,null,{"$f":"MID($A$2,16,1)","v":"E"},null,null,{"$f":"J1087","v":"E"},"H","EZB9800801","License for VxWorks"," ",1,{"$f":"IF(AND($M1087<>\"\",$M1087=$N1087),$R1087,\"\")","v":""},{"$f":"IF(AND($M1087<>\"\",$M1087=$N1087),$Q1087,\"\")","v":""}]
[null,null,null,null,null,null,null,null,null,"E",null,null,{"$f":"J1088","v":"E"},"J","EZB9800801","License for VxWorks"," ",1,"",""]
[null,null,null,null,null,null,null,null,null,"E",null,null,{"$f":"J1089","v":"E"},"K","EZB9800801","License for VxWorks"," ",1,"",""]
[null,null,null,null,null,null,null,null,null,"E",null,null,{"$f":"J1090","v":"E"},"R","EZB9800801","License for VxWorks"," ",1,"",""]
[null,null,null,null,null,null,null,null,null,"E",null,null,"E","S","EZB9800801","License for VxWorks"," ",1,"",""]
[null,null,null,null,null,null,null,null,null,"E",null,null,"E","T","EZB9800801","License for VxWorks"," ",1,"",""]
[null,null,null,null,null,null,null,null,null,"E",null,null,"E","U","EZB9800801","License for VxWorks"," ",1,"",""]
[null,null,null,null,null,null,null,null,null,"E",null,null,"E","V","EZB9800801","License for VxWorks"," ",1,"",""]
[null,null,null,null,null,null,null,null,null,"E",null,null,"E","W","EZB9800801","License for VxWorks"," ",1,"",""]
[null,null,null,null,null,null,null,null,null,"E",null,null,"E","X","EZB9800801","License for VxWorks"," ",1,"",""]
[null,null,null,null,null,null,null,null,null,"E",null,null,"E","Y","EZB9800801","License for VxWorks"," ",1,"",""]
[null,null,null,null,null,null,null,null,null,"E",null,null,"E","R","EZB9800802","Sisco License for MMS-Ease Lite"," ",1,"",""]
[null,null,null,null,null,null,null,null,null,"E",null,null,"E","S","EZB9800802","Sisco License for MMS-Ease Lite"," ",1,"",""]
[null,null,null,null,null,null,null,null,null,"E",null,null,"E","T","EZB9800802","Sisco License for MMS-Ease Lite"," ",1,"",""]
[null,null,null,null,null,null,null,null,null,"E",null,null,"E","U","EZB9800802","Sisco License for MMS-Ease Lite"," ",1,"",""]
[null,null,null,null,null,null,null,null,null,"E",null,null,"E","V","EZB9800802","Sisco License for MMS-Ease Lite"," ",1,"",""]
[null,null,null,null,null,null,null,null,null,"E",null,null,"E","W","EZB9800802","Sisco License for MMS-Ease Lite"," ",1,"",""]
[null,null,null,null,null,null,null,null,null,"E",null,null,"E","X","EZB9800802","Sisco License for MMS-Ease Lite"," ",1,"",""]
[null,null,null,null,null,null,null,null,null,"E",null,null,"E","Y","EZB9800802","Sisco License for MMS-Ease Lite"," ",1,"",""]
[null,null,null,null,null,null,null,null,null,"E",null,null,{"$f":"J1106","v":"E"},"M","EZB9800802","Sisco License for MMS-Ease Lite"," ",1,"",""]
[null,null,null,null,null,null,null,null,null,"E",null,null,"E","N","EZB9800802","Sisco License for MMS-Ease Lite"," ",1,"",""]
[null,null,null,null,null,null,null,null,null,"E",null,null,"E","P","EZB9800802","Sisco License for MMS-Ease Lite"," ",1,"",""]
[null,null,null,null,null,null,null,null,null,"E",null,null,"E","Q","EZB9800802","Sisco License for MMS-Ease Lite"," ",1,"",""]
[null,null,null,null,null,null,null,null,null,"E",null,null,"E","H","EZB9800802","Sisco License for MMS-Ease Lite"," ",1,"",""]
[null,null,null,null,null,null,null,null,null,"E",null,null,"E","J","EZB9800802","Sisco License for MMS-Ease Lite"," ",1,"",""]
[null,null,null,null,null,null,null,null,null,"E",null,null,"E","K","EZB9800802","Sisco License for MMS-Ease Lite"," ",1,"",""]

{"sheet":"Tendering","index":6,"n_rows":31,"n_cols":29,"rows_kept":31,"cut":false,"hidden":false,"merged":[]}
[{"$f":"IF(Configurator!$D$39=\"6\",\"WPF Only\",IF(Configurator!$D$34=\"Q\",\"SME Only\",\"\"))","v":""},null,null,null,null,null,{"$f":"IF(G3<>\"\",COLUMN(G:G)-2,\"\")","v":5},6,7,8,9,10,11,12,13,14,15,16,17,18,"","","","","",""]
["Cortec Landing cell :","P13936045F4EA00U01",{"$f":"MID($B$2,COLUMN(C:C)-2,1)","v":"P"},"1","3","9","3","6","0","4","5","F","4","E","A","0","0","U","0","1","","","","","","",""]
["Configurator feedback :",{"$f":"C3&D3&E3&F3&G3&H3&I3&J3&K3&L3&M3&N3&O3&P3&Q3&R3&S3&T3&U3&V3&W3&X3&Y3&Z3","v":"P13936045F0EK02E00"},{"$f":"+C5&C6&C7&C8&C16&C9&C10&C11&C12&C13&C14&C15&C19&C20&C17&C18&C21&C22&C23&C24&C25&C26&C27&C28&C29&C30&C31","v":"P"},"1","3","9","3","6","0","4","5","F","0","E","K","0","2","E","0","0",{"$f":"+U5&U6&U7&U8&U16&U9&U10&U12&U13&U14&U15&U19&U20&U17&U18&U21&U22&U23&U24&U25&U26&U27&U28&U29&U30&U31","v":""},"","","","","","double digit in same row"]
[]
["Cortec digit control 1",null,"P",null,null,null,null,null,null,null,null,null,null,null,null,null,null,null,null,null,null,null,null,null,null,null,null,{"$f":"+IF(AND(ISBLANK(A5),ISBLANK(B5)),0,ROW(A5))","v":5}]
["Cortec digit control 2",null,null,1,null,null,null,null,null,null,null,null,null,null,null,null,null,null,null,null,null,null,null,null,null,null,null,{"$f":"+IF(AND(ISBLANK(A6),ISBLANK(B6)),0,ROW(A6))","v":6}]
["Cortec digit control 3",null,null,null,3,null,null,null,null,null,null,null,null,null,null,null,null,null,null,null,null,null,null,null,null,null,null,7]
["Cortec digit control 4",null,null,null,null,9,null,null,null,null,null,null,null,null,null,null,null,null,null,null,null,null,null,null,null,null,null,8]
[{"$f":"Configurator!A11","v":"Basic device"},1,null,null,null,null,{"$f":"IF(OR(ISERR(Configurator!D$5),ISNA(Configurator!D$5)),\"_\",Configurator!D$5)","v":3},null,null,null,null,null,null,null,null,null,null,null,null,null,null,null,null,null,null,null,null,9]
[{"$f":"Configurator!A13","v":"Mounting option and display"},2,null,null,null,null,null,{"$f":"IF(OR(ISERR(Configurator!E$5),ISNA(Configurator!E$5)),\"_\",Configurator!E$5)","v":6},null,null,null,null,null,null,null,null,null,null,null,null,null,null,null,null,null,null,null,10]
["Constant",null,null,null,null,null,null,null,{"$f":"IF(OR(ISERR(Configurator!F$5),ISNA(Configurator!F$5)),\"_\",Configurator!F$5)","v":"0"},null,null,null,null,null,null,null,null,null,null,null,null,null,null,null,null,null,null,11]
[{"$f":"Configurator!A16","v":"Voltage transformer"},2,null,null,null,null,null,null,null,{"$f":"IF(OR(ISERR(Configurator!H$5),ISNA(Configurator!H$5)),\"_\",Configurator!H$5)","v":4},null,null,null,null,null,null,null,null,null,null,null,null,null,null,null,null,null,12]
[{"$f":"Configurator!A18","v":"Additional binary I/O options"},2,null,null,null,null,null,null,null,null,{"$f":"IF(OR(ISERR(Configurator!I$5),ISNA(Configurator!I$5)),\"_\",Configurator!I$5)","v":5},null,null,null,null,null,null,null,null,null,null,null,null,null,null,null,null,13]
[{"$f":"Configurator!A20","v":"Power supply and additional option"},2,null,null,null,null,null,null,null,null,null,{"$f":"IF(OR(ISERR(Configurator!J$5),ISNA(Configurator!J$5)),\"_\",Configurator!J$5)","v":"F"},null,null,null,null,null,null,null,null,null,null,null,null,null,null,null,14]
[{"$f":"Configurator!A22","v":"Further add. Options"},1,null,null,null,null,null,null,null,null,null,null,{"$f":"IF(OR(ISERR(Configurator!K$5),ISNA(Configurator!K$5)),\"_\",Configurator!K$5)","v":0},null,null,null,null,null,null,null,null,null,null,null,null,null,null,15]
[{"$f":"Configurator!A9","v":"Version Requested"},1,null,null,null,null,null,null,null,null,null,null,null,{"$f":"IF(OR(ISERR(Configurator!L$5),ISNA(Configurator!L$5)),\"_\",LEFT(Configurator!L$5))","v":"E"},{"$f":"IF(OR(ISERR(Configurator!L$5),ISNA(Configurator!L$5)),\"_\",RIGHT(Configurator!L$5))","v":"K"},null,null,null,null,null,null,null,null,null,null,null,null,16]
[{"$f":"Configurator!A28","v":"Binary modules for control of switchgear units"},1,null,null,null,null,null,null,null,null,null,null,null,null,null,{"$f":"IF(OR(ISERR(Configurator!P$5),ISNA(Configurator!P$5)),\"_\",Configurator!P$5)","v":0},null,null,null,null,null,null,null,null,null,null,null,17]
[{"$f":"Configurator!A30","v":"Voltage Thresholds for Binary Inputs"},3,null,null,null,null,null,null,null,null,null,null,null,null,null,null,{"$f":"IF(OR(ISERR(Configurator!Q$5),ISNA(Configurator!Q$5)),\"_\",Configurator!Q$5)","v":"2"},null,null,null,null,null,null,null,null,null,null,18]
[{"$f":"Configurator!A32","v":"SCADA Interfaces"},2,null,null,null,null,null,null,null,null,null,null,null,null,null,null,null,{"$f":"IF(OR(ISERR(Configurator!R$5),ISNA(Configurator!R$5)),\"_\",Configurator!R$5)","v":"E"},null,null,null,null,null,null,null,null,null,{"$f":"+IF(AND(ISBLANK(A19),ISBLANK(#REF!)),0,ROW(A19))","v":19}]
[{"$f":"Configurator!A34","v":"SCADA Interfaces continued …"},1,null,null,null,null,null,null,null,null,null,null,null,null,null,null,null,null,null,null,null,null,null,null,null,null,null,{"$f":"+IF(AND(ISBLANK(A20),ISBLANK(#REF!)),0,ROW(A20))","v":20}]
[{"$f":"Configurator!A36","v":"Inter-MiCOM Interface"},1,null,null,null,null,null,null,null,null,null,null,null,null,null,null,null,null,{"$f":"IF(OR(ISERR(Configurator!S$5),ISNA(Configurator!S$5)),\"_\",Configurator!S$5)","v":"0"},null,null,null,null,null,null,null,null,21]
[{"$f":"Configurator!A38","v":"Language"},null,null,null,null,null,null,null,null,null,null,null,null,null,null,null,null,null,null,{"$f":"IF(OR(ISERR(Configurator!T$5),ISNA(Configurator!T$5)),\"_\",Configurator!T$5)","v":"0"},null,null,null,null,null,null,null,22,1]
[null,null,null,null,null,null,null,null,null,null,null,null,null,null,null,null,null,null,null,null,null,null,null,null,null,null,null,0]
[null,null,null,null,null,null,null,null,null,null,null,null,null,null,null,null,null,null,null,null,null,null,null,null,null,null,null,0]
[null,null,null,null,null,null,null,null,null,null,null,null,null,null,null,null,null,null,null,null,null,null,null,null,null,null,null,0]
[null,null,null,null,null,null,null,null,null,null,null,null,null,null,null,null,null,null,null,null,null,null,null,null,null,null,null,0]
[null,null,null,null,null,null,null,null,null,null,null,null,null,null,null,null,null,null,null,null,null,null,null,null,null,null,null,0]
[null,null,null,null,null,null,null,null,null,null,null,null,null,null,null,null,null,null,null,null,null,null,null,null,null,null,null,0]
[null,null,null,null,null,null,null,null,null,null,null,null,null,null,null,null,null,null,null,null,null,null,null,null,null,null,null,0]
[null,null,null,null,null,null,null,null,null,null,null,null,null,null,null,null,null,null,null,null,null,null,null,null,null,null,null,0]
[null,null,null,null,null,null,null,null,null,null,null,null,null,null,null,null,null,null,null,null,null,null,null,null,null,null,null,{"$f":"+IF(AND(ISBLANK(A31),ISBLANK(B31)),0,ROW(A31))","v":0}]

{"sheet":"Processor Lookup","index":7,"n_rows":8,"n_cols":17,"rows_kept":8,"cut":false,"hidden":true,"merged":[]}
[null,null,"-316","-315","-314","-313","-312","-311","-310","-309","-308","-307","-306","-304","-303","-302","-301"]
[5,2,{"$f":"IF(Tendering!$B$19=1,\"E9652181\",IF(Tendering!$B$19=2,\"E9652182\",\"E9652183\"))","v":"E9652182"},"E9651571","E9651571","E9651571","E9651472","E9651472","E9651472","E9651472","E9650135","E9650135","E9650135","E9650135","E0337875","E0337875","E0337875"]
[6,3,{"$f":"IF(Tendering!$B$19=1,\"E9652181\",IF(Tendering!$B$19=2,\"E9652182\",\"E9652183\"))","v":"E9652182"},"E9651571","E9651571","E9651571","E9651472","E9651472","E9651472","E9651472","E9650135","E9650135","E9650135","E9650135","E0337875","E0337875","E0337875"]
[7,4,{"$f":"IF(Tendering!$B$19=1,\"E9652181\",IF(Tendering!$B$19=2,\"E9652182\",\"E9652183\"))","v":"E9652182"},"E9651571","E9651571","E9651571","E9651472","E9651472","E9651472","E9651472","E9651428","E9651428","E9651428","E9651428","E0337875","E0337875","E0337875"]
[9,5,{"$f":"IF(Tendering!$B$19=1,\"E9652181\",IF(Tendering!$B$19=2,\"E9652182\",\"E9652183\"))","v":"E9652182"},"E9651571","E9651571","E9651571","E9651472","E9651472","E9651472","E9651472","E9651428","E9651428","E9651428","E9651428","E0337875","E0337875","E0337875"]
[]
[null,{"$f":"HLOOKUP(Configurator!L7,'Processor Lookup'!A1:Q5,B8,FALSE)","v":"E9652182"}]
[null,{"$f":"VLOOKUP(Configurator!D14,'Processor Lookup'!A2:B5,2,FALSE)","v":3}]

{"sheet":"Date Drivers","index":8,"n_rows":667,"n_cols":36,"rows_kept":667,"cut":false,"hidden":false,"merged":[]}
["Key Date",{"$f":"IF(Configurator!$M$1=\"\",TODAY(),Configurator!$M$1)","v":"2017-12-16"}," "," "," "," "," "," "," "," "," "," "," "," "," "," "," "," "," "," "," "," "," "," "," "," "," "," "," "," "," "," "," "," "," "]
[null,"2008-02-15","2008-06-06","2009-02-04","2010-09-17","2011-03-07","2011-03-08","2011-11-14","2011-11-24","2011-12-01","2011-12-06","2012-01-10","2012-03-05","2012-03-06","2012-03-07","2012-08-22","2013-03-04","2013-04-05","2013-04-06","2013-05-23","2013-07-16","2013-08-14","2013-11-07","2014-06-18","2014-08-27","2014-12-04","2015-02-16","2015-09-24","2016-02-15","2016-04-21","2017-01-26","2017-02-24","2017-07-17","2017-11-28","2017-12-16"]
["Basic device","Basic device 40TE, pin terminal connection","Basic device 40TE, pin terminal connection","Basic device 40TE, pin terminal connection","Basic device 40TE, pin terminal connection","Basic device 40TE, pin terminal connection","Basic device 40TE, pin terminal connection","Basic device 40TE, pin terminal connection","Basic device 40TE, pin terminal connection","Basic device 40TE, pin terminal connection","Basic device 40TE, pin terminal connection","Basic device 40TE, pin terminal connection","Basic device 40TE, pin terminal connection","Basic device 40TE, pin terminal connection","Basic device 40TE, pin terminal connection","Basic device 40TE, pin terminal connection","Basic device 40TE, pin terminal connection","Basic device 40TE, pin terminal connection","Basic device 40TE, pin terminal connection","Basic device 40TE, pin terminal connection","Basic device 40TE, pin terminal connection","Basic device 40TE, pin terminal connection","Basic device 40TE, pin terminal connection","Basic device 40TE, pin terminal connection","Basic device 40TE, pin terminal connection","Basic device 40TE, pin terminal connection","Basic device 40TE, pin terminal connection","Basic device 40TE, pin terminal connection","Basic device 40TE, pin terminal connection","Basic device 40TE, pin terminal connection","Basic device 40TE, pin terminal connection","Basic device 40TE, pin terminal connection","Basic device 40TE, pin terminal connection","Basic device 40TE, pin terminal connection","Basic device 40TE, pin terminal connection",2]
[" ","Basic device 40TE, CT/VT ring-, I/O pin-terminal connection,","Basic device 40TE, CT/VT ring-, I/O pin-terminal connection,","Basic device 40TE, CT/VT ring-, I/O pin-terminal connection,","Basic device 40TE, CT/VT ring-, I/O pin-terminal connection,","Basic device 40TE, CT/VT ring-, I/O pin-terminal connection","Basic device 40TE, CT/VT ring-, I/O pin-terminal connection","Basic device 40TE, CT/VT ring-, I/O pin-terminal connection","Basic device 40TE, CT/VT ring-, I/O pin-terminal connection","Basic device 40TE, CT/VT ring-, I/O pin-terminal connection","Basic device 40TE, CT/VT ring-, I/O pin-terminal connection,","Basic device 40TE, CT/VT ring-, I/O pin-terminal connection","Basic device 40TE, CT/VT ring-, I/O pin-terminal connection","Basic device 40TE, CT/VT ring-, I/O pin-terminal connection","Basic device 40TE, CT/VT ring-, I/O pin-terminal connection","Basic device 40TE, CT/VT ring-, I/O pin-terminal connection","Basic device 40TE, CT/VT ring-, I/O pin-terminal connection","Basic device 40TE, CT/VT ring-, I/O pin-terminal connection","Basic device 40TE, CT/VT ring-, I/O pin-terminal connection","Basic device 40TE, CT/VT ring-, I/O pin-terminal connection","Basic device 40TE, CT/VT ring-, I/O pin-terminal connection","Basic device 40TE, CT/VT ring-, I/O pin-terminal connection","Basic device 40TE, CT/VT ring-, I/O pin-terminal connection","Basic device 40TE, CT/VT ring-, I/O pin-terminal connection","Basic device 40TE, CT/VT ring-, I/O pin-terminal connection","Basic device 40TE, CT/VT ring-, I/O pin-terminal connection","Basic device 40TE, CT/VT ring-, I/O pin-terminal connection","Basic device 40TE, CT/VT ring-, I/O pin-terminal connection","Basic device 40TE, CT/VT ring-, I/O pin-terminal connection","Basic device 40TE, CT/VT ring-, I/O pin-terminal connection","Basic device 40TE, CT/VT ring-, I/O pin-terminal connection","Basic device 40TE, CT/VT ring-, I/O pin-terminal connection","Basic device 40TE, CT/VT ring-, I/O pin-terminal connection","Basic device 40TE, CT/VT ring-, I/O pin-terminal connection","Basic device 40TE, CT/VT ring-, I/O pin-terminal connection",3]
[" ","Basic device 84TE, ring terminal connection","Basic device 84TE, ring terminal connection","Basic device 84TE, ring terminal connection","Basic device 84TE, ring terminal connection","Basic device 84TE, ring terminal connection","Basic device 84TE, ring terminal connection","Basic device 84TE, ring terminal connection","Basic device 84TE, ring terminal connection","Basic device 84TE, ring terminal connection","Basic device 84TE, ring terminal connection","Basic device 84TE, ring terminal connection","Basic device 84TE, ring terminal connection","Basic device 84TE, ring terminal connection","Basic device 84TE, ring terminal connection","Basic device 84TE, ring terminal connection","Basic device 84TE, ring terminal connection","Basic device 84TE, ring terminal connection","Basic device 84TE, ring terminal connection","Basic device 84TE, ring terminal connection","Basic device 84TE, ring terminal connection","Basic device 84TE, ring terminal connection","Basic device 84TE, ring terminal connection","Basic device 84TE, ring terminal connection","Basic device 84TE, ring terminal connection","Basic device 84TE, ring terminal connection","Basic device 84TE, ring terminal connection","Basic device 84TE, ring terminal connection","Basic device 84TE, ring terminal connection","Basic device 84TE, ring terminal connection","Basic device 84TE, ring terminal connection","Basic device 84TE, ring terminal connection","Basic device 84TE, ring terminal connection","Basic device 84TE, ring terminal connection","Basic device 84TE, ring terminal connection",4]
["Mounting option and display"," "," "," "," "," "," "," "," "," "," "," "," "," "," "," "," "," "," "," "," "," "," "," "," "," "," "," "," "," "," "," "," "," "," ",5]
[" ","Surface mounted, local control panel with graphic display and fixed HMI","Surface mounted, local control panel with graphic display and fixed HMI","Surface mounted, local control panel with graphic display and fixed HMI","Surface mounted, local control panel with graphic display and fixed HMI","Surface mounted, local control panel with graphic display and fixed HMI","Surface mounted, local control panel with graphic display and fixed HMI","Surface mounted, local control panel with graphic display and fixed HMI",{"$f":"IF(Configurator!$D$24>\"I\",\"Surface-mounted, local control panel with serial graphic display\",G7)","v":"Surface-mounted, local control panel with serial graphic display"},{"$f":"IF(Configurator!$D$24>\"I\",\"Surface-mounted, local control panel with serial graphic display\",G7)","v":"Surface-mounted, local control panel with serial graphic display"},"Surface mounted, local control panel with graphic display and fixed HMI",{"$f":"IF(Configurator!$D$24>\"I\",\"Surface-mounted, local control panel with serial graphic display\",H7)","v":"Surface-mounted, local control panel with serial graphic display"},{"$f":"IF(Configurator!$D$24>\"I\",\"Surface-mounted, local control panel with serial graphic display\",H7)","v":"Surface-mounted, local control panel with serial graphic display"},"Surface mounted, local control panel with graphic display and fixed HMI","Surface mounted, local control panel with graphic display and fixed HMI",{"$f":"IF(Configurator!$D$24>\"I\",\"Surface-mounted, local control panel with serial graphic display\",I7)","v":"Surface-mounted, local control panel with serial graphic display"},{"$f":"IF(Configurator!$D$24>\"I\",\"Surface-mounted, local control panel with serial graphic display\",I7)","v":"Surface-mounted, local control panel with serial graphic display"},{"$f":"IF(Configurator!$D$24>\"I\",\"Surface-mounted, local control panel with serial graphic display\",H7)","v":"Surface-mounted, local control panel with serial graphic display"},{"$f":"IF(Configurator!$D$24>\"I\",\"Surface-mounted, local control panel with serial graphic display\",H7)","v":"Surface-mounted, local control panel with serial graphic display"},{"$f":"IF(Configurator!$D$24>\"I\",\"Surface-mounted, local control panel with serial graphic display\",I7)","v":"Surface-mounted, local control panel with serial graphic display"},{"$f":"IF(Configurator!$D$24>\"I\",\"Surface-mounted, local control panel with serial graphic display\",I7)","v":"Surface-mounted, local control panel with serial graphic display"},{"$f":"IF(Configurator!$D$24>\"I\",\"Surface-mounted, local control panel with serial graphic display\",I7)","v":"Surface-mounted, local control panel with serial graphic display"},{"$f":"IF(Configurator!$D$24>\"I\",\"Surface-mounted, local control panel with serial graphic display\",J7)","v":"Surface-mounted, local control panel with serial graphic display"},{"$f":"IF(Configurator!$D$24>\"I\",\"Surface-mounted, local control panel with serial graphic display\",J7)","v":"Surface-mounted, local control panel with serial graphic display"},{"$f":"IF(Configurator!$D$24>\"I\",\"Surface-mounted, local control panel with serial graphic display\",N7)","v":"Surface-mounted, local control panel with serial graphic display"},{"$f":"IF(Configurator!$D$24>\"I\",\"Surface-mounted, local control panel with serial graphic display\",K7)","v":"Surface-mounted, local control panel with serial graphic display"},{"$f":"IF(Configurator!$D$24>\"I\",\"Surface-mounted, local control panel with serial graphic display\",K7)","v":"Surface-mounted, local control panel with serial graphic display"},{"$f":"IF(Configurator!$D$24>\"I\",\"Surface-mounted, local control panel with serial graphic display\",I7)","v":"Surface-mounted, local control panel with serial graphic display"},{"$f":"IF(Configurator!$D$24>\"I\",\"Surface-mounted, local control panel with serial graphic display\",J7)","v":"Surface-mounted, local control panel with serial graphic display"},{"$f":"IF(Configurator!$D$24>\"I\",\"Surface-mounted, local control panel with serial graphic display\",K7)","v":"Surface-mounted, local control panel with serial graphic display"},{"$f":"IF(Configurator!$D$24>\"I\",\"Surface-mounted, local control panel with serial graphic display\",K7)","v":"Surface-mounted, local control panel with serial graphic display"},{"$f":"IF(Configurator!$D$24>\"I\",\"Surface-mounted, local control panel with serial graphic display\",K7)","v":"Surface-mounted, local control panel with serial graphic display"},{"$f":"IF(Configurator!$D$24>\"I\",\"Surface-mounted, local control panel with serial graphic display\",M7)","v":"Surface-mounted, local control panel with serial graphic display"},{"$f":"IF(Configurator!$D$24>\"I\",\"Surface-mounted, local control panel with serial graphic display\",M7)","v":"Surface-mounted, local control panel with serial graphic display"},{"$f":"IF(Configurator!$D$24>\"I\",\"Surface-mounted, local control panel with serial graphic display\",N7)","v":"Surface-mounted, local control panel with serial graphic display"},6]
[" ","Flush/Rack mounted, local control panel with graphic display and fixed HMI","Flush/Rack mounted, local control panel with graphic display and fixed HMI","Flush/Rack mounted, local control panel with graphic display and fixed HMI","Flush/Rack mounted, local control panel with graphic display and fixed HMI","Flush/Rack mounted, local control panel with graphic display and fixed HMI","Flush/Rack mounted, local control panel with graphic display and fixed HMI","Flush/Rack mounted, local control panel with graphic display and fixed HMI",{"$f":"IF(Configurator!$D$24>\"I\",\"Flush-mounted, local control panel with serial graphic display\",G8)","v":"Flush-mounted, local control panel with serial graphic display"},{"$f":"IF(Configurator!$D$24>\"I\",\"Flush-mounted, local control panel with serial graphic display\",G8)","v":"Flush-mounted, local control panel with serial graphic display"},"Flush/Rack mounted, local control panel with graphic display and fixed HMI",{"$f":"IF(Configurator!$D$24>\"I\",\"Flush-mounted, local control panel with serial graphic display\",H8)","v":"Flush-mounted, local control panel with serial graphic display"},{"$f":"IF(Configurator!$D$24>\"I\",\"Flush-mounted, local control panel with serial graphic display\",H8)","v":"Flush-mounted, local control panel with serial graphic display"},"Flush/Rack mounted, local control panel with graphic display and fixed HMI","Flush/Rack mounted, local control panel with graphic display and fixed HMI",{"$f":"IF(Configurator!$D$24>\"I\",\"Flush-mounted, local control panel with serial graphic display\",I8)","v":"Flush-mounted, local control panel with serial graphic display"},{"$f":"IF(Configurator!$D$24>\"I\",\"Flush-mounted, local control panel with serial graphic display\",I8)","v":"Flush-mounted, local control panel with serial graphic display"},{"$f":"IF(Configurator!$D$24>\"I\",\"Flush-mounted, local control panel with serial graphic display\",H8)","v":"Flush-mounted, local control panel with serial graphic display"},{"$f":"IF(Configurator!$D$24>\"I\",\"Flush-mounted, local control panel with serial graphic display\",H8)","v":"Flush-mounted, local control panel with serial graphic display"},{"$f":"IF(Configurator!$D$24>\"I\",\"Flush-mounted, local control panel with serial graphic display\",I8)","v":"Flush-mounted, local control panel with serial graphic display"},{"$f":"IF(Configurator!$D$24>\"I\",\"Flush-mounted, local control panel with serial graphic display\",I8)","v":"Flush-mounted, local control panel with serial graphic display"},{"$f":"IF(Configurator!$D$24>\"I\",\"Flush-mounted, local control panel with serial graphic display\",I8)","v":"Flush-mounted, local control panel with serial graphic display"},{"$f":"IF(Configurator!$D$24>\"I\",\"Flush-mounted, local control panel with serial graphic display\",J8)","v":"Flush-mounted, local control panel with serial graphic display"},{"$f":"IF(Configurator!$D$24>\"I\",\"Flush-mounted, local control panel with serial graphic display\",J8)","v":"Flush-mounted, local control panel with serial graphic display"},{"$f":"IF(Configurator!$D$24>\"I\",\"Flush-mounted, local control panel with serial graphic display\",N8)","v":"Flush-mounted, local control panel with serial graphic display"},{"$f":"IF(Configurator!$D$24>\"I\",\"Flush-mounted, local control panel with serial graphic display\",K8)","v":"Flush-mounted, local control panel with serial graphic display"},{"$f":"IF(Configurator!$D$24>\"I\",\"Flush-mounted, local control panel with serial graphic display\",K8)","v":"Flush-mounted, local control panel with serial graphic display"},{"$f":"IF(Configurator!$D$24>\"I\",\"Flush-mounted, local control panel with serial graphic display\",I8)","v":"Flush-mounted, local control panel with serial graphic display"},{"$f":"IF(Configurator!$D$24>\"I\",\"Flush-mounted, local control panel with serial graphic display\",J8)","v":"Flush-mounted, local control panel with serial graphic display"},{"$f":"IF(Configurator!$D$24>\"I\",\"Flush-mounted, local control panel with serial graphic display\",K8)","v":"Flush-mounted, local control panel with serial graphic display"},{"$f":"IF(Configurator!$D$24>\"I\",\"Flush-mounted, local control panel with serial graphic display\",K8)","v":"Flush-mounted, local control panel with serial graphic display"},{"$f":"IF(Configurator!$D$24>\"I\",\"Flush-mounted, local control panel with serial graphic display\",K8)","v":"Flush-mounted, local control panel with serial graphic display"},{"$f":"IF(Configurator!$D$24>\"I\",\"Flush-mounted, local control panel with serial graphic display\",M8)","v":"Flush-mounted, local control panel with serial graphic display"},{"$f":"IF(Configurator!$D$24>\"I\",\"Flush-mounted, local control panel with serial graphic display\",M8)","v":"Flush-mounted, local control panel with serial graphic display"},{"$f":"IF(Configurator!$D$24>\"I\",\"Flush-mounted, local control panel with serial graphic display\",N8)","v":"Flush-mounted, local control panel with serial graphic display"},7]
[null,{"$f":"IF(B$37=\"-307\",\"Surface-mounted, with detachable HMI\",\"Surface-mounted, with detachable HMI - available from 307 hardware onwards only\")","v":"Surface-mounted, with detachable HMI"},{"$f":"IF(C$37=\"-307\",\"Surface-mounted, with detachable HMI\",\"Surface-mounted, with detachable HMI - available from 307 hardware onwards only\")","v":"Surface-mounted, with detachable HMI"},"Surface-mounted, with detachable HMI","Surface-mounted, with detachable HMI","Surface-mounted, with detachable HMI","Surface-mounted, with detachable HMI","Surface-mounted, with detachable HMI","Surface-mounted, with detachable HMI","Surface-mounted, with detachable HMI","Surface-mounted, with detachable HMI","Surface-mounted, with detachable HMI","Surface-mounted, with detachable HMI","Surface-mounted, with detachable HMI","Surface-mounted, with detachable HMI","Surface-mounted, with detachable HMI","Surface-mounted, with detachable HMI","Surface-mounted, with detachable HMI","Surface-mounted, with detachable HMI","Surface-mounted, with detachable HMI","Surface-mounted, with detachable HMI","Surface-mounted, with detachable HMI","Surface-mounted, with detachable HMI","Surface-mounted, with detachable HMI","Surface-mounted, with detachable HMI","Surface-mounted, with detachable HMI","Surface-mounted, with detachable HMI","Surface-mounted, with detachable HMI","Surface-mounted, with detachable HMI","Surface-mounted, with detachable HMI","Surface-mounted, with detachable HMI","Surface-mounted, with detachable HMI","Surface-mounted, with detachable HMI","Surface-mounted, with detachable HMI","Surface-mounted, with detachable HMI",8]
[null,{"$f":"IF(B$37=\"-307\",\"Flush-mounted, with detachable HMI\",\"Flush-mounted, with detachable HMI - available from 307 hardware onwards only\")","v":"Flush-mounted, with detachable HMI"},{"$f":"IF(C$37=\"-307\",\"Flush-mounted, with detachable HMI\",\"Flush-mounted, with detachable HMI - available from 307 hardware onwards only\")","v":"Flush-mounted, with detachable HMI"},"Flush-mounted, with detachable HMI","Flush-mounted, with detachable HMI","Flush-mounted, with detachable HMI","Flush-mounted, with detachable HMI","Flush-mounted, with detachable HMI","Flush-mounted, with detachable HMI","Flush-mounted, with detachable HMI","Flush-mounted, with detachable HMI","Flush-mounted, with detachable HMI","Flush-mounted, with detachable HMI","Flush-mounted, with detachable HMI","Flush-mounted, with detachable HMI","Flush-mounted, with detachable HMI","Flush-mounted, with detachable HMI","Flush-mounted, with detachable HMI","Flush-mounted, with detachable HMI","Flush-mounted, with detachable HMI","Flush-mounted, with detachable HMI","Flush-mounted, with detachable HMI","Flush-mounted, with detachable HMI","Flush-mounted, with detachable HMI","Flush-mounted, with detachable HMI","Flush-mounted, with detachable HMI","Flush-mounted, with detachable HMI","Flush-mounted, with detachable HMI","Flush-mounted, with detachable HMI","Flush-mounted, with detachable HMI","Flush-mounted, with detachable HMI","Flush-mounted, with detachable HMI","Flush-mounted, with detachable HMI","Flush-mounted, with detachable HMI","Flush-mounted, with detachable HMI",9]
[null," "," "," "," "," "," "," "," "," "," "," "," "," "," "," "," "," "," "," "," "," "," "," "," "," "," "," "," "," "," "," "," "," "," ",10]
[null," "," "," "," "," "," "," "," "," "," "," "," "," "," "," "," "," "," "," "," "," "," "," "," "," "," "," "," "," "," "," "," "," "," ",11]
[null," "," "," "," "," "," "," "," "," "," "," "," "," "," "," "," "," "," "," "," "," "," "," "," "," "," "," "," "," "," "," "," "," "," ",12]
[null," "," "," "," "," "," "," "," "," "," "," "," "," "," "," "," "," "," "," "," "," "," "," "," "," "," "," "," "," "," "," "," "," "," ",13]
["Voltage transformer"," "," "," "," "," "," "," "," "," "," "," "," "," "," "," "," "," "," "," "," "," "," "," "," "," "," "," "," "," "," "," "," "," "," ",14]
[" ","Without (Not viable if transient ground fault option required!)","Without (Not viable if transient ground fault option required!)","Without (Not viable if transient ground fault option required!)","Without","Without","Without","Without","Without","Without","Without","Without","Without","Without","Without","Without","Without","Without","Without","Without","Without",{"$f":"IF(Configurator!$D$12=3,\"Without\",\"NOT AVAILABLE\")","v":"Without"},"Without","Without","Without","Without","Without","Without","Without","Without","Without","Without","Without","Without","Without",15]
[" ","Vnom = 50V to 130V (4-pole)","Vnom = 50V to 130V (4-pole)","Vnom = 50V to 130V (4-pole)","Vnom = 50V to 130V (4-pole)","Vnom = 50V to 130V (4-pole)","Vnom = 50V to 130V (4-pole)","Vnom = 50V to 130V (4-pole)","Vnom = 50V to 130V (4-pole)","Vnom = 50V to 130V (4-pole)","Vnom = 50V to 130V (4-pole)","Vnom = 50V to 130V (4-pole)","Vnom = 50V to 130V (4-pole)","Vnom = 50V to 130V (4-pole)","Vnom = 50V to 130V (4-pole)","Vnom = 50V to 130V (4-pole)","Vnom = 50V to 130V (4-pole)","Vnom = 50V to 130V (4-pole)","Vnom = 50V to 130V (4-pole)","Vnom = 50V to 130V (4-pole)","Vnom = 50V to 130V (4-pole)","Vnom = 50V to 130V (4-pole)","Vnom = 50V to 130V (4-pole)","Vnom = 50V to 130V (4-pole)","Vnom = 50V to 130V (4-pole)","Vnom = 50V to 130V (4-pole)","Vnom = 50V to 130V (4-pole)","Vnom = 50V to 130V (4-pole)","Vnom = 50V to 130V (4-pole)","Vnom = 50V to 130V (4-pole)","Vnom = 50V to 130V (4-pole)","Vnom = 50V to 130V (4-pole)","Vnom = 50V to 130V (4-pole)","Vnom = 50V to 130V (4-pole)","Vnom = 50V to 130V (4-pole)",16]
[" ","Vnom = 50V to 130V (5-pole) for Automatic Synchronism Check","Vnom = 50V to 130V (5-pole) for Automatic Synchronism Check","Vnom = 50V to 130V (5-pole) for Automatic Synchronism Check","Vnom = 50V to 130V (5-pole) for Automatic Synchronism Check","Vnom = 50V to 130V (5-pole) for Automatic Synchronism Check","Vnom = 50V to 130V (5-pole) for Automatic Synchronism Check","Vnom = 50V to 130V (5-pole) for Automatic Synchronism Check","Vnom = 50V to 130V (5-pole) for Automatic Synchronism Check","Vnom = 50V to 130V (5-pole) for Automatic Synchronism Check","Vnom = 50V to 130V (5-pole) for Automatic Synchronism Check","Vnom = 50V to 130V (5-pole) for Automatic Synchronism Check","Vnom = 50V to 130V (5-pole) for Automatic Synchronism Check","Vnom = 50V to 130V (5-pole) for Automatic Synchronism Check","Vnom = 50V to 130V (5-pole) for Automatic Synchronism Check","Vnom = 50V to 130V (5-pole) for Automatic Synchronism Check","Vnom = 50V to 130V (5-pole) for Automatic Synchronism Check","Vnom = 50V to 130V (5-pole) for Automatic Synchronism Check","Vnom = 50V to 130V (5-pole) for Automatic Synchronism Check","Vnom = 50V to 130V (5-pole) for Automatic Synchronism Check","Vnom = 50V to 130V (5-pole) for Automatic Synchronism Check","Vnom = 50V to 130V (5-pole) for Automatic Synchronism Check","Vnom = 50V to 130V (5-pole) for Automatic Synchronism Check","Vnom = 50V to 130V (5-pole) for Automatic Synchronism Check","Vnom = 50V to 130V (5-pole) for Automatic Synchronism Check","Vnom = 50V to 130V (5-pole) for Automatic Synchronism Check","Vnom = 50V to 130V (5-pole) for Automatic Synchronism Check","Vnom = 50V to 130V (5-pole) for Automatic Synchronism Check","Vnom = 50V to 130V (5-pole) for Automatic Synchronism Check","Vnom = 50V to 130V (5-pole) for Automatic Synchronism Check","Vnom = 50V to 130V (5-pole) for Automatic Synchronism Check","Vnom = 50V to 130V (5-pole) for Automatic Synchronism Check","Vnom = 50V to 130V (5-pole) for Automatic Synchronism Check","Vnom = 50V to 130V (5-pole) for Automatic Synchronism Check","Vnom = 50V to 130V (5-pole) for Automatic Synchronism Check",17]
["CT/VT-Boards with NCIT","CT/VT Boards with NCIT : this option is not currently available.","CT/VT Boards with NCIT : this option is not currently available."," ","CT/VT Boards with NCIT : this option is not currently available."," "," "," "," "," ","CT/VT Boards with NCIT : this option is not currently available."," "," "," "," "," "," "," "," "," "," "," "," "," "," "," "," "," "," "," "," "," "," "," "," ",18]
[" ","*","*","*","*","*","*","*","*","*","*","*","*","*","*","*","*","*","*","*","*","*","*","*","*","*","*","*","*","*","*","*","*","*","*",19]
["Additional options"," "," "," "," "," "," "," "," "," "," "," "," "," "," "," "," "," "," "," "," "," "," "," "," "," "," "," "," "," "," "," "," "," "," ",20]
[" ","None","None","Without","None","Without","Without","Without","Without","Without","None","Without","Without","Without","Without","Without","Without","Without","Without","Without","Without","Without","Without","Without","Without","Without","Without","Without","Without","Without","Without","Without","Without","Without","Without",21]
[" ","6 binary inputs and 6 output relays for the control of 3 switchgear units","6 binary inputs and 6 output relays for the control of 3 switchgear units","With 1 binary module (add. 6 binary inputs and 6 output relays (2-pole))","6 binary inputs and 6 output relays for the control of 3 switchgear units",{"$f":"IF(Configurator!$D$29=\"2\",\"With 1 binary module (add. 6 binary inputs and 6 output relays (1-pole)) for the control of up to 3 add'l switchgear units\",\"With 1 binary module (add. 6 binary inputs and 6 output relays (2-pole)) for the control of up to 3 add'l switchgear units\")","v":"With 1 binary module (add. 6 binary inputs and 6 output relays (2-pole)) for the control of up to 3 add'l switchgear units"},{"$f":"IF(Configurator!$D$29=\"2\",\"With 1 binary module (add. 6 binary inputs and 6 output relays (1-pole)) for the control of up to 3 add'l switchgear units\",\"With 1 binary module (add. 6 binary inputs and 6 output relays (2-pole)) for the control of up to 3 add'l switchgear units\")","v":"With 1 binary module (add. 6 binary inputs and 6 output relays (2-pole)) for the control of up to 3 add'l switchgear units"},{"$f":"IF(Configurator!$D$29=\"2\",\"With 1 binary module (add. 6 binary inputs and 6 output relays (1-pole)) for the control of up to 3 add'l switchgear units\",\"With 1 binary module (add. 6 binary inputs and 6 output relays (2-pole)) for the control of up to 3 add'l switchgear units\")","v":"With 1 binary module (add. 6 binary inputs and 6 output relays (2-pole)) for the control of up to 3 add'l switchgear units"},{"$f":"IF(Configurator!$D$29=\"2\",\"With 1 binary module (add. 6 binary inputs and 6 output relays (1-pole)) for the control of up to 3 add'l switchgear units\",\"With 1 binary module (add. 6 binary inputs and 6 output relays (2-pole)) for the control of up to 3 add'l switchgear units\")","v":"With 1 binary module (add. 6 binary inputs and 6 output relays (2-pole)) for the control of up to 3 add'l switchgear units"},{"$f":"IF(Configurator!$D$29=\"2\",\"With 1 binary module (add. 6 binary inputs and 6 output relays (1-pole)) for the control of up to 3 add'l switchgear units\",\"With 1 binary module (add. 6 binary inputs and 6 output relays (2-pole)) for the control of up to 3 add'l switchgear units\")","v":"With 1 binary module (add. 6 binary inputs and 6 output relays (2-pole)) for the control of up to 3 add'l switchgear units"},"6 binary inputs and 6 output relays for the control of 3 switchgear units",{"$f":"IF(Configurator!$D$29=\"2\",\"With 1 binary module (add. 6 binary inputs and 6 output relays (1-pole)) for the control of up to 3 add'l switchgear units\",\"With 1 binary module (add. 6 binary inputs and 6 output relays (2-pole)) for the control of up to 3 add'l switchgear units\")","v":"With 1 binary module (add. 6 binary inputs and 6 output relays (2-pole)) for the control of up to 3 add'l switchgear units"},{"$f":"IF(Configurator!$D$29=\"2\",\"With 1 binary module (add. 6 binary inputs and 6 output relays (1-pole)) for the control of up to 3 add'l switchgear units\",\"With 1 binary module (add. 6 binary inputs and 6 output relays (2-pole)) for the control of up to 3 add'l switchgear units\")","v":"With 1 binary module (add. 6 binary inputs and 6 output relays (2-pole)) for the control of up to 3 add'l switchgear units"},{"$f":"IF(Configurator!$D$29=\"2\",\"With 1 binary module (add. 6 binary inputs and 6 output relays (1-pole)) for the control of up to 3 add'l switchgear units\",\"With 1 binary module (add. 6 binary inputs and 6 output relays (2-pole)) for the control of up to 3 add'l switchgear units\")","v":"With 1 binary module (add. 6 binary inputs and 6 output relays (2-pole)) for the control of up to 3 add'l switchgear units"},{"$f":"IF(Configurator!$D$29=\"2\",\"With 1 binary module (add. 6 binary inputs and 6 output relays (1-pole)) for the control of up to 3 add'l switchgear units\",\"With 1 binary module (add. 6 binary inputs and 6 output relays (2-pole)) for the control of up to 3 add'l switchgear units\")","v":"With 1 binary module (add. 6 binary inputs and 6 output relays (2-pole)) for the control of up to 3 add'l switchgear units"},{"$f":"IF(Configurator!$D$29=\"2\",\"With 1 binary module (add. 6 binary inputs and 6 output relays (1-pole)) for the control of up to 3 add'l switchgear units\",\"With 1 binary module (add. 6 binary inputs and 6 output relays (2-pole)) for the control of up to 3 add'l switchgear units\")","v":"With 1 binary module (add. 6 binary inputs and 6 output relays (2-pole)) for the control of up to 3 add'l switchgear units"},{"$f":"IF(Configurator!$D$29=\"2\",\"With 1 binary module (add. 6 binary inputs and 6 output relays (1-pole)) for the control of up to 3 add'l switchgear units\",\"With 1 binary module (add. 6 binary inputs and 6 output relays (2-pole)) for the control of up to 3 add'l switchgear units\")","v":"With 1 binary module (add. 6 binary inputs and 6 output relays (2-pole)) for the control of up to 3 add'l switchgear units"},{"$f":"IF(Configurator!$D$29=\"2\",\"With 1 binary module (add. 6 binary inputs and 6 output relays (1-pole)) for the control of up to 3 add'l switchgear units\",\"With 1 binary module (add. 6 binary inputs and 6 output relays (2-pole)) for the control of up to 3 add'l switchgear units\")","v":"With 1 binary module (add. 6 binary inputs and 6 output relays (2-pole)) for the control of up to 3 add'l switchgear units"},{"$f":"IF(Configurator!$D$29=\"2\",\"With 1 binary module (add. 6 binary inputs and 6 output relays (1-pole)) for the control of up to 3 add'l switchgear units\",\"With 1 binary module (add. 6 binary inputs and 6 output relays (2-pole)) for the control of up to 3 add'l switchgear units\")","v":"With 1 binary module (add. 6 binary inputs and 6 output relays (2-pole)) for the control of up to 3 add'l switchgear units"},{"$f":"IF(Configurator!$D$29=\"2\",\"With 1 binary module (add. 6 binary inputs and 6 output relays (1-pole)) for the control of up to 3 add'l switchgear units\",\"With 1 binary module (add. 6 binary inputs and 6 output relays (2-pole)) for the control of up to 3 add'l switchgear units\")","v":"With 1 binary module (add. 6 binary inputs and 6 output relays (2-pole)) for the control of up to 3 add'l switchgear units"},{"$f":"IF(Configurator!$D$29=\"2\",\"With 1 binary module (add. 6 binary inputs and 6 output relays (1-pole)) for the control of up to 3 add'l switchgear units\",\"With 1 binary module (add. 6 binary inputs and 6 output relays (2-pole)) for the control of up to 3 add'l switchgear units\")","v":"With 1 binary module (add. 6 binary inputs and 6 output relays (2-pole)) for the control of up to 3 add'l switchgear units"},{"$f":"IF(Configurator!$D$29=\"2\",\"With 1 binary module (add. 6 binary inputs and 6 output relays (1-pole)) for the control of up to 3 add'l switchgear units\",\"With 1 binary module (add. 6 binary inputs and 6 output relays (2-pole)) for the control of up to 3 add'l switchgear units\")","v":"With 1 binary module (add. 6 binary inputs and 6 output relays (2-pole)) for the control of up to 3 add'l switchgear units"},{"$f":"IF(Configurator!$D$29=\"2\",\"With 1 binary module (add. 6 binary inputs and 6 output relays (1-pole)) for the control of up to 3 add'l switchgear units\",\"With 1 binary module (add. 6 binary inputs and 6 output relays (2-pole)) for the control of up to 3 add'l switchgear units\")","v":"With 1 binary module (add. 6 binary inputs and 6 output relays (2-pole)) for the control of up to 3 add'l switchgear units"},{"$f":"IF(Configurator!$D$29=\"2\",\"With 1 binary module (add. 6 binary inputs and 6 output relays (1-pole)) for the control of up to 3 add'l switchgear units\",\"With 1 binary module (add. 6 binary inputs and 6 output relays (2-pole)) for the control of up to 3 add'l switchgear units\")","v":"With 1 binary module (add. 6 binary inputs and 6 output relays (2-pole)) for the control of up to 3 add'l switchgear units"},{"$f":"IF(Configurator!$D$29=\"2\",\"With 1 binary module (add. 6 binary inputs and 6 output relays (1-pole)) for the control of up to 3 add'l switchgear units\",\"With 1 binary module (add. 6 binary inputs and 6 output relays (2-pole)) for the control of up to 3 add'l switchgear units\")","v":"With 1 binary module (add. 6 binary inputs and 6 output relays (2-pole)) for the control of up to 3 add'l switchgear units"},{"$f":"IF(Configurator!$D$29=\"2\",\"With 1 binary module (add. 6 binary inputs and 6 output relays (1-pole)) for the control of up to 3 add'l switchgear units\",\"With 1 binary module (add. 6 binary inputs and 6 output relays (2-pole)) for the control of up to 3 add'l switchgear units\")","v":"With 1 binary module (add. 6 binary inputs and 6 output relays (2-pole)) for the control of up to 3 add'l switchgear units"},{"$f":"IF(Configurator!$D$29=\"2\",\"With 1 binary module (add. 6 binary inputs and 6 output relays (1-pole)) for the control of up to 3 add'l switchgear units\",\"With 1 binary module (add. 6 binary inputs and 6 output relays (2-pole)) for the control of up to 3 add'l switchgear units\")","v":"With 1 binary module (add. 6 binary inputs and 6 output relays (2-pole)) for the control of up to 3 add'l switchgear units"},{"$f":"IF(Configurator!$D$29=\"2\",\"With 1 binary module (add. 6 binary inputs and 6 output relays (1-pole)) for the control of up to 3 add'l switchgear units\",\"With 1 binary module (add. 6 binary inputs and 6 output relays (2-pole)) for the control of up to 3 add'l switchgear units\")","v":"With 1 binary module (add. 6 binary inputs and 6 output relays (2-pole)) for the control of up to 3 add'l switchgear units"},{"$f":"IF(Configurator!$D$29=\"2\",\"With 1 binary module (add. 6 binary inputs and 6 output relays (1-pole)) for the control of up to 3 add'l switchgear units\",\"With 1 binary module (add. 6 binary inputs and 6 output relays (2-pole)) for the control of up to 3 add'l switchgear units\")","v":"With 1 binary module (add. 6 binary inputs and 6 output relays (2-pole)) for the control of up to 3 add'l switchgear units"},{"$f":"IF(Configurator!$D$29=\"2\",\"With 1 binary module (add. 6 binary inputs and 6 output relays (1-pole)) for the control of up to 3 add'l switchgear units\",\"With 1 binary module (add. 6 binary inputs and 6 output relays (2-pole)) for the control of up to 3 add'l switchgear units\")","v":"With 1 binary module (add. 6 binary inputs and 6 output relays (2-pole)) for the control of up to 3 add'l switchgear units"},{"$f":"IF(Configurator!$D$29=\"2\",\"With 1 binary module (add. 6 binary inputs and 6 output relays (1-pole)) for the control of up to 3 add'l switchgear units\",\"With 1 binary module (add. 6 binary inputs and 6 output relays (2-pole)) for the control of up to 3 add'l switchgear units\")","v":"With 1 binary module (add. 6 binary inputs and 6 output relays (2-pole)) for the control of up to 3 add'l switchgear units"},{"$f":"IF(Configurator!$D$29=\"2\",\"With 1 binary module (add. 6 binary inputs and 6 output relays (1-pole)) for the control of up to 3 add'l switchgear units\",\"With 1 binary module (add. 6 binary inputs and 6 output relays (2-pole)) for the control of up to 3 add'l switchgear units\")","v":"With 1 binary module (add. 6 binary inputs and 6 output relays (2-pole)) for the control of up to 3 add'l switchgear units"},{"$f":"IF(Configurator!$D$29=\"2\",\"With 1 binary module (add. 6 binary inputs and 6 output relays (1-pole)) for the control of up to 3 add'l switchgear units\",\"With 1 binary module (add. 6 binary inputs and 6 output relays (2-pole)) for the control of up to 3 add'l switchgear units\")","v":"With 1 binary module (add. 6 binary inputs and 6 output relays (2-pole)) for the control of up to 3 add'l switchgear units"},{"$f":"IF(Configurator!$D$29=\"2\",\"With 1 binary module (add. 6 binary inputs and 6 output relays (1-pole)) for the control of up to 3 add'l switchgear units\",\"With 1 binary module (add. 6 binary inputs and 6 output relays (2-pole)) for the control of up to 3 add'l switchgear units\")","v":"With 1 binary module (add. 6 binary inputs and 6 output relays (2-pole)) for the control of up to 3 add'l switchgear units"},{"$f":"IF(Configurator!$D$29=\"2\",\"With 1 binary module (add. 6 binary inputs and 6 output relays (1-pole)) for the control of up to 3 add'l switchgear units\",\"With 1 binary module (add. 6 binary inputs and 6 output relays (2-pole)) for the control of up to 3 add'l switchgear units\")","v":"With 1 binary module (add. 6 binary inputs and 6 output relays (2-pole)) for the control of up to 3 add'l switchgear units"},22]
["Power supply and additional option"," "," "," "," "," "," "," "," "," "," "," "," "," "," "," "," "," "," "," "," "," "," "," "," "," "," "," "," "," "," "," "," "," "," ",23]
[" ","24Vdc","24Vdc","24Vdc","24Vdc","24Vdc","24Vdc","24Vdc","24Vdc","24 … 60Vdc","24Vdc","24 … 60Vdc","24 … 60Vdc","24Vdc","24Vdc","24 … 60Vdc","24 … 60Vdc","24 … 60Vdc","24 … 60Vdc","24 … 60Vdc","24 … 60Vdc","24 … 60Vdc","24 … 60Vdc","24 … 60Vdc","24 … 60Vdc","24 … 60Vdc","24 … 60Vdc","24 … 60Vdc","24 … 60Vdc","24 … 60Vdc","24 … 60Vdc","24 … 60Vdc","24 … 60Vdc","24 … 60Vdc","24 … 60Vdc",24]
[" ","48 to 250Vdc/100 to 230Vac","48 to 250Vdc/100 to 230Vac","48 to 250Vdc/100 to 230Vac","48 to 250Vdc/100 to 230Vac","48 to 250Vdc/100 to 230Vac","48 to 250Vdc/100 to 230Vac","48 to 250Vdc/100 to 230Vac","48 to 250Vdc/100 to 230Vac","60 ... 250Vdc/100 ... 230Vac","48 to 250Vdc/100 to 230Vac","60 ... 250Vdc/100 ... 230Vac","60 ... 250Vdc/100 ... 230Vac","48 to 250Vdc/100 to 230Vac","48 to 250Vdc/100 to 230Vac","60 ... 250Vdc/100 ... 230Vac","60 ... 250Vdc/100 ... 230Vac","60 ... 250Vdc/100 ... 230Vac","60 ... 250Vdc/100 ... 230Vac","60 ... 250Vdc/100 ... 230Vac","60 ... 250Vdc/100 ... 230Vac","60 ... 250Vdc/100 ... 230Vac","60 ... 250Vdc/100 ... 230Vac","60 ... 250Vdc/100 ... 230Vac","60 ... 250Vdc/100 ... 230Vac","60 ... 250Vdc/100 ... 230Vac","60 ... 250Vdc/100 ... 230Vac","60 ... 250Vdc/100 ... 230Vac","60 ... 250Vdc/100 ... 230Vac","60 ... 250Vdc/100 ... 230Vac","60 ... 250Vdc/100 ... 230Vac","60 ... 250Vdc/100 ... 230Vac","60 ... 250Vdc/100 ... 230Vac","60 ... 250Vdc/100 ... 230Vac","60 ... 250Vdc/100 ... 230Vac",25]
[" ","24Vdc (+6 output relays)","24Vdc (+6 output relays)","24Vdc (+6 output relays)","24Vdc (+6 output relays)","24Vdc (+6 output relays)","24Vdc (+6 output relays)","24Vdc (+6 output relays)","24Vdc (+6 output relays)","24 … 60Vdc and 6 output relays","24Vdc (+6 output relays)","24 … 60Vdc and 6 output relays","24 … 60Vdc and 6 output relays","24Vdc (+6 output relays)","24Vdc (+6 output relays)","24 … 60Vdc and 6 output relays","24 … 60Vdc and 6 output relays","24 … 60Vdc and 6 output relays","24 … 60Vdc and 6 output relays","24 … 60Vdc and 6 output relays","24 … 60Vdc and 6 output relays","24 … 60Vdc and 6 output relays","24 … 60Vdc and 6 output relays","24 … 60Vdc and 6 output relays","24 … 60Vdc and 6 output relays","24 … 60Vdc and 6 output relays","24 … 60Vdc and 6 output relays","24 … 60Vdc and 6 output relays","24 … 60Vdc and 6 output relays","24 … 60Vdc and 6 output relays","24 … 60Vdc and 6 output relays","24 … 60Vdc and 6 output relays","24 … 60Vdc and 6 output relays","24 … 60Vdc and 6 output relays","24 … 60Vdc and 6 output relays",26]
[" ","48 to 250Vdc/100 to 230Vac (+6 output relays)","48 to 250Vdc/100 to 230Vac (+6 output relays)","48 to 250Vdc/100 to 230Vac (+6 output relays)","48 to 250Vdc/100 to 230Vac (+6 output relays)","48 to 250Vdc/100 to 230Vac (+6 output relays)","48 to 250Vdc/100 to 230Vac (+6 output relays)","48 to 250Vdc/100 to 230Vac (+6 output relays)","48 to 250Vdc/100 to 230Vac (+6 output relays)","60 … 250Vdc/100 … 230Vac and 6 output relays","48 to 250Vdc/100 to 230Vac (+6 output relays)","60 … 250Vdc/100 … 230Vac and 6 output relays","60 … 250Vdc/100 … 230Vac and 6 output relays","48 to 250Vdc/100 to 230Vac (+6 output relays)","48 to 250Vdc/100 to 230Vac (+6 output relays)","60 … 250Vdc/100 … 230Vac and 6 output relays","60 … 250Vdc/100 … 230Vac and 6 output relays","60 … 250Vdc/100 … 230Vac and 6 output relays","60 … 250Vdc/100 … 230Vac and 6 output relays","60 … 250Vdc/100 … 230Vac and 6 output relays","60 … 250Vdc/100 … 230Vac and 6 output relays","60 … 250Vdc/100 … 230Vac and 6 output relays","60 … 250Vdc/100 … 230Vac and 6 output relays","60 … 250Vdc/100 … 230Vac and 6 output relays","60 … 250Vdc/100 … 230Vac and 6 output relays","60 … 250Vdc/100 … 230Vac and 6 output relays","60 … 250Vdc/100 … 230Vac and 6 output relays","60 … 250Vdc/100 … 230Vac and 6 output relays","60 … 250Vdc/100 … 230Vac and 6 output relays","60 … 250Vdc/100 … 230Vac and 6 output relays","60 … 250Vdc/100 … 230Vac and 6 output relays","60 … 250Vdc/100 … 230Vac and 6 output relays","60 … 250Vdc/100 … 230Vac and 6 output relays","60 … 250Vdc/100 … 230Vac and 6 output relays","60 … 250Vdc/100 … 230Vac and 6 output relays",27]
[" "," "," ",{"$f":"IF(Configurator!$L$7>\"-307\",\"24Vdc (+6 binary inputs and 3 output relays)\",\" \")","v":"24Vdc (+6 binary inputs and 3 output relays)"}," ",{"$f":"IF(Configurator!$L$7>\"-307\",\"24Vdc (+6 binary inputs and 3 output relays)\",\" \")","v":"24Vdc (+6 binary inputs and 3 output relays)"},{"$f":"IF(Configurator!$L$7>\"-307\",\"24Vdc (+6 binary inputs and 3 output relays)\",\" \")","v":"24Vdc (+6 binary inputs and 3 output relays)"},{"$f":"IF(Configurator!$L$7>\"-307\",\"24Vdc (+6 binary inputs and 3 output relays)\",\" \")","v":"24Vdc (+6 binary inputs and 3 output relays)"},{"$f":"IF(Configurator!$L$7>\"-307\",\"24Vdc (+6 binary inputs and 3 output relays)\",\" \")","v":"24Vdc (+6 binary inputs and 3 output relays)"},"24 … 60Vdc and 6 binary inputs and 3 output relays"," ","24 … 60Vdc and 6 binary inputs and 3 output relays","24 … 60Vdc and 6 binary inputs and 3 output relays",{"$f":"IF(Configurator!$L$7>\"-307\",\"24Vdc (+6 binary inputs and 3 output relays)\",\" \")","v":"24Vdc (+6 binary inputs and 3 output relays)"},{"$f":"IF(Configurator!$L$7>\"-307\",\"24Vdc (+6 binary inputs and 3 output relays)\",\" \")","v":"24Vdc (+6 binary inputs and 3 output relays)"},"24 … 60Vdc and 6 binary inputs and 3 output relays","24 … 60Vdc and 6 binary inputs and 3 output relays","24 … 60Vdc and 6 binary inputs and 3 output relays","24 … 60Vdc and 6 binary inputs and 3 output relays","24 … 60Vdc and 6 binary inputs and 3 output relays","24 … 60Vdc and 6 binary inputs and 3 output relays","24 … 60Vdc and 6 binary inputs and 3 output relays","24 … 60Vdc and 6 binary inputs and 3 output relays","24 … 60Vdc and 6 binary inputs and 3 output relays","24 … 60Vdc and 6 binary inputs and 3 output relays","24 … 60Vdc and 6 binary inputs and 3 output relays","24 … 60Vdc and 6 binary inputs and 3 output relays","24 … 60Vdc and 6 binary inputs and 3 output relays","24 … 60Vdc and 6 binary inputs and 3 output relays","24 … 60Vdc and 6 binary inputs and 3 output relays","24 … 60Vdc and 6 binary inputs and 3 output relays","24 … 60Vdc and 6 binary inputs and 3 output relays","24 … 60Vdc and 6 binary inputs and 3 output relays","24 … 60Vdc and 6 binary inputs and 3 output relays","24 … 60Vdc and 6 binary inputs and 3 output relays",28]
[" "," "," ",{"$f":"IF(Configurator!$L$7>\"-307\",\"48 to 250Vdc / 100 to 230Vac (+6 binary inputs and 3 output relays)\",\" \")","v":"48 to 250Vdc / 100 to 230Vac (+6 binary inputs and 3 output relays)"}," ",{"$f":"IF(Configurator!$L$7>\"-307\",\"48 to 250Vdc / 100 to 230Vac (+6 binary inputs and 3 output relays)\",\" \")","v":"48 to 250Vdc / 100 to 230Vac (+6 binary inputs and 3 output relays)"},{"$f":"IF(Configurator!$L$7>\"-307\",\"48 to 250Vdc / 100 to 230Vac (+6 binary inputs and 3 output relays)\",\" \")","v":"48 to 250Vdc / 100 to 230Vac (+6 binary inputs and 3 output relays)"},{"$f":"IF(Configurator!$L$7>\"-307\",\"48 to 250Vdc / 100 to 230Vac (+6 binary inputs and 3 output relays)\",\" \")","v":"48 to 250Vdc / 100 to 230Vac (+6 binary inputs and 3 output relays)"},{"$f":"IF(Configurator!$L$7>\"-307\",\"48 to 250Vdc / 100 to 230Vac (+6 binary inputs and 3 output relays)\",\" \")","v":"48 to 250Vdc / 100 to 230Vac (+6 binary inputs and 3 output relays)"},"60 … 250Vdc / 100 … 230Vac and 6 binary inputs and 3 output relays"," ","60 … 250Vdc / 100 … 230Vac and 6 binary inputs and 3 output relays","60 … 250Vdc / 100 … 230Vac and 6 binary inputs and 3 output relays",{"$f":"IF(Configurator!$L$7>\"-307\",\"48 to 250Vdc / 100 to 230Vac (+6 binary inputs and 3 output relays)\",\" \")","v":"48 to 250Vdc / 100 to 230Vac (+6 binary inputs and 3 output relays)"},{"$f":"IF(Configurator!$L$7>\"-307\",\"48 to 250Vdc / 100 to 230Vac (+6 binary inputs and 3 output relays)\",\" \")","v":"48 to 250Vdc / 100 to 230Vac (+6 binary inputs and 3 output relays)"},"60 … 250Vdc / 100 … 230Vac and 6 binary inputs and 3 output relays","60 … 250Vdc / 100 … 230Vac and 6 binary inputs and 3 output relays","60 … 250Vdc / 100 … 230Vac and 6 binary inputs and 3 output relays","60 … 250Vdc / 100 … 230Vac and 6 binary inputs and 3 output relays","60 … 250Vdc / 100 … 230Vac and 6 binary inputs and 3 output relays","60 … 250Vdc / 100 … 230Vac and 6 binary inputs and 3 output relays","60 … 250Vdc / 100 … 230Vac and 6 binary inputs and 3 output relays","60 … 250Vdc / 100 … 230Vac and 6 binary inputs and 3 output relays","60 … 250Vdc / 100 … 230Vac and 6 binary inputs and 3 output relays","60 … 250Vdc / 100 … 230Vac and 6 binary inputs and 3 output relays","60 … 250Vdc / 100 … 230Vac and 6 binary inputs and 3 output relays","60 … 250Vdc / 100 … 230Vac and 6 binary inputs and 3 output relays","60 … 250Vdc / 100 … 230Vac and 6 binary inputs and 3 output relays","60 … 250Vdc / 100 … 230Vac and 6 binary inputs and 3 output relays","60 … 250Vdc / 100 … 230Vac and 6 binary inputs and 3 output relays","60 … 250Vdc / 100 … 230Vac and 6 binary inputs and 3 output relays","60 … 250Vdc / 100 … 230Vac and 6 binary inputs and 3 output relays","60 … 250Vdc / 100 … 230Vac and 6 binary inputs and 3 output relays","60 … 250Vdc / 100 … 230Vac and 6 binary inputs and 3 output relays","60 … 250Vdc / 100 … 230Vac and 6 binary inputs and 3 output relays",29]
[null," "," ",{"$f":"IF(Configurator!$L$7>\"-307\",\"24Vdc (+4 high break contacts)\",\" \")","v":"24Vdc (+4 high break contacts)"}," ",{"$f":"IF(Configurator!$L$7>\"-307\",\"24Vdc (+4 high break contacts)\",\" \")","v":"24Vdc (+4 high break contacts)"},{"$f":"IF(Configurator!$L$7>\"-307\",\"24Vdc (+4 high break contacts)\",\" \")","v":"24Vdc (+4 high break contacts)"},{"$f":"IF(Configurator!$L$7>\"-307\",\"24Vdc (+4 high break contacts)\",\" \")","v":"24Vdc (+4 high break contacts)"},{"$f":"IF(Configurator!$L$7>\"-307\",\"24Vdc (+4 high break contacts)\",\" \")","v":"24Vdc (+4 high break contacts)"},"24 … 60Vdc and 4 high break contacts"," ","24 … 60Vdc and 4 high break contacts","24 … 60Vdc and 4 high break contacts",{"$f":"IF(Configurator!$L$7>\"-307\",\"24Vdc (+4 high break contacts)\",\" \")","v":"24Vdc (+4 high break contacts)"},{"$f":"IF(Configurator!$L$7>\"-307\",\"24Vdc (+4 high break contacts)\",\" \")","v":"24Vdc (+4 high break contacts)"},"24 … 60Vdc and 4 high break contacts","24 … 60Vdc and 4 high break contacts","24 … 60Vdc and 4 high break contacts","24 … 60Vdc and 4 high break contacts","24 … 60Vdc and 4 high break contacts","24 … 60Vdc and 4 high break contacts","24 … 60Vdc and 4 high break contacts","24 … 60Vdc and 4 high break contacts","24 … 60Vdc and 4 high break contacts","24 … 60Vdc and 4 high break contacts","24 … 60Vdc and 4 high break contacts","24 … 60Vdc and 4 high break contacts","24 … 60Vdc and 4 high break contacts","24 … 60Vdc and 4 high break contacts","24 … 60Vdc and 4 high break contacts","24 … 60Vdc and 4 high break contacts","24 … 60Vdc and 4 high break contacts","24 … 60Vdc and 4 high break contacts","24 … 60Vdc and 4 high break contacts","24 … 60Vdc and 4 high break contacts",30]
[null," "," ",{"$f":"IF(Configurator!$L$7>\"-307\",\"48 to 250Vdc / 100 to 230Vac (+4 high break contacts)\",\" \")","v":"48 to 250Vdc / 100 to 230Vac (+4 high break contacts)"}," ",{"$f":"IF(Configurator!$L$7>\"-307\",\"48 to 250Vdc / 100 to 230Vac (+4 high break contacts)\",\" \")","v":"48 to 250Vdc / 100 to 230Vac (+4 high break contacts)"},{"$f":"IF(Configurator!$L$7>\"-307\",\"48 to 250Vdc / 100 to 230Vac (+4 high break contacts)\",\" \")","v":"48 to 250Vdc / 100 to 230Vac (+4 high break contacts)"},{"$f":"IF(Configurator!$L$7>\"-307\",\"48 to 250Vdc / 100 to 230Vac (+4 high break contacts)\",\" \")","v":"48 to 250Vdc / 100 to 230Vac (+4 high break contacts)"},{"$f":"IF(Configurator!$L$7>\"-307\",\"48 to 250Vdc / 100 to 230Vac (+4 high break contacts)\",\" \")","v":"48 to 250Vdc / 100 to 230Vac (+4 high break contacts)"},"60 … 250Vdc / 100 … 230Vac and 4 high break contacts"," ","60 … 250Vdc / 100 … 230Vac and 4 high break contacts","60 … 250Vdc / 100 … 230Vac and 4 high break contacts",{"$f":"IF(Configurator!$L$7>\"-307\",\"48 to 250Vdc / 100 to 230Vac (+4 high break contacts)\",\" \")","v":"48 to 250Vdc / 100 to 230Vac (+4 high break contacts)"},{"$f":"IF(Configurator!$L$7>\"-307\",\"48 to 250Vdc / 100 to 230Vac (+4 high break contacts)\",\" \")","v":"48 to 250Vdc / 100 to 230Vac (+4 high break contacts)"},"60 … 250Vdc / 100 … 230Vac and 4 high break contacts","60 … 250Vdc / 100 … 230Vac and 4 high break contacts","60 … 250Vdc / 100 … 230Vac and 4 high break contacts","60 … 250Vdc / 100 … 230Vac and 4 high break contacts","60 … 250Vdc / 100 … 230Vac and 4 high break contacts","60 … 250Vdc / 100 … 230Vac and 4 high break contacts","60 … 250Vdc / 100 … 230Vac and 4 high break contacts","60 … 250Vdc / 100 … 230Vac and 4 high break contacts","60 … 250Vdc / 100 … 230Vac and 4 high break contacts","60 … 250Vdc / 100 … 230Vac and 4 high break contacts","60 … 250Vdc / 100 … 230Vac and 4 high break contacts","60 … 250Vdc / 100 … 230Vac and 4 high break contacts","60 … 250Vdc / 100 … 230Vac and 4 high break contacts","60 … 250Vdc / 100 … 230Vac and 4 high break contacts","60 … 250Vdc / 100 … 230Vac and 4 high break contacts","60 … 250Vdc / 100 … 230Vac and 4 high break contacts","60 … 250Vdc / 100 … 230Vac and 4 high break contacts","60 … 250Vdc / 100 … 230Vac and 4 high break contacts","60 … 250Vdc / 100 … 230Vac and 4 high break contacts","60 … 250Vdc / 100 … 230Vac and 4 high break contacts",31]
[null," "," "," "," "," "," "," "," "," "," "," "," "," "," "," "," "," "," "," "," "," "," "," "," "," "," "," "," "," "," "," "," "," "," ",32]
[null," "," "," "," "," "," "," "," "," "," "," "," "," "," "," "," "," "," "," "," "," "," "," "," "," "," "," "," "," "," "," "," "," "," ",33]
["Hardware Issue (Date dependent)"," "," "," "," "," "," "," "," "," "," "," "," "," "," "," "," "," "," "," "," "," "," "," "," "," "," "," "," "," "," "," "," "," "," ",34]
[" ",{"$f":"IF(Configurator!$T$5=\"*\",\"*\",\"G\")","v":"G"},{"$f":"IF(Configurator!$T$5=\"*\",\"*\",\"G\")","v":"G"},{"$f":"IF(Configurator!$T$5=\"*\",\"*\",\"H\")","v":"H"},{"$f":"IF(Configurator!$T$5=\"*\",\"*\",\"G\")","v":"G"},{"$f":"IF(Configurator!$T$5=\"*\",\"*\",\"H\")","v":"H"},{"$f":"IF(Configurator!$T$5=\"*\",\"*\",\"I\")","v":"I"},{"$f":"IF(Configurator!$T$5=\"*\",\"*\",\"H\")","v":"H"},{"$f":"IF(Configurator!$T$5=\"*\",\"*\",\"J\")","v":"J"},{"$f":"IF(Configurator!$T$5=\"*\",\"*\",\"K\")","v":"K"},{"$f":"IF(Configurator!$T$5=\"*\",\"*\",\"G\")","v":"G"},{"$f":"IF(Configurator!$T$5=\"*\",\"*\",\"L\")","v":"L"},{"$f":"IF(Configurator!$T$5=\"*\",\"*\",\"L\")","v":"L"},{"$f":"IF(Configurator!$T$5=\"*\",\"*\",\"H\")","v":"H"},{"$f":"IF(Configurator!$T$5=\"*\",\"*\",\"H\")","v":"H"},{"$f":"IF(Configurator!$T$5=\"*\",\"*\",\"L\")","v":"L"},{"$f":"IF(Configurator!$T$5=\"*\",\"*\",\"L\")","v":"L"},{"$f":"IF(Configurator!$T$5=\"*\",\"*\",\"L\")","v":"L"},{"$f":"IF(Configurator!$T$5=\"*\",\"*\",\"L\")","v":"L"},{"$f":"IF(Configurator!$T$5=\"*\",\"*\",\"M\")","v":"M"},{"$f":"IF(Configurator!$T$5=\"*\",\"*\",\"M\")","v":"M"},{"$f":"IF(Configurator!$T$5=\"*\",\"*\",\"M\")","v":"M"},{"$f":"IF(Configurator!$T$5=\"*\",\"*\",\"M\")","v":"M"},{"$f":"IF(Configurator!$T$5=\"*\",\"*\",\"M\")","v":"M"},{"$f":"IF(Configurator!$T$5=\"*\",\"*\",\"L\")","v":"L"},{"$f":"IF(Configurator!$T$5=\"*\",\"*\",\"N\")","v":"N"},{"$f":"IF(Configurator!$T$5=\"*\",\"*\",\"O\")","v":"O"},{"$f":"IF(Configurator!$T$5=\"*\",\"*\",\"O\")","v":"O"},{"$f":"IF(Configurator!$T$5=\"*\",\"*\",\"P\")","v":"P"},{"$f":"IF(Configurator!$T$5=\"*\",\"*\",\"O\")","v":"O"},{"$f":"IF(Configurator!$T$5=\"*\",\"*\",\"O\")","v":"O"},{"$f":"IF(Configurator!$T$5=\"*\",\"*\",\"O\")","v":"O"},{"$f":"IF(Configurator!$T$5=\"*\",\"*\",\"P\")","v":"P"},{"$f":"IF(Configurator!$T$5=\"*\",\"*\",\"P\")","v":"P"},{"$f":"IF(Configurator!$T$5=\"*\",\"*\",\"P\")","v":"P"},35]
[" ",{"$f":"IF(Configurator!$T$5=\"*\",\"-3**\",\"-307\")","v":"-307"},{"$f":"IF(Configurator!$T$5=\"*\",\"-3**\",\"-307\")","v":"-307"},{"$f":"IF(Configurator!$T$5=\"*\",\"-3**\",\"-308\")","v":"-308"},{"$f":"IF(Configurator!$T$5=\"*\",\"-3**\",\"-307\")","v":"-307"},{"$f":"IF(Configurator!$T$5=\"*\",\"-3**\",\"-308\")","v":"-308"},{"$f":"IF(Configurator!$T$5=\"*\",\"-3**\",\"-309\")","v":"-309"},{"$f":"IF(Configurator!$T$5=\"*\",\"-3**\",\"-308\")","v":"-308"},{"$f":"IF(Configurator!$T$5=\"*\",\"-3**\",\"-310\")","v":"-310"},{"$f":"IF(Configurator!$T$5=\"*\",\"-3**\",\"-311\")","v":"-311"},{"$f":"IF(Configurator!$T$5=\"*\",\"-3**\",\"-307\")","v":"-307"},{"$f":"IF(Configurator!$T$5=\"*\",\"-3**\",\"-312\")","v":"-312"},{"$f":"IF(Configurator!$T$5=\"*\",\"-3**\",\"-312\")","v":"-312"},{"$f":"IF(Configurator!$T$5=\"*\",\"-3**\",\"-308\")","v":"-308"},{"$f":"IF(Configurator!$T$5=\"*\",\"-3**\",\"-308\")","v":"-308"},{"$f":"IF(Configurator!$T$5=\"*\",\"-3**\",\"-312\")","v":"-312"},{"$f":"IF(Configurator!$T$5=\"*\",\"-3**\",\"-312\")","v":"-312"},{"$f":"IF(Configurator!$T$5=\"*\",\"-3**\",\"-312\")","v":"-312"},{"$f":"IF(Configurator!$T$5=\"*\",\"-3**\",\"-312\")","v":"-312"},{"$f":"IF(Configurator!$T$5=\"*\",\"-3**\",\"-313\")","v":"-313"},{"$f":"IF(Configurator!$T$5=\"*\",\"-3**\",\"-313\")","v":"-313"},{"$f":"IF(Configurator!$T$5=\"*\",\"-3**\",\"-313\")","v":"-313"},{"$f":"IF(Configurator!$T$5=\"*\",\"-3**\",\"-313\")","v":"-313"},{"$f":"IF(Configurator!$T$5=\"*\",\"-3**\",\"-313\")","v":"-313"},{"$f":"IF(Configurator!$T$5=\"*\",\"-3**\",\"-312\")","v":"-312"},{"$f":"IF(Configurator!$T$5=\"*\",\"-3**\",\"-314\")","v":"-314"},{"$f":"IF(Configurator!$T$5=\"*\",\"-3**\",\"-315\")","v":"-315"},{"$f":"IF(Configurator!$T$5=\"*\",\"-3**\",\"-315\")","v":"-315"},{"$f":"IF(Configurator!$T$5=\"*\",\"-3**\",\"-316\")","v":"-316"},{"$f":"IF(Configurator!$T$5=\"*\",\"-3**\",\"-315\")","v":"-315"},{"$f":"IF(Configurator!$T$5=\"*\",\"-3**\",\"-315\")","v":"-315"},{"$f":"IF(Configurator!$T$5=\"*\",\"-3**\",\"-315\")","v":"-315"},{"$f":"IF(Configurator!$T$5=\"*\",\"-3**\",\"-316\")","v":"-316"},{"$f":"IF(Configurator!$T$5=\"*\",\"-3**\",\"-316\")","v":"-316"},{"$f":"IF(Configurator!$T$5=\"*\",\"-3**\",\"-316\")","v":"-316"},36]
["Case Size / Ring or Pin"," "," "," "," "," "," "," "," "," "," "," "," "," "," "," "," "," "," "," "," "," "," "," "," "," "," "," "," "," "," "," "," "," "," ",37]
[" ",{"$f":"IF(Configurator!$T$5=\"*\",\"-4**\",\"-411\")","v":"-411"},{"$f":"IF(Configurator!$T$5=\"*\",\"-4**\",\"-411\")","v":"-411"},{"$f":"IF(Configurator!$T$5=\"*\",\"-4**\",\"-414\")","v":"-414"},{"$f":"IF(Configurator!$T$5=\"*\",\"-4**\",\"-411\")","v":"-411"},{"$f":"IF(Configurator!$T$5=\"*\",\"-4**\",\"-414\")","v":"-414"},{"$f":"IF(Configurator!$T$5=\"*\",\"-4**\",\"-414\")","v":"-414"},{"$f":"IF(Configurator!$T$5=\"*\",\"-4**\",\"-414\")","v":"-414"},{"$f":"IF(Configurator!$T$5=\"*\",\"-4**\",\"-417\")","v":"-417"},{"$f":"IF(Configurator!$T$5=\"*\",\"-4**\",\"-417\")","v":"-417"},{"$f":"IF(Configurator!$T$5=\"*\",\"-4**\",\"-411\")","v":"-411"},{"$f":"IF(Configurator!$T$5=\"*\",\"-4**\",\"-420\")","v":"-420"},{"$f":"IF(Configurator!$T$5=\"*\",\"-4**\",\"-420\")","v":"-420"},{"$f":"IF(Configurator!$T$5=\"*\",\"-4**\",\"-414\")","v":"-414"},{"$f":"IF(Configurator!$T$5=\"*\",\"-4**\",\"-414\")","v":"-414"},{"$f":"IF(Configurator!$T$5=\"*\",\"-4**\",\"-420\")","v":"-420"},{"$f":"IF(Configurator!$T$5=\"*\",\"-4**\",\"-420\")","v":"-420"},{"$f":"IF(Configurator!$T$5=\"*\",\"-4**\",\"-420\")","v":"-420"},{"$f":"IF(Configurator!$T$5=\"*\",\"-4**\",\"-420\")","v":"-420"},{"$f":"IF(Configurator!$T$5=\"*\",\"-4**\",\"-420\")","v":"-420"},{"$f":"IF(Configurator!$T$5=\"*\",\"-4**\",\"-420\")","v":"-420"},{"$f":"IF(Configurator!$T$5=\"*\",\"-4**\",\"-420\")","v":"-420"},{"$f":"IF(Configurator!$T$5=\"*\",\"-4**\",\"-420\")","v":"-420"},{"$f":"IF(Configurator!$T$5=\"*\",\"-4**\",\"-420\")","v":"-420"},{"$f":"IF(Configurator!$T$5=\"*\",\"-4**\",\"-420\")","v":"-420"},{"$f":"IF(Configurator!$T$5=\"*\",\"-4**\",\"-420\")","v":"-420"},{"$f":"IF(Configurator!$T$5=\"*\",\"-4**\",\"-423\")","v":"-423"},{"$f":"IF(Configurator!$T$5=\"*\",\"-4**\",\"-423\")","v":"-423"},{"$f":"IF(Configurator!$T$5=\"*\",\"-4**\",\"-426\")","v":"-426"},{"$f":"IF(Configurator!$T$5=\"*\",\"-4**\",\"-423\")","v":"-423"},{"$f":"IF(Configurator!$T$5=\"*\",\"-4**\",\"-423\")","v":"-423"},{"$f":"IF(Configurator!$T$5=\"*\",\"-4**\",\"-423\")","v":"-423"},{"$f":"IF(Configurator!$T$5=\"*\",\"-4**\",\"-426\")","v":"-426"},{"$f":"IF(Configurator!$T$5=\"*\",\"-4**\",\"-426\")","v":"-426"},{"$f":"IF(Configurator!$T$5=\"*\",\"-4**\",\"-426\")","v":"-426"},38]
[" ",{"$f":"IF(Configurator!$T$5=\"*\",\"*\",\"K\")","v":"K"},{"$f":"IF(Configurator!$T$5=\"*\",\"*\",\"K\")","v":"K"},{"$f":"IF(Configurator!$T$5=\"*\",\"*\",\"N\")","v":"N"},{"$f":"IF(Configurator!$T$5=\"*\",\"*\",\"K\")","v":"K"},{"$f":"IF(Configurator!$T$5=\"*\",\"*\",\"N\")","v":"N"},{"$f":"IF(Configurator!$T$5=\"*\",\"*\",\"N\")","v":"N"},{"$f":"IF(Configurator!$T$5=\"*\",\"*\",\"N\")","v":"N"},{"$f":"IF(Configurator!$T$5=\"*\",\"*\",\"Q\")","v":"Q"},{"$f":"IF(Configurator!$T$5=\"*\",\"*\",\"Q\")","v":"Q"},{"$f":"IF(Configurator!$T$5=\"*\",\"*\",\"K\")","v":"K"},{"$f":"IF(Configurator!$T$5=\"*\",\"*\",\"T\")","v":"T"},{"$f":"IF(Configurator!$T$5=\"*\",\"*\",\"T\")","v":"T"},{"$f":"IF(Configurator!$T$5=\"*\",\"*\",\"N\")","v":"N"},{"$f":"IF(Configurator!$T$5=\"*\",\"*\",\"N\")","v":"N"},{"$f":"IF(Configurator!$T$5=\"*\",\"*\",\"T\")","v":"T"},{"$f":"IF(Configurator!$T$5=\"*\",\"*\",\"T\")","v":"T"},{"$f":"IF(Configurator!$T$5=\"*\",\"*\",\"T\")","v":"T"},{"$f":"IF(Configurator!$T$5=\"*\",\"*\",\"T\")","v":"T"},{"$f":"IF(Configurator!$T$5=\"*\",\"*\",\"T\")","v":"T"},{"$f":"IF(Configurator!$T$5=\"*\",\"*\",\"T\")","v":"T"},{"$f":"IF(Configurator!$T$5=\"*\",\"*\",\"T\")","v":"T"},{"$f":"IF(Configurator!$T$5=\"*\",\"*\",\"T\")","v":"T"},{"$f":"IF(Configurator!$T$5=\"*\",\"*\",\"T\")","v":"T"},{"$f":"IF(Configurator!$T$5=\"*\",\"*\",\"T\")","v":"T"},{"$f":"IF(Configurator!$T$5=\"*\",\"*\",\"T\")","v":"T"},{"$f":"IF(Configurator!$T$5=\"*\",\"*\",\"W\")","v":"W"},{"$f":"IF(Configurator!$T$5=\"*\",\"*\",\"W\")","v":"W"},{"$f":"IF(Configurator!$T$5=\"*\",\"*\",\"A\")","v":"A"},{"$f":"IF(Configurator!$T$5=\"*\",\"*\",\"W\")","v":"W"},{"$f":"IF(Configurator!$T$5=\"*\",\"*\",\"W\")","v":"W"},{"$f":"IF(Configurator!$T$5=\"*\",\"*\",\"W\")","v":"W"},{"$f":"IF(Configurator!$T$5=\"*\",\"*\",\"A\")","v":"A"},{"$f":"IF(Configurator!$T$5=\"*\",\"*\",\"A\")","v":"A"},{"$f":"IF(Configurator!$T$5=\"*\",\"*\",\"A\")","v":"A"},39]
[" ",{"$f":"IF(Configurator!$T$5=\"*\",\"-4**\",\"-412\")","v":"-412"},{"$f":"IF(Configurator!$T$5=\"*\",\"-4**\",\"-412\")","v":"-412"},{"$f":"IF(Configurator!$T$5=\"*\",\"-4**\",\"-415\")","v":"-415"},{"$f":"IF(Configurator!$T$5=\"*\",\"-4**\",\"-412\")","v":"-412"},{"$f":"IF(Configurator!$T$5=\"*\",\"-4**\",\"-415\")","v":"-415"},{"$f":"IF(Configurator!$T$5=\"*\",\"-4**\",\"-415\")","v":"-415"},{"$f":"IF(Configurator!$T$5=\"*\",\"-4**\",\"-415\")","v":"-415"},{"$f":"IF(Configurator!$T$5=\"*\",\"-4**\",\"-418\")","v":"-418"},{"$f":"IF(Configurator!$T$5=\"*\",\"-4**\",\"-418\")","v":"-418"},{"$f":"IF(Configurator!$T$5=\"*\",\"-4**\",\"-412\")","v":"-412"},{"$f":"IF(Configurator!$T$5=\"*\",\"-4**\",\"-421\")","v":"-421"},{"$f":"IF(Configurator!$T$5=\"*\",\"-4**\",\"-421\")","v":"-421"},{"$f":"IF(Configurator!$T$5=\"*\",\"-4**\",\"-415\")","v":"-415"},{"$f":"IF(Configurator!$T$5=\"*\",\"-4**\",\"-415\")","v":"-415"},{"$f":"IF(Configurator!$T$5=\"*\",\"-4**\",\"-421\")","v":"-421"},{"$f":"IF(Configurator!$T$5=\"*\",\"-4**\",\"-421\")","v":"-421"},{"$f":"IF(Configurator!$T$5=\"*\",\"-4**\",\"-421\")","v":"-421"},{"$f":"IF(Configurator!$T$5=\"*\",\"-4**\",\"-421\")","v":"-421"},{"$f":"IF(Configurator!$T$5=\"*\",\"-4**\",\"-421\")","v":"-421"},{"$f":"IF(Configurator!$T$5=\"*\",\"-4**\",\"-421\")","v":"-421"},{"$f":"IF(Configurator!$T$5=\"*\",\"-4**\",\"-421\")","v":"-421"},{"$f":"IF(Configurator!$T$5=\"*\",\"-4**\",\"-421\")","v":"-421"},{"$f":"IF(Configurator!$T$5=\"*\",\"-4**\",\"-421\")","v":"-421"},{"$f":"IF(Configurator!$T$5=\"*\",\"-4**\",\"-421\")","v":"-421"},{"$f":"IF(Configurator!$T$5=\"*\",\"-4**\",\"-421\")","v":"-421"},{"$f":"IF(Configurator!$T$5=\"*\",\"-4**\",\"-424\")","v":"-424"},{"$f":"IF(Configurator!$T$5=\"*\",\"-4**\",\"-424\")","v":"-424"},{"$f":"IF(Configurator!$T$5=\"*\",\"-4**\",\"-427\")","v":"-427"},{"$f":"IF(Configurator!$T$5=\"*\",\"-4**\",\"-424\")","v":"-424"},{"$f":"IF(Configurator!$T$5=\"*\",\"-4**\",\"-424\")","v":"-424"},{"$f":"IF(Configurator!$T$5=\"*\",\"-4**\",\"-424\")","v":"-424"},{"$f":"IF(Configurator!$T$5=\"*\",\"-4**\",\"-427\")","v":"-427"},{"$f":"IF(Configurator!$T$5=\"*\",\"-4**\",\"-427\")","v":"-427"},{"$f":"IF(Configurator!$T$5=\"*\",\"-4**\",\"-427\")","v":"-427"},40]
[" ",{"$f":"IF(Configurator!$T$5=\"*\",\"*\",\"L\")","v":"L"},{"$f":"IF(Configurator!$T$5=\"*\",\"*\",\"L\")","v":"L"},{"$f":"IF(Configurator!$T$5=\"*\",\"*\",\"O\")","v":"O"},{"$f":"IF(Configurator!$T$5=\"*\",\"*\",\"L\")","v":"L"},{"$f":"IF(Configurator!$T$5=\"*\",\"*\",\"O\")","v":"O"},{"$f":"IF(Configurator!$T$5=\"*\",\"*\",\"O\")","v":"O"},{"$f":"IF(Configurator!$T$5=\"*\",\"*\",\"O\")","v":"O"},{"$f":"IF(Configurator!$T$5=\"*\",\"*\",\"R\")","v":"R"},{"$f":"IF(Configurator!$T$5=\"*\",\"*\",\"R\")","v":"R"},{"$f":"IF(Configurator!$T$5=\"*\",\"*\",\"L\")","v":"L"},{"$f":"IF(Configurator!$T$5=\"*\",\"*\",\"U\")","v":"U"},{"$f":"IF(Configurator!$T$5=\"*\",\"*\",\"U\")","v":"U"},{"$f":"IF(Configurator!$T$5=\"*\",\"*\",\"O\")","v":"O"},{"$f":"IF(Configurator!$T$5=\"*\",\"*\",\"O\")","v":"O"},{"$f":"IF(Configurator!$T$5=\"*\",\"*\",\"U\")","v":"U"},{"$f":"IF(Configurator!$T$5=\"*\",\"*\",\"U\")","v":"U"},{"$f":"IF(Configurator!$T$5=\"*\",\"*\",\"U\")","v":"U"},{"$f":"IF(Configurator!$T$5=\"*\",\"*\",\"U\")","v":"U"},{"$f":"IF(Configurator!$T$5=\"*\",\"*\",\"U\")","v":"U"},{"$f":"IF(Configurator!$T$5=\"*\",\"*\",\"U\")","v":"U"},{"$f":"IF(Configurator!$T$5=\"*\",\"*\",\"U\")","v":"U"},{"$f":"IF(Configurator!$T$5=\"*\",\"*\",\"U\")","v":"U"},{"$f":"IF(Configurator!$T$5=\"*\",\"*\",\"U\")","v":"U"},{"$f":"IF(Configurator!$T$5=\"*\",\"*\",\"U\")","v":"U"},{"$f":"IF(Configurator!$T$5=\"*\",\"*\",\"U\")","v":"U"},{"$f":"IF(Configurator!$T$5=\"*\",\"*\",\"X\")","v":"X"},{"$f":"IF(Configurator!$T$5=\"*\",\"*\",\"X\")","v":"X"},{"$f":"IF(Configurator!$T$5=\"*\",\"*\",\"B\")","v":"B"},{"$f":"IF(Configurator!$T$5=\"*\",\"*\",\"X\")","v":"X"},{"$f":"IF(Configurator!$T$5=\"*\",\"*\",\"X\")","v":"X"},{"$f":"IF(Configurator!$T$5=\"*\",\"*\",\"X\")","v":"X"},{"$f":"IF(Configurator!$T$5=\"*\",\"*\",\"B\")","v":"B"},{"$f":"IF(Configurator!$T$5=\"*\",\"*\",\"B\")","v":"B"},{"$f":"IF(Configurator!$T$5=\"*\",\"*\",\"B\")","v":"B"},41]
[" ",{"$f":"IF(Configurator!$T$5=\"*\",\"-4**\",\"-413\")","v":"-413"},{"$f":"IF(Configurator!$T$5=\"*\",\"-4**\",\"-413\")","v":"-413"},{"$f":"IF(Configurator!$T$5=\"*\",\"-4**\",\"-416\")","v":"-416"},{"$f":"IF(Configurator!$T$5=\"*\",\"-4**\",\"-413\")","v":"-413"},{"$f":"IF(Configurator!$T$5=\"*\",\"-4**\",\"-416\")","v":"-416"},{"$f":"IF(Configurator!$T$5=\"*\",\"-4**\",\"-416\")","v":"-416"},{"$f":"IF(Configurator!$T$5=\"*\",\"-4**\",\"-416\")","v":"-416"},{"$f":"IF(Configurator!$T$5=\"*\",\"-4**\",\"-419\")","v":"-419"},{"$f":"IF(Configurator!$T$5=\"*\",\"-4**\",\"-419\")","v":"-419"},{"$f":"IF(Configurator!$T$5=\"*\",\"-4**\",\"-413\")","v":"-413"},{"$f":"IF(Configurator!$T$5=\"*\",\"-4**\",\"-422\")","v":"-422"},{"$f":"IF(Configurator!$T$5=\"*\",\"-4**\",\"-422\")","v":"-422"},{"$f":"IF(Configurator!$T$5=\"*\",\"-4**\",\"-416\")","v":"-416"},{"$f":"IF(Configurator!$T$5=\"*\",\"-4**\",\"-416\")","v":"-416"},{"$f":"IF(Configurator!$T$5=\"*\",\"-4**\",\"-422\")","v":"-422"},{"$f":"IF(Configurator!$T$5=\"*\",\"-4**\",\"-422\")","v":"-422"},{"$f":"IF(Configurator!$T$5=\"*\",\"-4**\",\"-422\")","v":"-422"},{"$f":"IF(Configurator!$T$5=\"*\",\"-4**\",\"-422\")","v":"-422"},{"$f":"IF(Configurator!$T$5=\"*\",\"-4**\",\"-422\")","v":"-422"},{"$f":"IF(Configurator!$T$5=\"*\",\"-4**\",\"-422\")","v":"-422"},{"$f":"IF(Configurator!$T$5=\"*\",\"-4**\",\"-422\")","v":"-422"},{"$f":"IF(Configurator!$T$5=\"*\",\"-4**\",\"-422\")","v":"-422"},{"$f":"IF(Configurator!$T$5=\"*\",\"-4**\",\"-422\")","v":"-422"},{"$f":"IF(Configurator!$T$5=\"*\",\"-4**\",\"-422\")","v":"-422"},{"$f":"IF(Configurator!$T$5=\"*\",\"-4**\",\"-422\")","v":"-422"},{"$f":"IF(Configurator!$T$5=\"*\",\"-4**\",\"-425\")","v":"-425"},{"$f":"IF(Configurator!$T$5=\"*\",\"-4**\",\"-425\")","v":"-425"},{"$f":"IF(Configurator!$T$5=\"*\",\"-4**\",\"-428\")","v":"-428"},{"$f":"IF(Configurator!$T$5=\"*\",\"-4**\",\"-425\")","v":"-425"},{"$f":"IF(Configurator!$T$5=\"*\",\"-4**\",\"-425\")","v":"-425"},{"$f":"IF(Configurator!$T$5=\"*\",\"-4**\",\"-425\")","v":"-425"},{"$f":"IF(Configurator!$T$5=\"*\",\"-4**\",\"-428\")","v":"-428"},{"$f":"IF(Configurator!$T$5=\"*\",\"-4**\",\"-428\")","v":"-428"},{"$f":"IF(Configurator!$T$5=\"*\",\"-4**\",\"-428\")","v":"-428"},42]
[" ",{"$f":"IF(Configurator!$T$5=\"*\",\"*\",\"M\")","v":"M"},{"$f":"IF(Configurator!$T$5=\"*\",\"*\",\"M\")","v":"M"},{"$f":"IF(Configurator!$T$5=\"*\",\"*\",\"P\")","v":"P"},{"$f":"IF(Configurator!$T$5=\"*\",\"*\",\"M\")","v":"M"},{"$f":"IF(Configurator!$T$5=\"*\",\"*\",\"P\")","v":"P"},{"$f":"IF(Configurator!$T$5=\"*\",\"*\",\"P\")","v":"P"},{"$f":"IF(Configurator!$T$5=\"*\",\"*\",\"P\")","v":"P"},{"$f":"IF(Configurator!$T$5=\"*\",\"*\",\"S\")","v":"S"},{"$f":"IF(Configurator!$T$5=\"*\",\"*\",\"S\")","v":"S"},{"$f":"IF(Configurator!$T$5=\"*\",\"*\",\"M\")","v":"M"},{"$f":"IF(Configurator!$T$5=\"*\",\"*\",\"V\")","v":"V"},{"$f":"IF(Configurator!$T$5=\"*\",\"*\",\"V\")","v":"V"},{"$f":"IF(Configurator!$T$5=\"*\",\"*\",\"P\")","v":"P"},{"$f":"IF(Configurator!$T$5=\"*\",\"*\",\"P\")","v":"P"},{"$f":"IF(Configurator!$T$5=\"*\",\"*\",\"V\")","v":"V"},{"$f":"IF(Configurator!$T$5=\"*\",\"*\",\"V\")","v":"V"},{"$f":"IF(Configurator!$T$5=\"*\",\"*\",\"V\")","v":"V"},{"$f":"IF(Configurator!$T$5=\"*\",\"*\",\"V\")","v":"V"},{"$f":"IF(Configurator!$T$5=\"*\",\"*\",\"V\")","v":"V"},{"$f":"IF(Configurator!$T$5=\"*\",\"*\",\"V\")","v":"V"},{"$f":"IF(Configurator!$T$5=\"*\",\"*\",\"V\")","v":"V"},{"$f":"IF(Configurator!$T$5=\"*\",\"*\",\"V\")","v":"V"},{"$f":"IF(Configurator!$T$5=\"*\",\"*\",\"V\")","v":"V"},{"$f":"IF(Configurator!$T$5=\"*\",\"*\",\"V\")","v":"V"},{"$f":"IF(Configurator!$T$5=\"*\",\"*\",\"V\")","v":"V"},{"$f":"IF(Configurator!$T$5=\"*\",\"*\",\"Y\")","v":"Y"},{"$f":"IF(Configurator!$T$5=\"*\",\"*\",\"Y\")","v":"Y"},{"$f":"IF(Configurator!$T$5=\"*\",\"*\",\"C\")","v":"C"},{"$f":"IF(Configurator!$T$5=\"*\",\"*\",\"Y\")","v":"Y"},{"$f":"IF(Configurator!$T$5=\"*\",\"*\",\"Y\")","v":"Y"},{"$f":"IF(Configurator!$T$5=\"*\",\"*\",\"Y\")","v":"Y"},{"$f":"IF(Configurator!$T$5=\"*\",\"*\",\"C\")","v":"C"},{"$f":"IF(Configurator!$T$5=\"*\",\"*\",\"C\")","v":"C"},{"$f":"IF(Configurator!$T$5=\"*\",\"*\",\"C\")","v":"C"},43]
["Additional options"," "," "," "," "," "," "," "," "," "," "," "," "," "," "," "," "," "," "," "," "," "," "," "," "," "," "," "," "," "," "," "," "," "," ",44]
[" ","None","None","None","None","None","None","None","None","None","None","None","None","None","None","None","None","None","None","None","None","None","None","None","None","None","None","None","None","None","None","None","None","None","None",45]
[" ","Transient ground fault module","Transient ground fault module","Transient ground fault module","Transient ground fault module","Transient ground fault module","Transient ground fault module","Transient ground fault module","Transient ground fault module","Transient ground fault module","Transient ground fault module","Transient ground fault module","Transient ground fault module","Transient ground fault module","Transient ground fault module","Transient ground fault module","Transient ground fault module","Transient ground fault module","Transient ground fault module","Transient ground fault module","Transient ground fault module","Transient ground fault module","Transient ground fault module","Transient ground fault module","Transient ground fault module","Transient ground fault module","Transient ground fault module","Transient ground fault module","Transient ground fault module","Transient ground fault module","Transient ground fault module","Transient ground fault module","Transient ground fault module","Transient ground fault module","Transient ground fault module",46]
[" ","Analogue module","Analogue module","Analogue module","Analogue module","Analogue module","Analogue module","Analogue module","Analogue module","Analogue module","Analogue module","Analogue module","Analogue module","Analogue module","Analogue module","Analogue module","Analogue module","Analogue module","Analogue module","Analogue module","Analogue module","Analogue module","Analogue module","Analogue module","Analogue module","Analogue module","Analogue module","Analogue module","Analogue module","Analogue module","Analogue module","Analogue module","Analogue module","Analogue module","Analogue module",47]
[" ","Transient ground fault & analogue modules","Transient ground fault & analogue modules","Transient ground fault & analogue modules","Transient ground fault & analogue modules","Transient ground fault & analogue modules","Transient ground fault & analogue modules","Transient ground fault & analogue modules","Transient ground fault & analogue modules","Transient ground fault & analogue modules","Transient ground fault & analogue modules","Transient ground fault & analogue modules","Transient ground fault & analogue modules","Transient ground fault & analogue modules","Transient ground fault & analogue modules","Transient ground fault & analogue modules","Transient ground fault & analogue modules","Transient ground fault & analogue modules","Transient ground fault & analogue modules","Transient ground fault & analogue modules","Transient ground fault & analogue modules","Transient ground fault & analogue modules","Transient ground fault & analogue modules","Transient ground fault & analogue modules","Transient ground fault & analogue modules","Transient ground fault & analogue modules","Transient ground fault & analogue modules","Transient ground fault & analogue modules","Transient ground fault & analogue modules","Transient ground fault & analogue modules","Transient ground fault & analogue modules","Transient ground fault & analogue modules","Transient ground fault & analogue modules","Transient ground fault & analogue modules","Transient ground fault & analogue modules",48]
[" ","24 binary inputs","24 binary inputs","24 binary inputs","24 binary inputs","24 binary inputs","24 binary inputs","24 binary inputs","24 binary inputs","24 binary inputs","24 binary inputs","24 binary inputs","24 binary inputs","24 binary inputs","24 binary inputs","24 binary inputs","24 binary inputs","24 binary inputs","24 binary inputs","24 binary inputs","24 binary inputs","24 binary inputs","24 binary inputs","24 binary inputs","24 binary inputs","24 binary inputs","24 binary inputs","24 binary inputs","24 binary inputs","24 binary inputs","24 binary inputs","24 binary inputs","24 binary inputs","24 binary inputs","24 binary inputs",49]
[" ","24 binary inputs and transient ground fault module","24 binary inputs and transient ground fault module","24 binary inputs and transient ground fault module","24 binary inputs and transient ground fault module","24 binary inputs and transient ground fault module","24 binary inputs and transient ground fault module","24 binary inputs and transient ground fault module","24 binary inputs and transient ground fault module","24 binary inputs and transient ground fault module","24 binary inputs and transient ground fault module","24 binary inputs and transient ground fault module","24 binary inputs and transient ground fault module","24 binary inputs and transient ground fault module","24 binary inputs and transient ground fault module","24 binary inputs and transient ground fault module","24 binary inputs and transient ground fault module","24 binary inputs and transient ground fault module","24 binary inputs and transient ground fault module","24 binary inputs and transient ground fault module","24 binary inputs and transient ground fault module","24 binary inputs and transient ground fault module","24 binary inputs and transient ground fault module","24 binary inputs and transient ground fault module","24 binary inputs and transient ground fault module","24 binary inputs and transient ground fault module","24 binary inputs and transient ground fault module","24 binary inputs and transient ground fault module","24 binary inputs and transient ground fault module","24 binary inputs and transient ground fault module","24 binary inputs and transient ground fault module","24 binary inputs and transient ground fault module","24 binary inputs and transient ground fault module","24 binary inputs and transient ground fault module","24 binary inputs and transient ground fault module",50]
[null,{"$f":"IF(Configurator!$D$26<\"E\",\" \",\"With RTD module\")","v":" "},{"$f":"IF(Configurator!$D$26<\"E\",\" \",\"With RTD module\")","v":" "},"With RTD module","With RTD module","With RTD module","With RTD module","With RTD module",{"$f":"IF(AND(Tendering!$B$13=2,Tendering!$B$9<3),\"With RTD module - not available with BiBo6H module in Slot 7\",\"With RTD module\")","v":"With RTD module - not available with BiBo6H module in Slot 7"},{"$f":"IF(AND(Tendering!$B$13=2,Tendering!$B$9<3),\"With RTD module - not available with BiBo6H module in Slot 7\",\"With RTD module\")","v":"With RTD module - not available with BiBo6H module in Slot 7"},"With RTD module",{"$f":"IF(AND(Tendering!$B$13=2,Tendering!$B$9<3),\"With RTD module - not available with BiBo6H module in Slot 7\",\"With RTD module\")","v":"With RTD module - not available with BiBo6H module in Slot 7"},{"$f":"IF(AND(Tendering!$B$13=2,Tendering!$B$9<3),\"With RTD module - not available with BiBo6H module in Slot 7\",\"With RTD module\")","v":"With RTD module - not available with BiBo6H module in Slot 7"},"With RTD module","With RTD module",{"$f":"IF(AND(Tendering!$B$13=2,Tendering!$B$9<3),\"With RTD module - not available with BiBo6H module in Slot 7\",\"With RTD module\")","v":"With RTD module - not available with BiBo6H module in Slot 7"},{"$f":"IF(AND(Tendering!$B$13=2,Tendering!$B$9<3),\"With RTD module - not available with BiBo6H module in Slot 7\",\"With RTD module\")","v":"With RTD module - not available with BiBo6H module in Slot 7"},{"$f":"IF(AND(Tendering!$B$13=2,Tendering!$B$9<3),\"With RTD module - not available with BiBo6H module in Slot 7\",\"With RTD module\")","v":"With RTD module - not available with BiBo6H module in Slot 7"},{"$f":"IF(AND(Tendering!$B$13=2,Tendering!$B$9<3),\"With RTD module - not available with BiBo6H module in Slot 7\",\"With RTD module\")","v":"With RTD module - not available with BiBo6H module in Slot 7"},"With RTD module","With RTD module","With RTD module","With RTD module","With RTD module","With RTD module","With RTD module","With RTD module","With RTD module","With RTD module","With RTD module","With RTD module","With RTD module","With RTD module","With RTD module","With RTD module",51]
[null,{"$f":"IF(Configurator!$D$26<\"E\",\" \",\"With RTD and analogue module\")","v":" "},{"$f":"IF(Configurator!$D$26<\"E\",\" \",\"With RTD and analogue module\")","v":" "},"With RTD and analogue module","With RTD and analogue module","With RTD and analogue module","With RTD and analogue module","With RTD and analogue module",{"$f":"IF(AND(Tendering!$B$13=2,Tendering!$B$9<3),\"With RTD and analogue modules - not available with BiBo6H module in Slot 7\",\"With RTD and analogue module\")","v":"With RTD and analogue modules - not available with BiBo6H module in Slot 7"},{"$f":"IF(AND(Tendering!$B$13=2,Tendering!$B$9<3),\"With RTD and analogue modules - not available with BiBo6H module in Slot 7\",\"With RTD and analogue module\")","v":"With RTD and analogue modules - not available with BiBo6H module in Slot 7"},"With RTD and analogue module",{"$f":"IF(AND(Tendering!$B$13=2,Tendering!$B$9<3),\"With RTD and analogue modules - not available with BiBo6H module in Slot 7\",\"With RTD and analogue module\")","v":"With RTD and analogue modules - not available with BiBo6H module in Slot 7"},{"$f":"IF(AND(Tendering!$B$13=2,Tendering!$B$9<3),\"With RTD and analogue modules - not available with BiBo6H module in Slot 7\",\"With RTD and analogue module\")","v":"With RTD and analogue modules - not available with BiBo6H module in Slot 7"},"With RTD and analogue module","With RTD and analogue module",{"$f":"IF(AND(Tendering!$B$13=2,Tendering!$B$9<3),\"With RTD and analogue modules - not available with BiBo6H module in Slot 7\",\"With RTD and analogue module\")","v":"With RTD and analogue modules - not available with BiBo6H module in Slot 7"},{"$f":"IF(AND(Tendering!$B$13=2,Tendering!$B$9<3),\"With RTD and analogue modules - not available with BiBo6H module in Slot 7\",\"With RTD and analogue module\")","v":"With RTD and analogue modules - not available with BiBo6H module in Slot 7"},{"$f":"IF(AND(Tendering!$B$13=2,Tendering!$B$9<3),\"With RTD and analogue modules - not available with BiBo6H module in Slot 7\",\"With RTD and analogue module\")","v":"With RTD and analogue modules - not available with BiBo6H module in Slot 7"},{"$f":"IF(AND(Tendering!$B$13=2,Tendering!$B$9<3),\"With RTD and analogue modules - not available with BiBo6H module in Slot 7\",\"With RTD and analogue module\")","v":"With RTD and analogue modules - not available with BiBo6H module in Slot 7"},"With RTD and analogue module","With RTD and analogue module","With RTD and analogue module","With RTD and analogue module","With RTD and analogue module","With RTD and analogue module","With RTD and analogue module","With RTD and analogue module","With RTD and analogue module","With RTD and analogue module","With RTD and analogue module","With RTD and analogue module","With RTD and analogue module","With RTD and analogue module","With RTD and analogue module","With RTD and analogue module",52]
[null,{"$f":"IF(Configurator!$D$26<\"E\",\" \",\"With RTD and binary module (add. 24 binary inputs)\")","v":" "},{"$f":"IF(Configurator!$D$26<\"E\",\" \",\"With RTD and binary module (add. 24 binary inputs)\")","v":" "},"With RTD and binary module (add. 24 binary inputs)","With RTD and binary module (add. 24 binary inputs)","With RTD and binary module (add. 24 binary inputs)","With RTD and binary module (add. 24 binary inputs)","With RTD and binary module (add. 24 binary inputs)",{"$f":"IF(AND(Tendering!$B$13=2,Tendering!$B$9<3),\"With RTD and binary module (add. 24 binary inputs) - not available with BiBo6H module in Slot 7\",\"With RTD and binary module (add. 24 binary inputs)\")","v":"With RTD and binary module (add. 24 binary inputs) - not available with BiBo6H module in Slot 7"},{"$f":"IF(AND(Tendering!$B$13=2,Tendering!$B$9<3),\"With RTD and binary module (add. 24 binary inputs) - not available with BiBo6H module in Slot 7\",\"With RTD and binary module (add. 24 binary inputs)\")","v":"With RTD and binary module (add. 24 binary inputs) - not available with BiBo6H module in Slot 7"},"With RTD and binary module (add. 24 binary inputs)",{"$f":"IF(AND(Tendering!$B$13=2,Tendering!$B$9<3),\"With RTD and binary module (add. 24 binary inputs) - not available with BiBo6H module in Slot 7\",\"With RTD and binary module (add. 24 binary inputs)\")","v":"With RTD and binary module (add. 24 binary inputs) - not available with BiBo6H module in Slot 7"},{"$f":"IF(AND(Tendering!$B$13=2,Tendering!$B$9<3),\"With RTD and binary module (add. 24 binary inputs) - not available with BiBo6H module in Slot 7\",\"With RTD and binary module (add. 24 binary inputs)\")","v":"With RTD and binary module (add. 24 binary inputs) - not available with BiBo6H module in Slot 7"},"With RTD and binary module (add. 24 binary inputs)","With RTD and binary module (add. 24 binary inputs)",{"$f":"IF(AND(Tendering!$B$13=2,Tendering!$B$9<3),\"With RTD and binary module (add. 24 binary inputs) - not available with BiBo6H module in Slot 7\",\"With RTD and binary module (add. 24 binary inputs)\")","v":"With RTD and binary module (add. 24 binary inputs) - not available with BiBo6H module in Slot 7"},{"$f":"IF(AND(Tendering!$B$13=2,Tendering!$B$9<3),\"With RTD and binary module (add. 24 binary inputs) - not available with BiBo6H module in Slot 7\",\"With RTD and binary module (add. 24 binary inputs)\")","v":"With RTD and binary module (add. 24 binary inputs) - not available with BiBo6H module in Slot 7"},{"$f":"IF(AND(Tendering!$B$13=2,Tendering!$B$9<3),\"With RTD and binary module (add. 24 binary inputs) - not available with BiBo6H module in Slot 7\",\"With RTD and binary module (add. 24 binary inputs)\")","v":"With RTD and binary module (add. 24 binary inputs) - not available with BiBo6H module in Slot 7"},{"$f":"IF(AND(Tendering!$B$13=2,Tendering!$B$9<3),\"With RTD and binary module (add. 24 binary inputs) - not available with BiBo6H module in Slot 7\",\"With RTD and binary module (add. 24 binary inputs)\")","v":"With RTD and binary module (add. 24 binary inputs) - not available with BiBo6H module in Slot 7"},"With RTD and binary module (add. 24 binary inputs)","With RTD and binary module (add. 24 binary inputs)","With RTD and binary module (add. 24 binary inputs)","With RTD and binary module (add. 24 binary inputs)","With RTD and binary module (add. 24 binary inputs)","With RTD and binary module (add. 24 binary inputs)","With RTD and binary module (add. 24 binary inputs)","With RTD and binary module (add. 24 binary inputs)","With RTD and binary module (add. 24 binary inputs)","With RTD and binary module (add. 24 binary inputs)","With RTD and binary module (add. 24 binary inputs)","With RTD and binary module (add. 24 binary inputs)","With RTD and binary module (add. 24 binary inputs)","With RTD and binary module (add. 24 binary inputs)","With RTD and binary module (add. 24 binary inputs)","With RTD and binary module (add. 24 binary inputs)",53]
["Interfaces"," "," "," "," "," "," "," "," "," "," "," "," "," "," "," "," "," "," "," "," "," "," "," "," "," "," "," "," "," "," "," "," "," "," ",54]
[" ","None","None","None","None","None","None","None","None","None","None","None","None","None","None","None","None","None","None","None","None","None","None","None","None","None","None","None","None","None","None","None","None","None","None",55]
[" ","Protocol can be switched between: IEC 60870-5-101/-103, Modbus, DNP3.0, Courier and IRIG-B for clock synchronisation and 2nd interface (RS485, IEC 60870-5-103)","Protocol can be switched between: IEC 60870-5-101/-103, Modbus, DNP3.0, Courier and IRIG-B for clock synchronisation and 2nd interface (RS485, IEC 60870-5-103)","Protocol can be switched between: IEC 60870-5-101/-103, Modbus, DNP3.0, Courier and IRIG-B for clock synchronisation and 2nd interface (RS485, IEC 60870-5-103)","Protocol can be switched between: IEC 60870-5-101/-103, Modbus, DNP3.0, Courier and IRIG-B for clock synchronisation and 2nd interface (RS485, IEC 60870-5-103)","Protocol can be switched between: IEC 60870-5-101/-103, Modbus, DNP3.0, Courier and IRIG-B for clock synchronisation and 2nd interface (RS485, IEC 60870-5-103)","Protocol can be switched between: IEC 60870-5-101/-103, Modbus, DNP3.0, Courier and IRIG-B for clock synchronisation and 2nd interface (RS485, IEC 60870-5-103)","Protocol can be switched between: IEC 60870-5-101/-103, Modbus, DNP3.0, Courier and IRIG-B for clock synchronisation and 2nd interface (RS485, IEC 60870-5-103)","Protocol can be switched between: IEC 60870-5-101/-103, Modbus, DNP3.0, Courier and IRIG-B for clock synchronisation and 2nd interface (RS485, IEC 60870-5-103)","Protocol can be switched between: IEC 60870-5-101/-103, Modbus, DNP3.0, Courier and IRIG-B for clock synchronisation and 2nd interface (RS485, IEC 60870-5-103)","Protocol can be switched between: IEC 60870-5-101/-103, Modbus, DNP3.0, Courier and IRIG-B for clock synchronisation and 2nd interface (RS485, IEC 60870-5-103)","Protocol can be switched between: IEC 60870-5-101/-103, Modbus, DNP3.0, Courier and IRIG-B for clock synchronisation and 2nd interface (RS485, IEC 60870-5-103)","Protocol can be switched between: IEC 60870-5-101/-103, Modbus, DNP3.0, Courier and IRIG-B for clock synchronisation and 2nd interface (RS485, IEC 60870-5-103)","Protocol can be switched between: IEC 60870-5-101/-103, Modbus, DNP3.0, Courier and IRIG-B for clock synchronisation and 2nd interface (RS485, IEC 60870-5-103)","Protocol can be switched between: IEC 60870-5-101/-103, Modbus, DNP3.0, Courier and IRIG-B for clock synchronisation and 2nd interface (RS485, IEC 60870-5-103)","Protocol can be switched between: IEC 60870-5-101/-103, Modbus, DNP3.0, Courier and IRIG-B for clock synchronisation and 2nd interface (RS485, IEC 60870-5-103)","Protocol can be switched between: IEC 60870-5-101/-103, Modbus, DNP3.0, Courier and IRIG-B for clock synchronisation and 2nd interface (RS485, IEC 60870-5-103)","Protocol can be switched between: IEC 60870-5-101/-103, Modbus, DNP3.0, Courier and IRIG-B for clock synchronisation and 2nd interface (RS485, IEC 60870-5-103)","Protocol can be switched between: IEC 60870-5-101/-103, Modbus, DNP3.0, Courier and IRIG-B for clock synchronisation and 2nd interface (RS485, IEC 60870-5-103)","Protocol can be switched between: IEC 60870-5-101/-103, Modbus, DNP3.0, Courier and IRIG-B for clock synchronisation and 2nd interface (RS485, IEC 60870-5-103)","Protocol can be switched between: IEC 60870-5-101/-103, Modbus, DNP3.0, Courier and IRIG-B for clock synchronisation and 2nd interface (RS485, IEC 60870-5-103)","Protocol can be switched between: IEC 60870-5-101/-103, Modbus, DNP3.0, Courier and IRIG-B for clock synchronisation and 2nd interface (RS485, IEC 60870-5-103)","Protocol can be switched between: IEC 60870-5-101/-103, Modbus, DNP3.0, Courier and IRIG-B for clock synchronisation and 2nd interface (RS485, IEC 60870-5-103)","Protocol can be switched between: IEC 60870-5-101/-103, Modbus, DNP3.0, Courier and IRIG-B for clock synchronisation and 2nd interface (RS485, IEC 60870-5-103)","Protocol can be switched between: IEC 60870-5-101/-103, Modbus, DNP3.0, Courier and IRIG-B for clock synchronisation and 2nd interface (RS485, IEC 60870-5-103)","Protocol can be switched between: IEC 60870-5-101/-103, Modbus, DNP3.0, Courier and IRIG-B for clock synchronisation and 2nd interface (RS485, IEC 60870-5-103)","Protocol can be switched between: IEC 60870-5-101/-103, Modbus, DNP3.0, Courier and IRIG-B for clock synchronisation and 2nd interface (RS485, IEC 60870-5-103)","Protocol can be switched between: IEC 60870-5-101/-103, Modbus, DNP3.0, Courier and IRIG-B for clock synchronisation and 2nd interface (RS485, IEC 60870-5-103)","Protocol can be switched between: IEC 60870-5-101/-103, Modbus, DNP3.0, Courier and IRIG-B for clock synchronisation and 2nd interface (RS485, IEC 60870-5-103)","Protocol can be switched between: IEC 60870-5-101/-103, Modbus, DNP3.0, Courier and IRIG-B for clock synchronisation and 2nd interface (RS485, IEC 60870-5-103)","Protocol can be switched between: IEC 60870-5-101/-103, Modbus, DNP3.0, Courier and IRIG-B for clock synchronisation and 2nd interface (RS485, IEC 60870-5-103)","Protocol can be switched between: IEC 60870-5-101/-103, Modbus, DNP3.0, Courier and IRIG-B for clock synchronisation and 2nd interface (RS485, IEC 60870-5-103)","Protocol can be switched between: IEC 60870-5-101/-103, Modbus, DNP3.0, Courier and IRIG-B for clock synchronisation and 2nd interface (RS485, IEC 60870-5-103)","Protocol can be switched between: IEC 60870-5-101/-103, Modbus, DNP3.0, Courier and IRIG-B for clock synchronisation and 2nd interface (RS485, IEC 60870-5-103)","Protocol can be switched between: IEC 60870-5-101/-103, Modbus, DNP3.0, Courier and IRIG-B for clock synchronisation and 2nd interface (RS485, IEC 60870-5-103)",56]
[" ",{"$f":"IF(OR(Configurator!$T$5=\"*\",Configurator!$T$5=\"5\"),\"IEC61850 : Not yet available in Px40 English, Polish or Russian\",\"Protocol IEC61850, single connection\")","v":"Protocol IEC61850, single connection"},{"$f":"IF(OR(Configurator!$T$5=\"*\",Configurator!$T$5=\"5\"),\"IEC61850 : Not yet available in Px40 English, Polish or Russian\",\"Protocol IEC61850, single connection\")","v":"Protocol IEC61850, single connection"},"Protocol IEC61850, single connection","Protocol IEC61850, single connection","Protocol IEC61850, single connection","Protocol IEC61850, single connection","Protocol IEC61850, single connection","Protocol IEC61850, single connection","Protocol IEC61850, single connection","Protocol IEC61850, single connection","Protocol IEC61850, single connection","Protocol IEC61850, single connection","Protocol IEC61850, single connection","Protocol IEC61850, single connection","Protocol IEC61850, single connection","Protocol IEC61850, single connection","Protocol IEC61850, single connection","Protocol IEC61850, single connection","Protocol IEC61850, single connection","Protocol IEC61850, single connection","Protocol IEC61850, single connection","Protocol IEC61850, single connection","Protocol IEC61850, single connection","Protocol IEC61850, single connection","Protocol IEC61850, single connection","Protocol IEC61850, single connection","Protocol IEC61850, single connection","Ethernet Board 2, Protocol IEC 61850 Ed. 1 or 2 (switchable) without Cyber Security compatibility","Protocol IEC61850, single connection","Protocol IEC61850, single connection","Protocol IEC61850, single connection","Ethernet Board 2, Protocol IEC 61850 Ed. 1 or 2 (switchable) without Cyber Security compatibility","Ethernet Board 2, Protocol IEC 61850 Ed. 1 or 2 (switchable) without Cyber Security compatibility","Ethernet Board 2, Protocol IEC 61850 Ed. 1 or 2 (switchable) without Cyber Security compatibility",57]
["Interfaces continued …"," "," "," "," "," "," "," "," "," "," "," "," "," "," "," "," "," "," "," "," "," "," "," "," "," "," "," "," "," "," "," "," "," "," ",58]
[" ",1,1,1,1,1,1,1,1,1,1,1,1,1,1,1,1,1,1,1,1,1,1,1,1,1,1,1,1,1,1,1,1,1,1,59]
[" "," "," "," "," "," "," "," "," "," "," "," "," "," "," "," "," "," "," "," "," "," "," "," "," "," "," "," "," "," "," "," "," "," "," ",60]
[" "," "," "," "," "," "," "," "," "," "," "," "," "," "," "," "," "," "," "," "," "," "," "," "," "," "," "," "," "," "," "," "," "," "," ",61]
[" "," "," "," "," "," "," "," "," "," "," "," "," "," "," "," "," "," "," "," "," "," "," "," "," "," "," "," "," "," "," "," "," "," "," ",62]
[null,2,2,2,2,2,2,2,2,2,2,2,2,2,2,2,2,2,2,2,2,2,2,2,2,2,2,2,2,2,2,2,2,2,2,63]
[null,"for connection to wire, RS485, isolated","for connection to wire, RS485, isolated","for connection to wire, RS485, isolated","for connection to wire, RS485, isolated","for connection to wire, RS485, isolated","for connection to wire, RS485, isolated","for connection to wire, RS485, isolated","for connection to wire, RS485, isolated","for connection to wire, RS485, isolated","for connection to wire, RS485, isolated","for connection to wire, RS485, isolated","for connection to wire, RS485, isolated","for connection to wire, RS485, isolated","for connection to wire, RS485, isolated","for connection to wire, RS485, isolated","for connection to wire, RS485, isolated","for connection to wire, RS485, isolated","for connection to wire, RS485, isolated","for connection to wire, RS485, isolated","for connection to wire, RS485, isolated","for connection to wire, RS485, isolated","for connection to wire, RS485, isolated","for connection to wire, RS485, isolated","for connection to wire, RS485, isolated","for connection to wire, RS485, isolated","for connection to wire, RS485, isolated","for connection to wire, RS485, isolated","for connection to wire, RS485, isolated","for connection to wire, RS485, isolated","for connection to wire, RS485, isolated","for connection to wire, RS485, isolated","for connection to wire, RS485, isolated","for connection to wire, RS485, isolated","for connection to wire, RS485, isolated",64]
[null,"For connection to plastic fiber (820nm MM), FSMA connector","For connection to plastic fiber (820nm MM), FSMA connector","For connection to plastic fiber (820nm MM), FSMA connector","For connection to plastic fiber (820nm MM), FSMA connector","For connection to plastic fiber (820nm MM), FSMA connector","For connection to plastic fiber (820nm MM), FSMA connector","For connection to plastic fiber (820nm MM), FSMA connector","For connection to plastic fiber (820nm MM), FSMA connector","For connection to plastic fiber (820nm MM), FSMA connector","For connection to plastic fiber (820nm MM), FSMA connector","For connection to plastic fiber (820nm MM), FSMA connector","For connection to plastic fiber (820nm MM), FSMA connector","For connection to plastic fiber (820nm MM), FSMA connector","For connection to plastic fiber (820nm MM), FSMA connector","For connection to plastic fiber (820nm MM), FSMA connector","For connection to plastic fiber (820nm MM), FSMA connector","For connection to plastic fiber (820nm MM), FSMA connector","For connection to plastic fiber (820nm MM), FSMA connector","For connection to plastic fiber (820nm MM), FSMA connector","For connection to plastic fiber (820nm MM), FSMA connector","For connection to plastic fiber (820nm MM), FSMA connector","For connection to plastic fiber (820nm MM), FSMA connector","For connection to plastic fiber (820nm MM), FSMA connector","For connection to plastic fiber (820nm MM), FSMA connector","For connection to plastic fiber (820nm MM), FSMA connector","For connection to plastic fiber (820nm MM), FSMA connector","For connection to plastic fiber (820nm MM), FSMA connector","For connection to plastic fiber (820nm MM), FSMA connector","For connection to plastic fiber (820nm MM), FSMA connector","For connection to plastic fiber (820nm MM), FSMA connector","For connection to plastic fiber (820nm MM), FSMA connector","For connection to plastic fiber (820nm MM), FSMA connector","For connection to plastic fiber (820nm MM), FSMA connector","For connection to plastic fiber (820nm MM), FSMA connector",65]
[null,"For connection to glass fiber (820nm MM), ST connector","For connection to glass fiber (820nm MM), ST connector","For connection to glass fiber (820nm MM), ST connector","For connection to glass fiber (820nm MM), ST connector","For connection to glass fiber (820nm MM), ST connector","For connection to glass fiber (820nm MM), ST connector","For connection to glass fiber (820nm MM), ST connector","For connection to glass fiber (820nm MM), ST connector","For connection to glass fiber (820nm MM), ST connector","For connection to glass fiber (820nm MM), ST connector","For connection to glass fiber (820nm MM), ST connector","For connection to glass fiber (820nm MM), ST connector","For connection to glass fiber (820nm MM), ST connector","For connection to glass fiber (820nm MM), ST connector","For connection to glass fiber (820nm MM), ST connector","For connection to glass fiber (820nm MM), ST connector","For connection to glass fiber (820nm MM), ST connector","For connection to glass fiber (820nm MM), ST connector","For connection to glass fiber (820nm MM), ST connector","For connection to glass fiber (820nm MM), ST connector","For connection to glass fiber (820nm MM), ST connector","For connection to glass fiber (820nm MM), ST connector","For connection to glass fiber (820nm MM), ST connector","For connection to glass fiber (820nm MM), ST connector","For connection to glass fiber (820nm MM), ST connector","For connection to glass fiber (820nm MM), ST connector","For connection to glass fiber (820nm MM), ST connector","For connection to glass fiber (820nm MM), ST connector","For connection to glass fiber (820nm MM), ST connector","For connection to glass fiber (820nm MM), ST connector","For connection to glass fiber (820nm MM), ST connector","For connection to glass fiber (820nm MM), ST connector","For connection to glass fiber (820nm MM), ST connector","For connection to glass fiber (820nm MM), ST connector",66]
[null,3,3,3,3,3,3,3,3,3,3,3,3,3,3,3,3,3,3,3,3,3,3,3,3,3,3,3,3,3,3,3,3,3,3,67]
[null,{"$f":"IF(OR(Tendering!$AC$22=2,Tendering!$AC$22=6,Tendering!$AC$22=7),\"\",\"For connection to 100Mhz Ethernet, glass fibre SC and wire RJ45 and 2nd interface (RS485, IEC 60870-5-103)\")","v":"For connection to 100Mhz Ethernet, glass fibre SC and wire RJ45 and 2nd interface (RS485, IEC 60870-5-103)"},{"$f":"IF(OR(Tendering!$AC$22=2,Tendering!$AC$22=6,Tendering!$AC$22=7),\"\",\"For connection to 100Mhz Ethernet, glass fibre SC and wire RJ45 and 2nd interface (RS485, IEC 60870-5-103)\")","v":"For connection to 100Mhz Ethernet, glass fibre SC and wire RJ45 and 2nd interface (RS485, IEC 60870-5-103)"},"For connection to 100Mhz Ethernet, glass fibre SC and wire RJ45 and 2nd interface (RS485, IEC 60870-5-103)","For connection to 100Mhz Ethernet, glass fibre SC and wire RJ45 and 2nd interface (RS485, IEC 60870-5-103)","For connection to 100Mhz Ethernet, glass fibre SC and wire RJ45 and 2nd interface (RS485, IEC 60870-5-103)","For connection to 100Mhz Ethernet, glass fibre SC and wire RJ45 and 2nd interface (RS485, IEC 60870-5-103)","For connection to 100Mhz Ethernet, glass fibre SC and wire RJ45 and 2nd interface (RS485, IEC 60870-5-103)","For connection to 100Mhz Ethernet, glass fibre SC and wire RJ45 and 2nd interface (RS485, IEC 60870-5-103)","For connection to 100Mhz Ethernet, glass fibre SC and wire RJ45 and 2nd interface (RS485, IEC 60870-5-103)","For connection to 100Mhz Ethernet, glass fibre SC and wire RJ45 and 2nd interface (RS485, IEC 60870-5-103)","For connection to 100Mhz Ethernet, glass fibre SC and wire RJ45 and 2nd interface (RS485, IEC 60870-5-103)","For connection to 100Mhz Ethernet, glass fibre SC and wire RJ45 and 2nd interface (RS485, IEC 60870-5-103)","For connection to 100Mhz Ethernet, glass fibre SC and wire RJ45 and 2nd interface (RS485, IEC 60870-5-103)","For connection to 100Mhz Ethernet, glass fibre SC and wire RJ45 and 2nd interface (RS485, IEC 60870-5-103)","For connection to 100Mhz Ethernet, glass fibre SC and wire RJ45 and 2nd interface (RS485, IEC 60870-5-103)","For connection to 100Mhz Ethernet, glass fibre SC and wire RJ45 and 2nd interface (RS485, IEC 60870-5-103)","For connection to 100Mhz Ethernet, glass fibre SC and wire RJ45 and 2nd interface (RS485, IEC 60870-5-103)","For connection to 100Mhz Ethernet, glass fibre SC and wire RJ45 and 2nd interface (RS485, IEC 60870-5-103)","For connection to 100Mhz Ethernet, glass fibre SC and wire RJ45 and 2nd interface (RS485, IEC 60870-5-103)","For connection to 100Mhz Ethernet, glass fibre SC and wire RJ45 and 2nd interface (RS485, IEC 60870-5-103)","For connection to 100Mhz Ethernet, glass fibre SC and wire RJ45 and 2nd interface (RS485, IEC 60870-5-103)","For connection to 100Mhz Ethernet, glass fibre SC and wire RJ45 and 2nd interface (RS485, IEC 60870-5-103)","For connection to 100Mhz Ethernet, glass fibre SC and wire RJ45 and 2nd interface (RS485, IEC 60870-5-103)","For connection to 100Mhz Ethernet, glass fibre SC and wire RJ45 and 2nd interface (RS485, IEC 60870-5-103)","For connection to 100Mhz Ethernet, glass fibre SC and wire RJ45 and 2nd interface (RS485, IEC 60870-5-103)","For connection to 100Mhz Ethernet, glass fibre SC and wire RJ45 and 2nd interface (RS485, IEC 60870-5-103)","For connection to 100Mhz Ethernet, glass fibre SC and wire RJ45 and 2nd interface (RS485, IEC 60870-5-103)","For connection to 100 Mbit/s Ethernet, wire RJ45 and IRIG-B input for clock synchronization","For connection to 100Mhz Ethernet, glass fibre SC and wire RJ45 and 2nd interface (RS485, IEC 60870-5-103)","For connection to 100Mhz Ethernet, glass fibre SC and wire RJ45 and 2nd interface (RS485, IEC 60870-5-103)","For connection to 100Mhz Ethernet, glass fibre SC and wire RJ45 and 2nd interface (RS485, IEC 60870-5-103)","For connection to 100 Mbit/s Ethernet, wire RJ45 and IRIG-B input for clock synchronization","For connection to 100 Mbit/s Ethernet, wire RJ45 and IRIG-B input for clock synchronization","For connection to 100 Mbit/s Ethernet, wire RJ45 and IRIG-B input for clock synchronization",68]
[null,{"$f":"IF(OR(Tendering!$AC$22=2,Tendering!$AC$22=6,Tendering!$AC$22=7),\"\",\"For connection to 100Mhz Ethernet, glass fibre ST and wire RJ45 and 2nd interface (RS485, IEC 60870-5-103)\")","v":"For connection to 100Mhz Ethernet, glass fibre ST and wire RJ45 and 2nd interface (RS485, IEC 60870-5-103)"},{"$f":"IF(OR(Tendering!$AC$22=2,Tendering!$AC$22=6,Tendering!$AC$22=7),\"\",\"For connection to 100Mhz Ethernet, glass fibre ST and wire RJ45 and 2nd interface (RS485, IEC 60870-5-103)\")","v":"For connection to 100Mhz Ethernet, glass fibre ST and wire RJ45 and 2nd interface (RS485, IEC 60870-5-103)"},"For connection to 100Mhz Ethernet, glass fibre ST and wire RJ45 and 2nd interface (RS485, IEC 60870-5-103)","For connection to 100Mhz Ethernet, glass fibre ST and wire RJ45 and 2nd interface (RS485, IEC 60870-5-103)","For connection to 100Mhz Ethernet, glass fibre ST and wire RJ45 and 2nd interface (RS485, IEC 60870-5-103)","For connection to 100Mhz Ethernet, glass fibre ST and wire RJ45 and 2nd interface (RS485, IEC 60870-5-103)","For connection to 100Mhz Ethernet, glass fibre ST and wire RJ45 and 2nd interface (RS485, IEC 60870-5-103)","For connection to 100Mhz Ethernet, glass fibre ST and wire RJ45 and 2nd interface (RS485, IEC 60870-5-103)","For connection to 100Mhz Ethernet, glass fibre ST and wire RJ45 and 2nd interface (RS485, IEC 60870-5-103)","For connection to 100Mhz Ethernet, glass fibre ST and wire RJ45 and 2nd interface (RS485, IEC 60870-5-103)","For connection to 100Mhz Ethernet, glass fibre ST and wire RJ45 and 2nd interface (RS485, IEC 60870-5-103)","For connection to 100Mhz Ethernet, glass fibre ST and wire RJ45 and 2nd interface (RS485, IEC 60870-5-103)","For connection to 100Mhz Ethernet, glass fibre ST and wire RJ45 and 2nd interface (RS485, IEC 60870-5-103)","For connection to 100Mhz Ethernet, glass fibre ST and wire RJ45 and 2nd interface (RS485, IEC 60870-5-103)","For connection to 100Mhz Ethernet, glass fibre ST and wire RJ45 and 2nd interface (RS485, IEC 60870-5-103)","For connection to 100Mhz Ethernet, glass fibre ST and wire RJ45 and 2nd interface (RS485, IEC 60870-5-103)","For connection to 100Mhz Ethernet, glass fibre ST and wire RJ45 and 2nd interface (RS485, IEC 60870-5-103)","For connection to 100Mhz Ethernet, glass fibre ST and wire RJ45 and 2nd interface (RS485, IEC 60870-5-103)","For connection to 100Mhz Ethernet, glass fibre ST and wire RJ45 and 2nd interface (RS485, IEC 60870-5-103)","For connection to 100Mhz Ethernet, glass fibre ST and wire RJ45 and 2nd interface (RS485, IEC 60870-5-103)","For connection to 100Mhz Ethernet, glass fibre ST and wire RJ45 and 2nd interface (RS485, IEC 60870-5-103)","For connection to 100Mhz Ethernet, glass fibre ST and wire RJ45 and 2nd interface (RS485, IEC 60870-5-103)","For connection to 100Mhz Ethernet, glass fibre ST and wire RJ45 and 2nd interface (RS485, IEC 60870-5-103)","For connection to 100Mhz Ethernet, glass fibre ST and wire RJ45 and 2nd interface (RS485, IEC 60870-5-103)","For connection to 100Mhz Ethernet, glass fibre ST and wire RJ45 and 2nd interface (RS485, IEC 60870-5-103)","For connection to 100Mhz Ethernet, glass fibre ST and wire RJ45 and 2nd interface (RS485, IEC 60870-5-103)","For connection to 100Mhz Ethernet, glass fibre ST and wire RJ45 and 2nd interface (RS485, IEC 60870-5-103)","For connection to 100 Mbit/s Ethernet, glass fiber LC and IRIG-B input for clock synchronization and 2nd 100 Mbit/s Ethernet service interface (wire RJ 45)","For connection to 100Mhz Ethernet, glass fibre ST and wire RJ45 and 2nd interface (RS485, IEC 60870-5-103)","For connection to 100Mhz Ethernet, glass fibre ST and wire RJ45 and 2nd interface (RS485, IEC 60870-5-103)","For connection to 100Mhz Ethernet, glass fibre ST and wire RJ45 and 2nd interface (RS485, IEC 60870-5-103)","For connection to 100 Mbit/s Ethernet, glass fiber LC and IRIG-B input for clock synchronization and 2nd 100 Mbit/s Ethernet service interface (wire RJ 45)","For connection to 100 Mbit/s Ethernet, glass fiber LC and IRIG-B input for clock synchronization and 2nd 100 Mbit/s Ethernet service interface (wire RJ 45)","For connection to 100 Mbit/s Ethernet, glass fiber LC and IRIG-B input for clock synchronization and 2nd 100 Mbit/s Ethernet service interface (wire RJ 45)",69]
[null," "," "," "," "," "," "," "," "," "," "," "," "," "," "," "," "," "," "," "," "," "," "," "," "," "," "," "," "," "," "," "," "," "," ",70]
["Software Issue - Major"," "," "," "," "," "," "," "," "," "," "," "," "," "," "," "," "," "," "," "," "," "," "," "," "," "," "," "," "," "," "," "," "," "," ",71]
["English (German)","M","N","O","N","S","G","S","H","H","N","H","H","S","S","H","H","H","H","A","B","A","B","C","H","D","E","F","A","G","H","H","A","A","B",72]
[" ","-613","-614","-630","-614","-618","-633","-618","-634","-634","-614","-634","-634","-618","-618","-634","-634","-634","-634","-650","-651","-650","-651","-652","-634","-653","-654","-655","-660","-656","-657","-657","-660","-660","-661",73]
["English (English)","*","*","*","*","*","*","*","*","*","*","*","*","*","*","*","*","*","*","*","*","*","*","*","*","*","*","*","*","*","*","*","*","*","*",74]
[null,"-6**","-6**","-6**","-6**","-6**","-6**","-6**","-6**","-6**","-6**","-6**","-6**","-6**","-6**","-6**","-6**","-6**","-6**","-6**","-6**","-6**","-6**","-6**","-6**","-6**","-6**","-6**","-6**","-6**","-6**","-6**","-6**","-6**","-6**",75]
["German (English)","M","N","O","N","S","G","S","H","H","N","H","H","S","S","H","H","H","H","A","B","A","B","C","H","D","E","F","A","G","H","H","A","A","B",76]
[null,"-613","-614","-630","-614","-618","-633","-618","-634","-634","-614","-634","-634","-618","-618","-634","-634","-634","-634","-650","-651","-650","-651","-652","-634","-653","-654","-655","-660","-656","-657","-657","-660","-660","-661",77]
["French (English)","M","*","*","N","*","*","*","*","*","*","*","H","S","S","H","H","H","H","*","*","*","*","C","H","D","*","*","*","*","*","*","*","*","*",78]
[null,"-613","-6**","-6**","-614","-6**","-6**","-6**","-6**","-6**","-6**","-6**","-634","-618","-618","-634","-634","-634","-634","-6**","-6**","-6**","-6**","-652","-634","-653","-6**","-6**","-6**","-6**","-6**","-6**","-6**","-6**","-6**",79]
["Spanish (English)","M","N","*","N","S","G","S","*","*","*","*","H","S","S","H","H","H","H","*","*","*","*","*","H","*","*","*","*","*","*","*","*","*","*",80]
[null,"-613","-614","-6**","-614","-618","-633","-618","-6**","-6**","-6**","-6**","-634","-618","-618","-634","-634","-634","-634","-6**","-6**","-6**","-6**","-6**","-634","-6**","-6**","-6**","-6**","-6**","-6**","-6**","-6**","-6**","-6**",81]
["Polish (English)","*","*","*","*","*","G","*","H","H","*","H","H","*","*","H","H","H","H","*","B","*","B","C","H","D","E","F","*","*","*","*","*","*","*",82]
[null,"-6**","-6**","-6**","-6**","-6**","-633","-6**","-634","-634","-6**","-634","-634","-6**","-6**","-634","-634","-634","-634","-6**","-651","-6**","-651","-652","-634","-653","-654","-655","-6**","-6**","-6**","-6**","-6**","-6**","-6**",83]
["Russian (English)","*","*","*","N","*","*","*","H","H","*","H","H","S","S","H","H","H","H","*","*","*","*","*","H","D","*","*","*","*","*","*","*","*","*",84]
[null,"-6**","-6**","-6**","-614","-6**","-6**","-6**","-634","-634","-6**","-634","-634","-618","-618","-634","-634","-634","-634","-6**","-6**","-6**","-6**","-6**","-634","-653","-6**","-6**","-6**","-6**","-6**","-6**","-6**","-6**","-6**",85]
["Chinese (English)","*","*","*","*","*",{"$f":"IF(OR(Configurator!$D$12=8,Configurator!$D$14=7,Configurator!$D$14=9),\"*\",\"G\")","v":"G"},"*","*","*","*","*","*","*","*","*","*","*","*","*","*","*","*","*","*","*","*","*","*","*","*","*","*","*","*",86]
[null,"-6**","-6**","-6**","-6**","-6**",{"$f":"IF(OR(Configurator!$D$12=8,Configurator!$D$14=7,Configurator!$D$14=9),\"-6**\",\"-633\")","v":"-633"},"-6**","-6**","-6**","-6**","-6**","-6**","-6**","-6**","-6**","-6**","-6**","-6**","-6**","-6**","-6**","-6**","-6**","-6**","-6**","-6**","-6**","-6**","-6**","-6**","-6**","-6**","-6**","-6**",87]
["Software Issue - Minor"," "," "," "," "," "," "," "," "," "," "," "," "," "," "," "," "," "," "," "," "," "," "," "," "," "," "," "," "," "," "," "," "," "," ",88]
["English (German)","Q"," "," ","B"," "," ","C"," "," ","D"," ","E","G","L","H","I","J","K"," "," ","A","A","A","O"," "," ","A","J"," "," ","A","K","M","B",89]
[" ","-717"," "," ","-728"," "," ","-729"," "," ","-731"," ","-732","-734","-739","-735","-736","-737","-738"," "," ","-701","-701","-701","-741"," "," ","-701","-710"," "," ","-701","-711","-713","-702",90]
["English (English)","*","*","*","*","*","*","*","*","*","*","*","*","*","*","*","*","*","*","*","*","*","*","*","*","*","*","*","*","*","*","*","*","*","*",91]
[null,"-7**","-7**","-7**","-7**","-7**","-7**","-7**","-7**","-7**","-7**","-7**","-7**","-7**","-7**","-7**","-7**","-7**","-7**","-7**","-7**","-7**","-7**","-7**","-7**","-7**","-7**","-7**","-7**","-7**","-7**","-7**","-7**","-7**","-7**",92]
["German (English)","Q"," "," ","B"," "," ","C"," "," ","D"," ","E","G","L","H","I","J","K"," "," ","A","A","A","O"," "," ","A","J"," "," ","A","K","M","B",93]
[null,"-717"," "," ","-728"," "," ","-729"," "," ","-731"," ","-732","-734","-739","-735","-736","-737","-738"," "," ","-701","-701","-701","-741"," "," ","-701","-710"," "," ","-701","-711","-713","-702",94]
["French (English)","Q","*","*","B","*","*","*","*","*","*","*","E","G","L","H","I","J","K","*","*","*","*","A","O"," ","*","*","*","*","*","*","*","*","*",95]
[null,"-717","-7**","-7**","-728","-7**","-7**","-7**","-7**","-7**","-7**","-7**","-732","-734","-739","-735","-736","-737","-738","-7**","-7**","-7**","-7**","-701","-741"," ","-7**","-7**","-7**","-7**","-7**","-7**","-7**","-7**","-7**",96]
["Spanish (English)","Q"," ","*","B"," "," ","C","*","*","*","*","E","G","L","H","I","J","K","*","*","*","*","*","O","*","*","*","*","*","*","*","*","*","*",97]
[null,"-717"," ","-7**","-728"," "," ","-729","-7**","-7**","-7**","-7**","-732","-734","-739","-735","-736","-737","-738","-7**","-7**","-7**","-7**","-7**","-741","-7**","-7**","-7**","-7**","-7**","-7**","-7**","-7**","-7**","-7**",98]
["Polish (English)","*","*","*","*","*"," ","*"," "," ","*"," ","E","*","*","H","I","J","K","*"," ","*","A","A","O"," "," ","A","*","*","*","*","*","*","*",99]
[null,"-7**","-7**","-7**","-7**","-7**"," ","-7**"," "," ","-7**"," ","-732","-7**","-7**","-735","-736","-737","-738","-7**"," ","-7**","-701","-701","-741"," "," ","-701","-7**","-7**","-7**","-7**","-7**","-7**","-7**",100]
["Russian (English)","*","*","*","B","*","*","*"," "," ","*"," ","E","G","L","H","I","J","K","*","*","*","*","*","O"," ","*","*","*","*","*","*","*","*","*",101]
[null,"-7**","-7**","-7**","-728","-7**","-7**","-7**"," "," ","-7**"," ","-732","-734","-739","-735","-736","-737","-738","-7**","-7**","-7**","-7**","-7**","-741"," ","-7**","-7**","-7**","-7**","-7**","-7**","-7**","-7**","-7**",102]
["Chinese (English)","*","*","*","*","*",{"$f":"IF(OR(Configurator!$D$12=8,Configurator!$D$14=7,Configurator!$D$14=9),\"*\",\" \")","v":" "},"*","*","*","*","*","*","*","*","*","*","*","*","*","*","*","*","*","*","*","*","*","*","*","*","*","*","*","*",103]
[null,"-7**","-7**","-7**","-7**","-7**",{"$f":"IF(OR(Configurator!$D$12=8,Configurator!$D$14=7,Configurator!$D$14=9),\"-7**\",\" \")","v":" "},"-7**","-7**","-7**","-7**","-7**","-7**","-7**","-7**","-7**","-7**","-7**","-7**","-7**","-7**","-7**","-7**","-7**","-7**","-7**","-7**","-7**","-7**","-7**","-7**","-7**","-7**","-7**","-7**",104]
["Language"," "," "," "," "," "," "," "," "," "," "," "," "," "," "," "," "," "," "," "," "," "," "," "," "," "," "," "," "," "," "," "," "," "," ",105]
[" ","English (German)","English (German)","English (German)","English (German)","English (German)","English (German)","English (German)","English (German)","English (German)","English (German)","English (German)","English (German)","English (German)","English (German)","English (German)","English (German)","English (German)","English (German)","English (German)","English (German)","English (German)","English (German)","English (German)","English (German)","English (German)","English (German)","English (German)","English (German)","English (German)","English (German)","English (German)","English (German)","English (German)","English (German)",106]
[" ","Not yet available - English (English)","Not yet available - English (English)","Not yet available - English (English)","Not yet available - English (English)","Not yet available - English (English)","Not yet available - English (English)","Not yet available - English (English)","Not yet available - English (English)","Not yet available - English (English)","Not yet available - English (English)","Not yet available - English (English)","Not yet available - English (English)","Not yet available - English (English)","Not yet available - English (English)","Not yet available - English (English)","Not yet available - English (English)","Not yet available - English (English)","Not yet available - English (English)","Not yet available - English (English)","Not yet available - English (English)","Not yet available - English (English)","Not yet available - English (English)","Not yet available - English (English)","Not yet available - English (English)","Not yet available - English (English)","Not yet available - English (English)","Not yet available - English (English)","Not yet available - English (English)","Not yet available - English (English)","Not yet available - English (English)","Not yet available - English (English)","Not yet available - English (English)","Not yet available - English (English)","Not yet available - English (English)",107]
[" ","German (English)","German (English)","German (English)","German (English)","German (English)","German (English)","German (English)","German (English)","German (English)","German (English)","German (English)","German (English)","German (English)","German (English)","German (English)","German (English)","German (English)","German (English)","German (English)","German (English)","German (English)","German (English)","German (English)","German (English)","German (English)","German (English)","German (English)","German (English)","German (English)","German (English)","German (English)","German (English)","German (English)","German (English)",108]
[" ","French (English)","Not yet available - French (English)","Not yet available - French (English)","French (English)","Not yet available - French (English)","Not yet available - French (English)","Not yet available - French (English)","Not yet available - French (English)","Not yet available - French (English)","Not yet available - French (English)","Not yet available - French (English)","French (English)","French (English)","French (English)","French (English)","French (English)","French (English)","French (English)","Not yet available - French (English)","Not yet available - French (English)","Not yet available - French (English)","Not yet available - French (English)","French (English)","French (English)","French (English)","Not yet available - French (English)","Not yet available - French (English)","Not yet available - French (English)","Not yet available - French (English)","Not yet available - French (English)","Not yet available - French (English)","Not yet available - French (English)","Not yet available - French (English)","Not yet available - French (English)",109]
[" ","Spanish (English)","Spanish (English)","Not yet available - Spanish (English)","Spanish (English)","Spanish (English)","Spanish (English)","Spanish (English)","Not yet available - Spanish (English)","Not yet available - Spanish (English)","Not yet available - Spanish (English)","Not yet available - Spanish (English)","Spanish (English)","Spanish (English)","Spanish (English)","Spanish (English)","Spanish (English)","Spanish (English)","Spanish (English)","Not yet available - Spanish (English)","Not yet available - Spanish (English)","Not yet available - Spanish (English)","Not yet available - Spanish (English)","Not yet available - Spanish (English)","Spanish (English)","Not yet available - Spanish (English)","Not yet available - Spanish (English)","Not yet available - Spanish (English)","Not yet available - Spanish (English)","Not yet available - Spanish (English)","Not yet available - Spanish (English)","Not yet available - Spanish (English)","Not yet available - Spanish (English)","Not yet available - Spanish (English)","Not yet available - Spanish (English)",110]
[" ","Not yet available - Polish (English)","Not yet available - Polish (English)","Not yet available - Polish (English)","Not yet available - Polish (English)","Not yet available - Polish (English)","Polish (English)","Not yet available - Polish (English)","Polish (English)","Polish (English)","Not yet available - Polish (English)","Polish (English)","Polish (English)","Not yet available - Polish (English)","Not yet available - Polish (English)","Polish (English)","Polish (English)","Polish (English)","Polish (English)","Not yet available - Polish (English)","Polish (English)","Not yet available - Polish (English)","Polish (English)","Polish (English)","Polish (English)","Polish (English)","Polish (English)","Polish (English)","Polish (English)","Not yet available - Polish (English)","Not yet available - Polish (English)","Not yet available - Polish (English)","Polish (English)","Not yet available - Polish (English)","Not yet available - Polish (English)",111]
[" ","Not yet available - Russian (English)","Not yet available - Russian (English)","Not yet available - Russian (English)","Russian (English)","Not yet available - Russian (English)","Not yet available - Russian (English)","Not yet available - Russian (English)","Russian (English)","Russian (English)","Not yet available - Russian (English)","Russian (English)","Russian (English)","Russian (English)","Russian (English)","Russian (English)","Russian (English)","Russian (English)","Russian (English)","Not yet available - Russian (English)","Not yet available - Russian (English)","Not yet available - Russian (English)","Not yet available - Russian (English)","Not yet available - Russian (English)","Russian (English)","Russian (English)","Not yet available - Russian (English)","Not yet available - Russian (English)","Not yet available - Russian (English)","Not yet available - Russian (English)","Not yet available - Russian (English)","Not yet available - Russian (English)","Not yet available - Russian (English)","Not yet available - Russian (English)","Not yet available - Russian (English)",112]
[" ","Not yet available - Chinese (English)","Not yet available - Chinese (English)","Not yet available - Chinese (English)","Not yet available - Chinese (English)","Not yet available - Chinese (English)",{"$f":"IF(OR(Configurator!$D$12=8,Configurator!$D$14=7,Configurator!$D$14=9),\"Chinese (English) - not available\",\"Chinese (English)\")","v":"Chinese (English)"},"Not yet available - Chinese (English)","Not yet available - Chinese (English)","Not yet available - Chinese (English)","Not yet available - Chinese (English)","Not yet available - Chinese (English)","Not yet available - Chinese (English)","Not yet available - Chinese (English)","Not yet available - Chinese (English)","Not yet available - Chinese (English)","Not yet available - Chinese (English)","Not yet available - Chinese (English)","Not yet available - Chinese (English)","Not yet available - Chinese (English)","Not yet available - Chinese (English)","Not yet available - Chinese (English)","Not yet available - Chinese (English)","Not yet available - Chinese (English)","Not yet available - Chinese (English)","Not yet available - Chinese (English)","Not yet available - Chinese (English)","Not yet available - Chinese (English)","Not yet available - Chinese (English)","Not yet available - Chinese (English)","Not yet available - Chinese (English)","Not yet available - Chinese (English)","Not yet available - Chinese (English)","Not yet available - Chinese (English)","Not yet available - Chinese (English)",113]
[" ","0","0","0","0","0","0","0","0","0","0","0","0","0","0","0","0","0","0","0","0","0","0","0","0","0","0","0","0","0","0","0","0","0","0",114]
[" ","*","*","*","*","*","*","*","*","*","*","*","*","*","*","*","*","*","*","*","*","*","*","*","*","*","*","*","*","*","*","*","*","*","*",115]
[" ","1","1","1","1","1","1","1","1","1","1","1","1","1","1","1","1","1","1","1","1","1","1","1","1","1","1","1","1","1","1","1","1","1","1",116]
[null,"2","*","*","2","*","*","*","*","*","*","*","2","2","2","2","2","2","2","*","*","*","*","2","2","2","*","*","*","*","*","*","*","*","*",117]
[null,"3","3","*","3","3","3","3","*","*","*","*","3","3","3","3","3","3","3","*","*","*","*","*","3","*","*","*","*","*","*","*","*","*","*",118]
[" ","*","*","*","*","*","4","*","4","4","*","4","4","*","*","4","4","4","4","*","4","*","4","4","4","4","4","4","4","*","*","*","4","*","*",119]
[null,"*","*","*","5","*","*","*","5","5","*","5","5","5","5","5","5","5","5","*","*","*","*","*","5","5","*","*","*","*","*","*","*","*","*",120]
[null,"*","*","*","*","*",{"$f":"IF(OR(Configurator!$D$12=8,Configurator!$D$14=7,Configurator!$D$14=9),\"*\",\"6\")","v":"6"},"*","*","*","*","*","*","*","*","*","*","*","*","*","*","*","*","*","*","*","*","*","*","*","*","*","*","*","*",121]
[null," "," "," "," "," "," "," "," "," "," "," "," "," "," "," "," "," "," "," "," "," "," "," "," "," "," "," "," "," "," "," "," "," "," ",122]
[null,"-8**","-8**","-8**","-8**","-8**","-8**","-8**","-8**","-8**","-8**","-8**","-8**","-8**","-8**","-8**","-8**","-8**","-8**","-8**","-8**","-8**","-8**","-8**","-8**","-8**","-8**","-8**","-8**","-8**","-8**","-8**","-8**","-8**","-8**",123]
[null,"-801","-801","-801","-801","-801","-801","-801","-801","-801","-801","-801","-801","-801","-801","-801","-801","-801","-801","-801","-801","-801","-801","-801","-801","-801","-801","-801","-801","-801","-801","-801","-801","-801","-801",124]
[" ","-802","-8**","-8**","-802","-8**","-8**","-8**","-8**","-8**","-8**","-8**","-802","-802","-802","-802","-802","-802","-802","-8**","-8**","-8**","-8**","-802","-802","-802","-8**","-8**","-8**","-8**","-8**","-8**","-8**","-8**","-8**",125]
[null,"-803","-803","-8**","-803","-803","-803","-803","-8**","-8**","-8**","-8**","-803","-803","-803","-803","-803","-803","-803","-8**","-8**","-8**","-8**","-8**","-803","-8**","-8**","-8**","-8**","-8**","-8**","-8**","-8**","-8**","-8**",126]
[null,"-8**","-8**","-8**","-8**","-8**","-804","-8**","-804","-804","-8**","-804","-804","-8**","-8**","-804","-804","-804","-804","-8**","-804","-8**","-804","-804","-804","-804","-804","-804","-804","-8**","-8**","-8**","-804","-8**","-8**",127]
[null,"-8**","-8**","-8**","-805","-8**","-8**","-8**","-805","-805","-8**","-805","-805","-805","-805","-805","-805","-805","-805","-8**","-8**","-8**","-8**","-8**","-805","-805","-8**","-8**","-8**","-8**","-8**","-8**","-8**","-8**","-8**",128]
[null,"-8**","-8**","-8**","-8**","-8**",{"$f":"IF(OR(Configurator!$D$12=8,Configurator!$D$14=7,Configurator!$D$14=9),\"-80*\",\"-806\")","v":"-806"},"-8**","-8**","-8**","-8**","-8**","-8**","-8**","-8**","-8**","-8**","-8**","-8**","-8**","-8**","-8**","-8**","-8**","-8**","-8**","-8**","-8**","-8**","-8**","-8**","-8**","-8**","-8**","-8**",129]
[{"$f":"IF(Configurator!$L$7>\"-307\",\"Binary modules for control of switchgear units\",\"Customer Specific Options\")","v":"Binary modules for control of switchgear units"},"Standard Version","Standard Version",{"$f":"IF(AND(Configurator!$L$7>\"-307\",Configurator!$I$19=0),\"One module without high break contacts\",IF(AND(Configurator!$L$7>\"-307\",Configurator!$I$19=5),\"Two modules without high break contacts\",\"Standard Version\"))","v":"Two modules without high break contacts"},"Standard Version",{"$f":"IF(AND(Configurator!$L$7>\"-307\",Configurator!$I$19=0),\"One module without high break contacts\",IF(AND(Configurator!$L$7>\"-307\",Configurator!$I$19=5),\"Two modules without high break contacts\",\"Standard Version\"))","v":"Two modules without high break contacts"},{"$f":"IF(AND(Configurator!$L$7>\"-307\",Configurator!$I$19=0),\"One module without high break contacts\",IF(AND(Configurator!$L$7>\"-307\",Configurator!$I$19=5),\"Two modules without high break contacts\",\"Standard Version\"))","v":"Two modules without high break contacts"},{"$f":"IF(AND(Configurator!$L$7>\"-307\",Configurator!$I$19=0),\"One module without high break contacts\",IF(AND(Configurator!$L$7>\"-307\",Configurator!$I$19=5),\"Two modules without high break contacts\",\"Standard Version\"))","v":"Two modules without high break contacts"},{"$f":"IF(AND(Configurator!$L$7>\"-307\",Configurator!$I$19=0),\"One module without high break contacts\",IF(AND(Configurator!$L$7>\"-307\",Configurator!$I$19=5),\"Two modules without high break contacts\",\"Standard Version\"))","v":"Two modules without high break contacts"},{"$f":"IF(AND(Configurator!$L$7>\"-307\",Configurator!$I$19=0),\"One module without high break contacts\",IF(AND(Configurator!$L$7>\"-307\",Configurator!$I$19=5),\"Two modules without high break contacts\",\"Standard Version\"))","v":"Two modules without high break contacts"},"Standard Version",{"$f":"IF(AND(Configurator!$L$7>\"-307\",Configurator!$I$19=0),\"One module without high break contacts\",IF(AND(Configurator!$L$7>\"-307\",Configurator!$I$19=5),\"Two modules without high break contacts\",\"Standard Version\"))","v":"Two modules without high break contacts"},{"$f":"IF(AND(Configurator!$L$7>\"-307\",Configurator!$I$19=0),\"One module without high break contacts\",IF(AND(Configurator!$L$7>\"-307\",Configurator!$I$19=5),\"Two modules without high break contacts\",\"Standard Version\"))","v":"Two modules without high break contacts"},{"$f":"IF(AND(Configurator!$L$7>\"-307\",Configurator!$I$19=0),\"One module without high break contacts\",IF(AND(Configurator!$L$7>\"-307\",Configurator!$I$19=5),\"Two modules without high break contacts\",\"Standard Version\"))","v":"Two modules without high break contacts"},{"$f":"IF(AND(Configurator!$L$7>\"-307\",Configurator!$I$19=0),\"One module without high break contacts\",IF(AND(Configurator!$L$7>\"-307\",Configurator!$I$19=5),\"Two modules without high break contacts\",\"Standard Version\"))","v":"Two modules without high break contacts"},{"$f":"IF(AND(Configurator!$L$7>\"-307\",Configurator!$I$19=0),\"One module without high break contacts\",IF(AND(Configurator!$L$7>\"-307\",Configurator!$I$19=5),\"Two modules without high break contacts\",\"Standard Version\"))","v":"Two modules without high break contacts"},{"$f":"IF(AND(Configurator!$L$7>\"-307\",Configurator!$I$19=0),\"One module without high break contacts\",IF(AND(Configurator!$L$7>\"-307\",Configurator!$I$19=5),\"Two modules without high break contacts\",\"Standard Version\"))","v":"Two modules without high break contacts"},{"$f":"IF(AND(Configurator!$L$7>\"-307\",Configurator!$I$19=0),\"One module without high break contacts\",IF(AND(Configurator!$L$7>\"-307\",Configurator!$I$19=5),\"Two modules without high break contacts\",\"Standard Version\"))","v":"Two modules without high break contacts"},{"$f":"IF(AND(Configurator!$L$7>\"-307\",Configurator!$I$19=0),\"One module without high break contacts\",IF(AND(Configurator!$L$7>\"-307\",Configurator!$I$19=5),\"Two modules without high break contacts\",\"Standard Version\"))","v":"Two modules without high break contacts"},{"$f":"IF(AND(Configurator!$L$7>\"-307\",Configurator!$I$19=0),\"One module without high break contacts\",IF(AND(Configurator!$L$7>\"-307\",Configurator!$I$19=5),\"Two modules without high break contacts\",\"Standard Version\"))","v":"Two modules without high break contacts"},{"$f":"IF(AND(Configurator!$L$7>\"-307\",Configurator!$I$19=0),\"One module without high break contacts\",IF(AND(Configurator!$L$7>\"-307\",Configurator!$I$19=5),\"Two modules without high break contacts\",\"Standard Version\"))","v":"Two modules without high break contacts"},{"$f":"IF(AND(Configurator!$L$7>\"-307\",Configurator!$I$19=0),\"One module without high break contacts\",IF(AND(Configurator!$L$7>\"-307\",Configurator!$I$19=5),\"Two modules without high break contacts\",\"Standard Version\"))","v":"Two modules without high break contacts"},{"$f":"IF(AND(Configurator!$L$7>\"-307\",Configurator!$I$19=0),\"One module without high break contacts\",IF(AND(Configurator!$L$7>\"-307\",Configurator!$I$19=5),\"Two modules without high break contacts\",\"Standard Version\"))","v":"Two modules without high break contacts"},{"$f":"IF(AND(Configurator!$L$7>\"-307\",Configurator!$I$19=0),\"One module without high break contacts\",IF(AND(Configurator!$L$7>\"-307\",Configurator!$I$19=5),\"Two modules without high break contacts\",\"Standard Version\"))","v":"Two modules without high break contacts"},{"$f":"IF(AND(Configurator!$L$7>\"-307\",Configurator!$I$19=0),\"One module without high break contacts\",IF(AND(Configurator!$L$7>\"-307\",Configurator!$I$19=5),\"Two modules without high break contacts\",\"Standard Version\"))","v":"Two modules without high break contacts"},{"$f":"IF(AND(Configurator!$L$7>\"-307\",Configurator!$I$19=0),\"One module without high break contacts\",IF(AND(Configurator!$L$7>\"-307\",Configurator!$I$19=5),\"Two modules without high break contacts\",\"Standard Version\"))","v":"Two modules without high break contacts"},{"$f":"IF(AND(Configurator!$L$7>\"-307\",Configurator!$I$19=0),\"One module without high break contacts\",IF(AND(Configurator!$L$7>\"-307\",Configurator!$I$19=5),\"Two modules without high break contacts\",\"Standard Version\"))","v":"Two modules without high break contacts"},{"$f":"IF(AND(Configurator!$L$7>\"-307\",Configurator!$I$19=0),\"One module without high break contacts\",IF(AND(Configurator!$L$7>\"-307\",Configurator!$I$19=5),\"Two modules without high break contacts\",\"Standard Version\"))","v":"Two modules without high break contacts"},{"$f":"IF(AND(Configurator!$L$7>\"-307\",Configurator!$I$19=0),\"One module without high break contacts\",IF(AND(Configurator!$L$7>\"-307\",Configurator!$I$19=5),\"Two modules without high break contacts\",\"Standard Version\"))","v":"Two modules without high break contacts"},{"$f":"IF(AND(Configurator!$L$7>\"-307\",Configurator!$I$19=0),\"One module without high break contacts\",IF(AND(Configurator!$L$7>\"-307\",Configurator!$I$19=5),\"Two modules without high break contacts\",\"Standard Version\"))","v":"Two modules without high break contacts"},{"$f":"IF(AND(Configurator!$L$7>\"-307\",Configurator!$I$19=0),\"One module without high break contacts\",IF(AND(Configurator!$L$7>\"-307\",Configurator!$I$19=5),\"Two modules without high break contacts\",\"Standard Version\"))","v":"Two modules without high break contacts"},{"$f":"IF(AND(Configurator!$L$7>\"-307\",Configurator!$I$19=0),\"One module without high break contacts\",IF(AND(Configurator!$L$7>\"-307\",Configurator!$I$19=5),\"Two modules without high break contacts\",\"Standard Version\"))","v":"Two modules without high break contacts"},{"$f":"IF(AND(Configurator!$L$7>\"-307\",Configurator!$I$19=0),\"One module without high break contacts\",IF(AND(Configurator!$L$7>\"-307\",Configurator!$I$19=5),\"Two modules without high break contacts\",\"Standard Version\"))","v":"Two modules without high break contacts"},{"$f":"IF(AND(Configurator!$L$7>\"-307\",Configurator!$I$19=0),\"One module without high break contacts\",IF(AND(Configurator!$L$7>\"-307\",Configurator!$I$19=5),\"Two modules without high break contacts\",\"Standard Version\"))","v":"Two modules without high break contacts"},{"$f":"IF(AND(Configurator!$L$7>\"-307\",Configurator!$I$19=0),\"One module without high break contacts\",IF(AND(Configurator!$L$7>\"-307\",Configurator!$I$19=5),\"Two modules without high break contacts\",\"Standard Version\"))","v":"Two modules without high break contacts"},130]
[null," "," ",{"$f":"IF(AND(Configurator!$L$7>\"-307\",Configurator!$I$19=0),\"One module with high break contacts (1-pole)\",IF(AND(Configurator!$L$7>\"-307\",Configurator!$I$19=5),\"First module with high break contacts (1-pole), second with normal contacts\",\" \"))","v":"First module with high break contacts (1-pole), second with normal contacts"}," ",{"$f":"IF(AND(Configurator!$L$7>\"-307\",Configurator!$I$19=0),\"One module with high break contacts\",IF(AND(Configurator!$L$7>\"-307\",Configurator!$I$19=5),\"First module with high break contacts, second with normal contacts\",\" \"))","v":"First module with high break contacts, second with normal contacts"},{"$f":"IF(AND(Configurator!$L$7>\"-307\",Configurator!$I$19=0),\"One module with high break contacts\",IF(AND(Configurator!$L$7>\"-307\",Configurator!$I$19=5),\"First module with high break contacts, second with normal contacts\",\" \"))","v":"First module with high break contacts, second with normal contacts"},{"$f":"IF(AND(Configurator!$L$7>\"-307\",Configurator!$I$19=0),\"One module with high break contacts\",IF(AND(Configurator!$L$7>\"-307\",Configurator!$I$19=5),\"First module with high break contacts, second with normal contacts\",\" \"))","v":"First module with high break contacts, second with normal contacts"},{"$f":"IF(AND(Configurator!$L$7>\"-307\",Configurator!$I$19=0),\"One module with high break contacts\",IF(AND(Configurator!$L$7>\"-307\",Configurator!$I$19=5),\"First module with high break contacts, second with normal contacts\",\" \"))","v":"First module with high break contacts, second with normal contacts"},{"$f":"IF(AND(Configurator!$L$7>\"-307\",Configurator!$I$19=0),\"One module with high break contacts\",IF(AND(Configurator!$L$7>\"-307\",Configurator!$I$19=5),\"First module with high break contacts, second with normal contacts\",\" \"))","v":"First module with high break contacts, second with normal contacts"}," ",{"$f":"IF(AND(Configurator!$L$7>\"-307\",Configurator!$I$19=0),\"One module with high break contacts\",IF(AND(Configurator!$L$7>\"-307\",Configurator!$I$19=5),\"First module with high break contacts, second with normal contacts\",\" \"))","v":"First module with high break contacts, second with normal contacts"},{"$f":"IF(AND(Configurator!$L$7>\"-307\",Configurator!$I$19=0),\"One module with high break contacts\",IF(AND(Configurator!$L$7>\"-307\",Configurator!$I$19=5),\"First module with high break contacts, second with normal contacts\",\" \"))","v":"First module with high break contacts, second with normal contacts"},{"$f":"IF(AND(Configurator!$L$7>\"-307\",Configurator!$I$19=0),\"One module with high break contacts\",IF(AND(Configurator!$L$7>\"-307\",Configurator!$I$19=5),\"First module with high break contacts, second with normal contacts\",\" \"))","v":"First module with high break contacts, second with normal contacts"},{"$f":"IF(AND(Configurator!$L$7>\"-307\",Configurator!$I$19=0),\"One module with high break contacts\",IF(AND(Configurator!$L$7>\"-307\",Configurator!$I$19=5),\"First module with high break contacts, second with normal contacts\",\" \"))","v":"First module with high break contacts, second with normal contacts"},{"$f":"IF(AND(Configurator!$L$7>\"-307\",Configurator!$I$19=0),\"One module with high break contacts\",IF(AND(Configurator!$L$7>\"-307\",Configurator!$I$19=5),\"First module with high break contacts, second with normal contacts\",\" \"))","v":"First module with high break contacts, second with normal contacts"},{"$f":"IF(AND(Configurator!$L$7>\"-307\",Configurator!$I$19=0),\"One module with high break contacts\",IF(AND(Configurator!$L$7>\"-307\",Configurator!$I$19=5),\"First module with high break contacts, second with normal contacts\",\" \"))","v":"First module with high break contacts, second with normal contacts"},{"$f":"IF(AND(Configurator!$L$7>\"-307\",Configurator!$I$19=0),\"One module with high break contacts\",IF(AND(Configurator!$L$7>\"-307\",Configurator!$I$19=5),\"First module with high break contacts, second with normal contacts\",\" \"))","v":"First module with high break contacts, second with normal contacts"},{"$f":"IF(AND(Configurator!$L$7>\"-307\",Configurator!$I$19=0),\"One module with high break contacts\",IF(AND(Configurator!$L$7>\"-307\",Configurator!$I$19=5),\"First module with high break contacts, second with normal contacts\",\" \"))","v":"First module with high break contacts, second with normal contacts"},{"$f":"IF(AND(Configurator!$L$7>\"-307\",Configurator!$I$19=0),\"One module with high break contacts\",IF(AND(Configurator!$L$7>\"-307\",Configurator!$I$19=5),\"First module with high break contacts, second with normal contacts\",\" \"))","v":"First module with high break contacts, second with normal contacts"},{"$f":"IF(AND(Configurator!$L$7>\"-307\",Configurator!$I$19=0),\"One module with high break contacts\",IF(AND(Configurator!$L$7>\"-307\",Configurator!$I$19=5),\"First module with high break contacts, second with normal contacts\",\" \"))","v":"First module with high break contacts, second with normal contacts"},{"$f":"IF(AND(Configurator!$L$7>\"-307\",Configurator!$I$19=0),\"One module with high break contacts\",IF(AND(Configurator!$L$7>\"-307\",Configurator!$I$19=5),\"First module with high break contacts, second with normal contacts\",\" \"))","v":"First module with high break contacts, second with normal contacts"},{"$f":"IF(AND(Configurator!$L$7>\"-307\",Configurator!$I$19=0),\"One module with high break contacts\",IF(AND(Configurator!$L$7>\"-307\",Configurator!$I$19=5),\"First module with high break contacts, second with normal contacts\",\" \"))","v":"First module with high break contacts, second with normal contacts"},{"$f":"IF(AND(Configurator!$L$7>\"-307\",Configurator!$I$19=0),\"One module with high break contacts\",IF(AND(Configurator!$L$7>\"-307\",Configurator!$I$19=5),\"First module with high break contacts, second with normal contacts\",\" \"))","v":"First module with high break contacts, second with normal contacts"},{"$f":"IF(AND(Configurator!$L$7>\"-307\",Configurator!$I$19=0),\"One module with high break contacts\",IF(AND(Configurator!$L$7>\"-307\",Configurator!$I$19=5),\"First module with high break contacts, second with normal contacts\",\" \"))","v":"First module with high break contacts, second with normal contacts"},{"$f":"IF(AND(Configurator!$L$7>\"-307\",Configurator!$I$19=0),\"One module with high break contacts\",IF(AND(Configurator!$L$7>\"-307\",Configurator!$I$19=5),\"First module with high break contacts, second with normal contacts\",\" \"))","v":"First module with high break contacts, second with normal contacts"},{"$f":"IF(AND(Configurator!$L$7>\"-307\",Configurator!$I$19=0),\"One module with high break contacts\",IF(AND(Configurator!$L$7>\"-307\",Configurator!$I$19=5),\"First module with high break contacts, second with normal contacts\",\" \"))","v":"First module with high break contacts, second with normal contacts"},{"$f":"IF(AND(Configurator!$L$7>\"-307\",Configurator!$I$19=0),\"One module with high break contacts\",IF(AND(Configurator!$L$7>\"-307\",Configurator!$I$19=5),\"First module with high break contacts, second with normal contacts\",\" \"))","v":"First module with high break contacts, second with normal contacts"},{"$f":"IF(AND(Configurator!$L$7>\"-307\",Configurator!$I$19=0),\"One module with high break contacts\",IF(AND(Configurator!$L$7>\"-307\",Configurator!$I$19=5),\"First module with high break contacts, second with normal contacts\",\" \"))","v":"First module with high break contacts, second with normal contacts"},{"$f":"IF(AND(Configurator!$L$7>\"-307\",Configurator!$I$19=0),\"One module with high break contacts\",IF(AND(Configurator!$L$7>\"-307\",Configurator!$I$19=5),\"First module with high break contacts, second with normal contacts\",\" \"))","v":"First module with high break contacts, second with normal contacts"},{"$f":"IF(AND(Configurator!$L$7>\"-307\",Configurator!$I$19=0),\"One module with high break contacts\",IF(AND(Configurator!$L$7>\"-307\",Configurator!$I$19=5),\"First module with high break contacts, second with normal contacts\",\" \"))","v":"First module with high break contacts, second with normal contacts"},{"$f":"IF(AND(Configurator!$L$7>\"-307\",Configurator!$I$19=0),\"One module with high break contacts\",IF(AND(Configurator!$L$7>\"-307\",Configurator!$I$19=5),\"First module with high break contacts, second with normal contacts\",\" \"))","v":"First module with high break contacts, second with normal contacts"},{"$f":"IF(AND(Configurator!$L$7>\"-307\",Configurator!$I$19=0),\"One module with high break contacts\",IF(AND(Configurator!$L$7>\"-307\",Configurator!$I$19=5),\"First module with high break contacts, second with normal contacts\",\" \"))","v":"First module with high break contacts, second with normal contacts"},{"$f":"IF(AND(Configurator!$L$7>\"-307\",Configurator!$I$19=0),\"One module with high break contacts\",IF(AND(Configurator!$L$7>\"-307\",Configurator!$I$19=5),\"First module with high break contacts, second with normal contacts\",\" \"))","v":"First module with high break contacts, second with normal contacts"},{"$f":"IF(AND(Configurator!$L$7>\"-307\",Configurator!$I$19=0),\"One module with high break contacts\",IF(AND(Configurator!$L$7>\"-307\",Configurator!$I$19=5),\"First module with high break contacts, second with normal contacts\",\" \"))","v":"First module with high break contacts, second with normal contacts"},131]
[null," "," ",{"$f":"IF(AND(Configurator!$L$7>\"-307\",Configurator!$I$19=0),\" \",IF(AND(Configurator!$L$7>\"-307\",Configurator!$I$19=5),\"Two modules with high break contacts (1-pole)\",\" \"))","v":"Two modules with high break contacts (1-pole)"}," ",{"$f":"IF(AND(Configurator!$L$7>\"-307\",Configurator!$I$19=0),\" \",IF(AND(Configurator!$L$7>\"-307\",Configurator!$I$19=5),\"Two modules with high break contacts\",\" \"))","v":"Two modules with high break contacts"},{"$f":"IF(AND(Configurator!$L$7>\"-307\",Configurator!$I$19=0),\" \",IF(AND(Configurator!$L$7>\"-307\",Configurator!$I$19=5),\"Two modules with high break contacts\",\" \"))","v":"Two modules with high break contacts"},{"$f":"IF(AND(Configurator!$L$7>\"-307\",Configurator!$I$19=0),\" \",IF(AND(Configurator!$L$7>\"-307\",Configurator!$I$19=5),\"Two modules with high break contacts\",\" \"))","v":"Two modules with high break contacts"},{"$f":"IF(AND(Configurator!$L$7>\"-307\",Configurator!$I$19=0),\" \",IF(AND(Configurator!$L$7>\"-307\",Configurator!$I$19=5),\"Two modules with high break contacts\",\" \"))","v":"Two modules with high break contacts"},{"$f":"IF(AND(Configurator!$L$7>\"-307\",Configurator!$I$19=0),\" \",IF(AND(Configurator!$L$7>\"-307\",Configurator!$I$19=5),\"Two modules with high break contacts\",\" \"))","v":"Two modules with high break contacts"}," ",{"$f":"IF(AND(Configurator!$L$7>\"-307\",Configurator!$I$19=0),\" \",IF(AND(Configurator!$L$7>\"-307\",Configurator!$I$19=5),\"Two modules with high break contacts\",\" \"))","v":"Two modules with high break contacts"},{"$f":"IF(AND(Configurator!$L$7>\"-307\",Configurator!$I$19=0),\" \",IF(AND(Configurator!$L$7>\"-307\",Configurator!$I$19=5),\"Two modules with high break contacts\",\" \"))","v":"Two modules with high break contacts"},{"$f":"IF(AND(Configurator!$L$7>\"-307\",Configurator!$I$19=0),\" \",IF(AND(Configurator!$L$7>\"-307\",Configurator!$I$19=5),\"Two modules with high break contacts\",\" \"))","v":"Two modules with high break contacts"},{"$f":"IF(AND(Configurator!$L$7>\"-307\",Configurator!$I$19=0),\" \",IF(AND(Configurator!$L$7>\"-307\",Configurator!$I$19=5),\"Two modules with high break contacts\",\" \"))","v":"Two modules with high break contacts"},{"$f":"IF(AND(Configurator!$L$7>\"-307\",Configurator!$I$19=0),\" \",IF(AND(Configurator!$L$7>\"-307\",Configurator!$I$19=5),\"Two modules with high break contacts\",\" \"))","v":"Two modules with high break contacts"},{"$f":"IF(AND(Configurator!$L$7>\"-307\",Configurator!$I$19=0),\" \",IF(AND(Configurator!$L$7>\"-307\",Configurator!$I$19=5),\"Two modules with high break contacts\",\" \"))","v":"Two modules with high break contacts"},{"$f":"IF(AND(Configurator!$L$7>\"-307\",Configurator!$I$19=0),\" \",IF(AND(Configurator!$L$7>\"-307\",Configurator!$I$19=5),\"Two modules with high break contacts\",\" \"))","v":"Two modules with high break contacts"},{"$f":"IF(AND(Configurator!$L$7>\"-307\",Configurator!$I$19=0),\" \",IF(AND(Configurator!$L$7>\"-307\",Configurator!$I$19=5),\"Two modules with high break contacts\",\" \"))","v":"Two modules with high break contacts"},{"$f":"IF(AND(Configurator!$L$7>\"-307\",Configurator!$I$19=0),\" \",IF(AND(Configurator!$L$7>\"-307\",Configurator!$I$19=5),\"Two modules with high break contacts\",\" \"))","v":"Two modules with high break contacts"},{"$f":"IF(AND(Configurator!$L$7>\"-307\",Configurator!$I$19=0),\" \",IF(AND(Configurator!$L$7>\"-307\",Configurator!$I$19=5),\"Two modules with high break contacts\",\" \"))","v":"Two modules with high break contacts"},{"$f":"IF(AND(Configurator!$L$7>\"-307\",Configurator!$I$19=0),\" \",IF(AND(Configurator!$L$7>\"-307\",Configurator!$I$19=5),\"Two modules with high break contacts\",\" \"))","v":"Two modules with high break contacts"},{"$f":"IF(AND(Configurator!$L$7>\"-307\",Configurator!$I$19=0),\" \",IF(AND(Configurator!$L$7>\"-307\",Configurator!$I$19=5),\"Two modules with high break contacts\",\" \"))","v":"Two modules with high break contacts"},{"$f":"IF(AND(Configurator!$L$7>\"-307\",Configurator!$I$19=0),\" \",IF(AND(Configurator!$L$7>\"-307\",Configurator!$I$19=5),\"Two modules with high break contacts\",\" \"))","v":"Two modules with high break contacts"},{"$f":"IF(AND(Configurator!$L$7>\"-307\",Configurator!$I$19=0),\" \",IF(AND(Configurator!$L$7>\"-307\",Configurator!$I$19=5),\"Two modules with high break contacts\",\" \"))","v":"Two modules with high break contacts"},{"$f":"IF(AND(Configurator!$L$7>\"-307\",Configurator!$I$19=0),\" \",IF(AND(Configurator!$L$7>\"-307\",Configurator!$I$19=5),\"Two modules with high break contacts\",\" \"))","v":"Two modules with high break contacts"},{"$f":"IF(AND(Configurator!$L$7>\"-307\",Configurator!$I$19=0),\" \",IF(AND(Configurator!$L$7>\"-307\",Configurator!$I$19=5),\"Two modules with high break contacts\",\" \"))","v":"Two modules with high break contacts"},{"$f":"IF(AND(Configurator!$L$7>\"-307\",Configurator!$I$19=0),\" \",IF(AND(Configurator!$L$7>\"-307\",Configurator!$I$19=5),\"Two modules with high break contacts\",\" \"))","v":"Two modules with high break contacts"},{"$f":"IF(AND(Configurator!$L$7>\"-307\",Configurator!$I$19=0),\" \",IF(AND(Configurator!$L$7>\"-307\",Configurator!$I$19=5),\"Two modules with high break contacts\",\" \"))","v":"Two modules with high break contacts"},{"$f":"IF(AND(Configurator!$L$7>\"-307\",Configurator!$I$19=0),\" \",IF(AND(Configurator!$L$7>\"-307\",Configurator!$I$19=5),\"Two modules with high break contacts\",\" \"))","v":"Two modules with high break contacts"},{"$f":"IF(AND(Configurator!$L$7>\"-307\",Configurator!$I$19=0),\" \",IF(AND(Configurator!$L$7>\"-307\",Configurator!$I$19=5),\"Two modules with high break contacts\",\" \"))","v":"Two modules with high break contacts"},{"$f":"IF(AND(Configurator!$L$7>\"-307\",Configurator!$I$19=0),\" \",IF(AND(Configurator!$L$7>\"-307\",Configurator!$I$19=5),\"Two modules with high break contacts\",\" \"))","v":"Two modules with high break contacts"},{"$f":"IF(AND(Configurator!$L$7>\"-307\",Configurator!$I$19=0),\" \",IF(AND(Configurator!$L$7>\"-307\",Configurator!$I$19=5),\"Two modules with high break contacts\",\" \"))","v":"Two modules with high break contacts"},{"$f":"IF(AND(Configurator!$L$7>\"-307\",Configurator!$I$19=0),\" \",IF(AND(Configurator!$L$7>\"-307\",Configurator!$I$19=5),\"Two modules with high break contacts\",\" \"))","v":"Two modules with high break contacts"},{"$f":"IF(AND(Configurator!$L$7>\"-307\",Configurator!$I$19=0),\" \",IF(AND(Configurator!$L$7>\"-307\",Configurator!$I$19=5),\"Two modules with high break contacts\",\" \"))","v":"Two modules with high break contacts"},132]
[null,0,0,0,0,0,0,0,0,0,0,0,0,0,0,0,0,0,0,0,0,0,0,0,0,0,0,0,0,0,0,0,0,0,0,133]
[null,"*","*",{"$f":"IF(AND(Configurator!$L$7>\"-307\",Configurator!$I$19=0),\"1\",IF(AND(Configurator!$L$7>\"-307\",Configurator!$I$19=5),\"1\",\"*\"))","v":"1"},"*",{"$f":"IF(AND(Configurator!$L$7>\"-307\",Configurator!$I$19=0),\"1\",IF(AND(Configurator!$L$7>\"-307\",Configurator!$I$19=5),\"1\",\"*\"))","v":"1"},{"$f":"IF(AND(Configurator!$L$7>\"-307\",Configurator!$I$19=0),\"1\",IF(AND(Configurator!$L$7>\"-307\",Configurator!$I$19=5),\"1\",\"*\"))","v":"1"},{"$f":"IF(AND(Configurator!$L$7>\"-307\",Configurator!$I$19=0),\"1\",IF(AND(Configurator!$L$7>\"-307\",Configurator!$I$19=5),\"1\",\"*\"))","v":"1"},{"$f":"IF(AND(Configurator!$L$7>\"-307\",Configurator!$I$19=0),\"1\",IF(AND(Configurator!$L$7>\"-307\",Configurator!$I$19=5),\"1\",\"*\"))","v":"1"},{"$f":"IF(AND(Configurator!$L$7>\"-307\",Configurator!$I$19=0),\"1\",IF(AND(Configurator!$L$7>\"-307\",Configurator!$I$19=5),\"1\",\"*\"))","v":"1"},"*",{"$f":"IF(AND(Configurator!$L$7>\"-307\",Configurator!$I$19=0),\"1\",IF(AND(Configurator!$L$7>\"-307\",Configurator!$I$19=5),\"1\",\"*\"))","v":"1"},{"$f":"IF(AND(Configurator!$L$7>\"-307\",Configurator!$I$19=0),\"1\",IF(AND(Configurator!$L$7>\"-307\",Configurator!$I$19=5),\"1\",\"*\"))","v":"1"},{"$f":"IF(AND(Configurator!$L$7>\"-307\",Configurator!$I$19=0),\"1\",IF(AND(Configurator!$L$7>\"-307\",Configurator!$I$19=5),\"1\",\"*\"))","v":"1"},{"$f":"IF(AND(Configurator!$L$7>\"-307\",Configurator!$I$19=0),\"1\",IF(AND(Configurator!$L$7>\"-307\",Configurator!$I$19=5),\"1\",\"*\"))","v":"1"},{"$f":"IF(AND(Configurator!$L$7>\"-307\",Configurator!$I$19=0),\"1\",IF(AND(Configurator!$L$7>\"-307\",Configurator!$I$19=5),\"1\",\"*\"))","v":"1"},{"$f":"IF(AND(Configurator!$L$7>\"-307\",Configurator!$I$19=0),\"1\",IF(AND(Configurator!$L$7>\"-307\",Configurator!$I$19=5),\"1\",\"*\"))","v":"1"},{"$f":"IF(AND(Configurator!$L$7>\"-307\",Configurator!$I$19=0),\"1\",IF(AND(Configurator!$L$7>\"-307\",Configurator!$I$19=5),\"1\",\"*\"))","v":"1"},{"$f":"IF(AND(Configurator!$L$7>\"-307\",Configurator!$I$19=0),\"1\",IF(AND(Configurator!$L$7>\"-307\",Configurator!$I$19=5),\"1\",\"*\"))","v":"1"},{"$f":"IF(AND(Configurator!$L$7>\"-307\",Configurator!$I$19=0),\"1\",IF(AND(Configurator!$L$7>\"-307\",Configurator!$I$19=5),\"1\",\"*\"))","v":"1"},{"$f":"IF(AND(Configurator!$L$7>\"-307\",Configurator!$I$19=0),\"1\",IF(AND(Configurator!$L$7>\"-307\",Configurator!$I$19=5),\"1\",\"*\"))","v":"1"},{"$f":"IF(AND(Configurator!$L$7>\"-307\",Configurator!$I$19=0),\"1\",IF(AND(Configurator!$L$7>\"-307\",Configurator!$I$19=5),\"1\",\"*\"))","v":"1"},{"$f":"IF(AND(Configurator!$L$7>\"-307\",Configurator!$I$19=0),\"1\",IF(AND(Configurator!$L$7>\"-307\",Configurator!$I$19=5),\"1\",\"*\"))","v":"1"},{"$f":"IF(AND(Configurator!$L$7>\"-307\",Configurator!$I$19=0),\"1\",IF(AND(Configurator!$L$7>\"-307\",Configurator!$I$19=5),\"1\",\"*\"))","v":"1"},{"$f":"IF(AND(Configurator!$L$7>\"-307\",Configurator!$I$19=0),\"1\",IF(AND(Configurator!$L$7>\"-307\",Configurator!$I$19=5),\"1\",\"*\"))","v":"1"},{"$f":"IF(AND(Configurator!$L$7>\"-307\",Configurator!$I$19=0),\"1\",IF(AND(Configurator!$L$7>\"-307\",Configurator!$I$19=5),\"1\",\"*\"))","v":"1"},{"$f":"IF(AND(Configurator!$L$7>\"-307\",Configurator!$I$19=0),\"1\",IF(AND(Configurator!$L$7>\"-307\",Configurator!$I$19=5),\"1\",\"*\"))","v":"1"},{"$f":"IF(AND(Configurator!$L$7>\"-307\",Configurator!$I$19=0),\"1\",IF(AND(Configurator!$L$7>\"-307\",Configurator!$I$19=5),\"1\",\"*\"))","v":"1"},{"$f":"IF(AND(Configurator!$L$7>\"-307\",Configurator!$I$19=0),\"1\",IF(AND(Configurator!$L$7>\"-307\",Configurator!$I$19=5),\"1\",\"*\"))","v":"1"},{"$f":"IF(AND(Configurator!$L$7>\"-307\",Configurator!$I$19=0),\"1\",IF(AND(Configurator!$L$7>\"-307\",Configurator!$I$19=5),\"1\",\"*\"))","v":"1"},{"$f":"IF(AND(Configurator!$L$7>\"-307\",Configurator!$I$19=0),\"1\",IF(AND(Configurator!$L$7>\"-307\",Configurator!$I$19=5),\"1\",\"*\"))","v":"1"},{"$f":"IF(AND(Configurator!$L$7>\"-307\",Configurator!$I$19=0),\"1\",IF(AND(Configurator!$L$7>\"-307\",Configurator!$I$19=5),\"1\",\"*\"))","v":"1"},{"$f":"IF(AND(Configurator!$L$7>\"-307\",Configurator!$I$19=0),\"1\",IF(AND(Configurator!$L$7>\"-307\",Configurator!$I$19=5),\"1\",\"*\"))","v":"1"},{"$f":"IF(AND(Configurator!$L$7>\"-307\",Configurator!$I$19=0),\"1\",IF(AND(Configurator!$L$7>\"-307\",Configurator!$I$19=5),\"1\",\"*\"))","v":"1"},{"$f":"IF(AND(Configurator!$L$7>\"-307\",Configurator!$I$19=0),\"1\",IF(AND(Configurator!$L$7>\"-307\",Configurator!$I$19=5),\"1\",\"*\"))","v":"1"},134]
[null,"*","*",{"$f":"IF(AND(Configurator!$L$7>\"-307\",Configurator!$I$19=0),\"1\",IF(AND(Configurator!$L$7>\"-307\",Configurator!$I$19=5),\"2\",\"*\"))","v":"2"},"*",{"$f":"IF(AND(Configurator!$L$7>\"-307\",Configurator!$I$19=0),\"1\",IF(AND(Configurator!$L$7>\"-307\",Configurator!$I$19=5),\"2\",\"*\"))","v":"2"},{"$f":"IF(AND(Configurator!$L$7>\"-307\",Configurator!$I$19=0),\"1\",IF(AND(Configurator!$L$7>\"-307\",Configurator!$I$19=5),\"2\",\"*\"))","v":"2"},{"$f":"IF(AND(Configurator!$L$7>\"-307\",Configurator!$I$19=0),\"1\",IF(AND(Configurator!$L$7>\"-307\",Configurator!$I$19=5),\"2\",\"*\"))","v":"2"},{"$f":"IF(AND(Configurator!$L$7>\"-307\",Configurator!$I$19=0),\"1\",IF(AND(Configurator!$L$7>\"-307\",Configurator!$I$19=5),\"2\",\"*\"))","v":"2"},{"$f":"IF(AND(Configurator!$L$7>\"-307\",Configurator!$I$19=0),\"1\",IF(AND(Configurator!$L$7>\"-307\",Configurator!$I$19=5),\"2\",\"*\"))","v":"2"},"*",{"$f":"IF(AND(Configurator!$L$7>\"-307\",Configurator!$I$19=0),\"1\",IF(AND(Configurator!$L$7>\"-307\",Configurator!$I$19=5),\"2\",\"*\"))","v":"2"},{"$f":"IF(AND(Configurator!$L$7>\"-307\",Configurator!$I$19=0),\"1\",IF(AND(Configurator!$L$7>\"-307\",Configurator!$I$19=5),\"2\",\"*\"))","v":"2"},{"$f":"IF(AND(Configurator!$L$7>\"-307\",Configurator!$I$19=0),\"1\",IF(AND(Configurator!$L$7>\"-307\",Configurator!$I$19=5),\"2\",\"*\"))","v":"2"},{"$f":"IF(AND(Configurator!$L$7>\"-307\",Configurator!$I$19=0),\"1\",IF(AND(Configurator!$L$7>\"-307\",Configurator!$I$19=5),\"2\",\"*\"))","v":"2"},{"$f":"IF(AND(Configurator!$L$7>\"-307\",Configurator!$I$19=0),\"1\",IF(AND(Configurator!$L$7>\"-307\",Configurator!$I$19=5),\"2\",\"*\"))","v":"2"},{"$f":"IF(AND(Configurator!$L$7>\"-307\",Configurator!$I$19=0),\"1\",IF(AND(Configurator!$L$7>\"-307\",Configurator!$I$19=5),\"2\",\"*\"))","v":"2"},{"$f":"IF(AND(Configurator!$L$7>\"-307\",Configurator!$I$19=0),\"1\",IF(AND(Configurator!$L$7>\"-307\",Configurator!$I$19=5),\"2\",\"*\"))","v":"2"},{"$f":"IF(AND(Configurator!$L$7>\"-307\",Configurator!$I$19=0),\"1\",IF(AND(Configurator!$L$7>\"-307\",Configurator!$I$19=5),\"2\",\"*\"))","v":"2"},{"$f":"IF(AND(Configurator!$L$7>\"-307\",Configurator!$I$19=0),\"1\",IF(AND(Configurator!$L$7>\"-307\",Configurator!$I$19=5),\"2\",\"*\"))","v":"2"},{"$f":"IF(AND(Configurator!$L$7>\"-307\",Configurator!$I$19=0),\"1\",IF(AND(Configurator!$L$7>\"-307\",Configurator!$I$19=5),\"2\",\"*\"))","v":"2"},{"$f":"IF(AND(Configurator!$L$7>\"-307\",Configurator!$I$19=0),\"1\",IF(AND(Configurator!$L$7>\"-307\",Configurator!$I$19=5),\"2\",\"*\"))","v":"2"},{"$f":"IF(AND(Configurator!$L$7>\"-307\",Configurator!$I$19=0),\"1\",IF(AND(Configurator!$L$7>\"-307\",Configurator!$I$19=5),\"2\",\"*\"))","v":"2"},{"$f":"IF(AND(Configurator!$L$7>\"-307\",Configurator!$I$19=0),\"1\",IF(AND(Configurator!$L$7>\"-307\",Configurator!$I$19=5),\"2\",\"*\"))","v":"2"},{"$f":"IF(AND(Configurator!$L$7>\"-307\",Configurator!$I$19=0),\"1\",IF(AND(Configurator!$L$7>\"-307\",Configurator!$I$19=5),\"2\",\"*\"))","v":"2"},{"$f":"IF(AND(Configurator!$L$7>\"-307\",Configurator!$I$19=0),\"1\",IF(AND(Configurator!$L$7>\"-307\",Configurator!$I$19=5),\"2\",\"*\"))","v":"2"},{"$f":"IF(AND(Configurator!$L$7>\"-307\",Configurator!$I$19=0),\"1\",IF(AND(Configurator!$L$7>\"-307\",Configurator!$I$19=5),\"2\",\"*\"))","v":"2"},{"$f":"IF(AND(Configurator!$L$7>\"-307\",Configurator!$I$19=0),\"1\",IF(AND(Configurator!$L$7>\"-307\",Configurator!$I$19=5),\"2\",\"*\"))","v":"2"},{"$f":"IF(AND(Configurator!$L$7>\"-307\",Configurator!$I$19=0),\"1\",IF(AND(Configurator!$L$7>\"-307\",Configurator!$I$19=5),\"2\",\"*\"))","v":"2"},{"$f":"IF(AND(Configurator!$L$7>\"-307\",Configurator!$I$19=0),\"1\",IF(AND(Configurator!$L$7>\"-307\",Configurator!$I$19=5),\"2\",\"*\"))","v":"2"},{"$f":"IF(AND(Configurator!$L$7>\"-307\",Configurator!$I$19=0),\"1\",IF(AND(Configurator!$L$7>\"-307\",Configurator!$I$19=5),\"2\",\"*\"))","v":"2"},{"$f":"IF(AND(Configurator!$L$7>\"-307\",Configurator!$I$19=0),\"1\",IF(AND(Configurator!$L$7>\"-307\",Configurator!$I$19=5),\"2\",\"*\"))","v":"2"},{"$f":"IF(AND(Configurator!$L$7>\"-307\",Configurator!$I$19=0),\"1\",IF(AND(Configurator!$L$7>\"-307\",Configurator!$I$19=5),\"2\",\"*\"))","v":"2"},{"$f":"IF(AND(Configurator!$L$7>\"-307\",Configurator!$I$19=0),\"1\",IF(AND(Configurator!$L$7>\"-307\",Configurator!$I$19=5),\"2\",\"*\"))","v":"2"},{"$f":"IF(AND(Configurator!$L$7>\"-307\",Configurator!$I$19=0),\"1\",IF(AND(Configurator!$L$7>\"-307\",Configurator!$I$19=5),\"2\",\"*\"))","v":"2"},135]
["Voltage Threshols for binary inputs","Standard variant with switching threshold at 65% of 24 VDC (Va,min)","Standard variant with switching threshold at 65% of 24 VDC (Va,min)","Standard variant with switching threshold at 65% of 24 VDC (Va,min)","Standard variant with switching threshold at 65% of 24 VDC (Va,min)","Standard variant with switching threshold at 65% of 24 VDC (Va,min)","Standard variant with switching threshold at 65% of 24 VDC (Va,min)","Standard variant with switching threshold at 65% of 24 VDC (Va,min)","Standard variant with switching threshold at 65% of 24 VDC (Va,min)","Standard variant with switching threshold at 65% of 24 VDC (Va,min)","Standard variant with switching threshold at 65% of 24 VDC (Va,min)","Standard variant with switching threshold at 65% of 24 VDC (Va,min)","Standard variant with switching threshold at 65% of 24 VDC (Va,min)","Standard variant with switching threshold at 65% of 24 VDC (Va,min)","Standard variant with switching threshold at 65% of 24 VDC (Va,min)","Standard variant with switching threshold at 65% of 24 VDC (Va,min)","Standard variant with switching threshold at 65% of 24 VDC (Va,min)","Standard variant with switching threshold at 65% of 24 VDC (Va,min)","Standard variant with switching threshold at 65% of 24 VDC (Va,min)","Standard variant with switching threshold at 65% of 24 VDC (Va,min)","Standard variant with switching threshold at 65% of 24 VDC (Va,min)","Standard variant with switching threshold at 65% of 24 VDC (Va,min)","Standard variant with switching threshold at 65% of 24 VDC (Va,min)","Standard variant with switching threshold at 65% of 24 VDC (Va,min)","Standard variant with switching threshold at 65% of 24 VDC (Va,min)","Standard variant with switching threshold at 65% of 24 VDC (Va,min)","Standard variant with switching threshold at 65% of 24 VDC (Va,min)","Standard variant with switching threshold at 65% of 24 VDC (Va,min)","Standard variant with switching threshold at 65% of 24 VDC (Va,min)","Standard variant with switching threshold at 65% of 24 VDC (Va,min)","Standard variant with switching threshold at 65% of 24 VDC (Va,min)","Standard variant with switching threshold at 65% of 24 VDC (Va,min)","Standard variant with switching threshold at 65% of 24 VDC (Va,min)","Standard variant with switching threshold at 65% of 24 VDC (Va,min)","Standard variant with switching threshold at 65% of 24 VDC (Va,min)",136]
[null,"Special variant with switching threshold at 65% of 127 VDC (Va,nom)","Special variant with switching threshold at 65% of 127 VDC (Va,nom)","Special variant with switching threshold at 65% of 127 VDC (Va,nom)","Special variant with switching threshold at 65% of 127 VDC (Va,nom)","Special variant with switching threshold at 65% of 127 VDC (Va,nom)","Special variant with switching threshold at 65% of 127 VDC (Va,nom)","Special variant with switching threshold at 65% of 127 VDC (Va,nom)","Special variant with switching threshold at 65% of 127 VDC (Va,nom)","Special variant with switching threshold at 65% of 127 VDC (Va,nom)","Special variant with switching threshold at 65% of 127 VDC (Va,nom)","Special variant with switching threshold at 65% of 127 VDC (Va,nom)","Special variant with switching threshold at 65% of 127 VDC (Va,nom)","Special variant with switching threshold at 65% of 127 VDC (Va,nom)","Special variant with switching threshold at 65% of 127 VDC (Va,nom)","Special variant with switching threshold at 65% of 127 VDC (Va,nom)","Special variant with switching threshold at 65% of 127 VDC (Va,nom)","Special variant with switching threshold at 65% of 127 VDC (Va,nom)","Special variant with switching threshold at 65% of 127 VDC (Va,nom)","Special variant with switching threshold at 65% of 127 VDC (Va,nom)","Special variant with switching threshold at 65% of 127 VDC (Va,nom)","Special variant with switching threshold at 65% of 127 VDC (Va,nom)","Special variant with switching threshold at 65% of 127 VDC (Va,nom)","Special variant with switching threshold at 65% of 127 VDC (Va,nom)","Special variant with switching threshold at 65% of 127 VDC (Va,nom)","Special variant with switching threshold at 65% of 127 VDC (Va,nom)","Special variant with switching threshold at 65% of 127 VDC (Va,nom)","Special variant with switching threshold at 65% of 127 VDC (Va,nom)","Special variant with switching threshold at 65% of 127 VDC (Va,nom)","Special variant with switching threshold at 65% of 127 VDC (Va,nom)","Special variant with switching threshold at 65% of 127 VDC (Va,nom)","Special variant with switching threshold at 65% of 127 VDC (Va,nom)","Special variant with switching threshold at 65% of 127 VDC (Va,nom)","Special variant with switching threshold at 65% of 127 VDC (Va,nom)","Special variant with switching threshold at 65% of 127 VDC (Va,nom)",137]
[null,"Special variant with switching threshold at 65% of 250 VDC (Va,nom)","Special variant with switching threshold at 65% of 250 VDC (Va,nom)","Special variant with switching threshold at 65% of 250 VDC (Va,nom)","Special variant with switching threshold at 65% of 250 VDC (Va,nom)","Special variant with switching threshold at 65% of 250 VDC (Va,nom)","Special variant with switching threshold at 65% of 250 VDC (Va,nom)","Special variant with switching threshold at 65% of 250 VDC (Va,nom)","Special variant with switching threshold at 65% of 250 VDC (Va,nom)","Special variant with switching threshold at 65% of 250 VDC (Va,nom)","Special variant with switching threshold at 65% of 250 VDC (Va,nom)","Special variant with switching threshold at 65% of 250 VDC (Va,nom)","Special variant with switching threshold at 65% of 250 VDC (Va,nom)","Special variant with switching threshold at 65% of 250 VDC (Va,nom)","Special variant with switching threshold at 65% of 250 VDC (Va,nom)","Special variant with switching threshold at 65% of 250 VDC (Va,nom)","Special variant with switching threshold at 65% of 250 VDC (Va,nom)","Special variant with switching threshold at 65% of 250 VDC (Va,nom)","Special variant with switching threshold at 65% of 250 VDC (Va,nom)","Special variant with switching threshold at 65% of 250 VDC (Va,nom)","Special variant with switching threshold at 65% of 250 VDC (Va,nom)","Special variant with switching threshold at 65% of 250 VDC (Va,nom)","Special variant with switching threshold at 65% of 250 VDC (Va,nom)","Special variant with switching threshold at 65% of 250 VDC (Va,nom)","Special variant with switching threshold at 65% of 250 VDC (Va,nom)","Special variant with switching threshold at 65% of 250 VDC (Va,nom)","Special variant with switching threshold at 65% of 250 VDC (Va,nom)","Special variant with switching threshold at 65% of 250 VDC (Va,nom)","Special variant with switching threshold at 65% of 250 VDC (Va,nom)","Special variant with switching threshold at 65% of 250 VDC (Va,nom)","Special variant with switching threshold at 65% of 250 VDC (Va,nom)","Special variant with switching threshold at 65% of 250 VDC (Va,nom)","Special variant with switching threshold at 65% of 250 VDC (Va,nom)","Special variant with switching threshold at 65% of 250 VDC (Va,nom)","Special variant with switching threshold at 65% of 250 VDC (Va,nom)",138]
[null,{"$f":"IF(Configurator!$T$5=\"5\",\"\",D140)","v":"Special variant with switching threshold at 65% of 110 VDC (Va,nom)"},{"$f":"IF(Configurator!$T$5=\"5\",\"\",D140)","v":"Special variant with switching threshold at 65% of 110 VDC (Va,nom)"},"Special variant with switching threshold at 65% of 110 VDC (Va,nom)","Special variant with switching threshold at 65% of 110 VDC (Va,nom)","Special variant with switching threshold at 65% of 110 VDC (Va,nom)","Special variant with switching threshold at 65% of 110 VDC (Va,nom)","Special variant with switching threshold at 65% of 110 VDC (Va,nom)","Special variant with switching threshold at 65% of 110 VDC (Va,nom)","Special variant with switching threshold at 65% of 110 VDC (Va,nom)","Special variant with switching threshold at 65% of 110 VDC (Va,nom)","Special variant with switching threshold at 65% of 110 VDC (Va,nom)","Special variant with switching threshold at 65% of 110 VDC (Va,nom)","Special variant with switching threshold at 65% of 110 VDC (Va,nom)","Special variant with switching threshold at 65% of 110 VDC (Va,nom)","Special variant with switching threshold at 65% of 110 VDC (Va,nom)","Special variant with switching threshold at 65% of 110 VDC (Va,nom)","Special variant with switching threshold at 65% of 110 VDC (Va,nom)","Special variant with switching threshold at 65% of 110 VDC (Va,nom)","Special variant with switching threshold at 65% of 110 VDC (Va,nom)","Special variant with switching threshold at 65% of 110 VDC (Va,nom)","Special variant with switching threshold at 65% of 110 VDC (Va,nom)","Special variant with switching threshold at 65% of 110 VDC (Va,nom)","Special variant with switching threshold at 65% of 110 VDC (Va,nom)","Special variant with switching threshold at 65% of 110 VDC (Va,nom)","Special variant with switching threshold at 65% of 110 VDC (Va,nom)","Special variant with switching threshold at 65% of 110 VDC (Va,nom)","Special variant with switching threshold at 65% of 110 VDC (Va,nom)","Special variant with switching threshold at 65% of 110 VDC (Va,nom)","Special variant with switching threshold at 65% of 110 VDC (Va,nom)","Special variant with switching threshold at 65% of 110 VDC (Va,nom)","Special variant with switching threshold at 65% of 110 VDC (Va,nom)","Special variant with switching threshold at 65% of 110 VDC (Va,nom)","Special variant with switching threshold at 65% of 110 VDC (Va,nom)","Special variant with switching threshold at 65% of 110 VDC (Va,nom)",139]
[null,{"$f":"IF(Configurator!$T$5=\"5\",\"\",D141)","v":"Special variant with switching threshold at 65% of 220 VDC (Va,nom)"},{"$f":"IF(Configurator!$T$5=\"5\",\"\",D141)","v":"Special variant with switching threshold at 65% of 220 VDC (Va,nom)"},"Special variant with switching threshold at 65% of 220 VDC (Va,nom)","Special variant with switching threshold at 65% of 220 VDC (Va,nom)","Special variant with switching threshold at 65% of 220 VDC (Va,nom)","Special variant with switching threshold at 65% of 220 VDC (Va,nom)","Special variant with switching threshold at 65% of 220 VDC (Va,nom)","Special variant with switching threshold at 65% of 220 VDC (Va,nom)","Special variant with switching threshold at 65% of 220 VDC (Va,nom)","Special variant with switching threshold at 65% of 220 VDC (Va,nom)","Special variant with switching threshold at 65% of 220 VDC (Va,nom)","Special variant with switching threshold at 65% of 220 VDC (Va,nom)","Special variant with switching threshold at 65% of 220 VDC (Va,nom)","Special variant with switching threshold at 65% of 220 VDC (Va,nom)","Special variant with switching threshold at 65% of 220 VDC (Va,nom)","Special variant with switching threshold at 65% of 220 VDC (Va,nom)","Special variant with switching threshold at 65% of 220 VDC (Va,nom)","Special variant with switching threshold at 65% of 220 VDC (Va,nom)","Special variant with switching threshold at 65% of 220 VDC (Va,nom)","Special variant with switching threshold at 65% of 220 VDC (Va,nom)","Special variant with switching threshold at 65% of 220 VDC (Va,nom)","Special variant with switching threshold at 65% of 220 VDC (Va,nom)","Special variant with switching threshold at 65% of 220 VDC (Va,nom)","Special variant with switching threshold at 65% of 220 VDC (Va,nom)","Special variant with switching threshold at 65% of 220 VDC (Va,nom)","Special variant with switching threshold at 65% of 220 VDC (Va,nom)","Special variant with switching threshold at 65% of 220 VDC (Va,nom)","Special variant with switching threshold at 65% of 220 VDC (Va,nom)","Special variant with switching threshold at 65% of 220 VDC (Va,nom)","Special variant with switching threshold at 65% of 220 VDC (Va,nom)","Special variant with switching threshold at 65% of 220 VDC (Va,nom)","Special variant with switching threshold at 65% of 220 VDC (Va,nom)","Special variant with switching threshold at 65% of 220 VDC (Va,nom)","Special variant with switching threshold at 65% of 220 VDC (Va,nom)",140]
[null," "," "," "," "," "," "," "," "," "," "," "," "," "," "," "," "," "," "," "," "," "," "," "," "," "," "," "," "," "," "," "," "," "," ",141]
[null,"-461","-461","-461","-461","-461","-461","-461","-461","-461","-461","-461","-461","-461","-461","-461","-461","-461","-461","-461","-461","-461","-461","-461","-461","-461","-461","-461","-461","-461","-461","-461","-461","-461","-461",142]
[null,"-462","-462","-462","-462","-462","-462","-462","-462","-462","-462","-462","-462","-462","-462","-462","-462","-462","-462","-462","-462","-462","-462","-462","-462","-462","-462","-462","-462","-462","-462","-462","-462","-462","-462",143]
[null,{"$f":"IF(Configurator!$T$5=\"5\",\"-462\",\"-463\")","v":"-463"},{"$f":"IF(Configurator!$T$5=\"5\",\"-462\",\"-463\")","v":"-463"},"-463","-463","-463","-463","-463","-463","-463","-463","-463","-463","-463","-463","-463","-463","-463","-463","-463","-463","-463","-463","-463","-463","-463","-463","-463","-463","-463","-463","-463","-463","-463","-463",144]
[null,{"$f":"IF(Configurator!$T$5=\"5\",\"-462\",\"-464\")","v":"-464"},{"$f":"IF(Configurator!$T$5=\"5\",\"-462\",\"-464\")","v":"-464"},"-464","-464","-464","-464","-464","-464","-464","-464","-464","-464","-464","-464","-464","-464","-464","-464","-464","-464","-464","-464","-464","-464","-464","-464","-464","-464","-464","-464","-464","-464","-464","-464",145]
["Inter-MiCOM",{"$f":"IF(Configurator!$D$26<\"E\",\"Not Yet Available\",\"None\")","v":"Not Yet Available"},{"$f":"IF(Configurator!$D$26<\"E\",\"Not Yet Available\",\"None\")","v":"Not Yet Available"},"None","None","None","None","None","None","None","None","None","None","None","None","None","None","None","None","None","None","None","None","None","None","None","None","None","None","None","None","None","None","None","None",146]
[null,{"$f":"IF(Configurator!$D$26<\"E\",\" \",\"For connection to wire, RS485, isolated\")","v":" "},{"$f":"IF(Configurator!$D$26<\"E\",\" \",\"For connection to wire, RS485, isolated\")","v":" "},"For connection to wire, RS485, isolated","For connection to wire, RS485, isolated","For connection to wire, RS485, isolated","For connection to wire, RS485, isolated","For connection to wire, RS485, isolated","For connection to wire, RS485, isolated","For connection to wire, RS485, isolated","For connection to wire, RS485, isolated","For connection to wire, RS485, isolated","For connection to wire, RS485, isolated","For connection to wire, RS485, isolated","For connection to wire, RS485, isolated","For connection to wire, RS485, isolated","For connection to wire, RS485, isolated","For connection to wire, RS485, isolated","For connection to wire, RS485, isolated","For connection to wire, RS485, isolated","For connection to wire, RS485, isolated","For connection to wire, RS485, isolated","For connection to wire, RS485, isolated","For connection to wire, RS485, isolated","For connection to wire, RS485, isolated","For connection to wire, RS485, isolated","For connection to wire, RS485, isolated","For connection to wire, RS485, isolated","For connection to wire, RS485, isolated","For connection to wire, RS485, isolated","For connection to wire, RS485, isolated","For connection to wire, RS485, isolated","For connection to wire, RS485, isolated","For connection to wire, RS485, isolated","For connection to wire, RS485, isolated",147]
[null,{"$f":"IF(Configurator!$D$26<\"E\",\" \",\"For connection to plastic fibre, FSMA connector\")","v":" "},{"$f":"IF(Configurator!$D$26<\"E\",\" \",\"For connection to plastic fibre, FSMA connector\")","v":" "},"For connection to plastic fibre, FSMA connector","For connection to plastic fibre, FSMA connector","For connection to plastic fibre, FSMA connector","For connection to plastic fibre, FSMA connector","For connection to plastic fibre, FSMA connector","For connection to plastic fibre, FSMA connector","For connection to plastic fibre, FSMA connector","For connection to plastic fibre, FSMA connector","For connection to plastic fibre, FSMA connector","For connection to plastic fibre, FSMA connector","For connection to plastic fibre, FSMA connector","For connection to plastic fibre, FSMA connector","For connection to plastic fibre, FSMA connector","For connection to plastic fibre, FSMA connector","For connection to plastic fibre, FSMA connector","For connection to plastic fibre, FSMA connector","For connection to plastic fibre, FSMA connector","For connection to plastic fibre, FSMA connector","For connection to plastic fibre, FSMA connector","For connection to plastic fibre, FSMA connector","For connection to plastic fibre, FSMA connector","For connection to plastic fibre, FSMA connector","For connection to plastic fibre, FSMA connector","For connection to plastic fibre, FSMA connector","For connection to plastic fibre, FSMA connector","For connection to plastic fibre, FSMA connector","For connection to plastic fibre, FSMA connector","For connection to plastic fibre, FSMA connector","For connection to plastic fibre, FSMA connector","For connection to plastic fibre, FSMA connector","For connection to plastic fibre, FSMA connector","For connection to plastic fibre, FSMA connector",148]
[null,{"$f":"IF(Configurator!$D$26<\"E\",\" \",\"For connection to glass fibre, ST connector\")","v":" "},{"$f":"IF(Configurator!$D$26<\"E\",\" \",\"For connection to glass fibre, ST connector\")","v":" "},"For connection to glass fibre, ST connector","For connection to glass fibre, ST connector","For connection to glass fibre, ST connector","For connection to glass fibre, ST connector","For connection to glass fibre, ST connector","For connection to glass fibre, ST connector","For connection to glass fibre, ST connector","For connection to glass fibre, ST connector","For connection to glass fibre, ST connector","For connection to glass fibre, ST connector","For connection to glass fibre, ST connector","For connection to glass fibre, ST connector","For connection to glass fibre, ST connector","For connection to glass fibre, ST connector","For connection to glass fibre, ST connector","For connection to glass fibre, ST connector","For connection to glass fibre, ST connector","For connection to glass fibre, ST connector","For connection to glass fibre, ST connector","For connection to glass fibre, ST connector","For connection to glass fibre, ST connector","For connection to glass fibre, ST connector","For connection to glass fibre, ST connector","For connection to glass fibre, ST connector","For connection to glass fibre, ST connector","For connection to glass fibre, ST connector","For connection to glass fibre, ST connector","For connection to glass fibre, ST connector","For connection to glass fibre, ST connector","For connection to glass fibre, ST connector","For connection to glass fibre, ST connector","For connection to glass fibre, ST connector",149]
[null,{"$f":"IF(Configurator!$D$26<\"E\",\" \",\"For connection to wire, RS232\")","v":" "},{"$f":"IF(Configurator!$D$26<\"E\",\" \",\"For connection to wire, RS232\")","v":" "},"For connection to wire, RS232","For connection to wire, RS232","For connection to wire, RS232","For connection to wire, RS232","For connection to wire, RS232","For connection to wire, RS232","For connection to wire, RS232","For connection to wire, RS232","For connection to wire, RS232","For connection to wire, RS232","For connection to wire, RS232","For connection to wire, RS232","For connection to wire, RS232","For connection to wire, RS232","For connection to wire, RS232","For connection to wire, RS232","For connection to wire, RS232","For connection to wire, RS232","For connection to wire, RS232","For connection to wire, RS232","For connection to wire, RS232","For connection to wire, RS232","For connection to wire, RS232","For connection to wire, RS232","For connection to wire, RS232","For connection to wire, RS232","For connection to wire, RS232","For connection to wire, RS232","For connection to wire, RS232","For connection to wire, RS232","For connection to wire, RS232","For connection to wire, RS232",150]
[null,{"$f":"IF(Configurator!$D$26<\"E\",\" \",\"-950\")","v":" "},{"$f":"IF(Configurator!$D$26<\"E\",\" \",\"-950\")","v":" "},"-950","-950","-950","-950","-950","-950","-950","-950","-950","-950","-950","-950","-950","-950","-950","-950","-950","-950","-950","-950","-950","-950","-950","-950","-950","-950","-950","-950","-950","-950","-950","-950",151]
[null,{"$f":"IF(Configurator!$D$26<\"E\",\" \",\"-951\")","v":" "},{"$f":"IF(Configurator!$D$26<\"E\",\" \",\"-951\")","v":" "},"-951","-951","-951","-951","-951","-951","-951","-951","-951","-951","-951","-951","-951","-951","-951","-951","-951","-951","-951","-951","-951","-951","-951","-951","-951","-951","-951","-951","-951","-951","-951","-951",152]
[null,{"$f":"IF(Configurator!$D$26<\"E\",\" \",\"-952\")","v":" "},{"$f":"IF(Configurator!$D$26<\"E\",\" \",\"-952\")","v":" "},"-952","-952","-952","-952","-952","-952","-952","-952","-952","-952","-952","-952","-952","-952","-952","-952","-952","-952","-952","-952","-952","-952","-952","-952","-952","-952","-952","-952","-952","-952","-952","-952",153]
[null,{"$f":"IF(Configurator!$D$26<\"E\",\" \",\"-954\")","v":" "},{"$f":"IF(Configurator!$D$26<\"E\",\" \",\"-954\")","v":" "},"-954","-954","-954","-954","-954","-954","-954","-954","-954","-954","-954","-954","-954","-954","-954","-954","-954","-954","-954","-954","-954","-954","-954","-954","-954","-954","-954","-954","-954","-954","-954","-954",154]
[null,{"$f":"IF(Configurator!$D$26<\"E\",\" \",\"-955\")","v":" "},{"$f":"IF(Configurator!$D$26<\"E\",\" \",\"-955\")","v":" "},"-955","-955","-955","-955","-955","-955","-955","-955","-955","-955","-955","-955","-955","-955","-955","-955","-955","-955","-955","-955","-955","-955","-955","-955","-955","-955","-955","-955","-955","-955","-955","-955",155]
["Comms"," "," "," "," "," "," "," "," "," "," "," "," "," "," "," "," "," "," "," "," "," "," "," "," "," "," "," "," "," "," "," "," "," "," ",156]
[null," "," "," "," "," "," "," "," "," "," "," "," "," "," "," "," "," "," "," "," "," "," "," "," "," "," "," "," "," "," "," "," "," "," ",157]
[null," "," "," "," "," "," "," "," "," "," "," "," "," "," "," "," "," "," "," "," "," "," "," "," "," "," "," "," "," "," "," "," "," "," ",158]
[null,"-921","-921","-921","-921","-921","-921","-921","-921","-921","-921","-921","-921","-921","-921","-921","-921","-921","-921","-921","-921","-921","-921","-921","-921","-921","-921","-921","-921","-921","-921","-921","-921","-921","-921",159]
[null,"-922","-922","-922","-922","-922","-922","-922","-922","-922","-922","-922","-922","-922","-922","-922","-922","-922","-922","-922","-922","-922","-922","-922","-922","-922","-922","-922","-922","-922","-922","-922","-922","-922","-922",160]
[null,"-924","-924","-924","-924","-924","-924","-924","-924","-924","-924","-924","-924","-924","-924","-924","-924","-924","-924","-924","-924","-924","-924","-924","-924","-924","-924","-924","-924","-924","-924","-924","-924","-924","-924",161]
[null,{"$f":"IF(Configurator!$T$5=\"5\",\"-***\",\"-946\")","v":"-946"},{"$f":"IF(Configurator!$T$5=\"5\",\"-***\",\"-946\")","v":"-946"},"-946","-946","-946","-946","-946","-946","-946","-946","-946","-946","-946","-946","-946","-946","-946","-946","-946","-946","-946","-946","-946","-946","-946","-946","-946","-971","-946","-946","-946","-971","-971","-971",162]
[null,{"$f":"IF(Configurator!$T$5=\"5\",\"-***\",\"-947\")","v":"-947"},{"$f":"IF(Configurator!$T$5=\"5\",\"-***\",\"-947\")","v":"-947"},"-947","-947","-947","-947","-947","-947","-947","-947","-947","-947","-947","-947","-947","-947","-947","-947","-947","-947","-947","-947","-947","-947","-947","-947","-947","-972","-947","-947","-947","-972","-972","-972",163]
[null,0,0,0,0,0,0,0,0,0,0,0,0,0,0,0,0,0,0,0,0,0,0,0,0,0,0,0,0,0,0,0,0,0,0,164]
[null,0,0,0,0,0,0,0,0,0,0,0,0,0,0,0,0,0,0,0,0,0,0,0,0,0,0,0,0,0,0,0,0,0,0,165]
[null,0,0,0,0,0,0,0,0,0,0,0,0,0,0,0,0,0,0,0,0,0,0,0,0,0,0,0,0,0,0,0,0,0,0,166]
[null,"E","E","E","E","E","E","E","E","E","E","E","E","E","E","E","E","E","E","E","E","E","E","E","E","E","E","E","E","E","E","E","E","E","E",167]
[null,"F","F","F","F","F","F","F","F","F","F","F","F","F","F","F","F","F","F","F","F","F","F","F","F","F","F","F","F","F","F","F","F","F","F",168]
[null,"G","G","G","G","G","G","G","G","G","G","G","G","G","G","G","G","G","G","G","G","G","G","G","G","G","G","G","G","G","G","G","G","G","G",169]
[null,{"$f":"IF(Configurator!$T$5=\"5\",\"-***\",\"J\")","v":"J"},{"$f":"IF(Configurator!$T$5=\"5\",\"-***\",\"J\")","v":"J"},"J","J","J","J","J","J","J","J","J","J","J","J","J","J","J","J","J","J","J","J","J","J","J","J","J","R","J","J","J","R","R","R",170]
[null,{"$f":"IF(Configurator!$T$5=\"5\",\"-***\",\"K\")","v":"K"},{"$f":"IF(Configurator!$T$5=\"5\",\"-***\",\"K\")","v":"K"},"K","K","K","K","K","K","K","K","K","K","K","K","K","K","K","K","K","K","K","K","K","K","K","K","K","S","K","K","K","S","S","S",171]
["Extra Numbers in Model Number","0","0","0","0","0","0","0","0","0","0","0","0","0","0","0","0","0","0","0","0","0","0","0","0","0","0","0","0","0","0","0","0","0","0",172]
["Inter-MiCOM if TGFM is Chosen","Not Available with Transient Ground Fault Module fitted","Not Available with Transient Ground Fault Module fitted","Not Available with Transient Ground Fault Module fitted","Not Available with Transient Ground Fault Module fitted","Not Available with Transient Ground Fault Module fitted","Not Available with Transient Ground Fault Module fitted","Not Available with Transient Ground Fault Module fitted","Not Available with Transient Ground Fault Module fitted","Not Available with Transient Ground Fault Module fitted","Not Available with Transient Ground Fault Module fitted","Not Available with Transient Ground Fault Module fitted","Not Available with Transient Ground Fault Module fitted","Not Available with Transient Ground Fault Module fitted","Not Available with Transient Ground Fault Module fitted","Not Available with Transient Ground Fault Module fitted","Not Available with Transient Ground Fault Module fitted","Not Available with Transient Ground Fault Module fitted","Not Available with Transient Ground Fault Module fitted","Not Available with Transient Ground Fault Module fitted","Not Available with Transient Ground Fault Module fitted","Not Available with Transient Ground Fault Module fitted","Not Available with Transient Ground Fault Module fitted","Not Available with Transient Ground Fault Module fitted","Not Available with Transient Ground Fault Module fitted","Not Available with Transient Ground Fault Module fitted","Not Available with Transient Ground Fault Module fitted","Not Available with Transient Ground Fault Module fitted","Not Available with Transient Ground Fault Module fitted","Not Available with Transient Ground Fault Module fitted","Not Available with Transient Ground Fault Module fitted","Not Available with Transient Ground Fault Module fitted","Not Available with Transient Ground Fault Module fitted","Not Available with Transient Ground Fault Module fitted","Not Available with Transient Ground Fault Module fitted",173]
["Inter-MiCOM continued","0","0","0","0","0","0","0","0","0","0","0","0","0","0","0","0","0","0","0","0","0","0","0","0","0","0","0","0","0","0","0","0","0","0",174]
[null,{"$f":"IF(OR(Configurator!$D$26<\"E\",Configurator!$D$23>7,Configurator!$D$23=1,Configurator!$D$23=3),\"0\",\"A\")","v":"0"},{"$f":"IF(OR(Configurator!$D$26<\"E\",Configurator!$D$23>7,Configurator!$D$23=1,Configurator!$D$23=3),\"0\",\"A\")","v":"0"},{"$f":"IF(OR(Configurator!$D$26<\"E\",Configurator!$D$23>7,Configurator!$D$23=1,Configurator!$D$23=3),\"0\",\"A\")","v":"0"},{"$f":"IF(OR(Configurator!$D$26<\"E\",Configurator!$D$23>7,Configurator!$D$23=1,Configurator!$D$23=3),\"0\",\"A\")","v":"0"},{"$f":"IF(OR(Configurator!$D$26<\"E\",Configurator!$D$23>7,Configurator!$D$23=1,Configurator!$D$23=3),\"0\",\"A\")","v":"0"},{"$f":"IF(OR(Configurator!$D$26<\"E\",Configurator!$D$23>7,Configurator!$D$23=1,Configurator!$D$23=3),\"0\",\"A\")","v":"0"},{"$f":"IF(OR(Configurator!$D$26<\"E\",Configurator!$D$23>7,Configurator!$D$23=1,Configurator!$D$23=3),\"0\",\"A\")","v":"0"},{"$f":"IF(OR(Configurator!$D$26<\"E\",Configurator!$D$23>7,Configurator!$D$23=1,Configurator!$D$23=3),\"0\",\"A\")","v":"0"},{"$f":"IF(OR(Configurator!$D$26<\"E\",Configurator!$D$23>7,Configurator!$D$23=1,Configurator!$D$23=3),\"0\",\"A\")","v":"0"},{"$f":"IF(OR(Configurator!$D$26<\"E\",Configurator!$D$23>7,Configurator!$D$23=1,Configurator!$D$23=3),\"0\",\"A\")","v":"0"},{"$f":"IF(OR(Configurator!$D$23>7,Configurator!$D$23=1,Configurator!$D$23=3),\"0\",\"A\")","v":"A"},{"$f":"IF(OR(Configurator!$D$23>7,Configurator!$D$23=1,Configurator!$D$23=3),\"0\",\"A\")","v":"A"},{"$f":"IF(OR(Configurator!$D$23>7,Configurator!$D$23=1,Configurator!$D$23=3),\"0\",\"A\")","v":"A"},{"$f":"IF(OR(Configurator!$D$23>7,Configurator!$D$23=1,Configurator!$D$23=3),\"0\",\"A\")","v":"A"},{"$f":"IF(OR(Configurator!$D$23>7,Configurator!$D$23=1,Configurator!$D$23=3),\"0\",\"A\")","v":"A"},{"$f":"IF(OR(Configurator!$D$23>7,Configurator!$D$23=1,Configurator!$D$23=3),\"0\",\"A\")","v":"A"},{"$f":"IF(OR(Configurator!$D$23>7,Configurator!$D$23=1,Configurator!$D$23=3),\"0\",\"A\")","v":"A"},{"$f":"IF(OR(Configurator!$D$23>7,Configurator!$D$23=1,Configurator!$D$23=3),\"0\",\"A\")","v":"A"},{"$f":"IF(OR(Configurator!$D$23>7,Configurator!$D$23=1,Configurator!$D$23=3),\"0\",\"A\")","v":"A"},{"$f":"IF(OR(Configurator!$D$23>7,Configurator!$D$23=1,Configurator!$D$23=3),\"0\",\"A\")","v":"A"},{"$f":"IF(OR(Configurator!$D$23>7,Configurator!$D$23=1,Configurator!$D$23=3),\"0\",\"A\")","v":"A"},{"$f":"IF(OR(Configurator!$D$23>7,Configurator!$D$23=1,Configurator!$D$23=3),\"0\",\"A\")","v":"A"},{"$f":"IF(OR(Configurator!$D$23>7,Configurator!$D$23=1,Configurator!$D$23=3),\"0\",\"A\")","v":"A"},{"$f":"IF(OR(Configurator!$D$23>7,Configurator!$D$23=1,Configurator!$D$23=3),\"0\",\"A\")","v":"A"},{"$f":"IF(OR(Configurator!$D$23>7,Configurator!$D$23=1,Configurator!$D$23=3),\"0\",\"A\")","v":"A"},{"$f":"IF(OR(Configurator!$D$23>7,Configurator!$D$23=1,Configurator!$D$23=3),\"0\",\"A\")","v":"A"},{"$f":"IF(OR(Configurator!$D$23>7,Configurator!$D$23=1,Configurator!$D$23=3),\"0\",\"A\")","v":"A"},{"$f":"IF(OR(Configurator!$D$23>7,Configurator!$D$23=1,Configurator!$D$23=3),\"0\",\"A\")","v":"A"},{"$f":"IF(OR(Configurator!$D$23>7,Configurator!$D$23=1,Configurator!$D$23=3),\"0\",\"A\")","v":"A"},{"$f":"IF(OR(Configurator!$D$23>7,Configurator!$D$23=1,Configurator!$D$23=3),\"0\",\"A\")","v":"A"},{"$f":"IF(OR(Configurator!$D$23>7,Configurator!$D$23=1,Configurator!$D$23=3),\"0\",\"A\")","v":"A"},{"$f":"IF(OR(Configurator!$D$23>7,Configurator!$D$23=1,Configurator!$D$23=3),\"0\",\"A\")","v":"A"},{"$f":"IF(OR(Configurator!$D$23>7,Configurator!$D$23=1,Configurator!$D$23=3),\"0\",\"A\")","v":"A"},{"$f":"IF(OR(Configurator!$D$23>7,Configurator!$D$23=1,Configurator!$D$23=3),\"0\",\"A\")","v":"A"},175]
[null,{"$f":"IF(OR(Configurator!$D$26<\"E\",Configurator!$D$23>7,Configurator!$D$23=1,Configurator!$D$23=3),\"0\",\"B\")","v":"0"},{"$f":"IF(OR(Configurator!$D$26<\"E\",Configurator!$D$23>7,Configurator!$D$23=1,Configurator!$D$23=3),\"0\",\"B\")","v":"0"},{"$f":"IF(OR(Configurator!$D$26<\"E\",Configurator!$D$23>7,Configurator!$D$23=1,Configurator!$D$23=3),\"0\",\"B\")","v":"0"},{"$f":"IF(OR(Configurator!$D$26<\"E\",Configurator!$D$23>7,Configurator!$D$23=1,Configurator!$D$23=3),\"0\",\"B\")","v":"0"},{"$f":"IF(OR(Configurator!$D$26<\"E\",Configurator!$D$23>7,Configurator!$D$23=1,Configurator!$D$23=3),\"0\",\"B\")","v":"0"},{"$f":"IF(OR(Configurator!$D$26<\"E\",Configurator!$D$23>7,Configurator!$D$23=1,Configurator!$D$23=3),\"0\",\"B\")","v":"0"},{"$f":"IF(OR(Configurator!$D$26<\"E\",Configurator!$D$23>7,Configurator!$D$23=1,Configurator!$D$23=3),\"0\",\"B\")","v":"0"},{"$f":"IF(OR(Configurator!$D$26<\"E\",Configurator!$D$23>7,Configurator!$D$23=1,Configurator!$D$23=3),\"0\",\"B\")","v":"0"},{"$f":"IF(OR(Configurator!$D$26<\"E\",Configurator!$D$23>7,Configurator!$D$23=1,Configurator!$D$23=3),\"0\",\"B\")","v":"0"},{"$f":"IF(OR(Configurator!$D$26<\"E\",Configurator!$D$23>7,Configurator!$D$23=1,Configurator!$D$23=3),\"0\",\"B\")","v":"0"},{"$f":"IF(OR(Configurator!$D$23>7,Configurator!$D$23=1,Configurator!$D$23=3),\"0\",\"B\")","v":"B"},{"$f":"IF(OR(Configurator!$D$23>7,Configurator!$D$23=1,Configurator!$D$23=3),\"0\",\"B\")","v":"B"},{"$f":"IF(OR(Configurator!$D$23>7,Configurator!$D$23=1,Configurator!$D$23=3),\"0\",\"B\")","v":"B"},{"$f":"IF(OR(Configurator!$D$23>7,Configurator!$D$23=1,Configurator!$D$23=3),\"0\",\"B\")","v":"B"},{"$f":"IF(OR(Configurator!$D$23>7,Configurator!$D$23=1,Configurator!$D$23=3),\"0\",\"B\")","v":"B"},{"$f":"IF(OR(Configurator!$D$23>7,Configurator!$D$23=1,Configurator!$D$23=3),\"0\",\"B\")","v":"B"},{"$f":"IF(OR(Configurator!$D$23>7,Configurator!$D$23=1,Configurator!$D$23=3),\"0\",\"B\")","v":"B"},{"$f":"IF(OR(Configurator!$D$23>7,Configurator!$D$23=1,Configurator!$D$23=3),\"0\",\"B\")","v":"B"},{"$f":"IF(OR(Configurator!$D$23>7,Configurator!$D$23=1,Configurator!$D$23=3),\"0\",\"B\")","v":"B"},{"$f":"IF(OR(Configurator!$D$23>7,Configurator!$D$23=1,Configurator!$D$23=3),\"0\",\"B\")","v":"B"},{"$f":"IF(OR(Configurator!$D$23>7,Configurator!$D$23=1,Configurator!$D$23=3),\"0\",\"B\")","v":"B"},{"$f":"IF(OR(Configurator!$D$23>7,Configurator!$D$23=1,Configurator!$D$23=3),\"0\",\"B\")","v":"B"},{"$f":"IF(OR(Configurator!$D$23>7,Configurator!$D$23=1,Configurator!$D$23=3),\"0\",\"B\")","v":"B"},{"$f":"IF(OR(Configurator!$D$23>7,Configurator!$D$23=1,Configurator!$D$23=3),\"0\",\"B\")","v":"B"},{"$f":"IF(OR(Configurator!$D$23>7,Configurator!$D$23=1,Configurator!$D$23=3),\"0\",\"B\")","v":"B"},{"$f":"IF(OR(Configurator!$D$23>7,Configurator!$D$23=1,Configurator!$D$23=3),\"0\",\"B\")","v":"B"},{"$f":"IF(OR(Configurator!$D$23>7,Configurator!$D$23=1,Configurator!$D$23=3),\"0\",\"B\")","v":"B"},{"$f":"IF(OR(Configurator!$D$23>7,Configurator!$D$23=1,Configurator!$D$23=3),\"0\",\"B\")","v":"B"},{"$f":"IF(OR(Configurator!$D$23>7,Configurator!$D$23=1,Configurator!$D$23=3),\"0\",\"B\")","v":"B"},{"$f":"IF(OR(Configurator!$D$23>7,Configurator!$D$23=1,Configurator!$D$23=3),\"0\",\"B\")","v":"B"},{"$f":"IF(OR(Configurator!$D$23>7,Configurator!$D$23=1,Configurator!$D$23=3),\"0\",\"B\")","v":"B"},{"$f":"IF(OR(Configurator!$D$23>7,Configurator!$D$23=1,Configurator!$D$23=3),\"0\",\"B\")","v":"B"},{"$f":"IF(OR(Configurator!$D$23>7,Configurator!$D$23=1,Configurator!$D$23=3),\"0\",\"B\")","v":"B"},{"$f":"IF(OR(Configurator!$D$23>7,Configurator!$D$23=1,Configurator!$D$23=3),\"0\",\"B\")","v":"B"},176]
[null,{"$f":"IF(OR(Configurator!$D$26<\"E\",Configurator!$D$23>7,Configurator!$D$23=1,Configurator!$D$23=3),\"0\",\"C\")","v":"0"},{"$f":"IF(OR(Configurator!$D$26<\"E\",Configurator!$D$23>7,Configurator!$D$23=1,Configurator!$D$23=3),\"0\",\"C\")","v":"0"},{"$f":"IF(OR(Configurator!$D$26<\"E\",Configurator!$D$23>7,Configurator!$D$23=1,Configurator!$D$23=3),\"0\",\"C\")","v":"0"},{"$f":"IF(OR(Configurator!$D$26<\"E\",Configurator!$D$23>7,Configurator!$D$23=1,Configurator!$D$23=3),\"0\",\"C\")","v":"0"},{"$f":"IF(OR(Configurator!$D$26<\"E\",Configurator!$D$23>7,Configurator!$D$23=1,Configurator!$D$23=3),\"0\",\"C\")","v":"0"},{"$f":"IF(OR(Configurator!$D$26<\"E\",Configurator!$D$23>7,Configurator!$D$23=1,Configurator!$D$23=3),\"0\",\"C\")","v":"0"},{"$f":"IF(OR(Configurator!$D$26<\"E\",Configurator!$D$23>7,Configurator!$D$23=1,Configurator!$D$23=3),\"0\",\"C\")","v":"0"},{"$f":"IF(OR(Configurator!$D$26<\"E\",Configurator!$D$23>7,Configurator!$D$23=1,Configurator!$D$23=3),\"0\",\"C\")","v":"0"},{"$f":"IF(OR(Configurator!$D$26<\"E\",Configurator!$D$23>7,Configurator!$D$23=1,Configurator!$D$23=3),\"0\",\"C\")","v":"0"},{"$f":"IF(OR(Configurator!$D$26<\"E\",Configurator!$D$23>7,Configurator!$D$23=1,Configurator!$D$23=3),\"0\",\"C\")","v":"0"},{"$f":"IF(OR(Configurator!$D$23>7,Configurator!$D$23=1,Configurator!$D$23=3),\"0\",\"C\")","v":"C"},{"$f":"IF(OR(Configurator!$D$23>7,Configurator!$D$23=1,Configurator!$D$23=3),\"0\",\"C\")","v":"C"},{"$f":"IF(OR(Configurator!$D$23>7,Configurator!$D$23=1,Configurator!$D$23=3),\"0\",\"C\")","v":"C"},{"$f":"IF(OR(Configurator!$D$23>7,Configurator!$D$23=1,Configurator!$D$23=3),\"0\",\"C\")","v":"C"},{"$f":"IF(OR(Configurator!$D$23>7,Configurator!$D$23=1,Configurator!$D$23=3),\"0\",\"C\")","v":"C"},{"$f":"IF(OR(Configurator!$D$23>7,Configurator!$D$23=1,Configurator!$D$23=3),\"0\",\"C\")","v":"C"},{"$f":"IF(OR(Configurator!$D$23>7,Configurator!$D$23=1,Configurator!$D$23=3),\"0\",\"C\")","v":"C"},{"$f":"IF(OR(Configurator!$D$23>7,Configurator!$D$23=1,Configurator!$D$23=3),\"0\",\"C\")","v":"C"},{"$f":"IF(OR(Configurator!$D$23>7,Configurator!$D$23=1,Configurator!$D$23=3),\"0\",\"C\")","v":"C"},{"$f":"IF(OR(Configurator!$D$23>7,Configurator!$D$23=1,Configurator!$D$23=3),\"0\",\"C\")","v":"C"},{"$f":"IF(OR(Configurator!$D$23>7,Configurator!$D$23=1,Configurator!$D$23=3),\"0\",\"C\")","v":"C"},{"$f":"IF(OR(Configurator!$D$23>7,Configurator!$D$23=1,Configurator!$D$23=3),\"0\",\"C\")","v":"C"},{"$f":"IF(OR(Configurator!$D$23>7,Configurator!$D$23=1,Configurator!$D$23=3),\"0\",\"C\")","v":"C"},{"$f":"IF(OR(Configurator!$D$23>7,Configurator!$D$23=1,Configurator!$D$23=3),\"0\",\"C\")","v":"C"},{"$f":"IF(OR(Configurator!$D$23>7,Configurator!$D$23=1,Configurator!$D$23=3),\"0\",\"C\")","v":"C"},{"$f":"IF(OR(Configurator!$D$23>7,Configurator!$D$23=1,Configurator!$D$23=3),\"0\",\"C\")","v":"C"},{"$f":"IF(OR(Configurator!$D$23>7,Configurator!$D$23=1,Configurator!$D$23=3),\"0\",\"C\")","v":"C"},{"$f":"IF(OR(Configurator!$D$23>7,Configurator!$D$23=1,Configurator!$D$23=3),\"0\",\"C\")","v":"C"},{"$f":"IF(OR(Configurator!$D$23>7,Configurator!$D$23=1,Configurator!$D$23=3),\"0\",\"C\")","v":"C"},{"$f":"IF(OR(Configurator!$D$23>7,Configurator!$D$23=1,Configurator!$D$23=3),\"0\",\"C\")","v":"C"},{"$f":"IF(OR(Configurator!$D$23>7,Configurator!$D$23=1,Configurator!$D$23=3),\"0\",\"C\")","v":"C"},{"$f":"IF(OR(Configurator!$D$23>7,Configurator!$D$23=1,Configurator!$D$23=3),\"0\",\"C\")","v":"C"},{"$f":"IF(OR(Configurator!$D$23>7,Configurator!$D$23=1,Configurator!$D$23=3),\"0\",\"C\")","v":"C"},{"$f":"IF(OR(Configurator!$D$23>7,Configurator!$D$23=1,Configurator!$D$23=3),\"0\",\"C\")","v":"C"},177]
[null,{"$f":"IF(OR(Configurator!$D$26<\"E\",Configurator!$D$23>7,Configurator!$D$23=1,Configurator!$D$23=3),\"0\",\"D\")","v":"0"},{"$f":"IF(OR(Configurator!$D$26<\"E\",Configurator!$D$23>7,Configurator!$D$23=1,Configurator!$D$23=3),\"0\",\"D\")","v":"0"},{"$f":"IF(OR(Configurator!$D$26<\"E\",Configurator!$D$23>7,Configurator!$D$23=1,Configurator!$D$23=3),\"0\",\"D\")","v":"0"},{"$f":"IF(OR(Configurator!$D$26<\"E\",Configurator!$D$23>7,Configurator!$D$23=1,Configurator!$D$23=3),\"0\",\"D\")","v":"0"},{"$f":"IF(OR(Configurator!$D$26<\"E\",Configurator!$D$23>7,Configurator!$D$23=1,Configurator!$D$23=3),\"0\",\"D\")","v":"0"},{"$f":"IF(OR(Configurator!$D$26<\"E\",Configurator!$D$23>7,Configurator!$D$23=1,Configurator!$D$23=3),\"0\",\"D\")","v":"0"},{"$f":"IF(OR(Configurator!$D$26<\"E\",Configurator!$D$23>7,Configurator!$D$23=1,Configurator!$D$23=3),\"0\",\"D\")","v":"0"},{"$f":"IF(OR(Configurator!$D$26<\"E\",Configurator!$D$23>7,Configurator!$D$23=1,Configurator!$D$23=3),\"0\",\"D\")","v":"0"},{"$f":"IF(OR(Configurator!$D$26<\"E\",Configurator!$D$23>7,Configurator!$D$23=1,Configurator!$D$23=3),\"0\",\"D\")","v":"0"},{"$f":"IF(OR(Configurator!$D$26<\"E\",Configurator!$D$23>7,Configurator!$D$23=1,Configurator!$D$23=3),\"0\",\"D\")","v":"0"},{"$f":"IF(OR(Configurator!$D$23>7,Configurator!$D$23=1,Configurator!$D$23=3),\"0\",\"D\")","v":"D"},{"$f":"IF(OR(Configurator!$D$23>7,Configurator!$D$23=1,Configurator!$D$23=3),\"0\",\"D\")","v":"D"},{"$f":"IF(OR(Configurator!$D$23>7,Configurator!$D$23=1,Configurator!$D$23=3),\"0\",\"D\")","v":"D"},{"$f":"IF(OR(Configurator!$D$23>7,Configurator!$D$23=1,Configurator!$D$23=3),\"0\",\"D\")","v":"D"},{"$f":"IF(OR(Configurator!$D$23>7,Configurator!$D$23=1,Configurator!$D$23=3),\"0\",\"D\")","v":"D"},{"$f":"IF(OR(Configurator!$D$23>7,Configurator!$D$23=1,Configurator!$D$23=3),\"0\",\"D\")","v":"D"},{"$f":"IF(OR(Configurator!$D$23>7,Configurator!$D$23=1,Configurator!$D$23=3),\"0\",\"D\")","v":"D"},{"$f":"IF(OR(Configurator!$D$23>7,Configurator!$D$23=1,Configurator!$D$23=3),\"0\",\"D\")","v":"D"},{"$f":"IF(OR(Configurator!$D$23>7,Configurator!$D$23=1,Configurator!$D$23=3),\"0\",\"D\")","v":"D"},{"$f":"IF(OR(Configurator!$D$23>7,Configurator!$D$23=1,Configurator!$D$23=3),\"0\",\"D\")","v":"D"},{"$f":"IF(OR(Configurator!$D$23>7,Configurator!$D$23=1,Configurator!$D$23=3),\"0\",\"D\")","v":"D"},{"$f":"IF(OR(Configurator!$D$23>7,Configurator!$D$23=1,Configurator!$D$23=3),\"0\",\"D\")","v":"D"},{"$f":"IF(OR(Configurator!$D$23>7,Configurator!$D$23=1,Configurator!$D$23=3),\"0\",\"D\")","v":"D"},{"$f":"IF(OR(Configurator!$D$23>7,Configurator!$D$23=1,Configurator!$D$23=3),\"0\",\"D\")","v":"D"},{"$f":"IF(OR(Configurator!$D$23>7,Configurator!$D$23=1,Configurator!$D$23=3),\"0\",\"D\")","v":"D"},{"$f":"IF(OR(Configurator!$D$23>7,Configurator!$D$23=1,Configurator!$D$23=3),\"0\",\"D\")","v":"D"},{"$f":"IF(OR(Configurator!$D$23>7,Configurator!$D$23=1,Configurator!$D$23=3),\"0\",\"D\")","v":"D"},{"$f":"IF(OR(Configurator!$D$23>7,Configurator!$D$23=1,Configurator!$D$23=3),\"0\",\"D\")","v":"D"},{"$f":"IF(OR(Configurator!$D$23>7,Configurator!$D$23=1,Configurator!$D$23=3),\"0\",\"D\")","v":"D"},{"$f":"IF(OR(Configurator!$D$23>7,Configurator!$D$23=1,Configurator!$D$23=3),\"0\",\"D\")","v":"D"},{"$f":"IF(OR(Configurator!$D$23>7,Configurator!$D$23=1,Configurator!$D$23=3),\"0\",\"D\")","v":"D"},{"$f":"IF(OR(Configurator!$D$23>7,Configurator!$D$23=1,Configurator!$D$23=3),\"0\",\"D\")","v":"D"},{"$f":"IF(OR(Configurator!$D$23>7,Configurator!$D$23=1,Configurator!$D$23=3),\"0\",\"D\")","v":"D"},{"$f":"IF(OR(Configurator!$D$23>7,Configurator!$D$23=1,Configurator!$D$23=3),\"0\",\"D\")","v":"D"},178]
[null,null,null,null,null,null,null,null,null,null,{"$f":"HLOOKUP($B$1,$B$2:$AI$112,62)","v":" "},null,null,null,null,null,null,null,null,null,null,null,null,null,null,null,null,null,null,null,null,null,null,null,null,179]
[null,null,null,null,null,null,null,null,null,null,null,null,null,null,null,null,null,null,null,null,null,null,null,null,null,null,null,null,null,null,null,null,null,null,null,180]
[null,null,null,null,null,null,null,null,null,null,{"$f":"HLOOKUP($B$1,$B$2:$AI$112,70)","v":" "},null,null,null,null,null,null,null,null,null,null,null,null,null,null,null,null,null,null,null,null,null,null,null,null,181]
[null,null,null,null,null,null,null,null,null,null,null,null,null,null,null,null,null,null,null,null,null,null,null,null,null,null,null,null,null,null,null,null,null,null,null,182]
[null,null,null,null,null,null,null,null,null,null,null,null,null,null,null,null,null,null,null,null,null,null,null,null,null,null,null,null,null,null,null,null,null,null,null,183]
["BOM","SLOT 24 Z","SLOT 24 Z","SLOT 24 Z",30,30,30,30,30,30,30,30,30,30,30,30,30,30,30,30,30,30,30,30,30,30,30,30,30,30,30,30,30,30,30,184]
[null,"SLOT 40","SLOT 40","SLOT 40",32,32,32,32,32,32,32,32,32,32,32,32,32,32,32,32,32,32,32,32,32,32,32,32,32,32,32,32,32,32,32,185]
[null,"SLOT 22","SLOT 22","SLOT 22","SLOT 02","SLOT 02","SLOT 02","SLOT 02","SLOT 02","SLOT 02","SLOT 02","SLOT 02","SLOT 02","SLOT 02","SLOT 02","SLOT 02","SLOT 02","SLOT 02","SLOT 02","SLOT 02","SLOT 02","SLOT 02","SLOT 02","SLOT 02","SLOT 02","SLOT 02","SLOT 02","SLOT 02","SLOT 02","SLOT 02","SLOT 02","SLOT 02","SLOT 02","SLOT 02","SLOT 02",186]
[null,"SLOT 45","SLOT 45","SLOT 45",50,50,50,50,50,50,50,50,50,50,50,50,50,50,50,50,50,50,50,50,50,50,50,50,50,50,50,50,50,50,50,187]
[null,null,null,null,null,null,null,null,null,null,null,null,null,null,null,null,null,null,null,null,null,null,null,null,null,null,null,null,null,null,null,null,null,null,null,188]
["Livery change","Areva (Available from 4/10/04)","Areva (Available from 4/10/04)","Areva (Available from 4/10/04)","Alstom (Available until 1/11/04)","Areva (Available from 4/10/04)","Areva (Available from 4/10/04)","Areva (Available from 4/10/04)","Areva (Available from 4/10/04)","Areva (Available from 4/10/04)","Alstom (Available until 1/11/04)","Areva (Available from 4/10/04)","Areva (Available from 4/10/04)","Areva (Available from 4/10/04)","Areva (Available from 4/10/04)","Areva (Available from 4/10/04)","Areva (Available from 4/10/04)","Areva (Available from 4/10/04)","Areva (Available from 4/10/04)","Areva (Available from 4/10/04)","Areva (Available from 4/10/04)","Areva (Available from 4/10/04)","Areva (Available from 4/10/04)","Areva (Available from 4/10/04)","Areva (Available from 4/10/04)","Areva (Available from 4/10/04)","Areva (Available from 4/10/04)","Areva (Available from 4/10/04)","Areva (Available from 4/10/04)","Areva (Available from 4/10/04)","Areva (Available from 4/10/04)","Areva (Available from 4/10/04)","Areva (Available from 4/10/04)","Areva (Available from 4/10/04)","Areva (Available from 4/10/04)",189]
[null," "," "," ","Areva (Available from 4/10/04)"," "," "," "," "," ","Areva (Available from 4/10/04)"," "," "," "," "," "," "," "," "," "," "," "," "," "," "," "," "," "," "," "," "," "," "," "," ",190]
[null,2,2,2,1,2,2,2,2,2,1,2,2,2,2,2,2,2,2,2,2,2,2,2,2,2,2,2,2,2,2,2,2,2,2,191]
[null,2,2,2,3,2,2,2,2,2,3,2,2,2,2,2,2,2,2,2,2,2,2,2,2,2,2,2,2,2,2,2,2,2,2,192]
["BOM MATERIAL",null,null,null,null,null,null,null,null,null,null,null,null,null,null,null,null,null,null,null,null,null,null,null,null,null,null,null,null,null,null,null,null,null,null,193]
[null,"E9650212","E9650212","E9650212","E9650212","E9650212","E9650212","E9650212","E9650212","E9650212","E9650212","E9650212","E9650212","E9650212","E9650212","E9650212","E9650212","E9650212","E9650212","E9650212","E9650212","E9650212","E9650212","E9650212","E9650212","E9650212","E9650212","E9650212","E9650212","E9650212","E9650212","E9650212","E9650212","E9650212","E9650212",194]
[null,"E9650299","E9650299","E9650299","E9650299","E9650299","E9650299","E9650299","E9650299","E9650299","E9650299","E9650299","E9650299","E9650299","E9650299","E9650299","E9650299","E9650299","E9650299","E9650299","E9650299","E9650299","E9650299","E9650299","E9650299","E9650299","E9650299","E9650299","E9650299","E9650299","E9650299","E9650299","E9650299","E9650299","E9650299",195]
[null,"E9650300","E9650300","E9650300","E9650300","E9650300","E9650300","E9650300","E9650300","E9650300","E9650300","E9650300","E9650300","E9650300","E9650300","E9650300","E9650300","E9650300","E9650300","E9650300","E9650300","E9650300","E9650300","E9650300","E9650300","E9650300","E9650300","E9650300","E9650300","E9650300","E9650300","E9650300","E9650300","E9650300","E9650300",196]
[null,"E9650320","E9650320","E9650320","E9650320","E9650320",{"$f":"IF(AND(Configurator!$D$24>\"H\",Configurator!$T$5=\"6\"),\"E9650387\",\"E9650320\")","v":"E9650320"},"E9650320","E9650320","E9650320","E9650320","E9650320","E9650320","E9650320","E9650320","E9650320","E9650320","E9650320","E9650320","E9650320","E9650320","E9650320","E9650320","E9650320","E9650320","E9650320","E9650320","E9650320","E9650320","E9650320","E9650320","E9650320","E9650320","E9650320","E9650320",197]
[null,"EGN9063001","EGN9063001","EGN9063001","EGN9063001","EGN9063001","EGN9063001","EGN9063001","EGN9063001","EGN9063001","EGN9063001","EGN9063001","EGN9063001","EGN9063001","EGN9063001","EGN9063001","EGN9063001","EGN9063001","EGN9063001","EGN9063001","EGN9063001","EGN9063001","EGN9063001","EGN9063001","EGN9063001","EGN9063001","EGN9063001","EGN9063001","EGN9063001","EGN9063001","EGN9063001","EGN9063001","EGN9063001","EGN9063001","EGN9063001",198]
[null,"EGN9011012","EGN9011012","EGN9011012","EGN9011012","EGN9011012","EGN9011012","EGN9011012","EGN9011012","EGN9011012","EGN9011012","EGN9011012","EGN9011012","EGN9011012","EGN9011012","EGN9011012","EGN9011012","EGN9011012","EGN9011012","EGN9011012","EGN9011012","EGN9011012","EGN9011012","EGN9011012","EGN9011012","EGN9011012","EGN9011012","EGN9011012","EGN9011012","EGN9011012","EGN9011012","EGN9011012","EGN9011012","EGN9011012","EGN9011012",199]
[null,"EGN9011013","EGN9011013","EGN9011013","EGN9011013","EGN9011013","EGN9011013","EGN9011013","EGN9011013","EGN9011013","EGN9011013","EGN9011013","EGN9011013","EGN9011013","EGN9011013","EGN9011013","EGN9011013","EGN9011013","EGN9011013","EGN9011013","EGN9011013","EGN9011013","EGN9011013","EGN9011013","EGN9011013","EGN9011013","EGN9011013","EGN9011013","EGN9011013","EGN9011013","EGN9011013","EGN9011013","EGN9011013","EGN9011013","EGN9011013",200]
[null,"EGN9011015","EGN9011015","EGN9011015","EGN9011015","EGN9011015","EGN9011015","EGN9011015","EGN9011015","EGN9011015","EGN9011015","EGN9011015","EGN9011015","EGN9011015","EGN9011015","EGN9011015","EGN9011015","EGN9011015","EGN9011015","EGN9011015","EGN9011015","EGN9011015","EGN9011015","EGN9011015","EGN9011015","EGN9011015","EGN9011015","EGN9011015","EGN9011015","EGN9011015","EGN9011015","EGN9011015","EGN9011015","EGN9011015","EGN9011015",201]
[null,"EGN9011045","EGN9011045","EGN9011045","EGN9011045","EGN9011045","EGN9011045","EGN9011045","EGN9011045","EGN9011045","EGN9011045","EGN9011045","EGN9011045","EGN9011045","EGN9011045","EGN9011045","EGN9011045","EGN9011045","EGN9011045","EGN9011045","EGN9011045","EGN9011045","EGN9011045","EGN9011045","EGN9011045","EGN9011045","EGN9011045","EGN9011045","EGN9011045","EGN9011045","EGN9011045","EGN9011045","EGN9011045","EGN9011045","EGN9011045",202]
[null," "," "," ",null," "," "," "," "," ",null," "," "," "," "," "," "," "," "," "," "," "," "," "," "," "," "," "," "," "," "," "," "," "," ",203]
["Inter-MiCOM if TGFM is Chosen",{"$f":"IF(Configurator!$D$17=\"0\",\"Not Available with RTD Module fitted\",\"Not Available with two binary modules fitted\")","v":"Not Available with two binary modules fitted"},{"$f":"IF(Configurator!$D$17=\"0\",\"Not Available with RTD Module fitted\",\"Not Available with two binary modules fitted\")","v":"Not Available with two binary modules fitted"},{"$f":"IF(Configurator!$D$17=\"0\",\"Not Available with RTD Module fitted\",\"Not Available with two binary modules fitted\")","v":"Not Available with two binary modules fitted"}," ",{"$f":"IF(Configurator!$D$17=\"0\",\"Not Available with RTD Module fitted\",\"Not Available with two binary modules fitted\")","v":"Not Available with two binary modules fitted"},{"$f":"IF(Configurator!$D$17=\"0\",\"Not Available with RTD Module fitted\",\"Not Available with two binary modules fitted\")","v":"Not Available with two binary modules fitted"},{"$f":"IF(Configurator!$D$17=\"0\",\"Not Available with RTD Module fitted\",\"Not Available with two binary modules fitted\")","v":"Not Available with two binary modules fitted"},{"$f":"IF(Configurator!$D$17=\"0\",\"Not Available with RTD Module fitted\",\"Not Available with two binary modules fitted\")","v":"Not Available with two binary modules fitted"},{"$f":"IF(Configurator!$D$17=\"0\",\"Not Available with RTD Module fitted\",\"Not Available with two binary modules fitted\")","v":"Not Available with two binary modules fitted"}," ",{"$f":"IF(Configurator!$D$17=\"0\",\"Not Available with RTD Module fitted\",\"Not Available with two binary modules fitted\")","v":"Not Available with two binary modules fitted"},{"$f":"IF(Configurator!$D$17=\"0\",\"Not Available with RTD Module fitted\",\"Not Available with two binary modules fitted\")","v":"Not Available with two binary modules fitted"},{"$f":"IF(Configurator!$D$17=\"0\",\"Not Available with RTD Module fitted\",\"Not Available with two binary modules fitted\")","v":"Not Available with two binary modules fitted"},{"$f":"IF(Configurator!$D$17=\"0\",\"Not Available with RTD Module fitted\",\"Not Available with two binary modules fitted\")","v":"Not Available with two binary modules fitted"},{"$f":"IF(Configurator!$D$17=\"0\",\"Not Available with RTD Module fitted\",\"Not Available with two binary modules fitted\")","v":"Not Available with two binary modules fitted"},{"$f":"IF(Configurator!$D$17=\"0\",\"Not Available with RTD Module fitted\",\"Not Available with two binary modules fitted\")","v":"Not Available with two binary modules fitted"},{"$f":"IF(Configurator!$D$17=\"0\",\"Not Available with RTD Module fitted\",\"Not Available with two binary modules fitted\")","v":"Not Available with two binary modules fitted"},{"$f":"IF(Configurator!$D$17=\"0\",\"Not Available with RTD Module fitted\",\"Not Available with two binary modules fitted\")","v":"Not Available with two binary modules fitted"},{"$f":"IF(Configurator!$D$17=\"0\",\"Not Available with RTD Module fitted\",\"Not Available with two binary modules fitted\")","v":"Not Available with two binary modules fitted"},{"$f":"IF(Configurator!$D$17=\"0\",\"Not Available with RTD Module fitted\",\"Not Available with two binary modules fitted\")","v":"Not Available with two binary modules fitted"},{"$f":"IF(Configurator!$D$17=\"0\",\"Not Available with RTD Module fitted\",\"Not Available with two binary modules fitted\")","v":"Not Available with two binary modules fitted"},{"$f":"IF(Configurator!$D$17=\"0\",\"Not Available with RTD Module fitted\",\"Not Available with two binary modules fitted\")","v":"Not Available with two binary modules fitted"},{"$f":"IF(Configurator!$D$17=\"0\",\"Not Available with RTD Module fitted\",\"Not Available with two binary modules fitted\")","v":"Not Available with two binary modules fitted"},{"$f":"IF(Configurator!$D$17=\"0\",\"Not Available with RTD Module fitted\",\"Not Available with two binary modules fitted\")","v":"Not Available with two binary modules fitted"},{"$f":"IF(Configurator!$D$17=\"0\",\"Not Available with RTD Module fitted\",\"Not Available with two binary modules fitted\")","v":"Not Available with two binary modules fitted"},{"$f":"IF(Configurator!$D$17=\"0\",\"Not Available with RTD Module fitted\",\"Not Available with two binary modules fitted\")","v":"Not Available with two binary modules fitted"},{"$f":"IF(Configurator!$D$17=\"0\",\"Not Available with RTD Module fitted\",\"Not Available with two binary modules fitted\")","v":"Not Available with two binary modules fitted"},{"$f":"IF(Configurator!$D$17=\"0\",\"Not Available with RTD Module fitted\",\"Not Available with two binary modules fitted\")","v":"Not Available with two binary modules fitted"},{"$f":"IF(Configurator!$D$17=\"0\",\"Not Available with RTD Module fitted\",\"Not Available with two binary modules fitted\")","v":"Not Available with two binary modules fitted"},{"$f":"IF(Configurator!$D$17=\"0\",\"Not Available with RTD Module fitted\",\"Not Available with two binary modules fitted\")","v":"Not Available with two binary modules fitted"},{"$f":"IF(Configurator!$D$17=\"0\",\"Not Available with RTD Module fitted\",\"Not Available with two binary modules fitted\")","v":"Not Available with two binary modules fitted"},{"$f":"IF(Configurator!$D$17=\"0\",\"Not Available with RTD Module fitted\",\"Not Available with two binary modules fitted\")","v":"Not Available with two binary modules fitted"},{"$f":"IF(Configurator!$D$17=\"0\",\"Not Available with RTD Module fitted\",\"Not Available with two binary modules fitted\")","v":"Not Available with two binary modules fitted"},{"$f":"IF(Configurator!$D$17=\"0\",\"Not Available with RTD Module fitted\",\"Not Available with two binary modules fitted\")","v":"Not Available with two binary modules fitted"},204]
[null,"basic complement with 4 binary inputs and 8 output relays","basic complement with 4 binary inputs and 8 output relays","basic complement with 4 binary inputs and 8 output relays","basic complement with 4 binary inputs and 8 output relays","basic complement with 4 binary inputs and 8 output relays","basic complement with 4 binary inputs and 8 output relays","basic complement with 4 binary inputs and 8 output relays","basic complement with 4 binary inputs and 8 output relays","basic complement with 4 binary inputs and 8 output relays","basic complement with 4 binary inputs and 8 output relays","basic complement with 4 binary inputs and 8 output relays","basic complement with 4 binary inputs and 8 output relays","basic complement with 4 binary inputs and 8 output relays","basic complement with 4 binary inputs and 8 output relays","basic complement with 4 binary inputs and 8 output relays","basic complement with 4 binary inputs and 8 output relays","basic complement with 4 binary inputs and 8 output relays","basic complement with 4 binary inputs and 8 output relays","basic complement with 4 binary inputs and 8 output relays","basic complement with 4 binary inputs and 8 output relays","basic complement with 4 binary inputs and 8 output relays","basic complement with 4 binary inputs and 8 output relays","basic complement with 4 binary inputs and 8 output relays","basic complement with 4 binary inputs and 8 output relays","basic complement with 4 binary inputs and 8 output relays","basic complement with 4 binary inputs and 8 output relays","basic complement with 4 binary inputs and 8 output relays","basic complement with 4 binary inputs and 8 output relays","basic complement with 4 binary inputs and 8 output relays","basic complement with 4 binary inputs and 8 output relays","basic complement with 4 binary inputs and 8 output relays","basic complement with 4 binary inputs and 8 output relays","basic complement with 4 binary inputs and 8 output relays","basic complement with 4 binary inputs and 8 output relays",205]
[null,"and 6 binary inputs and 6 output relays","and 6 binary inputs and 6 output relays","and 6 binary inputs and 6 output relays","and 6 binary inputs and 6 output relays"," and 6 binary inputs and 6 output relays"," and 6 binary inputs and 6 output relays"," and 6 binary inputs and 6 output relays"," and 6 binary inputs and 6 output relays"," and 6 binary inputs and 6 output relays","and 6 binary inputs and 6 output relays"," and 6 binary inputs and 6 output relays"," and 6 binary inputs and 6 output relays"," and 6 binary inputs and 6 output relays"," and 6 binary inputs and 6 output relays"," and 6 binary inputs and 6 output relays"," and 6 binary inputs and 6 output relays"," and 6 binary inputs and 6 output relays"," and 6 binary inputs and 6 output relays"," and 6 binary inputs and 6 output relays"," and 6 binary inputs and 6 output relays"," and 6 binary inputs and 6 output relays"," and 6 binary inputs and 6 output relays"," and 6 binary inputs and 6 output relays"," and 6 binary inputs and 6 output relays"," and 6 binary inputs and 6 output relays"," and 6 binary inputs and 6 output relays"," and 6 binary inputs and 6 output relays"," and 6 binary inputs and 6 output relays"," and 6 binary inputs and 6 output relays"," and 6 binary inputs and 6 output relays"," and 6 binary inputs and 6 output relays"," and 6 binary inputs and 6 output relays"," and 6 binary inputs and 6 output relays"," and 6 binary inputs and 6 output relays",206]
[null,{"$f":"IF(Configurator!$D$29=0,\" (2-pole) \",\" (1-pole) \")","v":" (2-pole) "},{"$f":"IF(Configurator!$D$29=0,\" (2-pole) \",\" (1-pole) \")","v":" (2-pole) "},{"$f":"IF(Configurator!$D$29=0,\" (2-pole) \",\" (1-pole) \")","v":" (2-pole) "},{"$f":"IF(Configurator!$D$29=0,\" (2-pole) \",\" (1-pole) \")","v":" (2-pole) "},{"$f":"IF(Configurator!$D$29=0,\" (2-pole) \",\" (1-pole) \")","v":" (2-pole) "},{"$f":"IF(Configurator!$D$29=0,\" (2-pole) \",\" (1-pole) \")","v":" (2-pole) "},{"$f":"IF(Configurator!$D$29=0,\" (2-pole) \",\" (1-pole) \")","v":" (2-pole) "},{"$f":"IF(Configurator!$D$29=0,\" (2-pole) \",\" (1-pole) \")","v":" (2-pole) "},{"$f":"IF(Configurator!$D$29=0,\" (2-pole) \",\" (1-pole) \")","v":" (2-pole) "},{"$f":"IF(Configurator!$D$29=0,\" (2-pole) \",\" (1-pole) \")","v":" (2-pole) "},{"$f":"IF(Configurator!$D$29=0,\" (2-pole) \",\" (1-pole) \")","v":" (2-pole) "},{"$f":"IF(Configurator!$D$29=0,\" (2-pole) \",\" (1-pole) \")","v":" (2-pole) "},{"$f":"IF(Configurator!$D$29=0,\" (2-pole) \",\" (1-pole) \")","v":" (2-pole) "},{"$f":"IF(Configurator!$D$29=0,\" (2-pole) \",\" (1-pole) \")","v":" (2-pole) "},{"$f":"IF(Configurator!$D$29=0,\" (2-pole) \",\" (1-pole) \")","v":" (2-pole) "},{"$f":"IF(Configurator!$D$29=0,\" (2-pole) \",\" (1-pole) \")","v":" (2-pole) "},{"$f":"IF(Configurator!$D$29=0,\" (2-pole) \",\" (1-pole) \")","v":" (2-pole) "},{"$f":"IF(Configurator!$D$29=0,\" (2-pole) \",\" (1-pole) \")","v":" (2-pole) "},{"$f":"IF(Configurator!$D$29=0,\" (2-pole) \",\" (1-pole) \")","v":" (2-pole) "},{"$f":"IF(Configurator!$D$29=0,\" (2-pole) \",\" (1-pole) \")","v":" (2-pole) "},{"$f":"IF(Configurator!$D$29=0,\" (2-pole) \",\" (1-pole) \")","v":" (2-pole) "},{"$f":"IF(Configurator!$D$29=0,\" (2-pole) \",\" (1-pole) \")","v":" (2-pole) "},{"$f":"IF(Configurator!$D$29=0,\" (2-pole) \",\" (1-pole) \")","v":" (2-pole) "},{"$f":"IF(Configurator!$D$29=0,\" (2-pole) \",\" (1-pole) \")","v":" (2-pole) "},{"$f":"IF(Configurator!$D$29=0,\" (2-pole) \",\" (1-pole) \")","v":" (2-pole) "},{"$f":"IF(Configurator!$D$29=0,\" (2-pole) \",\" (1-pole) \")","v":" (2-pole) "},{"$f":"IF(Configurator!$D$29=0,\" (2-pole) \",\" (1-pole) \")","v":" (2-pole) "},{"$f":"IF(Configurator!$D$29=0,\" (2-pole) \",\" (1-pole) \")","v":" (2-pole) "},{"$f":"IF(Configurator!$D$29=0,\" (2-pole) \",\" (1-pole) \")","v":" (2-pole) "},{"$f":"IF(Configurator!$D$29=0,\" (2-pole) \",\" (1-pole) \")","v":" (2-pole) "},{"$f":"IF(Configurator!$D$29=0,\" (2-pole) \",\" (1-pole) \")","v":" (2-pole) "},{"$f":"IF(Configurator!$D$29=0,\" (2-pole) \",\" (1-pole) \")","v":" (2-pole) "},{"$f":"IF(Configurator!$D$29=0,\" (2-pole) \",\" (1-pole) \")","v":" (2-pole) "},{"$f":"IF(Configurator!$D$29=0,\" (2-pole) \",\" (1-pole) \")","v":" (2-pole) "},207]
[null,"for the control of 3 switchgear units.","for the control of 3 switchgear units.","for the control of 3 switchgear units.","for the control of 3 switchgear units.","for the control of 3 switchgear units.","for the control of 3 switchgear units.","for the control of 3 switchgear units.","for the control of 3 switchgear units.","for the control of 3 switchgear units.","for the control of 3 switchgear units.","for the control of 3 switchgear units.","for the control of 3 switchgear units.","for the control of 3 switchgear units.","for the control of 3 switchgear units.","for the control of 3 switchgear units.","for the control of 3 switchgear units.","for the control of 3 switchgear units.","for the control of 3 switchgear units.","for the control of 3 switchgear units.","for the control of 3 switchgear units.","for the control of 3 switchgear units.","for the control of 3 switchgear units.","for the control of 3 switchgear units.","for the control of 3 switchgear units.","for the control of 3 switchgear units.","for the control of 3 switchgear units.","for the control of 3 switchgear units.","for the control of 3 switchgear units.","for the control of 3 switchgear units.","for the control of 3 switchgear units.","for the control of 3 switchgear units.","for the control of 3 switchgear units.","for the control of 3 switchgear units.","for the control of 3 switchgear units.",208]
[null,{"$f":"IF(AND(Configurator!$D$24>\"H\",Configurator!$T$5=\"6\"),\"E9651367\",\"E9650564\")","v":"E9650564"},{"$f":"IF(AND(Configurator!$D$24>\"H\",Configurator!$T$5=\"6\"),\"E9651367\",\"E9650564\")","v":"E9650564"},{"$f":"IF(AND(Configurator!$D$24>\"H\",Configurator!$T$5=\"6\"),\"E9651367\",\"E9650564\")","v":"E9650564"},{"$f":"IF(AND(Configurator!$D$24>\"H\",Configurator!$T$5=\"6\"),\"E9651367\",\"E9650564\")","v":"E9650564"},{"$f":"IF(AND(Configurator!$D$24>\"H\",Configurator!$T$5=\"6\"),\"E9651367\",\"E9650564\")","v":"E9650564"},{"$f":"IF(AND(Configurator!$D$24>\"H\",Configurator!$T$5=\"6\"),\"E9651367\",\"E9650564\")","v":"E9650564"},{"$f":"IF(AND(Configurator!$D$24>\"H\",Configurator!$T$5=\"6\"),\"E9651367\",\"E9650564\")","v":"E9650564"},"E9651367","E9651367",{"$f":"IF(AND(Configurator!$D$24>\"H\",Configurator!$T$5=\"6\"),\"E9651367\",\"E9650564\")","v":"E9650564"},"E9651367","E9651367",{"$f":"IF(AND(Configurator!$D$24>\"H\",Configurator!$T$5=\"6\"),\"E9651367\",\"E9650564\")","v":"E9650564"},{"$f":"IF(AND(Configurator!$D$24>\"H\",Configurator!$T$5=\"6\"),\"E9651367\",\"E9650564\")","v":"E9650564"},"E9651367","E9651367","E9651367","E9651367","E9651367","E9651367","E9651367","E9651367","E9651367","E9651367","E9651367","E9651367","E9651367","E9651367","E9651367","E9651367","E9651367","E9651367","E9651367","E9651367",209]
[null,{"$f":"IF(AND(Configurator!$D$24>\"H\",Configurator!$T$5=\"6\"),\"E9651908\",\"E9650740\")","v":"E9650740"},{"$f":"IF(AND(Configurator!$D$24>\"H\",Configurator!$T$5=\"6\"),\"E9651908\",\"E9650740\")","v":"E9650740"},{"$f":"IF(AND(Configurator!$D$24>\"H\",Configurator!$T$5=\"6\"),\"E9651908\",\"E9650740\")","v":"E9650740"},{"$f":"IF(AND(Configurator!$D$24>\"H\",Configurator!$T$5=\"6\"),\"E9651908\",\"E9650740\")","v":"E9650740"},{"$f":"IF(AND(Configurator!$D$24>\"H\",Configurator!$T$5=\"6\"),\"E9651908\",\"E9650740\")","v":"E9650740"},{"$f":"IF(AND(Configurator!$D$24>\"H\",Configurator!$T$5=\"6\"),\"E9651908\",\"E9650740\")","v":"E9650740"},{"$f":"IF(AND(Configurator!$D$24>\"H\",Configurator!$T$5=\"6\"),\"E9651908\",\"E9650740\")","v":"E9650740"},"E9651908","E9651908",{"$f":"IF(AND(Configurator!$D$24>\"H\",Configurator!$T$5=\"6\"),\"E9651908\",\"E9650740\")","v":"E9650740"},"E9651908","E9651908",{"$f":"IF(AND(Configurator!$D$24>\"H\",Configurator!$T$5=\"6\"),\"E9651908\",\"E9650740\")","v":"E9650740"},{"$f":"IF(AND(Configurator!$D$24>\"H\",Configurator!$T$5=\"6\"),\"E9651908\",\"E9650740\")","v":"E9650740"},"E9651908","E9651908","E9651908","E9651908","E9651908","E9651908","E9651908","E9651908","E9651908","E9651908","E9651908","E9651908","E9651908","E9651908","E9651908","E9651908","E9651908","E9651908","E9651908","E9651908",210]
[null,{"$f":"IF(AND(Configurator!$D$24>\"H\",Configurator!$T$5=\"6\"),\"E9651914\",\"E9650551\")","v":"E9650551"},{"$f":"IF(AND(Configurator!$D$24>\"H\",Configurator!$T$5=\"6\"),\"E9651914\",\"E9650551\")","v":"E9650551"},{"$f":"IF(AND(Configurator!$D$24>\"H\",Configurator!$T$5=\"6\"),\"E9651914\",\"E9650551\")","v":"E9650551"},{"$f":"IF(AND(Configurator!$D$24>\"H\",Configurator!$T$5=\"6\"),\"E9651914\",\"E9650551\")","v":"E9650551"},{"$f":"IF(AND(Configurator!$D$24>\"H\",Configurator!$T$5=\"6\"),\"E9651914\",\"E9650551\")","v":"E9650551"},{"$f":"IF(AND(Configurator!$D$24>\"H\",Configurator!$T$5=\"6\"),\"E9651914\",\"E9650551\")","v":"E9650551"},{"$f":"IF(AND(Configurator!$D$24>\"H\",Configurator!$T$5=\"6\"),\"E9651914\",\"E9650551\")","v":"E9650551"},"E9651914","E9651914",{"$f":"IF(AND(Configurator!$D$24>\"H\",Configurator!$T$5=\"6\"),\"E9651914\",\"E9650551\")","v":"E9650551"},"E9651914","E9651914",{"$f":"IF(AND(Configurator!$D$24>\"H\",Configurator!$T$5=\"6\"),\"E9651914\",\"E9650551\")","v":"E9650551"},{"$f":"IF(AND(Configurator!$D$24>\"H\",Configurator!$T$5=\"6\"),\"E9651914\",\"E9650551\")","v":"E9650551"},"E9651914","E9651914","E9651914","E9651914","E9651914","E9651914","E9651914","E9651914","E9651914","E9651914","E9651914","E9651914","E9651914","E9651914","E9651914","E9651914","E9651914","E9651914","E9651914","E9651914",211]
[null,{"$f":"IF(AND(Configurator!$D$24>\"H\",Configurator!$T$5=\"6\"),\"E9651366\",\"E9650552\")","v":"E9650552"},{"$f":"IF(AND(Configurator!$D$24>\"H\",Configurator!$T$5=\"6\"),\"E9651366\",\"E9650552\")","v":"E9650552"},{"$f":"IF(AND(Configurator!$D$24>\"H\",Configurator!$T$5=\"6\"),\"E9651366\",\"E9650552\")","v":"E9650552"},{"$f":"IF(AND(Configurator!$D$24>\"H\",Configurator!$T$5=\"6\"),\"E9651366\",\"E9650552\")","v":"E9650552"},{"$f":"IF(AND(Configurator!$D$24>\"H\",Configurator!$T$5=\"6\"),\"E9651366\",\"E9650552\")","v":"E9650552"},{"$f":"IF(AND(Configurator!$D$24>\"H\",Configurator!$T$5=\"6\"),\"E9651366\",\"E9650552\")","v":"E9650552"},{"$f":"IF(AND(Configurator!$D$24>\"H\",Configurator!$T$5=\"6\"),\"E9651366\",\"E9650552\")","v":"E9650552"},"E9651366","E9651366",{"$f":"IF(AND(Configurator!$D$24>\"H\",Configurator!$T$5=\"6\"),\"E9651366\",\"E9650552\")","v":"E9650552"},"E9651366","E9651366",{"$f":"IF(AND(Configurator!$D$24>\"H\",Configurator!$T$5=\"6\"),\"E9651366\",\"E9650552\")","v":"E9650552"},{"$f":"IF(AND(Configurator!$D$24>\"H\",Configurator!$T$5=\"6\"),\"E9651366\",\"E9650552\")","v":"E9650552"},"E9651366","E9651366","E9651366","E9651366","E9651366","E9651366","E9651366","E9651366","E9651366","E9651366","E9651366","E9651366","E9651366","E9651366","E9651366","E9651366","E9651366","E9651366","E9651366","E9651366",212]
["Additional options - continued"," "," "," "," "," "," "," ","With analog module and binary module (add. 24 binary inputs)","With analog module and binary module (add. 24 binary inputs)"," ","With analog module and binary module (add. 24 binary inputs)","With analog module and binary module (add. 24 binary inputs)"," "," ","With analog module and binary module (add. 24 binary inputs)","With analog module and binary module (add. 24 binary inputs)","With analog module and binary module (add. 24 binary inputs)","With analog module and binary module (add. 24 binary inputs)","With analog module and binary module (add. 24 binary inputs)","With analog module and binary module (add. 24 binary inputs)","With analog module and binary module (add. 24 binary inputs)","With analog module and binary module (add. 24 binary inputs)","With analog module and binary module (add. 24 binary inputs)","With analog module and binary module (add. 24 binary inputs)","With analog module and binary module (add. 24 binary inputs)","With analog module and binary module (add. 24 binary inputs)","With analog module and binary module (add. 24 binary inputs)","With analog module and binary module (add. 24 binary inputs)","With analog module and binary module (add. 24 binary inputs)","With analog module and binary module (add. 24 binary inputs)","With analog module and binary module (add. 24 binary inputs)","With analog module and binary module (add. 24 binary inputs)","With analog module and binary module (add. 24 binary inputs)","With analog module and binary module (add. 24 binary inputs)",213]
[null," "," "," "," "," "," "," ","With two binary modules (add. 48 binary inputs)","With two binary modules (add. 48 binary inputs)"," ","With two binary modules (add. 48 binary inputs)","With two binary modules (add. 48 binary inputs)"," "," ","With two binary modules (add. 48 binary inputs)","With two binary modules (add. 48 binary inputs)","With two binary modules (add. 48 binary inputs)","With two binary modules (add. 48 binary inputs)","With two binary modules (add. 48 binary inputs)","With two binary modules (add. 48 binary inputs)","With two binary modules (add. 48 binary inputs)","With two binary modules (add. 48 binary inputs)","With two binary modules (add. 48 binary inputs)","With two binary modules (add. 48 binary inputs)","With two binary modules (add. 48 binary inputs)","With two binary modules (add. 48 binary inputs)","With two binary modules (add. 48 binary inputs)","With two binary modules (add. 48 binary inputs)","With two binary modules (add. 48 binary inputs)","With two binary modules (add. 48 binary inputs)","With two binary modules (add. 48 binary inputs)","With two binary modules (add. 48 binary inputs)","With two binary modules (add. 48 binary inputs)","With two binary modules (add. 48 binary inputs)",214]
["Inter-MiCOM if 2BI is Chosen","Not Available with two binary modules fitted","Not Available with two binary modules fitted","Not Available with two binary modules fitted","Not Available with two binary modules fitted","Not Available with two binary modules fitted","Not Available with two binary modules fitted","Not Available with two binary modules fitted","Not Available with two binary modules fitted","Not Available with two binary modules fitted","Not Available with two binary modules fitted","Not Available with two binary modules fitted","Not Available with two binary modules fitted","Not Available with two binary modules fitted","Not Available with two binary modules fitted","Not Available with two binary modules fitted","Not Available with two binary modules fitted","Not Available with two binary modules fitted","Not Available with two binary modules fitted","Not Available with two binary modules fitted","Not Available with two binary modules fitted","Not Available with two binary modules fitted","Not Available with two binary modules fitted","Not Available with two binary modules fitted","Not Available with two binary modules fitted","Not Available with two binary modules fitted","Not Available with two binary modules fitted","Not Available with two binary modules fitted","Not Available with two binary modules fitted","Not Available with two binary modules fitted","Not Available with two binary modules fitted","Not Available with two binary modules fitted","Not Available with two binary modules fitted","Not Available with two binary modules fitted","Not Available with two binary modules fitted",215]
["REB Interfaces"," "," "," "," "," "," "," "," "," "," ","Protocol IEC61850, redundant connection (1300nm MM)","Protocol IEC61850, redundant connection"," "," ","Protocol IEC61850, redundant connection (1300nm MM)","Protocol IEC61850, redundant connection (1300nm MM)","Protocol IEC61850, redundant connection (1300nm MM)","Protocol IEC61850, redundant connection (1300nm MM)","Protocol IEC61850, redundant connection (1300nm MM)","Protocol IEC61850, redundant connection (1300nm MM)","Protocol IEC61850, redundant connection (1300nm MM)","Protocol IEC61850, redundant connection (1300nm MM)","Protocol IEC61850, redundant connection (1300nm MM)","Protocol IEC61850, redundant connection (1300nm MM)","Protocol IEC61850, redundant connection (1300nm MM)","Protocol IEC61850, redundant connection (1300nm MM)","Protocol IEC61850, redundant connection (1300nm MM)","Ethernet Board 2, Protocol IEC 61850 Ed. 1 or 2 (switchable) with Cyber Security compatibility","Protocol IEC61850, redundant connection (1300nm MM)","Protocol IEC61850, redundant connection (1300nm MM)","Protocol IEC61850, redundant connection (1300nm MM)","Ethernet Board 2, Protocol IEC 61850 Ed. 1 or 2 (switchable) with Cyber Security compatibility","Ethernet Board 2, Protocol IEC 61850 Ed. 1 or 2 (switchable) with Cyber Security compatibility","Ethernet Board 2, Protocol IEC 61850 Ed. 1 or 2 (switchable) with Cyber Security compatibility",216]
[null," "," "," "," "," "," "," "," "," "," ","For connection to 100 Mbit/s Ethernet, glass fiber ST, SHP and IRIG-B input for clock synchronization and 2nd interface (RS485, IEC 60870-5-103)","For connection to 100 Mbit/s Ethernet, glass fiber ST, SHP and IRIG-B input for clock synchronization and 2nd interface (RS485, IEC 60870-5-103)"," "," ","For connection to 100 Mbit/s Ethernet, glass fiber ST, SHP and IRIG-B input for clock synchronization and 2nd interface (RS485, IEC 60870-5-103)","For connection to 100 Mbit/s Ethernet, glass fiber ST, SHP and IRIG-B input for clock synchronization and 2nd interface (RS485, IEC 60870-5-103)","For connection to 100 Mbit/s Ethernet, glass fiber ST, SHP and IRIG-B input for clock synchronization and 2nd interface (RS485, IEC 60870-5-103)","For connection to 100 Mbit/s Ethernet, glass fiber ST, SHP and IRIG-B input for clock synchronization and 2nd interface (RS485, IEC 60870-5-103)","For connection to 100 Mbit/s Ethernet, glass fiber ST, SHP and IRIG-B input for clock synchronization and 2nd interface (RS485, IEC 60870-5-103)","For connection to 100 Mbit/s Ethernet, glass fiber ST, SHP and IRIG-B input for clock synchronization and 2nd interface (RS485, IEC 60870-5-103)","For connection to 100 Mbit/s Ethernet, glass fiber ST, SHP and IRIG-B input for clock synchronization and 2nd interface (RS485, IEC 60870-5-103)","For connection to 100 Mbit/s Ethernet, glass fiber ST, SHP and IRIG-B input for clock synchronization and 2nd interface (RS485, IEC 60870-5-103)","For connection to 100 Mbit/s Ethernet, glass fiber ST, SHP and IRIG-B input for clock synchronization and 2nd interface (RS485, IEC 60870-5-103)","For connection to 100 Mbit/s Ethernet, glass fiber ST, SHP and IRIG-B input for clock synchronization and 2nd interface (RS485, IEC 60870-5-103)","For connection to 100 Mbit/s Ethernet, glass fiber ST, SHP and IRIG-B input for clock synchronization and 2nd interface (RS485, IEC 60870-5-103)","For connection to 100 Mbit/s Ethernet, glass fiber ST, SHP and IRIG-B input for clock synchronization and 2nd interface (RS485, IEC 60870-5-103)","For connection to 100 Mbit/s Ethernet, glass fiber ST, SHP and IRIG-B input for clock synchronization and 2nd interface (RS485, IEC 60870-5-103)","For connection to 100 Mbit/s Ethernet, wire RJ45 and IRIG-B input for clock synchronization","For connection to 100 Mbit/s Ethernet, glass fiber ST, SHP and IRIG-B input for clock synchronization and 2nd interface (RS485, IEC 60870-5-103)","For connection to 100 Mbit/s Ethernet, glass fiber ST, SHP and IRIG-B input for clock synchronization and 2nd interface (RS485, IEC 60870-5-103)","For connection to 100 Mbit/s Ethernet, glass fiber ST, SHP and IRIG-B input for clock synchronization and 2nd interface (RS485, IEC 60870-5-103)","For connection to 100 Mbit/s Ethernet, wire RJ45 and IRIG-B input for clock synchronization","For connection to 100 Mbit/s Ethernet, wire RJ45 and IRIG-B input for clock synchronization","For connection to 100 Mbit/s Ethernet, wire RJ45 and IRIG-B input for clock synchronization",217]
[null," "," "," "," "," "," "," "," "," "," ","For connection to Mbit/s MHz Ethernet, glass fiber ST, RSTP and IRIG-B input for clock synchronization and 2nd interface (RS485, IEC 60870-5-103)","For connection to Mbit/s MHz Ethernet, glass fiber ST, RSTP and IRIG-B input for clock synchronization and 2nd interface (RS485, IEC 60870-5-103)"," "," ","For connection to Mbit/s MHz Ethernet, glass fiber ST, RSTP and IRIG-B input for clock synchronization and 2nd interface (RS485, IEC 60870-5-103)","For connection to Mbit/s MHz Ethernet, glass fiber ST, RSTP and IRIG-B input for clock synchronization and 2nd interface (RS485, IEC 60870-5-103)","For connection to Mbit/s MHz Ethernet, glass fiber ST, RSTP and IRIG-B input for clock synchronization and 2nd interface (RS485, IEC 60870-5-103)","For connection to Mbit/s MHz Ethernet, glass fiber ST, RSTP and IRIG-B input for clock synchronization and 2nd interface (RS485, IEC 60870-5-103)","For connection to Mbit/s MHz Ethernet, glass fiber ST, RSTP and IRIG-B input for clock synchronization and 2nd interface (RS485, IEC 60870-5-103)","For connection to Mbit/s MHz Ethernet, glass fiber ST, RSTP and IRIG-B input for clock synchronization and 2nd interface (RS485, IEC 60870-5-103)","For connection to Mbit/s MHz Ethernet, glass fiber ST, RSTP and IRIG-B input for clock synchronization and 2nd interface (RS485, IEC 60870-5-103)","For connection to Mbit/s MHz Ethernet, glass fiber ST, RSTP and IRIG-B input for clock synchronization and 2nd interface (RS485, IEC 60870-5-103)","For connection to Mbit/s MHz Ethernet, glass fiber ST, RSTP and IRIG-B input for clock synchronization and 2nd interface (RS485, IEC 60870-5-103)","For connection to Mbit/s MHz Ethernet, glass fiber ST, RSTP and IRIG-B input for clock synchronization and 2nd interface (RS485, IEC 60870-5-103)","For connection to Mbit/s MHz Ethernet, glass fiber ST, RSTP and IRIG-B input for clock synchronization and 2nd interface (RS485, IEC 60870-5-103)","For connection to Mbit/s MHz Ethernet, glass fiber ST, RSTP and IRIG-B input for clock synchronization and 2nd interface (RS485, IEC 60870-5-103)","For connection to Mbit/s MHz Ethernet, glass fiber ST, RSTP and IRIG-B input for clock synchronization and 2nd interface (RS485, IEC 60870-5-103)","For connection to 100 Mbit/s Ethernet, glass fiber LC and IRIG-B input for clock synchronization and 2nd 100 Mbit/s Ethernet service interface (wire RJ 45)","For connection to Mbit/s MHz Ethernet, glass fiber ST, RSTP and IRIG-B input for clock synchronization and 2nd interface (RS485, IEC 60870-5-103)","For connection to Mbit/s MHz Ethernet, glass fiber ST, RSTP and IRIG-B input for clock synchronization and 2nd interface (RS485, IEC 60870-5-103)","For connection to Mbit/s MHz Ethernet, glass fiber ST, RSTP and IRIG-B input for clock synchronization and 2nd interface (RS485, IEC 60870-5-103)","For connection to 100 Mbit/s Ethernet, glass fiber LC and IRIG-B input for clock synchronization and 2nd 100 Mbit/s Ethernet service interface (wire RJ 45)","For connection to 100 Mbit/s Ethernet, glass fiber LC and IRIG-B input for clock synchronization and 2nd 100 Mbit/s Ethernet service interface (wire RJ 45)","For connection to 100 Mbit/s Ethernet, glass fiber LC and IRIG-B input for clock synchronization and 2nd 100 Mbit/s Ethernet service interface (wire RJ 45)",218]
[null," "," "," "," "," "," "," "," "," "," ","For connection to 100 Mbit/s Ethernet, glass fiber ST, dual homing and IRIG-B input for clock synchronization and 2nd interface (RS485, IEC 60870-5-103)","For connection to 100 Mbit/s Ethernet, glass fiber ST, dual homing and IRIG-B input for clock synchronization and 2nd interface (RS485, IEC 60870-5-103)"," "," ","For connection to 100 Mbit/s Ethernet, glass fiber ST, dual homing and IRIG-B input for clock synchronization and 2nd interface (RS485, IEC 60870-5-103)","For connection to 100 Mbit/s Ethernet, glass fiber ST, dual homing and IRIG-B input for clock synchronization and 2nd interface (RS485, IEC 60870-5-103)","For connection to 100 Mbit/s Ethernet, glass fiber ST, dual homing and IRIG-B input for clock synchronization and 2nd interface (RS485, IEC 60870-5-103)","For connection to 100 Mbit/s Ethernet, glass fiber ST, dual homing and IRIG-B input for clock synchronization and 2nd interface (RS485, IEC 60870-5-103)","For connection to 100 Mbit/s Ethernet, glass fiber ST, dual homing and IRIG-B input for clock synchronization and 2nd interface (RS485, IEC 60870-5-103)","For connection to 100 Mbit/s Ethernet, glass fiber ST, dual homing and IRIG-B input for clock synchronization and 2nd interface (RS485, IEC 60870-5-103)","For connection to 100 Mbit/s Ethernet, glass fiber ST, dual homing and IRIG-B input for clock synchronization and 2nd interface (RS485, IEC 60870-5-103)","For connection to 100 Mbit/s Ethernet, glass fiber ST, dual homing and IRIG-B input for clock synchronization and 2nd interface (RS485, IEC 60870-5-103)","For connection to 100 Mbit/s Ethernet, glass fiber ST, dual homing and IRIG-B input for clock synchronization and 2nd interface (RS485, IEC 60870-5-103)","For connection to 100 Mbit/s Ethernet, glass fiber ST, dual homing and IRIG-B input for clock synchronization and 2nd interface (RS485, IEC 60870-5-103)","For connection to 100 Mbit/s Ethernet, glass fiber ST, dual homing and IRIG-B input for clock synchronization and 2nd interface (RS485, IEC 60870-5-103)","For connection to 100 Mbit/s Ethernet, glass fiber ST, dual homing and IRIG-B input for clock synchronization and 2nd interface (RS485, IEC 60870-5-103)","For connection to 100 Mbit/s Ethernet, glass fiber ST, dual homing and IRIG-B input for clock synchronization and 2nd interface (RS485, IEC 60870-5-103)","Redundant connection to wire RJ45, HSR/PRP (switchable) and IRIG-B input for clock synchronization and 2nd 100 Mbit/s Ethernet service interface (wire RJ 45)","For connection to 100 Mbit/s Ethernet, glass fiber ST, dual homing and IRIG-B input for clock synchronization and 2nd interface (RS485, IEC 60870-5-103)","For connection to 100 Mbit/s Ethernet, glass fiber ST, dual homing and IRIG-B input for clock synchronization and 2nd interface (RS485, IEC 60870-5-103)","For connection to 100 Mbit/s Ethernet, glass fiber ST, dual homing and IRIG-B input for clock synchronization and 2nd interface (RS485, IEC 60870-5-103)","Redundant connection to wire RJ45, HSR/PRP (switchable) and IRIG-B input for clock synchronization and 2nd 100 Mbit/s Ethernet service interface (wire RJ 45)","Redundant connection to wire RJ45, HSR/PRP (switchable) and IRIG-B input for clock synchronization and 2nd 100 Mbit/s Ethernet service interface (wire RJ 45)","Redundant connection to wire RJ45, HSR/PRP (switchable) and IRIG-B input for clock synchronization and 2nd 100 Mbit/s Ethernet service interface (wire RJ 45)",219]
[null,null,null,null,null,null,null,null,null,null,null,null,null,null,null,null,null,null,null,null,null,null,null,null,null,null,null,null,null,null,null,null,null,null,null,220]
[null,"-9**","-9**","-9**","-9**","-9**","-9**","-9**","-9**","-9**","-9**","-981","-981","-9**","-9**","-981","-981","-981","-981","-981","-981","-981","-981","-981","-981","-981","-981","-981","-991","-981","-981","-981","-991","-991","-991",221]
[null,"-9**","-9**","-9**","-9**","-9**","-9**","-9**","-9**","-9**","-9**","-982","-982","-9**","-9**","-982","-982","-982","-982","-982","-982","-982","-982","-982","-982","-982","-982","-982","-992","-982","-982","-982","-992","-992","-992",222]
[null,"-9**","-9**","-9**","-9**","-9**","-9**","-9**","-9**","-9**","-9**","-983","-983","-9**","-9**","-983","-983","-983","-983","-983","-983","-983","-983","-983","-983","-983","-983","-983","-993","-983","-983","-983","-993","-993","-993",223]
[null,"*","*","*","*","*","*","*","*","*","*","M","M","*","*","M","M","M","M","M","M","M","M","M","M","M","M","M","V","M","M","M","V","V","V",224]
[null,"*","*","*","*","*","*","*","*","*","*","N","N","*","*","N","N","N","N","N","N","N","N","N","N","N","N","N","W","N","N","N","W","W","W",225]
[null,"*","*","*","*","*","*","*","*","*","*","P","P","*","*","P","P","P","P","P","P","P","P","P","P","P","P","P","X","P","P","P","X","X","X",226]
[null,null,null,null,null,null,null,null,null,null,null,"E9652007","E9652007",null,null,"E9652007","E9652007","E9652007","E9652007","E9652109","E9652109","E9652109","E9652109","E9652109","E9652007","E9652109","E9652109","E9652109","E9652109","E9652109","E9652109","E9652109","E9652109","E9652109","E9652109",227]
[null,null,null,null,null,null,null,null,null,null,null,"E9652008","E9652008",null,null,"E9652008","E9652008","E9652008","E9652008","E9652110","E9652110","E9652110","E9652110","E9652110","E9652008","E9652110","E9652110","E9652110","E9652110","E9652110","E9652110","E9652110","E9652110","E9652110","E9652110",228]
[null,null,null,null,null,null,null,null,null,null,null,"E9652009","E9652009",null,null,"E9652009","E9652009","E9652009","E9652009","E9652111","E9652111","E9652111","E9652111","E9652111","E9652009","E9652111","E9652111","E9652111","E9652111","E9652111","E9652111","E9652111","E9652111","E9652111","E9652111",229]
[null," "," "," "," "," "," "," "," "," "," "," "," "," "," "," "," "," "," "," "," "," "," "," "," ","For connection to 100 Mbit/s Ethernet, glass fiber ST, PRP and IRIG-B input for clock synchronization and 2nd interface (RS485, IEC 60870-5-103)","For connection to 100 Mbit/s Ethernet, glass fiber ST, PRP and IRIG-B input for clock synchronization and 2nd interface (RS485, IEC 60870-5-103)","For connection to 100 Mbit/s Ethernet, glass fiber ST, PRP and IRIG-B input for clock synchronization and 2nd interface (RS485, IEC 60870-5-103)","Redundant connection to 100 Mbit/s Ethernet, glass fiber LC, HSR/PRP (switchable) and IRIG-B input for clock synchronization and 2nd 100 Mbit/s Ethernet service interface (wire RJ 45)","For connection to 100 Mbit/s Ethernet, glass fiber ST, PRP and IRIG-B input for clock synchronization and 2nd interface (RS485, IEC 60870-5-103)","For connection to 100 Mbit/s Ethernet, glass fiber ST, PRP and IRIG-B input for clock synchronization and 2nd interface (RS485, IEC 60870-5-103)","For connection to 100 Mbit/s Ethernet, glass fiber ST, PRP and IRIG-B input for clock synchronization and 2nd interface (RS485, IEC 60870-5-103)","Redundant connection to 100 Mbit/s Ethernet, glass fiber LC, HSR/PRP (switchable) and IRIG-B input for clock synchronization and 2nd 100 Mbit/s Ethernet service interface (wire RJ 45)","Redundant connection to 100 Mbit/s Ethernet, glass fiber LC, HSR/PRP (switchable) and IRIG-B input for clock synchronization and 2nd 100 Mbit/s Ethernet service interface (wire RJ 45)","Redundant connection to 100 Mbit/s Ethernet, glass fiber LC, HSR/PRP (switchable) and IRIG-B input for clock synchronization and 2nd 100 Mbit/s Ethernet service interface (wire RJ 45)",230]
[null," "," "," "," "," "," "," "," "," "," "," "," "," "," "," "," "," "," "," "," "," "," "," "," ",null,null,null,null,null,null,null,null,null,null,231]
[null,{"$f":"B224","v":"-9**"},"-9**","-9**","-9**","-9**","-9**","-9**","-9**","-9**","-9**","-983","-983","-9**","-9**","-983","-983","-983","-983","-983","-983","-983","-983","-983",{"$f":"Y224","v":"-983"},"-984","-984","-984","-994","-984","-984","-984","-994","-994","-994",232]
[null,{"$f":"B227","v":"*"},"*","*","*","*","*","*","*","*","*","P","P","*","*","P","P","P","P","P","P","P","P","P",{"$f":"Y227","v":"P"},"Q","Q","Q","Y","Q","Q","Q","Y","Y","Y",233]
[null," "," "," "," "," "," "," "," "," "," "," "," "," "," "," "," "," "," "," "," "," "," "," "," ","E9652158","E9652158","E9652158","E9652158","E9652158","E9652158","E9652158","E9652158","E9652158","E9652158",234]
["Additional options - continued (315 >)"," "," "," "," "," "," "," "," "," "," "," "," "," "," "," "," "," "," "," "," "," "," "," "," "," ","With binary module (add. 6 binary inputs and 8 outputs)","With binary module (add. 6 binary inputs and 8 outputs)","With binary module (add. 6 binary inputs and 8 outputs)","With binary module (add. 6 binary inputs and 8 outputs)","With binary module (add. 6 binary inputs and 8 outputs)","With binary module (add. 6 binary inputs and 8 outputs)","With binary module (add. 6 binary inputs and 8 outputs)","With binary module (add. 6 binary inputs and 8 outputs)","With binary module (add. 6 binary inputs and 8 outputs)",235]
[null," "," "," "," "," "," "," "," "," "," "," "," "," "," "," "," "," "," "," "," "," "," "," "," "," ","With binary module (add. 6 binary inputs and 8 outputs) and 24 binary inputs","With binary module (add. 6 binary inputs and 8 outputs) and 24 binary inputs","With binary module (add. 6 binary inputs and 8 outputs) and 24 binary inputs","With binary module (add. 6 binary inputs and 8 outputs) and 24 binary inputs","With binary module (add. 6 binary inputs and 8 outputs) and 24 binary inputs","With binary module (add. 6 binary inputs and 8 outputs) and 24 binary inputs","With binary module (add. 6 binary inputs and 8 outputs) and 24 binary inputs","With binary module (add. 6 binary inputs and 8 outputs) and 24 binary inputs","With binary module (add. 6 binary inputs and 8 outputs) and 24 binary inputs",236]
[null," "," "," "," "," "," "," "," "," "," "," "," "," "," "," "," "," "," "," "," "," "," "," "," "," ","With binary module (add. 6 binary inputs and 8 outputs) and analogue module","With binary module (add. 6 binary inputs and 8 outputs) and analogue module","With binary module (add. 6 binary inputs and 8 outputs) and analogue module","With binary module (add. 6 binary inputs and 8 outputs) and analogue module","With binary module (add. 6 binary inputs and 8 outputs) and analogue module","With binary module (add. 6 binary inputs and 8 outputs) and analogue module","With binary module (add. 6 binary inputs and 8 outputs) and analogue module","With binary module (add. 6 binary inputs and 8 outputs) and analogue module","With binary module (add. 6 binary inputs and 8 outputs) and analogue module",237]
[null," "," "," "," "," "," "," "," "," "," "," "," "," "," "," "," "," "," "," "," "," "," "," "," "," ","With binary module (add. 6 binary inputs and 8 outputs) and RTD module","With binary module (add. 6 binary inputs and 8 outputs) and RTD module","With binary module (add. 6 binary inputs and 8 outputs) and RTD module","With binary module (add. 6 binary inputs and 8 outputs) and RTD module","With binary module (add. 6 binary inputs and 8 outputs) and RTD module","With binary module (add. 6 binary inputs and 8 outputs) and RTD module","With binary module (add. 6 binary inputs and 8 outputs) and RTD module","With binary module (add. 6 binary inputs and 8 outputs) and RTD module","With binary module (add. 6 binary inputs and 8 outputs) and RTD module",238]
[null," "," "," "," "," "," "," "," "," "," "," "," "," "," "," "," "," "," "," "," "," "," "," "," "," ","With binary module (add. 6 binary inputs and 8 outputs) and TGF module","With binary module (add. 6 binary inputs and 8 outputs) and TGF module","With binary module (add. 6 binary inputs and 8 outputs) and TGF module","With binary module (add. 6 binary inputs and 8 outputs) and TGF module","With binary module (add. 6 binary inputs and 8 outputs) and TGF module","With binary module (add. 6 binary inputs and 8 outputs) and TGF module","With binary module (add. 6 binary inputs and 8 outputs) and TGF module","With binary module (add. 6 binary inputs and 8 outputs) and TGF module","With binary module (add. 6 binary inputs and 8 outputs) and TGF module",239]
[null,"-9**","-9**","-9**","-9**","-9**","-9**","-9**","-9**","-9**","-9**","-9**","-9**","-9**","-9**","-9**","-9**","-9**","-9**","-9**","-9**","-9**","-9**","-9**","-9**","-9**","-9**","-9**","-973","-9**","-9**","-9**","-973","-973","-973",240]
[null,"-9**","-9**","-9**","-9**","-9**","-9**","-9**","-9**","-9**","-9**","-9**","-9**","-9**","-9**","-9**","-9**","-9**","-9**","-9**","-9**","-9**","-9**","-9**","-9**","-9**","-9**","-9**","-974","-9**","-9**","-9**","-974","-974","-974",241]
[null," "," "," "," "," "," "," "," "," "," "," "," "," "," "," "," "," "," "," "," "," "," "," "," "," "," "," ","Redundant connection to wire RJ45, HSR/PRP (switchable) and IRIG-B input for clock synchronization and 2nd 100 Mbit/s Ethernet service interface (wire RJ 45)"," "," "," ","Redundant connection to wire RJ45, HSR/PRP (switchable) and IRIG-B input for clock synchronization and 2nd 100 Mbit/s Ethernet service interface (wire RJ 45)","Redundant connection to wire RJ45, HSR/PRP (switchable) and IRIG-B input for clock synchronization and 2nd 100 Mbit/s Ethernet service interface (wire RJ 45)","Redundant connection to wire RJ45, HSR/PRP (switchable) and IRIG-B input for clock synchronization and 2nd 100 Mbit/s Ethernet service interface (wire RJ 45)",242]
[null," "," "," "," "," "," "," "," "," "," "," "," "," "," "," "," "," "," "," "," "," "," "," "," "," "," "," ","Redundant connection to 100 Mbit/s Ethernet, glass fiber LC, HSR/PRP (switchable) and IRIG-B input for clock synchronization and 2nd 100 Mbit/s Ethernet service interface (wire RJ 45)"," "," "," ","Redundant connection to 100 Mbit/s Ethernet, glass fiber LC, HSR/PRP (switchable) and IRIG-B input for clock synchronization and 2nd 100 Mbit/s Ethernet service interface (wire RJ 45)","Redundant connection to 100 Mbit/s Ethernet, glass fiber LC, HSR/PRP (switchable) and IRIG-B input for clock synchronization and 2nd 100 Mbit/s Ethernet service interface (wire RJ 45)","Redundant connection to 100 Mbit/s Ethernet, glass fiber LC, HSR/PRP (switchable) and IRIG-B input for clock synchronization and 2nd 100 Mbit/s Ethernet service interface (wire RJ 45)",243]
[null,"*","*","*","*","*","*","*","*","*","*","*","*","*","*","*","*","*","*","*","*","*","*","*","*","*","*","*","T","*","*","*","T","T","T",244]
[null,"*","*","*","*","*","*","*","*","*","*","*","*","*","*","*","*","*","*","*","*","*","*","*","*","*","*","*","U","*","*","*","U","U","U",245]
[null,null,null,null,null,null,null,null,null,null,null,null,null,null,null,null,null,null,null,null,null,null,null,null,null,null,null,null,null,null,null,null,null,null,null,246]
[null,null,null,null,null,null,null,null,null,null,null,null,null,null,null,null,null,null,null,null,null,null,null,null,null,null,null,null,null,null,null,null,null,null,null,247]
[null,null,null,null,null,null,null,null,null,null,null,null,null,null,null,null,null,null,null,null,null,null,null,null,null,null,null,null,null,null,null,null,null,null,null,248]
[null,null,null,null,null,null,null,null,null,null,null,null,null,null,null,null,null,null,null,null,null,null,null,null,null,null,null,null,null,null,null,null,null,null,null,249]
[null,null,null,null,null,null,null,null,null,null,null,null,null,null,null,null,null,null,null,null,null,null,null,null,null,null,null,null,null,null,null,null,null,null,null,250]
[null,null,null,null,null,null,null,null,null,null,null,null,null,null,null,null,null,null,null,null,null,null,null,null,null,null,null,null,null,null,null,null,null,null,null,251]
[null,null,null,null,null,null,null,null,null,null,null,null,null,null,null,null,null,null,null,null,null,null,null,null,null,null,null,null,null,null,null,null,null,null,null,252]
[null,null,null,null,null,null,null,null,null,null,null,null,null,null,null,null,null,null,null,null,null,null,null,null,null,null,null,null,null,null,null,null,null,null,null,253]
[null,null,null,null,null,null,null,null,null,null,null,null,null,null,null,null,null,null,null,null,null,null,null,null,null,null,null,null,null,null,null,null,null,null,null,254]
[null,null,null,null,null,null,null,null,null,null,null,null,null,null,null,null,null,null,null,null,null,null,null,null,null,null,null,null,null,null,null,null,null,null,null,255]
[null,null,null,null,null,null,null,null,null,null,null,null,null,null,null,null,null,null,null,null,null,null,null,null,null,null,null,null,null,null,null,null,null,null,null,256]
[null,null,null,null,null,null,null,null,null,null,null,null,null,null,null,null,null,null,null,null,null,null,null,null,null,null,null,null,null,null,null,null,null,null,null,257]
[null,null,null,null,null,null,null,null,null,null,null,null,null,null,null,null,null,null,null,null,null,null,null,null,null,null,null,null,null,null,null,null,null,null,null,258]
[null,null,null,null,null,null,null,null,null,null,null,null,null,null,null,null,null,null,null,null,null,null,null,null,null,null,null,null,null,null,null,null,null,null,null,259]
[null,null,null,null,null,null,null,null,null,null,null,null,null,null,null,null,null,null,null,null,null,null,null,null,null,null,null,null,null,null,null,null,null,null,null,260]
[null,null,null,null,null,null,null,null,null,null,null,null,null,null,null,null,null,null,null,null,null,null,null,null,null,null,null,null,null,null,null,null,null,null,null,261]
[null,null,null,null,null,null,null,null,null,null,null,null,null,null,null,null,null,null,null,null,null,null,null,null,null,null,null,null,null,null,null,null,null,null,null,262]
[null,null,null,null,null,null,null,null,null,null,null,null,null,null,null,null,null,null,null,null,null,null,null,null,null,null,null,null,null,null,null,null,null,null,null,263]
[null,null,null,null,null,null,null,null,null,null,null,null,null,null,null,null,null,null,null,null,null,null,null,null,null,null,null,null,null,null,null,null,null,null,null,264]
[null,null,null,null,null,null,null,null,null,null,null,null,null,null,null,null,null,null,null,null,null,null,null,null,null,null,null,null,null,null,null,null,null,null,null,265]
[null,null,null,null,null,null,null,null,null,null,null,null,null,null,null,null,null,null,null,null,null,null,null,null,null,null,null,null,null,null,null,null,null,null,null,266]
[null,null,null,null,null,null,null,null,null,null,null,null,null,null,null,null,null,null,null,null,null,null,null,null,null,null,null,null,null,null,null,null,null,null,null,267]
[null,null,null,null,null,null,null,null,null,null,null,null,null,null,null,null,null,null,null,null,null,null,null,null,null,null,null,null,null,null,null,null,null,null,null,268]
[null,null,null,null,null,null,null,null,null,null,null,null,null,null,null,null,null,null,null,null,null,null,null,null,null,null,null,null,null,null,null,null,null,null,null,269]
[null,null,null,null,null,null,null,null,null,null,null,null,null,null,null,null,null,null,null,null,null,null,null,null,null,null,null,null,null,null,null,null,null,null,null,270]
[null,null,null,null,null,null,null,null,null,null,null,null,null,null,null,null,null,null,null,null,null,null,null,null,null,null,null,null,null,null,null,null,null,null,null,271]
[null,null,null,null,null,null,null,null,null,null,null,null,null,null,null,null,null,null,null,null,null,null,null,null,null,null,null,null,null,null,null,null,null,null,null,272]
[null,null,null,null,null,null,null,null,null,null,null,null,null,null,null,null,null,null,null,null,null,null,null,null,null,null,null,null,null,null,null,null,null,null,null,273]
[null,null,null,null,null,null,null,null,null,null,null,null,null,null,null,null,null,null,null,null,null,null,null,null,null,null,null,null,null,null,null,null,null,null,null,274]
[null,null,null,null,null,null,null,null,null,null,null,null,null,null,null,null,null,null,null,null,null,null,null,null,null,null,null,null,null,null,null,null,null,null,null,275]
[null,null,null,null,null,null,null,null,null,null,null,null,null,null,null,null,null,null,null,null,null,null,null,null,null,null,null,null,null,null,null,null,null,null,null,276]
[null,null,null,null,null,null,null,null,null,null,null,null,null,null,null,null,null,null,null,null,null,null,null,null,null,null,null,null,null,null,null,null,null,null,null,277]
[null,null,null,null,null,null,null,null,null,null,null,null,null,null,null,null,null,null,null,null,null,null,null,null,null,null,null,null,null,null,null,null,null,null,null,278]
[null,null,null,null,null,null,null,null,null,null,null,null,null,null,null,null,null,null,null,null,null,null,null,null,null,null,null,null,null,null,null,null,null,null,null,279]
[null,null,null,null,null,null,null,null,null,null,null,null,null,null,null,null,null,null,null,null,null,null,null,null,null,null,null,null,null,null,null,null,null,null,null,280]
[null,null,null,null,null,null,null,null,null,null,null,null,null,null,null,null,null,null,null,null,null,null,null,null,null,null,null,null,null,null,null,null,null,null,null,281]
[null,null,null,null,null,null,null,null,null,null,null,null,null,null,null,null,null,null,null,null,null,null,null,null,null,null,null,null,null,null,null,null,null,null,null,282]
[null,null,null,null,null,null,null,null,null,null,null,null,null,null,null,null,null,null,null,null,null,null,null,null,null,null,null,null,null,null,null,null,null,null,null,283]
[null,null,null,null,null,null,null,null,null,null,null,null,null,null,null,null,null,null,null,null,null,null,null,null,null,null,null,null,null,null,null,null,null,null,null,284]
[null,null,null,null,null,null,null,null,null,null,null,null,null,null,null,null,null,null,null,null,null,null,null,null,null,null,null,null,null,null,null,null,null,null,null,285]
[null,null,null,null,null,null,null,null,null,null,null,null,null,null,null,null,null,null,null,null,null,null,null,null,null,null,null,null,null,null,null,null,null,null,null,286]
[null,null,null,null,null,null,null,null,null,null,null,null,null,null,null,null,null,null,null,null,null,null,null,null,null,null,null,null,null,null,null,null,null,null,null,287]
[null,null,null,null,null,null,null,null,null,null,null,null,null,null,null,null,null,null,null,null,null,null,null,null,null,null,null,null,null,null,null,null,null,null,null,288]
[null,null,null,null,null,null,null,null,null,null,null,null,null,null,null,null,null,null,null,null,null,null,null,null,null,null,null,null,null,null,null,null,null,null,null,289]
[null,null,null,null,null,null,null,null,null,null,null,null,null,null,null,null,null,null,null,null,null,null,null,null,null,null,null,null,null,null,null,null,null,null,null,290]
[null,null,null,null,null,null,null,null,null,null,null,null,null,null,null,null,null,null,null,null,null,null,null,null,null,null,null,null,null,null,null,null,null,null,null,291]
[null,null,null,null,null,null,null,null,null,null,null,null,null,null,null,null,null,null,null,null,null,null,null,null,null,null,null,null,null,null,null,null,null,null,null,292]
[null,null,null,null,null,null,null,null,null,null,null,null,null,null,null,null,null,null,null,null,null,null,null,null,null,null,null,null,null,null,null,null,null,null,null,293]
[null,null,null,null,null,null,null,null,null,null,null,null,null,null,null,null,null,null,null,null,null,null,null,null,null,null,null,null,null,null,null,null,null,null,null,294]
[null,null,null,null,null,null,null,null,null,null,null,null,null,null,null,null,null,null,null,null,null,null,null,null,null,null,null,null,null,null,null,null,null,null,null,295]
[null,null,null,null,null,null,null,null,null,null,null,null,null,null,null,null,null,null,null,null,null,null,null,null,null,null,null,null,null,null,null,null,null,null,null,296]
[null,null,null,null,null,null,null,null,null,null,null,null,null,null,null,null,null,null,null,null,null,null,null,null,null,null,null,null,null,null,null,null,null,null,null,297]
[null,null,null,null,null,null,null,null,null,null,null,null,null,null,null,null,null,null,null,null,null,null,null,null,null,null,null,null,null,null,null,null,null,null,null,298]
[null,null,null,null,null,null,null,null,null,null,null,null,null,null,null,null,null,null,null,null,null,null,null,null,null,null,null,null,null,null,null,null,null,null,null,299]
[null,null,null,null,null,null,null,null,null,null,null,null,null,null,null,null,null,null,null,null,null,null,null,null,null,null,null,null,null,null,null,null,null,null,null,300]
[null,null,null,null,null,null,null,null,null,null,null,null,null,null,null,null,null,null,null,null,null,null,null,null,null,null,null,null,null,null,null,null,null,null,null,301]
[null,null,null,null,null,null,null,null,null,null,null,null,null,null,null,null,null,null,null,null,null,null,null,null,null,null,null,null,null,null,null,null,null,null,null,302]
[null,null,null,null,null,null,null,null,null,null,null,null,null,null,null,null,null,null,null,null,null,null,null,null,null,null,null,null,null,null,null,null,null,null,null,303]
[null,null,null,null,null,null,null,null,null,null,null,null,null,null,null,null,null,null,null,null,null,null,null,null,null,null,null,null,null,null,null,null,null,null,null,304]
[null,null,null,null,null,null,null,null,null,null,null,null,null,null,null,null,null,null,null,null,null,null,null,null,null,null,null,null,null,null,null,null,null,null,null,305]
[null,null,null,null,null,null,null,null,null,null,null,null,null,null,null,null,null,null,null,null,null,null,null,null,null,null,null,null,null,null,null,null,null,null,null,306]
[null,null,null,null,null,null,null,null,null,null,null,null,null,null,null,null,null,null,null,null,null,null,null,null,null,null,null,null,null,null,null,null,null,null,null,307]
[null,null,null,null,null,null,null,null,null,null,null,null,null,null,null,null,null,null,null,null,null,null,null,null,null,null,null,null,null,null,null,null,null,null,null,308]
[null,null,null,null,null,null,null,null,null,null,null,null,null,null,null,null,null,null,null,null,null,null,null,null,null,null,null,null,null,null,null,null,null,null,null,309]
[null,null,null,null,null,null,null,null,null,null,null,null,null,null,null,null,null,null,null,null,null,null,null,null,null,null,null,null,null,null,null,null,null,null,null,310]
[null,null,null,null,null,null,null,null,null,null,null,null,null,null,null,null,null,null,null,null,null,null,null,null,null,null,null,null,null,null,null,null,null,null,null,311]
[null,null,null,null,null,null,null,null,null,null,null,null,null,null,null,null,null,null,null,null,null,null,null,null,null,null,null,null,null,null,null,null,null,null,null,312]
[null,null,null,null,null,null,null,null,null,null,null,null,null,null,null,null,null,null,null,null,null,null,null,null,null,null,null,null,null,null,null,null,null,null,null,313]
[null,null,null,null,null,null,null,null,null,null,null,null,null,null,null,null,null,null,null,null,null,null,null,null,null,null,null,null,null,null,null,null,null,null,null,314]
[null,null,null,null,null,null,null,null,null,null,null,null,null,null,null,null,null,null,null,null,null,null,null,null,null,null,null,null,null,null,null,null,null,null,null,315]
[null,null,null,null,null,null,null,null,null,null,null,null,null,null,null,null,null,null,null,null,null,null,null,null,null,null,null,null,null,null,null,null,null,null,null,316]
[null,null,null,null,null,null,null,null,null,null,null,null,null,null,null,null,null,null,null,null,null,null,null,null,null,null,null,null,null,null,null,null,null,null,null,317]
[null,null,null,null,null,null,null,null,null,null,null,null,null,null,null,null,null,null,null,null,null,null,null,null,null,null,null,null,null,null,null,null,null,null,null,318]
[null,null,null,null,null,null,null,null,null,null,null,null,null,null,null,null,null,null,null,null,null,null,null,null,null,null,null,null,null,null,null,null,null,null,null,319]
[null,null,null,null,null,null,null,null,null,null,null,null,null,null,null,null,null,null,null,null,null,null,null,null,null,null,null,null,null,null,null,null,null,null,null,320]
[null,null,null,null,null,null,null,null,null,null,null,null,null,null,null,null,null,null,null,null,null,null,null,null,null,null,null,null,null,null,null,null,null,null,null,321]
[null,null,null,null,null,null,null,null,null,null,null,null,null,null,null,null,null,null,null,null,null,null,null,null,null,null,null,null,null,null,null,null,null,null,null,322]
[null,null,null,null,null,null,null,null,null,null,null,null,null,null,null,null,null,null,null,null,null,null,null,null,null,null,null,null,null,null,null,null,null,null,null,323]
[null,null,null,null,null,null,null,null,null,null,null,null,null,null,null,null,null,null,null,null,null,null,null,null,null,null,null,null,null,null,null,null,null,null,null,324]
[null,null,null,null,null,null,null,null,null,null,null,null,null,null,null,null,null,null,null,null,null,null,null,null,null,null,null,null,null,null,null,null,null,null,null,325]
[null,null,null,null,null,null,null,null,null,null,null,null,null,null,null,null,null,null,null,null,null,null,null,null,null,null,null,null,null,null,null,null,null,null,null,326]
[null,null,null,null,null,null,null,null,null,null,null,null,null,null,null,null,null,null,null,null,null,null,null,null,null,null,null,null,null,null,null,null,null,null,null,327]
[null,null,null,null,null,null,null,null,null,null,null,null,null,null,null,null,null,null,null,null,null,null,null,null,null,null,null,null,null,null,null,null,null,null,null,328]
[null,null,null,null,null,null,null,null,null,null,null,null,null,null,null,null,null,null,null,null,null,null,null,null,null,null,null,null,null,null,null,null,null,null,null,329]
[null,null,null,null,null,null,null,null,null,null,null,null,null,null,null,null,null,null,null,null,null,null,null,null,null,null,null,null,null,null,null,null,null,null,null,330]
[null,null,null,null,null,null,null,null,null,null,null,null,null,null,null,null,null,null,null,null,null,null,null,null,null,null,null,null,null,null,null,null,null,null,null,331]
[null,null,null,null,null,null,null,null,null,null,null,null,null,null,null,null,null,null,null,null,null,null,null,null,null,null,null,null,null,null,null,null,null,null,null,332]
[null,null,null,null,null,null,null,null,null,null,null,null,null,null,null,null,null,null,null,null,null,null,null,null,null,null,null,null,null,null,null,null,null,null,null,333]
[null,null,null,null,null,null,null,null,null,null,null,null,null,null,null,null,null,null,null,null,null,null,null,null,null,null,null,null,null,null,null,null,null,null,null,334]
[null,null,null,null,null,null,null,null,null,null,null,null,null,null,null,null,null,null,null,null,null,null,null,null,null,null,null,null,null,null,null,null,null,null,null,335]
[null,null,null,null,null,null,null,null,null,null,null,null,null,null,null,null,null,null,null,null,null,null,null,null,null,null,null,null,null,null,null,null,null,null,null,336]
[null,null,null,null,null,null,null,null,null,null,null,null,null,null,null,null,null,null,null,null,null,null,null,null,null,null,null,null,null,null,null,null,null,null,null,337]
[null,null,null,null,null,null,null,null,null,null,null,null,null,null,null,null,null,null,null,null,null,null,null,null,null,null,null,null,null,null,null,null,null,null,null,338]
[null,null,null,null,null,null,null,null,null,null,null,null,null,null,null,null,null,null,null,null,null,null,null,null,null,null,null,null,null,null,null,null,null,null,null,339]
[null,null,null,null,null,null,null,null,null,null,null,null,null,null,null,null,null,null,null,null,null,null,null,null,null,null,null,null,null,null,null,null,null,null,null,340]
[null,null,null,null,null,null,null,null,null,null,null,null,null,null,null,null,null,null,null,null,null,null,null,null,null,null,null,null,null,null,null,null,null,null,null,341]
[null,null,null,null,null,null,null,null,null,null,null,null,null,null,null,null,null,null,null,null,null,null,null,null,null,null,null,null,null,null,null,null,null,null,null,342]
[null,null,null,null,null,null,null,null,null,null,null,null,null,null,null,null,null,null,null,null,null,null,null,null,null,null,null,null,null,null,null,null,null,null,null,343]
[null,null,null,null,null,null,null,null,null,null,null,null,null,null,null,null,null,null,null,null,null,null,null,null,null,null,null,null,null,null,null,null,null,null,null,344]
[null,null,null,null,null,null,null,null,null,null,null,null,null,null,null,null,null,null,null,null,null,null,null,null,null,null,null,null,null,null,null,null,null,null,null,345]
[null,null,null,null,null,null,null,null,null,null,null,null,null,null,null,null,null,null,null,null,null,null,null,null,null,null,null,null,null,null,null,null,null,null,null,346]
[null,null,null,null,null,null,null,null,null,null,null,null,null,null,null,null,null,null,null,null,null,null,null,null,null,null,null,null,null,null,null,null,null,null,null,347]
[null,null,null,null,null,null,null,null,null,null,null,null,null,null,null,null,null,null,null,null,null,null,null,null,null,null,null,null,null,null,null,null,null,null,null,348]
[null,null,null,null,null,null,null,null,null,null,null,null,null,null,null,null,null,null,null,null,null,null,null,null,null,null,null,null,null,null,null,null,null,null,null,349]
[null,null,null,null,null,null,null,null,null,null,null,null,null,null,null,null,null,null,null,null,null,null,null,null,null,null,null,null,null,null,null,null,null,null,null,350]
[]
[]
[]
[]
[]
[]
[]
[]
[]
[]
[]
[]
[]
[]
[]
[]
[]
[]
[]
[]
[]
[]
[]
[]
[]
[]
[]
[]
[]
[]
[]
[]
[]
[]
[]
[]
[]
[]
[]
[]
[]
[]
[]
[]
[]
[]
[]
[]
[]
[]
[]
[]
[]
[]
[]
[]
[]
[]
[]
[]
[]
[]
[]
[]
[]
[]
[]
[]
[]
[]
[]
[]
[]
[]
[]
[]
[]
[]
[]
[]
[]
[]
[]
[]
[]
[]
[]
[]
[]
[]
[]
[]
[]
[]
[]
[]
[]
[]
[]
[]
[]
[]
[]
[]
[]
[]
[]
[]
[]
[]
[]
[]
[]
[]
[]
[]
[]
[]
[]
[]
[]
[]
[]
[]
[]
[]
[]
[]
[]
[]
[]
[]
[]
[]
[]
[]
[]
[]
[]
[]
[]
[]
[]
[]
[]
[]
[]
[]
[]
[]
[]
[]
[]
[]
[]
[]
[]
[]
[]
[]
[]
[]
[]
[]
[]
[]
[]
[]
[]
[]
[]
[]
[]
[]
[]
[]
[]
[]
[]
[]
[]
[]
[]
[]
[]
[]
[]
[]
[]
[]
[]
[]
[]
[]
[]
[]
[]
[]
[]
[]
[]
[]
[]
[]
[]
[]
[]
[]
[]
[]
[]
[]
[]
[]
[]
[]
[]
[]
[]
[]
[]
[]
[]
[]
[]
[]
[]
[]
[]
[]
[]
[]
[]
[]
[]
[]
[]
[]
[]
[]
[]
[]
[]
[]
[]
[]
[]
[]
[]
[]
[]
[]
[]
[]
[]
[]
[]
[]
[]
[]
[]
[]
[]
[]
[]
[]
[]
[]
[]
[]
[]
[]
[]
[]
[]
[]
[]
[]
[]
[]
[]
[]
[]
[]
[]
[]
[]
[]
[]
[null,null,null,null,null,null,null,null,null,null,null,null,null,null,null,null,null,null,null,null,null,null,null,null,null,null,null,null," ",null,null,null," "," "," "]
[null,null,null,null,null,null,null,null,null,null,null,null,null,null,null,null,null,null,null,null,null,null,null,null,null,null,null,null," ",null,null,null," "," "," "]
[null,null,null,null,null,null,null,null,null,null,null,null,null,null,null,null,null,null,null,null,null,null,null,null,null,null,null,null," ",null,null,null," "," "," "]
[null,null,null,null,null,null,null,null,null,null,null,null,null,null,null,null,null,null,null,null,null,null,null,null,null,null,null,null," ",null,null,null," "," "," "]
[null,null,null,null,null,null,null,null,null,null,null,null,null,null,null,null,null,null,null,null,null,null,null,null,null,null,null,null," ",null,null,null," "," "," "]
[null,null,null,null,null,null,null,null,null,null,null,null,null,null,null,null,null,null,null,null,null,null,null,null,null,null,null,null," ",null,null,null," "," "," "]
[null,null,null,null,null,null,null,null,null,null,null,null,null,null,null,null,null,null,null,null,null,null,null,null,null,null,null,null," ",null,null,null," "," "," "]
[null,null,null,null,null,null,null,null,null,null,null,null,null,null,null,null,null,null,null,null,null,null,null,null,null,null,null,null," ",null,null,null," "," "," "]
[null,null,null,null,null,null,null,null,null,null,null,null,null,null,null,null,null,null,null,null,null,null,null,null,null,null,null,null," ",null,null,null," "," "," "]
[null,null,null,null,null,null,null,null,null,null,null,null,null,null,null,null,null,null,null,null,null,null,null,null,null,null,null,null," ",null,null,null," "," "," "]
[null,null,null,null,null,null,null,null,null,null,null,null,null,null,null,null,null,null,null,null,null,null,null,null,null,null,null,null," ",null,null,null," "," "," "]
[null,null,null,null,null,null,null,null,null,null,null,null,null,null,null,null,null,null,null,null,null,null,null,null,null,null,null,null," ",null,null,null," "," "," "]
[]
[]
[null,null," "," "," "," "," "," "," "," "," "," "," "," "," "," "," "," "," "," "," "," "," "," "," "," "," "," ",null," "," "," "]
[" "," "," "," "," "," "," "," "," "," "," "," "," "," "," "," "," "," "," "," "," "," "," "," "," "," "," "," ",null," "," "," "]
[" "," "," "," "," "," "," "," "," "," "," "," "," "," "," "," "," "," "," "," "," "," "," "," "," "," "," "," ",null," "," "," "]
[" "," "," "," "," "," "," "," "," "," "," "," "," "," "," "," "," "," "," "," "," "," "," "," "," "," "," "," ",null," "," "," "]
[" "," "," "," "," "," "," "," "," "," "," "," "," "," "," "," "," "," "," "," "," "," "," "," "," "," "," "," ",null," "," "," "]
[" "," "," "," "," "," "," "," "," "," "," "," "," "," "," "," "," "," "," "," "," "," "," "," "," "," "," "," ",null," "," "," "]
[" "," "," "," "," "," "," "," "," "," "," "," "," "," "," "," "," "," "," "," "," "," "," "," "," "," "," "," ",null," "," "," "]
[" "," "," "," "," "," "," "," "," "," "," "," "," "," "," "," "," "," "," "," "," "," "," "," "," "," "," "," ",null," "," "," "]
[" "," "," "," "," "," "," "," "," "," "," "," "," "," "," "," "," "," "," "," "," "," "," "," "," "," "," "," ",null," "," "," "]
[" "," "," "," "," "," "," "," "," "," "," "," "," "," "," "," "," "," "," "," "," "," "," "," "," "," "," "," ",null," "," "," "]
[" "," "," "," "," "," "," "," "," "," "," "," "," "," "," "," "," "," "," "," "," "," "," "," "," "," "," "," ",null," "," "," "]
[" "," "," "," "," "," "," "," "," "," "," "," "," "," "," "," "," "," "," "," "," "," "," "," "," "," "," "," ",null," "," "," "]
[" "," "]

{"sheet":"Date Drivers HIST","index":9,"n_rows":667,"n_cols":105,"rows_kept":667,"cut":false,"hidden":true,"merged":[]}
["Key Date",{"$f":"IF(Configurator!$M$1=\"\",TODAY(),Configurator!$M$1)","v":"2017-12-16"},null," "," "," "," "," "," "," "," "," "," "," "," "," "," "," "," "," "," "," "," "," "," "," "," "," "," "," "," "," "," "," "," "," "," "," "," "," "," "," "," "," "," "," "," "," "," "," "," "," "," "," "," "," "," "," "," "," "," "," "," "," "," "," "," "," "," "," "," "," "," "," "," "," ",null,null,null,null,null,null,null,null,null,null," "," "," "," "," "," "," "," "," "," "," "," "," "," "," "]
[null,"2002-02-19","2002-02-20","2002-05-06","2002-05-14","2002-05-24","2002-08-12","2002-08-19","2002-08-24","2002-09-10","2002-09-11","2002-11-26","2003-01-20","2003-04-14","2003-04-16","2003-05-02","2003-12-15","2004-01-08","2004-01-19","2004-01-20","2004-01-22","2004-01-23","2004-03-17","2004-06-16","2004-07-19","2004-07-20","2004-10-04","2004-10-05","2004-11-01","2004-11-09","2005-02-21","2005-04-20","2005-05-31","2005-06-01","2005-07-30","2005-09-02","2005-10-06","2005-11-09","2005-11-10","2006-01-25","2006-03-25","2006-06-19","2006-10-16","2007-01-23","2007-02-07","2007-02-08","2007-07-31","2007-08-01","2007-11-19","2008-02-15","2008-02-18","2008-06-05","2008-06-06","2008-07-30","2008-10-08","2009-02-03","2009-02-04","2009-04-23","2009-04-24","2009-06-07","2009-07-13","2009-07-14","2009-07-15","2009-10-16","2010-02-08","2010-03-16","2010-03-17","2010-05-01","2010-05-13","2010-08-31","2010-09-01","2010-09-14","2010-09-17","2010-09-18","2011-03-07","2011-03-08",null,null,null,null,null,null,null,null,null,null," "," "," "," "," "," "," "," "," "," "," "," "," "," "," "," "," "," "," "]
["Basic device","Basic device 40TE, pin terminal connection","Basic device 40TE, pin terminal connection","Basic device 40TE, pin terminal connection","Basic device 40TE, pin terminal connection","Basic device 40TE, pin terminal connection","Basic device 40TE, pin terminal connection","Basic device 40TE, pin terminal connection","Basic device 40TE, pin terminal connection","Basic device 40TE, pin terminal connection","Basic device 40TE, pin terminal connection","Basic device 40TE, pin terminal connection","Basic device 40TE, pin terminal connection","Basic device 40TE, pin terminal connection","Basic device 40TE, pin terminal connection","Basic device 40TE, pin terminal connection","Basic device 40TE, pin terminal connection","Basic device 40TE, pin terminal connection","Basic device 40TE, pin terminal connection","Basic device 40TE, pin terminal connection","Basic device 40TE, pin terminal connection","Basic device 40TE, pin terminal connection","Basic device 40TE, pin terminal connection","Basic device 40TE, pin terminal connection","Basic device 40TE, pin terminal connection","Basic device 40TE, pin terminal connection","Basic device 40TE, pin terminal connection","Basic device 40TE, pin terminal connection","Basic device 40TE, pin terminal connection","Basic device 40TE, pin terminal connection","Basic device 40TE, pin terminal connection","Basic device 40TE, pin terminal connection","Basic device 40TE, pin terminal connection","Basic device 40TE, pin terminal connection","Basic device 40TE, pin terminal connection","Basic device 40TE, pin terminal connection","Basic device 40TE, pin terminal connection","Basic device 40TE, pin terminal connection","Basic device 40TE, pin terminal connection","Basic device 40TE, pin terminal connection","Basic device 40TE, pin terminal connection","Basic device 40TE, pin terminal connection","Basic device 40TE, pin terminal connection","Basic device 40TE, pin terminal connection","Basic device 40TE, pin terminal connection","Basic device 40TE, pin terminal connection","Basic device 40TE, pin terminal connection","Basic device 40TE, pin terminal connection","Basic device 40TE, pin terminal connection","Basic device 40TE, pin terminal connection","Basic device 40TE, pin terminal connection","Basic device 40TE, pin terminal connection","Basic device 40TE, pin terminal connection","Basic device 40TE, pin terminal connection","Basic device 40TE, pin terminal connection","Basic device 40TE, pin terminal connection","Basic device 40TE, pin terminal connection","Basic device 40TE, pin terminal connection","Basic device 40TE, pin terminal connection","Basic device 40TE, pin terminal connection","Basic device 40TE, pin terminal connection","Basic device 40TE, pin terminal connection","Basic device 40TE, pin terminal connection","Basic device 40TE, pin terminal connection","Basic device 40TE, pin terminal connection","Basic device 40TE, pin terminal connection","Basic device 40TE, pin terminal connection","Basic device 40TE, pin terminal connection","Basic device 40TE, pin terminal connection","Basic device 40TE, pin terminal connection","Basic device 40TE, pin terminal connection","Basic device 40TE, pin terminal connection","Basic device 40TE, pin terminal connection","Basic device 40TE, pin terminal connection","Basic device 40TE, pin terminal connection","Basic device 40TE, pin terminal connection",null,null,null,null,null,null,null,null,null,null," "," "," "," "," "," "," "," "," "," "," "," "," "," "," "," "," "," "," "]
[" "," ","Basic device 40TE, transformer modules: ring, others: pin terminal connection","Basic device 40TE, transformer modules: ring, others: pin terminal connection","Basic device 40TE, transformer modules: ring, others: pin terminal connection","Basic device 40TE, transformer modules: ring, others: pin terminal connection","Basic device 40TE, transformer modules: ring, others: pin terminal connection","Basic device 40TE, transformer modules: ring, others: pin terminal connection","Basic device 40TE, transformer modules: ring, others: pin terminal connection","Basic device 40TE, transformer modules: ring, others: pin terminal connection","Basic device 40TE, transformer modules: ring, others: pin terminal connection","Basic device 40TE, transformer modules: ring, others: pin terminal connection","Basic device 40TE, transformer modules: ring, others: pin terminal connection","Basic device 40TE, transformer modules: ring, others: pin terminal connection","Basic device 40TE, transformer modules: ring, others: pin terminal connection","Basic device 40TE, transformer modules: ring, others: pin terminal connection","Basic device 40TE, transformer modules: ring, others: pin terminal connection","Basic device 40TE, transformer modules: ring, others: pin terminal connection","Basic device 40TE, transformer modules: ring, others: pin terminal connection","Basic device 40TE, transformer modules: ring, others: pin terminal connection","Basic device 40TE, transformer modules: ring, others: pin terminal connection","Basic device 40TE, transformer modules: ring, others: pin terminal connection","Basic device 40TE, transformer modules: ring, others: pin terminal connection","Basic device 40TE, transformer modules: ring, others: pin terminal connection","Basic device 40TE, transformer modules: ring, others: pin terminal connection","Basic device 40TE, transformer modules: ring, others: pin terminal connection","Basic device 40TE, CT/VT ring-, I/O pin-terminal connection,","Basic device 40TE, CT/VT ring-, I/O pin-terminal connection,","Basic device 40TE, CT/VT ring-, I/O pin-terminal connection,","Basic device 40TE, CT/VT ring-, I/O pin-terminal connection,","Basic device 40TE, CT/VT ring-, I/O pin-terminal connection,","Basic device 40TE, CT/VT ring-, I/O pin-terminal connection,","Basic device 40TE, CT/VT ring-, I/O pin-terminal connection,","Basic device 40TE, CT/VT ring-, I/O pin-terminal connection,","Basic device 40TE, CT/VT ring-, I/O pin-terminal connection,","Basic device 40TE, CT/VT ring-, I/O pin-terminal connection,","Basic device 40TE, CT/VT ring-, I/O pin-terminal connection,","Basic device 40TE, CT/VT ring-, I/O pin-terminal connection,","Basic device 40TE, CT/VT ring-, I/O pin-terminal connection,","Basic device 40TE, CT/VT ring-, I/O pin-terminal connection,","Basic device 40TE, CT/VT ring-, I/O pin-terminal connection,","Basic device 40TE, CT/VT ring-, I/O pin-terminal connection,","Basic device 40TE, CT/VT ring-, I/O pin-terminal connection,","Basic device 40TE, CT/VT ring-, I/O pin-terminal connection,","Basic device 40TE, CT/VT ring-, I/O pin-terminal connection,","Basic device 40TE, CT/VT ring-, I/O pin-terminal connection,","Basic device 40TE, CT/VT ring-, I/O pin-terminal connection,","Basic device 40TE, CT/VT ring-, I/O pin-terminal connection,","Basic device 40TE, CT/VT ring-, I/O pin-terminal connection,","Basic device 40TE, CT/VT ring-, I/O pin-terminal connection,","Basic device 40TE, CT/VT ring-, I/O pin-terminal connection,","Basic device 40TE, CT/VT ring-, I/O pin-terminal connection,","Basic device 40TE, CT/VT ring-, I/O pin-terminal connection,","Basic device 40TE, CT/VT ring-, I/O pin-terminal connection,","Basic device 40TE, CT/VT ring-, I/O pin-terminal connection,","Basic device 40TE, CT/VT ring-, I/O pin-terminal connection,","Basic device 40TE, CT/VT ring-, I/O pin-terminal connection,","Basic device 40TE, CT/VT ring-, I/O pin-terminal connection,","Basic device 40TE, CT/VT ring-, I/O pin-terminal connection","Basic device 40TE, CT/VT ring-, I/O pin-terminal connection,","Basic device 40TE, CT/VT ring-, I/O pin-terminal connection,","Basic device 40TE, CT/VT ring-, I/O pin-terminal connection,","Basic device 40TE, CT/VT ring-, I/O pin-terminal connection","Basic device 40TE, CT/VT ring-, I/O pin-terminal connection","Basic device 40TE, CT/VT ring-, I/O pin-terminal connection","Basic device 40TE, CT/VT ring-, I/O pin-terminal connection","Basic device 40TE, CT/VT ring-, I/O pin-terminal connection","Basic device 40TE, CT/VT ring-, I/O pin-terminal connection,","Basic device 40TE, CT/VT ring-, I/O pin-terminal connection","Basic device 40TE, CT/VT ring-, I/O pin-terminal connection","Basic device 40TE, CT/VT ring-, I/O pin-terminal connection","Basic device 40TE, CT/VT ring-, I/O pin-terminal connection","Basic device 40TE, CT/VT ring-, I/O pin-terminal connection,","Basic device 40TE, CT/VT ring-, I/O pin-terminal connection","Basic device 40TE, CT/VT ring-, I/O pin-terminal connection","Basic device 40TE, CT/VT ring-, I/O pin-terminal connection",null,null,null,null,null,null,null,null,null,null," "," "," "," "," "," "," "," "," "," "," "," "," "," "," "," "," "," "," "]
[" "," ","Basic device 84TE, ring terminal connection","Basic device 84TE, ring terminal connection","Basic device 84TE, ring terminal connection","Basic device 84TE, ring terminal connection","Basic device 84TE, ring terminal connection","Basic device 84TE, ring terminal connection","Basic device 84TE, ring terminal connection","Basic device 84TE, ring terminal connection","Basic device 84TE, ring terminal connection","Basic device 84TE, ring terminal connection","Basic device 84TE, ring terminal connection","Basic device 84TE, ring terminal connection","Basic device 84TE, ring terminal connection","Basic device 84TE, ring terminal connection","Basic device 84TE, ring terminal connection","Basic device 84TE, ring terminal connection","Basic device 84TE, ring terminal connection","Basic device 84TE, ring terminal connection","Basic device 84TE, ring terminal connection","Basic device 84TE, ring terminal connection","Basic device 84TE, ring terminal connection","Basic device 84TE, ring terminal connection","Basic device 84TE, ring terminal connection","Basic device 84TE, ring terminal connection","Basic device 84TE, ring terminal connection","Basic device 84TE, ring terminal connection","Basic device 84TE, ring terminal connection","Basic device 84TE, ring terminal connection","Basic device 84TE, ring terminal connection","Basic device 84TE, ring terminal connection","Basic device 84TE, ring terminal connection","Basic device 84TE, ring terminal connection","Basic device 84TE, ring terminal connection","Basic device 84TE, ring terminal connection","Basic device 84TE, ring terminal connection","Basic device 84TE, ring terminal connection","Basic device 84TE, ring terminal connection","Basic device 84TE, ring terminal connection","Basic device 84TE, ring terminal connection","Basic device 84TE, ring terminal connection","Basic device 84TE, ring terminal connection","Basic device 84TE, ring terminal connection","Basic device 84TE, ring terminal connection","Basic device 84TE, ring terminal connection","Basic device 84TE, ring terminal connection","Basic device 84TE, ring terminal connection","Basic device 84TE, ring terminal connection","Basic device 84TE, ring terminal connection","Basic device 84TE, ring terminal connection","Basic device 84TE, ring terminal connection","Basic device 84TE, ring terminal connection","Basic device 84TE, ring terminal connection","Basic device 84TE, ring terminal connection","Basic device 84TE, ring terminal connection","Basic device 84TE, ring terminal connection","Basic device 84TE, ring terminal connection","Basic device 84TE, ring terminal connection","Basic device 84TE, ring terminal connection","Basic device 84TE, ring terminal connection","Basic device 84TE, ring terminal connection","Basic device 84TE, ring terminal connection","Basic device 84TE, ring terminal connection","Basic device 84TE, ring terminal connection","Basic device 84TE, ring terminal connection","Basic device 84TE, ring terminal connection","Basic device 84TE, ring terminal connection","Basic device 84TE, ring terminal connection","Basic device 84TE, ring terminal connection","Basic device 84TE, ring terminal connection","Basic device 84TE, ring terminal connection","Basic device 84TE, ring terminal connection","Basic device 84TE, ring terminal connection","Basic device 84TE, ring terminal connection","Basic device 84TE, ring terminal connection",null,null,null,null,null,null,null,null,null,null," "," "," "," "," "," "," "," "," "," "," "," "," "," "," "," "," "," "," "]
["Mounting option and display"," "," "," "," "," "," "," "," "," "," "," "," "," "," "," "," "," "," "," "," "," "," "," "," "," "," "," "," "," "," "," "," "," "," "," "," "," "," "," "," "," "," "," "," "," "," "," "," "," "," "," "," "," "," "," "," "," "," "," "," "," "," "," "," "," "," "," "," "," "," "," "," "," "," "," ",null,null,null,null,null,null,null,null,null,null," "," "," "," "," "," "," "," "," "," "," "," "," "," "," "," "," "," "," "]
[" ","Surface mounted, local control panel with graphic display and fixed HMI","Surface mounted, local control panel with graphic display and fixed HMI","Surface mounted, local control panel with graphic display and fixed HMI","Surface mounted, local control panel with graphic display and fixed HMI","Surface mounted, local control panel with graphic display and fixed HMI","Surface mounted, local control panel with graphic display and fixed HMI","Surface mounted, local control panel with graphic display and fixed HMI","Surface mounted, local control panel with graphic display and fixed HMI","Surface mounted, local control panel with graphic display and fixed HMI","Surface mounted, local control panel with graphic display and fixed HMI","Surface mounted, local control panel with graphic display and fixed HMI","Surface mounted, local control panel with graphic display and fixed HMI","Surface mounted, local control panel with graphic display and fixed HMI","Surface mounted, local control panel with graphic display and fixed HMI","Surface mounted, local control panel with graphic display and fixed HMI","Surface mounted, local control panel with graphic display and fixed HMI","Surface mounted, local control panel with graphic display and fixed HMI","Surface mounted, local control panel with graphic display and fixed HMI","Surface mounted, local control panel with graphic display and fixed HMI","Surface mounted, local control panel with graphic display and fixed HMI","Surface mounted, local control panel with graphic display and fixed HMI","Surface mounted, local control panel with graphic display and fixed HMI","Surface mounted, local control panel with graphic display and fixed HMI","Surface mounted, local control panel with graphic display and fixed HMI","Surface mounted, local control panel with graphic display and fixed HMI","Surface mounted, local control panel with graphic display and fixed HMI","Surface mounted, local control panel with graphic display and fixed HMI","Surface mounted, local control panel with graphic display and fixed HMI","Surface mounted, local control panel with graphic display and fixed HMI","Surface mounted, local control panel with graphic display and fixed HMI","Surface mounted, local control panel with graphic display and fixed HMI","Surface mounted, local control panel with graphic display and fixed HMI","Surface mounted, local control panel with graphic display and fixed HMI","Surface mounted, local control panel with graphic display and fixed HMI","Surface mounted, local control panel with graphic display and fixed HMI","Surface mounted, local control panel with graphic display and fixed HMI","Surface mounted, local control panel with graphic display and fixed HMI","Surface mounted, local control panel with graphic display and fixed HMI","Surface mounted, local control panel with graphic display and fixed HMI","Surface mounted, local control panel with graphic display and fixed HMI","Surface mounted, local control panel with graphic display and fixed HMI","Surface mounted, local control panel with graphic display and fixed HMI","Surface mounted, local control panel with graphic display and fixed HMI","Surface mounted, local control panel with graphic display and fixed HMI","Surface mounted, local control panel with graphic display and fixed HMI","Surface mounted, local control panel with graphic display and fixed HMI","Surface mounted, local control panel with graphic display and fixed HMI","Surface mounted, local control panel with graphic display and fixed HMI","Surface mounted, local control panel with graphic display and fixed HMI","Surface mounted, local control panel with graphic display and fixed HMI","Surface mounted, local control panel with graphic display and fixed HMI","Surface mounted, local control panel with graphic display and fixed HMI","Surface mounted, local control panel with graphic display and fixed HMI","Surface mounted, local control panel with graphic display and fixed HMI","Surface mounted, local control panel with graphic display and fixed HMI","Surface mounted, local control panel with graphic display and fixed HMI","Surface mounted, local control panel with graphic display and fixed HMI","Surface mounted, local control panel with graphic display and fixed HMI","Surface mounted, local control panel with graphic display and fixed HMI","Surface mounted, local control panel with graphic display and fixed HMI","Surface mounted, local control panel with graphic display and fixed HMI","Surface mounted, local control panel with graphic display and fixed HMI","Surface mounted, local control panel with graphic display and fixed HMI","Surface mounted, local control panel with graphic display and fixed HMI","Surface mounted, local control panel with graphic display and fixed HMI","Surface mounted, local control panel with graphic display and fixed HMI","Surface mounted, local control panel with graphic display and fixed HMI","Surface mounted, local control panel with graphic display and fixed HMI","Surface mounted, local control panel with graphic display and fixed HMI","Surface mounted, local control panel with graphic display and fixed HMI","Surface mounted, local control panel with graphic display and fixed HMI","Surface mounted, local control panel with graphic display and fixed HMI","Surface mounted, local control panel with graphic display and fixed HMI","Surface mounted, local control panel with graphic display and fixed HMI","Surface mounted, local control panel with graphic display and fixed HMI",null,null,null,null,null,null,null,null,null,null," "," "," "," "," "," "," "," "," "," "," "," "," "," "," "," "," "," "," "]
[" ","Flush/Rack mounted, local control panel with graphic display and fixed HMI","Flush/Rack mounted, local control panel with graphic display and fixed HMI","Flush/Rack mounted, local control panel with graphic display and fixed HMI","Flush/Rack mounted, local control panel with graphic display and fixed HMI","Flush/Rack mounted, local control panel with graphic display and fixed HMI","Flush/Rack mounted, local control panel with graphic display and fixed HMI","Flush/Rack mounted, local control panel with graphic display and fixed HMI","Flush/Rack mounted, local control panel with graphic display and fixed HMI","Flush/Rack mounted, local control panel with graphic display and fixed HMI","Flush/Rack mounted, local control panel with graphic display and fixed HMI","Flush/Rack mounted, local control panel with graphic display and fixed HMI","Flush/Rack mounted, local control panel with graphic display and fixed HMI","Flush/Rack mounted, local control panel with graphic display and fixed HMI","Flush/Rack mounted, local control panel with graphic display and fixed HMI","Flush/Rack mounted, local control panel with graphic display and fixed HMI","Flush/Rack mounted, local control panel with graphic display and fixed HMI","Flush/Rack mounted, local control panel with graphic display and fixed HMI","Flush/Rack mounted, local control panel with graphic display and fixed HMI","Flush/Rack mounted, local control panel with graphic display and fixed HMI","Flush/Rack mounted, local control panel with graphic display and fixed HMI","Flush/Rack mounted, local control panel with graphic display and fixed HMI","Flush/Rack mounted, local control panel with graphic display and fixed HMI","Flush/Rack mounted, local control panel with graphic display and fixed HMI","Flush/Rack mounted, local control panel with graphic display and fixed HMI","Flush/Rack mounted, local control panel with graphic display and fixed HMI","Flush/Rack mounted, local control panel with graphic display and fixed HMI","Flush/Rack mounted, local control panel with graphic display and fixed HMI","Flush/Rack mounted, local control panel with graphic display and fixed HMI","Flush/Rack mounted, local control panel with graphic display and fixed HMI","Flush/Rack mounted, local control panel with graphic display and fixed HMI","Flush/Rack mounted, local control panel with graphic display and fixed HMI","Flush/Rack mounted, local control panel with graphic display and fixed HMI","Flush/Rack mounted, local control panel with graphic display and fixed HMI","Flush/Rack mounted, local control panel with graphic display and fixed HMI","Flush/Rack mounted, local control panel with graphic display and fixed HMI","Flush/Rack mounted, local control panel with graphic display and fixed HMI","Flush/Rack mounted, local control panel with graphic display and fixed HMI","Flush/Rack mounted, local control panel with graphic display and fixed HMI","Flush/Rack mounted, local control panel with graphic display and fixed HMI","Flush/Rack mounted, local control panel with graphic display and fixed HMI","Flush/Rack mounted, local control panel with graphic display and fixed HMI","Flush/Rack mounted, local control panel with graphic display and fixed HMI","Flush/Rack mounted, local control panel with graphic display and fixed HMI","Flush/Rack mounted, local control panel with graphic display and fixed HMI","Flush/Rack mounted, local control panel with graphic display and fixed HMI","Flush/Rack mounted, local control panel with graphic display and fixed HMI","Flush/Rack mounted, local control panel with graphic display and fixed HMI","Flush/Rack mounted, local control panel with graphic display and fixed HMI","Flush/Rack mounted, local control panel with graphic display and fixed HMI","Flush/Rack mounted, local control panel with graphic display and fixed HMI","Flush/Rack mounted, local control panel with graphic display and fixed HMI","Flush/Rack mounted, local control panel with graphic display and fixed HMI","Flush/Rack mounted, local control panel with graphic display and fixed HMI","Flush/Rack mounted, local control panel with graphic display and fixed HMI","Flush/Rack mounted, local control panel with graphic display and fixed HMI","Flush/Rack mounted, local control panel with graphic display and fixed HMI","Flush/Rack mounted, local control panel with graphic display and fixed HMI","Flush/Rack mounted, local control panel with graphic display and fixed HMI","Flush/Rack mounted, local control panel with graphic display and fixed HMI","Flush/Rack mounted, local control panel with graphic display and fixed HMI","Flush/Rack mounted, local control panel with graphic display and fixed HMI","Flush/Rack mounted, local control panel with graphic display and fixed HMI","Flush/Rack mounted, local control panel with graphic display and fixed HMI","Flush/Rack mounted, local control panel with graphic display and fixed HMI","Flush/Rack mounted, local control panel with graphic display and fixed HMI","Flush/Rack mounted, local control panel with graphic display and fixed HMI","Flush/Rack mounted, local control panel with graphic display and fixed HMI","Flush/Rack mounted, local control panel with graphic display and fixed HMI","Flush/Rack mounted, local control panel with graphic display and fixed HMI","Flush/Rack mounted, local control panel with graphic display and fixed HMI","Flush/Rack mounted, local control panel with graphic display and fixed HMI","Flush/Rack mounted, local control panel with graphic display and fixed HMI","Flush/Rack mounted, local control panel with graphic display and fixed HMI","Flush/Rack mounted, local control panel with graphic display and fixed HMI","Flush/Rack mounted, local control panel with graphic display and fixed HMI",null,null,null,null,null,null,null,null,null,null," "," "," "," "," "," "," "," "," "," "," "," "," "," "," "," "," "," "," "]
[null," "," "," "," "," "," "," "," "," "," "," "," "," "," "," "," "," "," "," "," "," "," "," "," "," "," "," "," "," "," "," "," "," "," "," "," "," "," "," "," "," "," ",{"$f":"IF(AR$37=\"-307\",\"Surface-mounted, with detachable HMI\",\"Surface-mounted, with detachable HMI - available from 307 hardware onwards only\")","v":"Surface-mounted, with detachable HMI"}," ",{"$f":"IF(AT$37=\"-307\",\"Surface-mounted, with detachable HMI\",\"Surface-mounted, with detachable HMI - available from 307 hardware onwards only\")","v":"Surface-mounted, with detachable HMI"},"Surface-mounted, with detachable HMI","Surface-mounted, with detachable HMI","Surface-mounted, with detachable HMI","Surface-mounted, with detachable HMI","Surface-mounted, with detachable HMI","Surface-mounted, with detachable HMI","Surface-mounted, with detachable HMI","Surface-mounted, with detachable HMI","Surface-mounted, with detachable HMI","Surface-mounted, with detachable HMI","Surface-mounted, with detachable HMI","Surface-mounted, with detachable HMI","Surface-mounted, with detachable HMI","Surface-mounted, with detachable HMI","Surface-mounted, with detachable HMI","Surface-mounted, with detachable HMI","Surface-mounted, with detachable HMI","Surface-mounted, with detachable HMI","Surface-mounted, with detachable HMI","Surface-mounted, with detachable HMI","Surface-mounted, with detachable HMI","Surface-mounted, with detachable HMI","Surface-mounted, with detachable HMI","Surface-mounted, with detachable HMI","Surface-mounted, with detachable HMI","Surface-mounted, with detachable HMI","Surface-mounted, with detachable HMI","Surface-mounted, with detachable HMI","Surface-mounted, with detachable HMI","Surface-mounted, with detachable HMI"]
[null," "," "," "," "," "," "," "," "," "," "," "," "," "," "," "," "," "," "," "," "," "," "," "," "," "," "," "," "," "," "," "," "," "," "," "," "," "," "," "," "," "," ",{"$f":"IF(AR$37=\"-307\",\"Flush-mounted, with detachable HMI\",\"Flush-mounted, with detachable HMI - available from 307 hardware onwards only\")","v":"Flush-mounted, with detachable HMI"}," ",{"$f":"IF(AT$37=\"-307\",\"Flush-mounted, with detachable HMI\",\"Flush-mounted, with detachable HMI - available from 307 hardware onwards only\")","v":"Flush-mounted, with detachable HMI"},"Flush-mounted, with detachable HMI","Flush-mounted, with detachable HMI","Flush-mounted, with detachable HMI","Flush-mounted, with detachable HMI","Flush-mounted, with detachable HMI","Flush-mounted, with detachable HMI","Flush-mounted, with detachable HMI","Flush-mounted, with detachable HMI","Flush-mounted, with detachable HMI","Flush-mounted, with detachable HMI","Flush-mounted, with detachable HMI","Flush-mounted, with detachable HMI","Flush-mounted, with detachable HMI","Flush-mounted, with detachable HMI","Flush-mounted, with detachable HMI","Flush-mounted, with detachable HMI","Flush-mounted, with detachable HMI","Flush-mounted, with detachable HMI","Flush-mounted, with detachable HMI","Flush-mounted, with detachable HMI","Flush-mounted, with detachable HMI","Flush-mounted, with detachable HMI","Flush-mounted, with detachable HMI","Flush-mounted, with detachable HMI","Flush-mounted, with detachable HMI","Flush-mounted, with detachable HMI","Flush-mounted, with detachable HMI","Flush-mounted, with detachable HMI","Flush-mounted, with detachable HMI","Flush-mounted, with detachable HMI"]
[null," "," "," "," "," "," "," "," "," "," "," "," "," "," "," "," "," "," "," "," "," "," "," "," "," "," "," "," "," "," "," "," "," "," "," "," "," "," "," "," "," "," "," "," "," "," "," "," "," "," "," "," "," "," "," "," "," "," "," "," "," "," "," "," "," "," "," "," "," "," "," "," "," "," "," ",null,null,null,null,null,null,null,null,null,null," "," "," "," "," "," "," "," "," "," "," "," "," "," "," "," "," "," "," "]
[null," "," "," "," "," "," "," "," "," "," "," "," "," "," "," "," "," "," "," "," "," "," "," "," "," "," "," "," "," "," "," "," "," "," "," "," "," "," "," "," "," "," "," "," "," "," "," "," "," "," "," "," "," "," "," "," "," "," "," "," "," "," "," "," "," "," "," "," "," "," "," "," "," "," "," ",null,null,null,null,null,null,null,null,null,null," "," "," "," "," "," "," "," "," "," "," "," "," "," "," "," "," "," "," "]
[null," "," "," "," "," "," "," "," "," "," "," "," "," "," "," "," "," "," "," "," "," "," "," "," "," "," "," "," "," "," "," "," "," "," "," "," "," "," "," "," "," "," "," "," "," "," "," "," "," "," "," "," "," "," "," "," "," "," "," "," "," "," "," "," "," "," "," "," "," "," "," "," "," "," "," "]
[null," "," "," "," "," "," "," "," "," "," "," "," "," "," "," "," "," "," "," "," "," "," "," "," "," "," "," "," "," "," "," "," "," "," "," "," "," "," "," "," "," "," "," "," "," "," "," "," "," "," "," "," "," "," "," "," "," "," "," "," "," "," "," "," "," "," "," "," "," "," "," "," "," "," "," "]
["Voltage transformer"," "," "," "," "," "," "," "," "," "," "," "," "," "," "," "," "," "," "," "," "," "," "," "," "," "," "," "," "," "," "," "," "," "," "," "," "," "," "," "," "," "," "," "," "," "," "," "," "," "," "," "," "," "," "," "," "," "," "," "," "," "," "," "," "," "," "," "," "," "," "," "," "," "," "," ",null,null,null,null,null,null,null,null,null,null," "," "," "," "," "," "," "," "," "," "," "," "," "," "," "," "," "," "," "]
[" ","None (Not viable if transient ground fault option required!)","None (Not viable if transient ground fault option required!)","None (Not viable if transient ground fault option required!)","None (Not viable if transient ground fault option required!)","None (Not viable if transient ground fault option required!)","None (Not viable if transient ground fault option required!)","None (Not viable if transient ground fault option required!)","None (Not viable if transient ground fault option required!)","None (Not viable if transient ground fault option required!)","None (Not viable if transient ground fault option required!)","None (Not viable if transient ground fault option required!)","None (Not viable if transient ground fault option required!)","None (Not viable if transient ground fault option required!)","None (Not viable if transient ground fault option required!)","None (Not viable if transient ground fault option required!)","None (Not viable if transient ground fault option required!)","None (Not viable if transient ground fault option required!)","None (Not viable if transient ground fault option required!)","None (Not viable if transient ground fault option required!)","None (Not viable if transient ground fault option required!)","None (Not viable if transient ground fault option required!)","None (Not viable if transient ground fault option required!)","None (Not viable if transient ground fault option required!)","None (Not viable if transient ground fault option required!)","None (Not viable if transient ground fault option required!)","Without (Not viable if transient ground fault option required!)","Without (Not viable if transient ground fault option required!)","Without (Not viable if transient ground fault option required!)","Without (Not viable if transient ground fault option required!)","Without (Not viable if transient ground fault option required!)","Without (Not viable if transient ground fault option required!)","Without (Not viable if transient ground fault option required!)","Without (Not viable if transient ground fault option required!)","Without (Not viable if transient ground fault option required!)","Without (Not viable if transient ground fault option required!)","Without (Not viable if transient ground fault option required!)","Without (Not viable if transient ground fault option required!)","Without (Not viable if transient ground fault option required!)","Without (Not viable if transient ground fault option required!)","Without (Not viable if transient ground fault option required!)","Without (Not viable if transient ground fault option required!)","Without (Not viable if transient ground fault option required!)","Without (Not viable if transient ground fault option required!)","Without (Not viable if transient ground fault option required!)","Without (Not viable if transient ground fault option required!)","Without (Not viable if transient ground fault option required!)","Without (Not viable if transient ground fault option required!)","Without (Not viable if transient ground fault option required!)","Without (Not viable if transient ground fault option required!)","Without (Not viable if transient ground fault option required!)","Without (Not viable if transient ground fault option required!)","Without (Not viable if transient ground fault option required!)","Without (Not viable if transient ground fault option required!)","Without (Not viable if transient ground fault option required!)","Without (Not viable if transient ground fault option required!)","Without (Not viable if transient ground fault option required!)","Without (Not viable if transient ground fault option required!)","Without (Not viable if transient ground fault option required!)","Without (Not viable if transient ground fault option required!)","Without (Not viable if transient ground fault option required!)","Without (Not viable if transient ground fault option required!)","Without (Not viable if transient ground fault option required!)","Without (Not viable if transient ground fault option required!)","Without (Not viable if transient ground fault option required!)","Without (Not viable if transient ground fault option required!)","Without (Not viable if transient ground fault option required!)","Without (Not viable if transient ground fault option required!)","Without (Not viable if transient ground fault option required!)","Without (Not viable if transient ground fault option required!)","Without (Not viable if transient ground fault option required!)","Without (Not viable if transient ground fault option required!)","Without (Not viable if transient ground fault option required!)","Without (Not viable if transient ground fault option required!)","Without (Not viable if transient ground fault option required!)","Without (Not viable if transient ground fault option required!)",null,null,null,null,null,null,null,null,null,null," "," "," "," "," "," "," "," "," "," "," "," "," "," "," "," "," "," "," "]
[" ","Vnom = 50V to 130V (4-pole)","Vnom = 50V to 130V (4-pole)","Vnom = 50V to 130V (4-pole)","Vnom = 50V to 130V (4-pole)","Vnom = 50V to 130V (4-pole)","Vnom = 50V to 130V (4-pole)","Vnom = 50V to 130V (4-pole)","Vnom = 50V to 130V (4-pole)","Vnom = 50V to 130V (4-pole)","Vnom = 50V to 130V (4-pole)","Vnom = 50V to 130V (4-pole)","Vnom = 50V to 130V (4-pole)","Vnom = 50V to 130V (4-pole)","Vnom = 50V to 130V (4-pole)","Vnom = 50V to 130V (4-pole)","Vnom = 50V to 130V (4-pole)","Vnom = 50V to 130V (4-pole)","Vnom = 50V to 130V (4-pole)","Vnom = 50V to 130V (4-pole)","Vnom = 50V to 130V (4-pole)","Vnom = 50V to 130V (4-pole)","Vnom = 50V to 130V (4-pole)","Vnom = 50V to 130V (4-pole)","Vnom = 50V to 130V (4-pole)","Vnom = 50V to 130V (4-pole)","Vnom = 50V to 130V (4-pole)","Vnom = 50V to 130V (4-pole)","Vnom = 50V to 130V (4-pole)","Vnom = 50V to 130V (4-pole)","Vnom = 50V to 130V (4-pole)","Vnom = 50V to 130V (4-pole)","Vnom = 50V to 130V (4-pole)","Vnom = 50V to 130V (4-pole)","Vnom = 50V to 130V (4-pole)","Vnom = 50V to 130V (4-pole)","Vnom = 50V to 130V (4-pole)","Vnom = 50V to 130V (4-pole)","Vnom = 50V to 130V (4-pole)","Vnom = 50V to 130V (4-pole)","Vnom = 50V to 130V (4-pole)","Vnom = 50V to 130V (4-pole)","Vnom = 50V to 130V (4-pole)","Vnom = 50V to 130V (4-pole)","Vnom = 50V to 130V (4-pole)","Vnom = 50V to 130V (4-pole)","Vnom = 50V to 130V (4-pole)","Vnom = 50V to 130V (4-pole)","Vnom = 50V to 130V (4-pole)","Vnom = 50V to 130V (4-pole)","Vnom = 50V to 130V (4-pole)","Vnom = 50V to 130V (4-pole)","Vnom = 50V to 130V (4-pole)","Vnom = 50V to 130V (4-pole)","Vnom = 50V to 130V (4-pole)","Vnom = 50V to 130V (4-pole)","Vnom = 50V to 130V (4-pole)","Vnom = 50V to 130V (4-pole)","Vnom = 50V to 130V (4-pole)","Vnom = 50V to 130V (4-pole)","Vnom = 50V to 130V (4-pole)","Vnom = 50V to 130V (4-pole)","Vnom = 50V to 130V (4-pole)","Vnom = 50V to 130V (4-pole)","Vnom = 50V to 130V (4-pole)","Vnom = 50V to 130V (4-pole)","Vnom = 50V to 130V (4-pole)","Vnom = 50V to 130V (4-pole)","Vnom = 50V to 130V (4-pole)","Vnom = 50V to 130V (4-pole)","Vnom = 50V to 130V (4-pole)","Vnom = 50V to 130V (4-pole)","Vnom = 50V to 130V (4-pole)","Vnom = 50V to 130V (4-pole)","Vnom = 50V to 130V (4-pole)","Vnom = 50V to 130V (4-pole)",null,null,null,null,null,null,null,null,null,null," "," "," "," "," "," "," "," "," "," "," "," "," "," "," "," "," "," "," "]
[" ","Vnom = 50V to 130V (5-pole) for Automatic Synchronism Check","Vnom = 50V to 130V (5-pole) for Automatic Synchronism Check","Vnom = 50V to 130V (5-pole) for Automatic Synchronism Check","Vnom = 50V to 130V (5-pole) for Automatic Synchronism Check","Vnom = 50V to 130V (5-pole) for Automatic Synchronism Check","Vnom = 50V to 130V (5-pole) for Automatic Synchronism Check","Vnom = 50V to 130V (5-pole) for Automatic Synchronism Check","Vnom = 50V to 130V (5-pole) for Automatic Synchronism Check","Vnom = 50V to 130V (5-pole) for Automatic Synchronism Check","Vnom = 50V to 130V (5-pole) for Automatic Synchronism Check","Vnom = 50V to 130V (5-pole) for Automatic Synchronism Check","Vnom = 50V to 130V (5-pole) for Automatic Synchronism Check","Vnom = 50V to 130V (5-pole) for Automatic Synchronism Check","Vnom = 50V to 130V (5-pole) for Automatic Synchronism Check","Vnom = 50V to 130V (5-pole) for Automatic Synchronism Check","Vnom = 50V to 130V (5-pole) for Automatic Synchronism Check","Vnom = 50V to 130V (5-pole) for Automatic Synchronism Check","Vnom = 50V to 130V (5-pole) for Automatic Synchronism Check","Vnom = 50V to 130V (5-pole) for Automatic Synchronism Check","Vnom = 50V to 130V (5-pole) for Automatic Synchronism Check","Vnom = 50V to 130V (5-pole) for Automatic Synchronism Check","Vnom = 50V to 130V (5-pole) for Automatic Synchronism Check","Vnom = 50V to 130V (5-pole) for Automatic Synchronism Check","Vnom = 50V to 130V (5-pole) for Automatic Synchronism Check","Vnom = 50V to 130V (5-pole) for Automatic Synchronism Check","Vnom = 50V to 130V (5-pole) for Automatic Synchronism Check","Vnom = 50V to 130V (5-pole) for Automatic Synchronism Check","Vnom = 50V to 130V (5-pole) for Automatic Synchronism Check","Vnom = 50V to 130V (5-pole) for Automatic Synchronism Check","Vnom = 50V to 130V (5-pole) for Automatic Synchronism Check","Vnom = 50V to 130V (5-pole) for Automatic Synchronism Check","Vnom = 50V to 130V (5-pole) for Automatic Synchronism Check","Vnom = 50V to 130V (5-pole) for Automatic Synchronism Check","Vnom = 50V to 130V (5-pole) for Automatic Synchronism Check","Vnom = 50V to 130V (5-pole) for Automatic Synchronism Check","Vnom = 50V to 130V (5-pole) for Automatic Synchronism Check","Vnom = 50V to 130V (5-pole) for Automatic Synchronism Check","Vnom = 50V to 130V (5-pole) for Automatic Synchronism Check","Vnom = 50V to 130V (5-pole) for Automatic Synchronism Check","Vnom = 50V to 130V (5-pole) for Automatic Synchronism Check","Vnom = 50V to 130V (5-pole) for Automatic Synchronism Check","Vnom = 50V to 130V (5-pole) for Automatic Synchronism Check","Vnom = 50V to 130V (5-pole) for Automatic Synchronism Check","Vnom = 50V to 130V (5-pole) for Automatic Synchronism Check","Vnom = 50V to 130V (5-pole) for Automatic Synchronism Check","Vnom = 50V to 130V (5-pole) for Automatic Synchronism Check","Vnom = 50V to 130V (5-pole) for Automatic Synchronism Check","Vnom = 50V to 130V (5-pole) for Automatic Synchronism Check","Vnom = 50V to 130V (5-pole) for Automatic Synchronism Check","Vnom = 50V to 130V (5-pole) for Automatic Synchronism Check","Vnom = 50V to 130V (5-pole) for Automatic Synchronism Check","Vnom = 50V to 130V (5-pole) for Automatic Synchronism Check","Vnom = 50V to 130V (5-pole) for Automatic Synchronism Check","Vnom = 50V to 130V (5-pole) for Automatic Synchronism Check","Vnom = 50V to 130V (5-pole) for Automatic Synchronism Check","Vnom = 50V to 130V (5-pole) for Automatic Synchronism Check","Vnom = 50V to 130V (5-pole) for Automatic Synchronism Check","Vnom = 50V to 130V (5-pole) for Automatic Synchronism Check","Vnom = 50V to 130V (5-pole) for Automatic Synchronism Check","Vnom = 50V to 130V (5-pole) for Automatic Synchronism Check","Vnom = 50V to 130V (5-pole) for Automatic Synchronism Check","Vnom = 50V to 130V (5-pole) for Automatic Synchronism Check","Vnom = 50V to 130V (5-pole) for Automatic Synchronism Check","Vnom = 50V to 130V (5-pole) for Automatic Synchronism Check","Vnom = 50V to 130V (5-pole) for Automatic Synchronism Check","Vnom = 50V to 130V (5-pole) for Automatic Synchronism Check","Vnom = 50V to 130V (5-pole) for Automatic Synchronism Check","Vnom = 50V to 130V (5-pole) for Automatic Synchronism Check","Vnom = 50V to 130V (5-pole) for Automatic Synchronism Check","Vnom = 50V to 130V (5-pole) for Automatic Synchronism Check","Vnom = 50V to 130V (5-pole) for Automatic Synchronism Check","Vnom = 50V to 130V (5-pole) for Automatic Synchronism Check","Vnom = 50V to 130V (5-pole) for Automatic Synchronism Check","Vnom = 50V to 130V (5-pole) for Automatic Synchronism Check","Vnom = 50V to 130V (5-pole) for Automatic Synchronism Check",null,null,null,null,null,null,null,null,null,null," "," "," "," "," "," "," "," "," "," "," "," "," "," "," "," "," "," "," "]
["CT/VT-Boards with NCIT"," "," "," "," "," "," "," "," "," "," "," "," "," "," "," "," "," "," "," "," "," "," "," "," "," ","CT/VT-Boards with NCIT : Variant 1 : 22.5 mV at 50 A, 3.25 V at Vnom"," "," ","CT/VT Boards with NCIT : this option is not currently available.","CT/VT Boards with NCIT : this option is not currently available.","CT/VT Boards with NCIT : this option is not currently available.","CT/VT Boards with NCIT : this option is not currently available.","CT/VT Boards with NCIT : this option is not currently available.","CT/VT Boards with NCIT : this option is not currently available.","CT/VT Boards with NCIT : this option is not currently available.","CT/VT Boards with NCIT : this option is not currently available.","CT/VT Boards with NCIT : this option is not currently available.","CT/VT Boards with NCIT : this option is not currently available.","CT/VT Boards with NCIT : this option is not currently available.","CT/VT Boards with NCIT : this option is not currently available.","CT/VT Boards with NCIT : this option is not currently available.","CT/VT Boards with NCIT : this option is not currently available.","CT/VT Boards with NCIT : this option is not currently available.","CT/VT Boards with NCIT : this option is not currently available.","CT/VT Boards with NCIT : this option is not currently available.","CT/VT Boards with NCIT : this option is not currently available.","CT/VT Boards with NCIT : this option is not currently available.","CT/VT Boards with NCIT : this option is not currently available.","CT/VT Boards with NCIT : this option is not currently available.","CT/VT Boards with NCIT : this option is not currently available.","CT/VT Boards with NCIT : this option is not currently available.","CT/VT Boards with NCIT : this option is not currently available.","CT/VT Boards with NCIT : this option is not currently available.","CT/VT Boards with NCIT : this option is not currently available.","CT/VT Boards with NCIT : this option is not currently available."," ","CT/VT Boards with NCIT : this option is not currently available."," "," ","CT/VT Boards with NCIT : this option is not currently available.","CT/VT Boards with NCIT : this option is not currently available."," "," "," "," "," ","CT/VT Boards with NCIT : this option is not currently available."," "," "," "," ","CT/VT Boards with NCIT : this option is not currently available."," "," "," ",null,null,null,null,null,null,null,null,null,null," "," "," "," "," "," "," "," "," "," "," "," "," "," "," "," "," "," "," "]
[" ",5,5,5,5,5,5,5,5,5,5,5,5,5,5,5,5,5,5,5,5,5,5,5,5,5,9,5,5,"*","*","*","*","*","*","*","*","*","*","*","*","*","*","*","*","*","*","*","*","*","*","*","*","*","*","*","*","*","*","*","*","*","*","*","*","*","*","*","*","*","*","*","*","*","*","*",null,null,null,null,null,null,null,null,null,null," "," "," "," "," "," "," "," "," "," "," "," "," "," "," "," "," "," "," "]
["Additional options"," "," "," "," "," "," "," "," "," "," "," "," "," "," "," "," "," "," "," "," "," "," "," "," "," "," "," "," "," "," "," "," "," "," "," "," "," "," "," "," "," "," "," "," "," "," "," "," "," "," "," "," "," "," "," "," "," "," "," "," "," "," "," "," "," "," "," "," "," "," "," "," "," "," "," ",null,null,null,null,null,null,null,null,null,null," "," "," "," "," "," "," "," "," "," "," "," "," "," "," "," "," "," "," "]
[" ","None","None","None","None","None","None","None","None","None","None","None","None","None","None","None","None","None","None","None","None","None","None","None","None","None","None","None","None","None","None","None","None","None","None","None","None","None","None","None","None","None","None","None","None","None","None","None","None","None","None","None","None","None","None","None","Without","None","Without","None","None","None","Without","Without","Without","Without","Without","None","Without","Without","Without","Without","None","Without","Without","Without",null,null,null,null,null,null,null,null,null,null," "," "," "," "," "," "," "," "," "," "," "," "," "," "," "," "," "," "," "]
[" ","6 binary inputs and 6 output relays for the control of 3 switchgear units","6 binary inputs and 6 output relays for the control of 3 switchgear units","6 binary inputs and 6 output relays for the control of 3 switchgear units","6 binary inputs and 6 output relays for the control of 3 switchgear units","6 binary inputs and 6 output relays for the control of 3 switchgear units","6 binary inputs and 6 output relays for the control of 3 switchgear units","6 binary inputs and 6 output relays for the control of 3 switchgear units","6 binary inputs and 6 output relays for the control of 3 switchgear units","6 binary inputs and 6 output relays for the control of 3 switchgear units","6 binary inputs and 6 output relays for the control of 3 switchgear units","6 binary inputs and 6 output relays for the control of 3 switchgear units","6 binary inputs and 6 output relays for the control of 3 switchgear units","6 binary inputs and 6 output relays for the control of 3 switchgear units","6 binary inputs and 6 output relays for the control of 3 switchgear units","6 binary inputs and 6 output relays for the control of 3 switchgear units","6 binary inputs and 6 output relays for the control of 3 switchgear units","6 binary inputs and 6 output relays for the control of 3 switchgear units","6 binary inputs and 6 output relays for the control of 3 switchgear units","6 binary inputs and 6 output relays for the control of 3 switchgear units","6 binary inputs and 6 output relays for the control of 3 switchgear units","6 binary inputs and 6 output relays for the control of 3 switchgear units","6 binary inputs and 6 output relays for the control of 3 switchgear units","6 binary inputs and 6 output relays for the control of 3 switchgear units","6 binary inputs and 6 output relays for the control of 3 switchgear units","6 binary inputs and 6 output relays for the control of 3 switchgear units","6 binary inputs and 6 output relays for the control of 3 switchgear units","6 binary inputs and 6 output relays for the control of 3 switchgear units","6 binary inputs and 6 output relays for the control of 3 switchgear units","6 binary inputs and 6 output relays for the control of 3 switchgear units","6 binary inputs and 6 output relays for the control of 3 switchgear units","6 binary inputs and 6 output relays for the control of 3 switchgear units","6 binary inputs and 6 output relays for the control of 3 switchgear units","6 binary inputs and 6 output relays for the control of 3 switchgear units","6 binary inputs and 6 output relays for the control of 3 switchgear units","6 binary inputs and 6 output relays for the control of 3 switchgear units","6 binary inputs and 6 output relays for the control of 3 switchgear units","6 binary inputs and 6 output relays for the control of 3 switchgear units","6 binary inputs and 6 output relays for the control of 3 switchgear units","6 binary inputs and 6 output relays for the control of 3 switchgear units","6 binary inputs and 6 output relays for the control of 3 switchgear units","6 binary inputs and 6 output relays for the control of 3 switchgear units","6 binary inputs and 6 output relays for the control of 3 switchgear units","6 binary inputs and 6 output relays for the control of 3 switchgear units","6 binary inputs and 6 output relays for the control of 3 switchgear units","6 binary inputs and 6 output relays for the control of 3 switchgear units","6 binary inputs and 6 output relays for the control of 3 switchgear units","6 binary inputs and 6 output relays for the control of 3 switchgear units","6 binary inputs and 6 output relays for the control of 3 switchgear units","6 binary inputs and 6 output relays for the control of 3 switchgear units","6 binary inputs and 6 output relays for the control of 3 switchgear units","6 binary inputs and 6 output relays for the control of 3 switchgear units","6 binary inputs and 6 output relays for the control of 3 switchgear units","6 binary inputs and 6 output relays for the control of 3 switchgear units","6 binary inputs and 6 output relays for the control of 3 switchgear units","6 binary inputs and 6 output relays for the control of 3 switchgear units","With 1 binary module (add. 6 binary inputs and 6 output relays (2-pole))","6 binary inputs and 6 output relays for the control of 3 switchgear units",{"$f":"IF(Configurator!D29=\"2\",\"With 1 binary module (add. 6 binary inputs and 6 output relays (1-pole)) for the control of up to 3 add'l switchgear units\",\"With 1 binary module (add. 6 binary inputs and 6 output relays (2-pole)) for the control of up to 3 add'l switchgear units\")","v":"With 1 binary module (add. 6 binary inputs and 6 output relays (2-pole)) for the control of up to 3 add'l switchgear units"},"6 binary inputs and 6 output relays for the control of 3 switchgear units","6 binary inputs and 6 output relays for the control of 3 switchgear units","6 binary inputs and 6 output relays for the control of 3 switchgear units",{"$f":"IF(Configurator!$D$29=\"2\",\"With 1 binary module (add. 6 binary inputs and 6 output relays (1-pole)) for the control of up to 3 add'l switchgear units\",\"With 1 binary module (add. 6 binary inputs and 6 output relays (2-pole)) for the control of up to 3 add'l switchgear units\")","v":"With 1 binary module (add. 6 binary inputs and 6 output relays (2-pole)) for the control of up to 3 add'l switchgear units"},{"$f":"IF(Configurator!$D$29=\"2\",\"With 1 binary module (add. 6 binary inputs and 6 output relays (1-pole)) for the control of up to 3 add'l switchgear units\",\"With 1 binary module (add. 6 binary inputs and 6 output relays (2-pole)) for the control of up to 3 add'l switchgear units\")","v":"With 1 binary module (add. 6 binary inputs and 6 output relays (2-pole)) for the control of up to 3 add'l switchgear units"},{"$f":"IF(Configurator!$D$29=\"2\",\"With 1 binary module (add. 6 binary inputs and 6 output relays (1-pole)) for the control of up to 3 add'l switchgear units\",\"With 1 binary module (add. 6 binary inputs and 6 output relays (2-pole)) for the control of up to 3 add'l switchgear units\")","v":"With 1 binary module (add. 6 binary inputs and 6 output relays (2-pole)) for the control of up to 3 add'l switchgear units"},{"$f":"IF(Configurator!$D$29=\"2\",\"With 1 binary module (add. 6 binary inputs and 6 output relays (1-pole)) for the control of up to 3 add'l switchgear units\",\"With 1 binary module (add. 6 binary inputs and 6 output relays (2-pole)) for the control of up to 3 add'l switchgear units\")","v":"With 1 binary module (add. 6 binary inputs and 6 output relays (2-pole)) for the control of up to 3 add'l switchgear units"},{"$f":"IF(Configurator!$D$29=\"2\",\"With 1 binary module (add. 6 binary inputs and 6 output relays (1-pole)) for the control of up to 3 add'l switchgear units\",\"With 1 binary module (add. 6 binary inputs and 6 output relays (2-pole)) for the control of up to 3 add'l switchgear units\")","v":"With 1 binary module (add. 6 binary inputs and 6 output relays (2-pole)) for the control of up to 3 add'l switchgear units"},"6 binary inputs and 6 output relays for the control of 3 switchgear units",{"$f":"IF(Configurator!$D$29=\"2\",\"With 1 binary module (add. 6 binary inputs and 6 output relays (1-pole)) for the control of up to 3 add'l switchgear units\",\"With 1 binary module (add. 6 binary inputs and 6 output relays (2-pole)) for the control of up to 3 add'l switchgear units\")","v":"With 1 binary module (add. 6 binary inputs and 6 output relays (2-pole)) for the control of up to 3 add'l switchgear units"},{"$f":"IF(Configurator!$D$29=\"2\",\"With 1 binary module (add. 6 binary inputs and 6 output relays (1-pole)) for the control of up to 3 add'l switchgear units\",\"With 1 binary module (add. 6 binary inputs and 6 output relays (2-pole)) for the control of up to 3 add'l switchgear units\")","v":"With 1 binary module (add. 6 binary inputs and 6 output relays (2-pole)) for the control of up to 3 add'l switchgear units"},{"$f":"IF(Configurator!$D$29=\"2\",\"With 1 binary module (add. 6 binary inputs and 6 output relays (1-pole)) for the control of up to 3 add'l switchgear units\",\"With 1 binary module (add. 6 binary inputs and 6 output relays (2-pole)) for the control of up to 3 add'l switchgear units\")","v":"With 1 binary module (add. 6 binary inputs and 6 output relays (2-pole)) for the control of up to 3 add'l switchgear units"},{"$f":"IF(Configurator!$D$29=\"2\",\"With 1 binary module (add. 6 binary inputs and 6 output relays (1-pole)) for the control of up to 3 add'l switchgear units\",\"With 1 binary module (add. 6 binary inputs and 6 output relays (2-pole)) for the control of up to 3 add'l switchgear units\")","v":"With 1 binary module (add. 6 binary inputs and 6 output relays (2-pole)) for the control of up to 3 add'l switchgear units"},"6 binary inputs and 6 output relays for the control of 3 switchgear units",{"$f":"IF(Configurator!$D$29=\"2\",\"With 1 binary module (add. 6 binary inputs and 6 output relays (1-pole)) for the control of up to 3 add'l switchgear units\",\"With 1 binary module (add. 6 binary inputs and 6 output relays (2-pole)) for the control of up to 3 add'l switchgear units\")","v":"With 1 binary module (add. 6 binary inputs and 6 output relays (2-pole)) for the control of up to 3 add'l switchgear units"},{"$f":"IF(Configurator!$D$29=\"2\",\"With 1 binary module (add. 6 binary inputs and 6 output relays (1-pole)) for the control of up to 3 add'l switchgear units\",\"With 1 binary module (add. 6 binary inputs and 6 output relays (2-pole)) for the control of up to 3 add'l switchgear units\")","v":"With 1 binary module (add. 6 binary inputs and 6 output relays (2-pole)) for the control of up to 3 add'l switchgear units"},{"$f":"IF(Configurator!$D$29=\"2\",\"With 1 binary module (add. 6 binary inputs and 6 output relays (1-pole)) for the control of up to 3 add'l switchgear units\",\"With 1 binary module (add. 6 binary inputs and 6 output relays (2-pole)) for the control of up to 3 add'l switchgear units\")","v":"With 1 binary module (add. 6 binary inputs and 6 output relays (2-pole)) for the control of up to 3 add'l switchgear units"},null,null,null,null,null,null,null,null,null,null," "," "," "," "," "," "," "," "," "," "," "," "," "," "," "," "," "," "," "]
["Power supply and additional option"," "," "," "," "," "," "," "," "," "," "," "," "," "," "," "," "," "," "," "," "," "," "," "," "," "," "," "," "," "," "," "," "," "," "," "," "," "," "," "," "," "," "," "," "," "," "," "," "," "," "," "," "," "," "," "," "," "," "," "," "," "," "," "," "," "," "," "," "," "," "," "," "," "," "," ",null,null,null,null,null,null,null,null,null,null," "," "," "," "," "," "," "," "," "," "," "," "," "," "," "," "," "," "," "]
[" ","24Vdc","24Vdc","24Vdc","24Vdc","24Vdc","24Vdc","24Vdc","24Vdc","24Vdc","24Vdc","24Vdc","24Vdc","24Vdc","24Vdc","24Vdc","24Vdc","24Vdc","24Vdc","24Vdc","24Vdc","24Vdc","24Vdc","24Vdc","24Vdc","24Vdc","24Vdc","24Vdc","24Vdc","24Vdc","24Vdc","24Vdc","24Vdc","24Vdc","24Vdc","24Vdc","24Vdc","24Vdc","24Vdc","24Vdc","24Vdc","24Vdc","24Vdc","24Vdc","24Vdc","24Vdc","24Vdc","24Vdc","24Vdc","24Vdc","24Vdc","24Vdc","24Vdc","24Vdc","24Vdc","24Vdc","24Vdc","24Vdc","24Vdc","24Vdc","24Vdc","24Vdc","24Vdc","24Vdc","24Vdc","24Vdc","24Vdc","24Vdc","24Vdc","24Vdc","24Vdc","24Vdc","24Vdc","24Vdc","24Vdc","24Vdc",null,null,null,null,null,null,null,null,null,null," "," "," "," "," "," "," "," "," "," "," "," "," "," "," "," "," "," "," "]
[" ","48 to 250Vdc/100 to 230Vac","48 to 250Vdc/100 to 230Vac","48 to 250Vdc/100 to 230Vac","48 to 250Vdc/100 to 230Vac","48 to 250Vdc/100 to 230Vac","48 to 250Vdc/100 to 230Vac","48 to 250Vdc/100 to 230Vac","48 to 250Vdc/100 to 230Vac","48 to 250Vdc/100 to 230Vac","48 to 250Vdc/100 to 230Vac","48 to 250Vdc/100 to 230Vac","48 to 250Vdc/100 to 230Vac","48 to 250Vdc/100 to 230Vac","48 to 250Vdc/100 to 230Vac","48 to 250Vdc/100 to 230Vac","48 to 250Vdc/100 to 230Vac","48 to 250Vdc/100 to 230Vac","48 to 250Vdc/100 to 230Vac","48 to 250Vdc/100 to 230Vac","48 to 250Vdc/100 to 230Vac","48 to 250Vdc/100 to 230Vac","48 to 250Vdc/100 to 230Vac","48 to 250Vdc/100 to 230Vac","48 to 250Vdc/100 to 230Vac","48 to 250Vdc/100 to 230Vac","48 to 250Vdc/100 to 230Vac","48 to 250Vdc/100 to 230Vac","48 to 250Vdc/100 to 230Vac","48 to 250Vdc/100 to 230Vac","48 to 250Vdc/100 to 230Vac","48 to 250Vdc/100 to 230Vac","48 to 250Vdc/100 to 230Vac","48 to 250Vdc/100 to 230Vac","48 to 250Vdc/100 to 230Vac","48 to 250Vdc/100 to 230Vac","48 to 250Vdc/100 to 230Vac","48 to 250Vdc/100 to 230Vac","48 to 250Vdc/100 to 230Vac","48 to 250Vdc/100 to 230Vac","48 to 250Vdc/100 to 230Vac","48 to 250Vdc/100 to 230Vac","48 to 250Vdc/100 to 230Vac","48 to 250Vdc/100 to 230Vac","48 to 250Vdc/100 to 230Vac","48 to 250Vdc/100 to 230Vac","48 to 250Vdc/100 to 230Vac","48 to 250Vdc/100 to 230Vac","48 to 250Vdc/100 to 230Vac","48 to 250Vdc/100 to 230Vac","48 to 250Vdc/100 to 230Vac","48 to 250Vdc/100 to 230Vac","48 to 250Vdc/100 to 230Vac","48 to 250Vdc/100 to 230Vac","48 to 250Vdc/100 to 230Vac","48 to 250Vdc/100 to 230Vac","48 to 250Vdc/100 to 230Vac","48 to 250Vdc/100 to 230Vac","48 to 250Vdc/100 to 230Vac","48 to 250Vdc/100 to 230Vac","48 to 250Vdc/100 to 230Vac","48 to 250Vdc/100 to 230Vac","48 to 250Vdc/100 to 230Vac","48 to 250Vdc/100 to 230Vac","48 to 250Vdc/100 to 230Vac","48 to 250Vdc/100 to 230Vac","48 to 250Vdc/100 to 230Vac","48 to 250Vdc/100 to 230Vac","48 to 250Vdc/100 to 230Vac","48 to 250Vdc/100 to 230Vac","48 to 250Vdc/100 to 230Vac","48 to 250Vdc/100 to 230Vac","48 to 250Vdc/100 to 230Vac","48 to 250Vdc/100 to 230Vac","48 to 250Vdc/100 to 230Vac","48 to 250Vdc/100 to 230Vac",null,null,null,null,null,null,null,null,null,null," "," "," "," "," "," "," "," "," "," "," "," "," "," "," "," "," "," "," "]
[" ","24Vdc (+6 output relays, 4 with thyristor)","24Vdc (+6 output relays, 4 with thyristor)","24Vdc (+6 output relays, 4 with thyristor)","24Vdc (+6 output relays, 4 with thyristor)","24Vdc (+6 output relays, 4 with thyristor)","24Vdc (+6 output relays, 4 with thyristor)","24Vdc (+6 output relays, 4 with thyristor)","24Vdc (+6 output relays, 4 with thyristor)","24Vdc (+6 output relays, 4 with thyristor)","24Vdc (+6 output relays, 4 with thyristor)","24Vdc (+6 output relays, 4 with thyristor)","24Vdc (+6 output relays, 4 with thyristor)","24Vdc (+6 output relays, 4 with thyristor)","24Vdc (+6 output relays, 4 with thyristor)","24Vdc (+6 output relays, 4 with thyristor)","24Vdc (+6 output relays, 4 with thyristor)","24Vdc (+6 output relays, 4 with thyristor)","24Vdc (+6 output relays, 4 with thyristor)","24Vdc (+6 output relays, 4 with thyristor)","24Vdc (+6 output relays, 4 with thyristor)","24Vdc (+6 output relays, 4 with thyristor)","24Vdc (+6 output relays, 4 with thyristor)","24Vdc (+6 output relays, 4 with thyristor)","24Vdc (+6 output relays, 4 with thyristor)","24Vdc (+6 output relays, 4 with thyristor)","24Vdc (+6 output relays, 4 with thyristor)","24Vdc (+6 output relays, 4 with thyristor)","24Vdc (+6 output relays, 4 with thyristor)","24Vdc (+6 output relays, 4 with thyristor)","24Vdc (+6 output relays, 4 with thyristor)","24Vdc (+6 output relays, 4 with thyristor)","24Vdc (+6 output relays, 4 with thyristor)","24Vdc (+6 output relays, 4 with thyristor)","24Vdc (+6 output relays, 4 with thyristor)","24Vdc (+6 output relays, 4 with thyristor)","24Vdc (+6 output relays, 4 with thyristor)","24Vdc (+6 output relays, 4 with thyristor)","24Vdc (+6 output relays, 4 with thyristor)","24Vdc (+6 output relays, 4 with thyristor)","24Vdc (+6 output relays, 4 with thyristor)","24Vdc (+6 output relays, 4 with thyristor)","24Vdc (+6 output relays, 4 with thyristor)","24Vdc (+6 output relays, 4 with thyristor)","24Vdc (+6 output relays, 4 with thyristor)","24Vdc (+6 output relays, 4 with thyristor)","24Vdc (+6 output relays, 4 with thyristor)","24Vdc (+6 output relays, 4 with thyristor)","24Vdc (+6 output relays, 4 with thyristor)","24Vdc (+6 output relays, 4 with thyristor)","24Vdc (+6 output relays, 4 with thyristor)","24Vdc (+6 output relays, 4 with thyristor)","24Vdc (+6 output relays, 4 with thyristor)","24Vdc (+6 output relays, 4 with thyristor)","24Vdc (+6 output relays, 4 with thyristor)","24Vdc (+6 output relays, 4 with thyristor)","24Vdc (+6 output relays, 4 with thyristor)","24Vdc (+6 output relays, 4 with thyristor)","24Vdc (+6 output relays, 4 with thyristor)","24Vdc (+6 output relays, 4 with thyristor)","24Vdc (+6 output relays, 4 with thyristor)","24Vdc (+6 output relays, 4 with thyristor)","24Vdc (+6 output relays, 4 with thyristor)","24Vdc (+6 output relays, 4 with thyristor)","24Vdc (+6 output relays, 4 with thyristor)","24Vdc (+6 output relays, 4 with thyristor)","24Vdc (+6 output relays, 4 with thyristor)","24Vdc (+6 output relays, 4 with thyristor)","24Vdc (+6 output relays, 4 with thyristor)","24Vdc (+6 output relays, 4 with thyristor)","24Vdc (+6 output relays, 4 with thyristor)","24Vdc (+6 output relays, 4 with thyristor)","24Vdc (+6 output relays, 4 with thyristor)","24Vdc (+6 output relays, 4 with thyristor)","24Vdc (+6 output relays, 4 with thyristor)","24Vdc (+6 output relays, 4 with thyristor)",null,null,null,null,null,null,null,null,null,null," "," "," "," "," "," "," "," "," "," "," "," "," "," "," "," "," "," "," "]
[" ","48 to 250Vdc/100 to 230Vac (+6 output relays, 4 with thyristor)","48 to 250Vdc/100 to 230Vac (+6 output relays, 4 with thyristor)","48 to 250Vdc/100 to 230Vac (+6 output relays, 4 with thyristor)","48 to 250Vdc/100 to 230Vac (+6 output relays, 4 with thyristor)","48 to 250Vdc/100 to 230Vac (+6 output relays, 4 with thyristor)","48 to 250Vdc/100 to 230Vac (+6 output relays, 4 with thyristor)","48 to 250Vdc/100 to 230Vac (+6 output relays, 4 with thyristor)","48 to 250Vdc/100 to 230Vac (+6 output relays, 4 with thyristor)","48 to 250Vdc/100 to 230Vac (+6 output relays, 4 with thyristor)","48 to 250Vdc/100 to 230Vac (+6 output relays, 4 with thyristor)","48 to 250Vdc/100 to 230Vac (+6 output relays, 4 with thyristor)","48 to 250Vdc/100 to 230Vac (+6 output relays, 4 with thyristor)","48 to 250Vdc/100 to 230Vac (+6 output relays, 4 with thyristor)","48 to 250Vdc/100 to 230Vac (+6 output relays, 4 with thyristor)","48 to 250Vdc/100 to 230Vac (+6 output relays, 4 with thyristor)","48 to 250Vdc/100 to 230Vac (+6 output relays, 4 with thyristor)","48 to 250Vdc/100 to 230Vac (+6 output relays, 4 with thyristor)","48 to 250Vdc/100 to 230Vac (+6 output relays, 4 with thyristor)","48 to 250Vdc/100 to 230Vac (+6 output relays, 4 with thyristor)","48 to 250Vdc/100 to 230Vac (+6 output relays, 4 with thyristor)","48 to 250Vdc/100 to 230Vac (+6 output relays, 4 with thyristor)","48 to 250Vdc/100 to 230Vac (+6 output relays, 4 with thyristor)","48 to 250Vdc/100 to 230Vac (+6 output relays, 4 with thyristor)","48 to 250Vdc/100 to 230Vac (+6 output relays, 4 with thyristor)","48 to 250Vdc/100 to 230Vac (+6 output relays, 4 with thyristor)","48 to 250Vdc/100 to 230Vac (+6 output relays, 4 with thyristor)","48 to 250Vdc/100 to 230Vac (+6 output relays, 4 with thyristor)","48 to 250Vdc/100 to 230Vac (+6 output relays, 4 with thyristor)","48 to 250Vdc/100 to 230Vac (+6 output relays, 4 with thyristor)","48 to 250Vdc/100 to 230Vac (+6 output relays, 4 with thyristor)","48 to 250Vdc/100 to 230Vac (+6 output relays, 4 with thyristor)","48 to 250Vdc/100 to 230Vac (+6 output relays, 4 with thyristor)","48 to 250Vdc/100 to 230Vac (+6 output relays, 4 with thyristor)","48 to 250Vdc/100 to 230Vac (+6 output relays, 4 with thyristor)","48 to 250Vdc/100 to 230Vac (+6 output relays, 4 with thyristor)","48 to 250Vdc/100 to 230Vac (+6 output relays, 4 with thyristor)","48 to 250Vdc/100 to 230Vac (+6 output relays, 4 with thyristor)","48 to 250Vdc/100 to 230Vac (+6 output relays, 4 with thyristor)","48 to 250Vdc/100 to 230Vac (+6 output relays, 4 with thyristor)","48 to 250Vdc/100 to 230Vac (+6 output relays, 4 with thyristor)","48 to 250Vdc/100 to 230Vac (+6 output relays, 4 with thyristor)","48 to 250Vdc/100 to 230Vac (+6 output relays, 4 with thyristor)","48 to 250Vdc/100 to 230Vac (+6 output relays, 4 with thyristor)","48 to 250Vdc/100 to 230Vac (+6 output relays, 4 with thyristor)","48 to 250Vdc/100 to 230Vac (+6 output relays, 4 with thyristor)","48 to 250Vdc/100 to 230Vac (+6 output relays, 4 with thyristor)","48 to 250Vdc/100 to 230Vac (+6 output relays, 4 with thyristor)","48 to 250Vdc/100 to 230Vac (+6 output relays, 4 with thyristor)","48 to 250Vdc/100 to 230Vac (+6 output relays, 4 with thyristor)","48 to 250Vdc/100 to 230Vac (+6 output relays, 4 with thyristor)","48 to 250Vdc/100 to 230Vac (+6 output relays, 4 with thyristor)","48 to 250Vdc/100 to 230Vac (+6 output relays, 4 with thyristor)","48 to 250Vdc/100 to 230Vac (+6 output relays, 4 with thyristor)","48 to 250Vdc/100 to 230Vac (+6 output relays, 4 with thyristor)","48 to 250Vdc/100 to 230Vac (+6 output relays, 4 with thyristor)","48 to 250Vdc/100 to 230Vac (+6 output relays, 4 with thyristor)","48 to 250Vdc/100 to 230Vac (+6 output relays, 4 with thyristor)","48 to 250Vdc/100 to 230Vac (+6 output relays, 4 with thyristor)","48 to 250Vdc/100 to 230Vac (+6 output relays, 4 with thyristor)","48 to 250Vdc/100 to 230Vac (+6 output relays, 4 with thyristor)","48 to 250Vdc/100 to 230Vac (+6 output relays, 4 with thyristor)","48 to 250Vdc/100 to 230Vac (+6 output relays, 4 with thyristor)","48 to 250Vdc/100 to 230Vac (+6 output relays, 4 with thyristor)","48 to 250Vdc/100 to 230Vac (+6 output relays, 4 with thyristor)","48 to 250Vdc/100 to 230Vac (+6 output relays, 4 with thyristor)","48 to 250Vdc/100 to 230Vac (+6 output relays, 4 with thyristor)","48 to 250Vdc/100 to 230Vac (+6 output relays, 4 with thyristor)","48 to 250Vdc/100 to 230Vac (+6 output relays, 4 with thyristor)","48 to 250Vdc/100 to 230Vac (+6 output relays, 4 with thyristor)","48 to 250Vdc/100 to 230Vac (+6 output relays, 4 with thyristor)","48 to 250Vdc/100 to 230Vac (+6 output relays, 4 with thyristor)","48 to 250Vdc/100 to 230Vac (+6 output relays, 4 with thyristor)","48 to 250Vdc/100 to 230Vac (+6 output relays, 4 with thyristor)","48 to 250Vdc/100 to 230Vac (+6 output relays, 4 with thyristor)","48 to 250Vdc/100 to 230Vac (+6 output relays, 4 with thyristor)",null,null,null,null,null,null,null,null,null,null," "," "," "," "," "," "," "," "," "," "," "," "," "," "," "," "," "," "," "]
[" ","24Vdc (+6 output relays)","24Vdc (+6 output relays)","24Vdc (+6 output relays)","24Vdc (+6 output relays)","24Vdc (+6 output relays)","24Vdc (+6 output relays)","24Vdc (+6 output relays)","24Vdc (+6 output relays)","24Vdc (+6 output relays)","24Vdc (+6 output relays)","24Vdc (+6 output relays)","24Vdc (+6 output relays)","24Vdc (+6 output relays)","24Vdc (+6 output relays)","24Vdc (+6 output relays)","24Vdc (+6 output relays)","24Vdc (+6 output relays)","24Vdc (+6 output relays)","24Vdc (+6 output relays)","24Vdc (+6 output relays)","24Vdc (+6 output relays)","24Vdc (+6 output relays)","24Vdc (+6 output relays)","24Vdc (+6 output relays)","24Vdc (+6 output relays)","24Vdc (+6 output relays)","24Vdc (+6 output relays)","24Vdc (+6 output relays)","24Vdc (+6 output relays)","24Vdc (+6 output relays)","24Vdc (+6 output relays)","24Vdc (+6 output relays)","24Vdc (+6 output relays)","24Vdc (+6 output relays)","24Vdc (+6 output relays)","24Vdc (+6 output relays)","24Vdc (+6 output relays)","24Vdc (+6 output relays)","24Vdc (+6 output relays)","24Vdc (+6 output relays)","24Vdc (+6 output relays)","24Vdc (+6 output relays)","24Vdc (+6 output relays)","24Vdc (+6 output relays)","24Vdc (+6 output relays)","24Vdc (+6 output relays)","24Vdc (+6 output relays)","24Vdc (+6 output relays)","24Vdc (+6 output relays)","24Vdc (+6 output relays)","24Vdc (+6 output relays)","24Vdc (+6 output relays)","24Vdc (+6 output relays)","24Vdc (+6 output relays)","24Vdc (+6 output relays)","24Vdc (+6 output relays)","24Vdc (+6 output relays)","24Vdc (+6 output relays)","24Vdc (+6 output relays)","24Vdc (+6 output relays)","24Vdc (+6 output relays)","24Vdc (+6 output relays)","24Vdc (+6 output relays)","24Vdc (+6 output relays)","24Vdc (+6 output relays)","24Vdc (+6 output relays)","24Vdc (+6 output relays)","24Vdc (+6 output relays)","24Vdc (+6 output relays)","24Vdc (+6 output relays)","24Vdc (+6 output relays)","24Vdc (+6 output relays)","24Vdc (+6 output relays)","24Vdc (+6 output relays)","24Vdc (+6 output relays)",null,null,null,null,null,null,null,null,null,null," "," "," "," "," "," "," "," "," "," "," "," "," "," "," "," "," "," "," "]
[" ","48 to 250Vdc/100 to 230Vac (+6 output relays)","48 to 250Vdc/100 to 230Vac (+6 output relays)","48 to 250Vdc/100 to 230Vac (+6 output relays)","48 to 250Vdc/100 to 230Vac (+6 output relays)","48 to 250Vdc/100 to 230Vac (+6 output relays)","48 to 250Vdc/100 to 230Vac (+6 output relays)","48 to 250Vdc/100 to 230Vac (+6 output relays)","48 to 250Vdc/100 to 230Vac (+6 output relays)","48 to 250Vdc/100 to 230Vac (+6 output relays)","48 to 250Vdc/100 to 230Vac (+6 output relays)","48 to 250Vdc/100 to 230Vac (+6 output relays)","48 to 250Vdc/100 to 230Vac (+6 output relays)","48 to 250Vdc/100 to 230Vac (+6 output relays)","48 to 250Vdc/100 to 230Vac (+6 output relays)","48 to 250Vdc/100 to 230Vac (+6 output relays)","48 to 250Vdc/100 to 230Vac (+6 output relays)","48 to 250Vdc/100 to 230Vac (+6 output relays)","48 to 250Vdc/100 to 230Vac (+6 output relays)","48 to 250Vdc/100 to 230Vac (+6 output relays)","48 to 250Vdc/100 to 230Vac (+6 output relays)","48 to 250Vdc/100 to 230Vac (+6 output relays)","48 to 250Vdc/100 to 230Vac (+6 output relays)","48 to 250Vdc/100 to 230Vac (+6 output relays)","48 to 250Vdc/100 to 230Vac (+6 output relays)","48 to 250Vdc/100 to 230Vac (+6 output relays)","48 to 250Vdc/100 to 230Vac (+6 output relays)","48 to 250Vdc/100 to 230Vac (+6 output relays)","48 to 250Vdc/100 to 230Vac (+6 output relays)","48 to 250Vdc/100 to 230Vac (+6 output relays)","48 to 250Vdc/100 to 230Vac (+6 output relays)","48 to 250Vdc/100 to 230Vac (+6 output relays)","48 to 250Vdc/100 to 230Vac (+6 output relays)","48 to 250Vdc/100 to 230Vac (+6 output relays)","48 to 250Vdc/100 to 230Vac (+6 output relays)","48 to 250Vdc/100 to 230Vac (+6 output relays)","48 to 250Vdc/100 to 230Vac (+6 output relays)","48 to 250Vdc/100 to 230Vac (+6 output relays)","48 to 250Vdc/100 to 230Vac (+6 output relays)","48 to 250Vdc/100 to 230Vac (+6 output relays)","48 to 250Vdc/100 to 230Vac (+6 output relays)","48 to 250Vdc/100 to 230Vac (+6 output relays)","48 to 250Vdc/100 to 230Vac (+6 output relays)","48 to 250Vdc/100 to 230Vac (+6 output relays)","48 to 250Vdc/100 to 230Vac (+6 output relays)","48 to 250Vdc/100 to 230Vac (+6 output relays)","48 to 250Vdc/100 to 230Vac (+6 output relays)","48 to 250Vdc/100 to 230Vac (+6 output relays)","48 to 250Vdc/100 to 230Vac (+6 output relays)","48 to 250Vdc/100 to 230Vac (+6 output relays)","48 to 250Vdc/100 to 230Vac (+6 output relays)","48 to 250Vdc/100 to 230Vac (+6 output relays)","48 to 250Vdc/100 to 230Vac (+6 output relays)","48 to 250Vdc/100 to 230Vac (+6 output relays)","48 to 250Vdc/100 to 230Vac (+6 output relays)","48 to 250Vdc/100 to 230Vac (+6 output relays)","48 to 250Vdc/100 to 230Vac (+6 output relays)","48 to 250Vdc/100 to 230Vac (+6 output relays)","48 to 250Vdc/100 to 230Vac (+6 output relays)","48 to 250Vdc/100 to 230Vac (+6 output relays)","48 to 250Vdc/100 to 230Vac (+6 output relays)","48 to 250Vdc/100 to 230Vac (+6 output relays)","48 to 250Vdc/100 to 230Vac (+6 output relays)","48 to 250Vdc/100 to 230Vac (+6 output relays)","48 to 250Vdc/100 to 230Vac (+6 output relays)","48 to 250Vdc/100 to 230Vac (+6 output relays)","48 to 250Vdc/100 to 230Vac (+6 output relays)","48 to 250Vdc/100 to 230Vac (+6 output relays)","48 to 250Vdc/100 to 230Vac (+6 output relays)","48 to 250Vdc/100 to 230Vac (+6 output relays)","48 to 250Vdc/100 to 230Vac (+6 output relays)","48 to 250Vdc/100 to 230Vac (+6 output relays)","48 to 250Vdc/100 to 230Vac (+6 output relays)","48 to 250Vdc/100 to 230Vac (+6 output relays)","48 to 250Vdc/100 to 230Vac (+6 output relays)","48 to 250Vdc/100 to 230Vac (+6 output relays)",null,null,null,null,null,null,null,null,null,null," "," "," "," "," "," "," "," "," "," "," "," "," "," "," "," "," "," "," "]
[null," "," "," "," "," "," "," "," "," "," "," "," "," "," "," "," "," "," "," "," "," "," "," "," "," "," "," "," "," "," "," "," "," "," "," "," "," "," "," "," "," "," "," "," "," "," "," "," "," "," "," "," "," "," "," ",{"$f":"IF(Configurator!$L$7>\"-307\",\"24Vdc (+6 binary inputs and 3 output relays)\",\" \")","v":"24Vdc (+6 binary inputs and 3 output relays)"}," ",{"$f":"IF(Configurator!$L$7>\"-307\",\"24Vdc (+6 binary inputs and 3 output relays)\",\" \")","v":"24Vdc (+6 binary inputs and 3 output relays)"},{"$f":"IF(Configurator!$L$7>\"-307\",\"24Vdc (+6 binary inputs and 3 output relays)\",\" \")","v":"24Vdc (+6 binary inputs and 3 output relays)"}," "," ",{"$f":"IF(Configurator!$L$7>\"-307\",\"24Vdc (+6 binary inputs and 3 output relays)\",\" \")","v":"24Vdc (+6 binary inputs and 3 output relays)"},{"$f":"IF(Configurator!$L$7>\"-307\",\"24Vdc (+6 binary inputs and 3 output relays)\",\" \")","v":"24Vdc (+6 binary inputs and 3 output relays)"},{"$f":"IF(Configurator!$L$7>\"-307\",\"24Vdc (+6 binary inputs and 3 output relays)\",\" \")","v":"24Vdc (+6 binary inputs and 3 output relays)"},{"$f":"IF(Configurator!$L$7>\"-307\",\"24Vdc (+6 binary inputs and 3 output relays)\",\" \")","v":"24Vdc (+6 binary inputs and 3 output relays)"},{"$f":"IF(Configurator!$L$7>\"-307\",\"24Vdc (+6 binary inputs and 3 output relays)\",\" \")","v":"24Vdc (+6 binary inputs and 3 output relays)"}," ",{"$f":"IF(Configurator!$L$7>\"-307\",\"24Vdc (+6 binary inputs and 3 output relays)\",\" \")","v":"24Vdc (+6 binary inputs and 3 output relays)"},{"$f":"IF(Configurator!$L$7>\"-307\",\"24Vdc (+6 binary inputs and 3 output relays)\",\" \")","v":"24Vdc (+6 binary inputs and 3 output relays)"},{"$f":"IF(Configurator!$L$7>\"-307\",\"24Vdc (+6 binary inputs and 3 output relays)\",\" \")","v":"24Vdc (+6 binary inputs and 3 output relays)"},{"$f":"IF(Configurator!$L$7>\"-307\",\"24Vdc (+6 binary inputs and 3 output relays)\",\" \")","v":"24Vdc (+6 binary inputs and 3 output relays)"}," ",{"$f":"IF(Configurator!$L$7>\"-307\",\"24Vdc (+6 binary inputs and 3 output relays)\",\" \")","v":"24Vdc (+6 binary inputs and 3 output relays)"},{"$f":"IF(Configurator!$L$7>\"-307\",\"24Vdc (+6 binary inputs and 3 output relays)\",\" \")","v":"24Vdc (+6 binary inputs and 3 output relays)"},{"$f":"IF(Configurator!$L$7>\"-307\",\"24Vdc (+6 binary inputs and 3 output relays)\",\" \")","v":"24Vdc (+6 binary inputs and 3 output relays)"}]
[null," "," "," "," "," "," "," "," "," "," "," "," "," "," "," "," "," "," "," "," "," "," "," "," "," "," "," "," "," "," "," "," "," "," "," "," "," "," "," "," "," "," "," "," "," "," "," "," "," "," "," "," "," "," "," ",{"$f":"IF(Configurator!$L$7>\"-307\",\"48 to 250Vdc / 100 to 230Vac (+6 binary inputs and 3 output relays)\",\" \")","v":"48 to 250Vdc / 100 to 230Vac (+6 binary inputs and 3 output relays)"}," ",{"$f":"IF(Configurator!$L$7>\"-307\",\"48 to 250Vdc / 100 to 230Vac (+6 binary inputs and 3 output relays)\",\" \")","v":"48 to 250Vdc / 100 to 230Vac (+6 binary inputs and 3 output relays)"},{"$f":"IF(Configurator!$L$7>\"-307\",\"48 to 250Vdc / 100 to 230Vac (+6 binary inputs and 3 output relays)\",\" \")","v":"48 to 250Vdc / 100 to 230Vac (+6 binary inputs and 3 output relays)"}," "," ",{"$f":"IF(Configurator!$L$7>\"-307\",\"48 to 250Vdc / 100 to 230Vac (+6 binary inputs and 3 output relays)\",\" \")","v":"48 to 250Vdc / 100 to 230Vac (+6 binary inputs and 3 output relays)"},{"$f":"IF(Configurator!$L$7>\"-307\",\"48 to 250Vdc / 100 to 230Vac (+6 binary inputs and 3 output relays)\",\" \")","v":"48 to 250Vdc / 100 to 230Vac (+6 binary inputs and 3 output relays)"},{"$f":"IF(Configurator!$L$7>\"-307\",\"48 to 250Vdc / 100 to 230Vac (+6 binary inputs and 3 output relays)\",\" \")","v":"48 to 250Vdc / 100 to 230Vac (+6 binary inputs and 3 output relays)"},{"$f":"IF(Configurator!$L$7>\"-307\",\"48 to 250Vdc / 100 to 230Vac (+6 binary inputs and 3 output relays)\",\" \")","v":"48 to 250Vdc / 100 to 230Vac (+6 binary inputs and 3 output relays)"},{"$f":"IF(Configurator!$L$7>\"-307\",\"48 to 250Vdc / 100 to 230Vac (+6 binary inputs and 3 output relays)\",\" \")","v":"48 to 250Vdc / 100 to 230Vac (+6 binary inputs and 3 output relays)"}," ",{"$f":"IF(Configurator!$L$7>\"-307\",\"48 to 250Vdc / 100 to 230Vac (+6 binary inputs and 3 output relays)\",\" \")","v":"48 to 250Vdc / 100 to 230Vac (+6 binary inputs and 3 output relays)"},{"$f":"IF(Configurator!$L$7>\"-307\",\"48 to 250Vdc / 100 to 230Vac (+6 binary inputs and 3 output relays)\",\" \")","v":"48 to 250Vdc / 100 to 230Vac (+6 binary inputs and 3 output relays)"},{"$f":"IF(Configurator!$L$7>\"-307\",\"48 to 250Vdc / 100 to 230Vac (+6 binary inputs and 3 output relays)\",\" \")","v":"48 to 250Vdc / 100 to 230Vac (+6 binary inputs and 3 output relays)"},{"$f":"IF(Configurator!$L$7>\"-307\",\"48 to 250Vdc / 100 to 230Vac (+6 binary inputs and 3 output relays)\",\" \")","v":"48 to 250Vdc / 100 to 230Vac (+6 binary inputs and 3 output relays)"}," ",{"$f":"IF(Configurator!$L$7>\"-307\",\"48 to 250Vdc / 100 to 230Vac (+6 binary inputs and 3 output relays)\",\" \")","v":"48 to 250Vdc / 100 to 230Vac (+6 binary inputs and 3 output relays)"},{"$f":"IF(Configurator!$L$7>\"-307\",\"48 to 250Vdc / 100 to 230Vac (+6 binary inputs and 3 output relays)\",\" \")","v":"48 to 250Vdc / 100 to 230Vac (+6 binary inputs and 3 output relays)"},{"$f":"IF(Configurator!$L$7>\"-307\",\"48 to 250Vdc / 100 to 230Vac (+6 binary inputs and 3 output relays)\",\" \")","v":"48 to 250Vdc / 100 to 230Vac (+6 binary inputs and 3 output relays)"}]
[null," "," "," "," "," "," "," "," "," "," "," "," "," "," "," "," "," "," "," "," "," "," "," "," "," "," "," "," "," "," "," "," "," "," "," "," "," "," "," "," "," "," "," "," "," "," "," "," "," "," "," "," "," "," "," ",{"$f":"IF(Configurator!$L$7>\"-307\",\"24Vdc (+4 high break contacts)\",\" \")","v":"24Vdc (+4 high break contacts)"}," ",{"$f":"IF(Configurator!$L$7>\"-307\",\"24Vdc (+4 high break contacts)\",\" \")","v":"24Vdc (+4 high break contacts)"},{"$f":"IF(Configurator!$L$7>\"-307\",\"24Vdc (+4 high break contacts)\",\" \")","v":"24Vdc (+4 high break contacts)"}," "," ",{"$f":"IF(Configurator!$L$7>\"-307\",\"24Vdc (+4 high break contacts)\",\" \")","v":"24Vdc (+4 high break contacts)"},{"$f":"IF(Configurator!$L$7>\"-307\",\"24Vdc (+4 high break contacts)\",\" \")","v":"24Vdc (+4 high break contacts)"},{"$f":"IF(Configurator!$L$7>\"-307\",\"24Vdc (+4 high break contacts)\",\" \")","v":"24Vdc (+4 high break contacts)"},{"$f":"IF(Configurator!$L$7>\"-307\",\"24Vdc (+4 high break contacts)\",\" \")","v":"24Vdc (+4 high break contacts)"},{"$f":"IF(Configurator!$L$7>\"-307\",\"24Vdc (+4 high break contacts)\",\" \")","v":"24Vdc (+4 high break contacts)"}," ",{"$f":"IF(Configurator!$L$7>\"-307\",\"24Vdc (+4 high break contacts)\",\" \")","v":"24Vdc (+4 high break contacts)"},{"$f":"IF(Configurator!$L$7>\"-307\",\"24Vdc (+4 high break contacts)\",\" \")","v":"24Vdc (+4 high break contacts)"},{"$f":"IF(Configurator!$L$7>\"-307\",\"24Vdc (+4 high break contacts)\",\" \")","v":"24Vdc (+4 high break contacts)"},{"$f":"IF(Configurator!$L$7>\"-307\",\"24Vdc (+4 high break contacts)\",\" \")","v":"24Vdc (+4 high break contacts)"}," ",{"$f":"IF(Configurator!$L$7>\"-307\",\"24Vdc (+4 high break contacts)\",\" \")","v":"24Vdc (+4 high break contacts)"},{"$f":"IF(Configurator!$L$7>\"-307\",\"24Vdc (+4 high break contacts)\",\" \")","v":"24Vdc (+4 high break contacts)"},{"$f":"IF(Configurator!$L$7>\"-307\",\"24Vdc (+4 high break contacts)\",\" \")","v":"24Vdc (+4 high break contacts)"}]
[null," "," "," "," "," "," "," "," "," "," "," "," "," "," "," "," "," "," "," "," "," "," "," "," "," "," "," "," "," "," "," "," "," "," "," "," "," "," "," "," "," "," "," "," "," "," "," "," "," "," "," "," "," "," "," ",{"$f":"IF(Configurator!$L$7>\"-307\",\"48 to 250Vdc / 100 to 230Vac (+4 high break contacts)\",\" \")","v":"48 to 250Vdc / 100 to 230Vac (+4 high break contacts)"}," ",{"$f":"IF(Configurator!$L$7>\"-307\",\"48 to 250Vdc / 100 to 230Vac (+4 high break contacts)\",\" \")","v":"48 to 250Vdc / 100 to 230Vac (+4 high break contacts)"},{"$f":"IF(Configurator!$L$7>\"-307\",\"48 to 250Vdc / 100 to 230Vac (+4 high break contacts)\",\" \")","v":"48 to 250Vdc / 100 to 230Vac (+4 high break contacts)"}," "," ",{"$f":"IF(Configurator!$L$7>\"-307\",\"48 to 250Vdc / 100 to 230Vac (+4 high break contacts)\",\" \")","v":"48 to 250Vdc / 100 to 230Vac (+4 high break contacts)"},{"$f":"IF(Configurator!$L$7>\"-307\",\"48 to 250Vdc / 100 to 230Vac (+4 high break contacts)\",\" \")","v":"48 to 250Vdc / 100 to 230Vac (+4 high break contacts)"},{"$f":"IF(Configurator!$L$7>\"-307\",\"48 to 250Vdc / 100 to 230Vac (+4 high break contacts)\",\" \")","v":"48 to 250Vdc / 100 to 230Vac (+4 high break contacts)"},{"$f":"IF(Configurator!$L$7>\"-307\",\"48 to 250Vdc / 100 to 230Vac (+4 high break contacts)\",\" \")","v":"48 to 250Vdc / 100 to 230Vac (+4 high break contacts)"},{"$f":"IF(Configurator!$L$7>\"-307\",\"48 to 250Vdc / 100 to 230Vac (+4 high break contacts)\",\" \")","v":"48 to 250Vdc / 100 to 230Vac (+4 high break contacts)"}," ",{"$f":"IF(Configurator!$L$7>\"-307\",\"48 to 250Vdc / 100 to 230Vac (+4 high break contacts)\",\" \")","v":"48 to 250Vdc / 100 to 230Vac (+4 high break contacts)"},{"$f":"IF(Configurator!$L$7>\"-307\",\"48 to 250Vdc / 100 to 230Vac (+4 high break contacts)\",\" \")","v":"48 to 250Vdc / 100 to 230Vac (+4 high break contacts)"},{"$f":"IF(Configurator!$L$7>\"-307\",\"48 to 250Vdc / 100 to 230Vac (+4 high break contacts)\",\" \")","v":"48 to 250Vdc / 100 to 230Vac (+4 high break contacts)"},{"$f":"IF(Configurator!$L$7>\"-307\",\"48 to 250Vdc / 100 to 230Vac (+4 high break contacts)\",\" \")","v":"48 to 250Vdc / 100 to 230Vac (+4 high break contacts)"}," ",{"$f":"IF(Configurator!$L$7>\"-307\",\"48 to 250Vdc / 100 to 230Vac (+4 high break contacts)\",\" \")","v":"48 to 250Vdc / 100 to 230Vac (+4 high break contacts)"},{"$f":"IF(Configurator!$L$7>\"-307\",\"48 to 250Vdc / 100 to 230Vac (+4 high break contacts)\",\" \")","v":"48 to 250Vdc / 100 to 230Vac (+4 high break contacts)"},{"$f":"IF(Configurator!$L$7>\"-307\",\"48 to 250Vdc / 100 to 230Vac (+4 high break contacts)\",\" \")","v":"48 to 250Vdc / 100 to 230Vac (+4 high break contacts)"}]
["Hardware Issue (Date dependent)"," "," "," "," "," "," "," "," "," "," "," "," "," "," "," "," "," "," "," "," "," "," "," "," "," "," "," "," "," "," "," "," "," "," "," "," "," "," "," "," "," "," "," "," "," "," "," "," "," "," "," "," "," "," "," "," "," "," "," "," "," "," "," "," "," "," "," "," "," "," "," "," "," "," "," ",null,null,null,null,null,null,null,null,null,null," "," "," "," "," "," "," "," "," "," "," "," "," "," "," "," "," "," "," "]
[" ","A","B","B","B","B","B","B","B","B","B","B",{"$f":"IF(Tendering!$AC$22=7,\"B\",\"C\")","v":"C"},{"$f":"IF(Tendering!$AC$22=7,\"B\",\"C\")","v":"C"},{"$f":"IF(Tendering!$AC$22=7,\"B\",\"C\")","v":"C"},{"$f":"IF(Tendering!$AC$22=7,\"B\",\"C\")","v":"C"},{"$f":"IF(Tendering!$AC$22=7,\"B\",\"C\")","v":"C"},{"$f":"IF(Tendering!$AC$22=7,\"B\",IF(AND(Tendering!$AC$22>2,Tendering!$AC$22<7),\"C\",\"D\"))","v":"D"},{"$f":"IF(Tendering!$AC$22=7,\"B\",IF(AND(Tendering!$AC$22>2,Tendering!$AC$22<7),\"C\",\"D\"))","v":"D"},{"$f":"IF(Tendering!$AC$22<4,\"D\",\"C\")","v":"D"},{"$f":"IF(Tendering!$AC$22<4,\"D\",\"C\")","v":"D"},{"$f":"IF(Tendering!$AC$22<4,\"D\",\"C\")","v":"D"},{"$f":"IF(Tendering!$AC$22<4,\"D\",\"C\")","v":"D"},{"$f":"IF(Tendering!$AC$22<4,\"D\",\"C\")","v":"D"},"D",{"$f":"IF(Tendering!$AC$22<4,\"D\",\"C\")","v":"D"},{"$f":"IF(Tendering!$AC$22<4,\"D\",\"C\")","v":"D"},{"$f":"IF(Tendering!$AC$22<4,\"D\",\"C\")","v":"D"},{"$f":"IF(Tendering!$AC$22<4,\"D\",\"C\")","v":"D"},{"$f":"IF(Tendering!$AC$22<4,\"D\",\"C\")","v":"D"},{"$f":"IF(Tendering!$AC$22<4,\"D\",\"C\")","v":"D"},{"$f":"IF(Tendering!$AC$22<4,\"D\",\"C\")","v":"D"},"F",{"$f":"IF(Tendering!$AC$22<4,\"D\",\"C\")","v":"D"},{"$f":"IF(Tendering!$AC$22<4,\"D\",\"C\")","v":"D"},{"$f":"IF(Tendering!$AC$22<4,\"D\",\"C\")","v":"D"},{"$f":"IF(Tendering!$AC$22<4,\"D\",\"C\")","v":"D"},{"$f":"IF(OR(Tendering!$AC$22=7,Tendering!$AC$22<4),\"D\",\"C\")","v":"D"},{"$f":"IF(OR(Tendering!$AC$22=7,Tendering!$AC$22<4),\"D\",\"C\")","v":"D"},{"$f":"IF(OR(Tendering!$AC$22=7,Tendering!$AC$22<4),\"D\",\"C\")","v":"D"},{"$f":"IF(OR(Tendering!$AC$22=7,Tendering!$AC$22<4),\"D\",\"C\")","v":"D"},{"$f":"IF(Configurator!$T$5=\"5\",\"D\",\"F\")","v":"F"},{"$f":"IF(Configurator!$T$5=\"5\",\"D\",\"F\")","v":"F"},{"$f":"IF(Configurator!$T$5=\"5\",\"D\",IF(Configurator!$T$5=\"3\",\"F\",\"G\"))","v":"G"},{"$f":"IF(Configurator!$T$5=\"5\",\"D\",\"F\")","v":"F"},{"$f":"IF(Configurator!$T$5=\"5\",\"D\",\"G\")","v":"G"},{"$f":"IF(Configurator!$T$5=\"5\",\"D\",\"G\")","v":"G"},{"$f":"IF(Configurator!$T$5=\"5\",\"D\",\"G\")","v":"G"},{"$f":"IF(Configurator!$T$5=\"5\",\"D\",\"G\")","v":"G"},{"$f":"IF(Configurator!$T$5=\"5\",\"D\",\"G\")","v":"G"},{"$f":"IF(Configurator!$T$5=\"5\",\"D\",\"G\")","v":"G"},{"$f":"IF(Configurator!$T$5=\"5\",\"D\",\"G\")","v":"G"},{"$f":"IF(Configurator!$T$5=\"5\",\"D\",\"G\")","v":"G"},"G","G","G",{"$f":"IF(OR(Configurator!$T$5=\"0\",Configurator!$T$5=\"1\"),\"H\",IF(OR(Configurator!$T$5=\"2\",Configurator!$T$5=\"3\",Configurator!$T$5=\"5\"),\"G\",\"*\"))","v":"H"},"G",{"$f":"IF(OR(Configurator!$T$5=\"0\",Configurator!$T$5=\"1\"),\"H\",IF(OR(Configurator!$T$5=\"2\",Configurator!$T$5=\"3\",Configurator!$T$5=\"5\"),\"G\",\"*\"))","v":"H"},{"$f":"IF(OR(Configurator!$T$5=\"0\",Configurator!$T$5=\"1\"),\"H\",IF(OR(Configurator!$T$5=\"2\",Configurator!$T$5=\"3\",Configurator!$T$5=\"5\"),\"G\",\"*\"))","v":"H"},"G","G",{"$f":"IF(OR(Configurator!$T$5=\"0\",Configurator!$T$5=\"1\"),\"H\",IF(OR(Configurator!$T$5=\"2\",Configurator!$T$5=\"3\",Configurator!$T$5=\"5\"),\"G\",\"*\"))","v":"H"},{"$f":"IF(OR(Configurator!$T$5=\"0\",Configurator!$T$5=\"1\",Configurator!$T$5=\"4\"),\"H\",IF(OR(Configurator!$T$5=\"2\",Configurator!$T$5=\"3\",Configurator!$T$5=\"5\"),\"G\",\"*\"))","v":"H"},{"$f":"IF(OR(Configurator!$T$5=\"0\",Configurator!$T$5=\"1\",Configurator!$T$5=\"2\"),\"H\",IF(OR(Configurator!$T$5=\"3\",Configurator!$T$5=\"5\"),\"G\",\"*\"))","v":"H"},{"$f":"IF(OR(Configurator!$T$5=\"0\",Configurator!$T$5=\"1\",Configurator!$T$5=\"2\"),\"H\",IF(OR(Configurator!$T$5=\"3\",Configurator!$T$5=\"5\"),\"G\",\"*\"))","v":"H"},{"$f":"IF(OR(Configurator!$T$5=\"0\",Configurator!$T$5=\"1\",Configurator!$T$5=\"6\",Configurator!$T$5=\"4\"),\"I\",IF(OR(Configurator!$T$5=\"2\",Configurator!$T$5=\"3\",Configurator!$T$5=\"5\"),\"G\",\"*\"))","v":"I"},"G",{"$f":"IF(OR(Configurator!$T$5=\"0\",Configurator!$T$5=\"1\",Configurator!$T$5=\"6\",Configurator!$T$5=\"4\"),\"I\",IF(OR(Configurator!$T$5=\"2\",Configurator!$T$5=\"3\",Configurator!$T$5=\"5\"),\"G\",\"*\"))","v":"I"},{"$f":"IF(OR(Configurator!$T$5=\"0\",Configurator!$T$5=\"1\",Configurator!$T$5=\"2\"),\"H\",IF(OR(Configurator!$T$5=\"3\",Configurator!$T$5=\"5\"),\"G\",\"*\"))","v":"H"},{"$f":"IF(OR(Configurator!$T$5=\"0\",Configurator!$T$5=\"1\",Configurator!$T$5=\"6\",Configurator!$T$5=\"4\"),\"I\",IF(OR(Configurator!$T$5=\"2\",Configurator!$T$5=\"3\",Configurator!$T$5=\"5\"),\"G\",\"*\"))","v":"I"},{"$f":"IF(OR(Configurator!$T$5=\"0\",Configurator!$T$5=\"1\",Configurator!$T$5=\"6\",Configurator!$T$5=\"4\"),\"I\",IF(OR(Configurator!$T$5=\"2\",Configurator!$T$5=\"3\",Configurator!$T$5=\"5\"),\"G\",\"*\"))","v":"I"},"G",{"$f":"IF(OR(Configurator!$T$5=\"0\",Configurator!$T$5=\"1\",Configurator!$T$5=\"6\",Configurator!$T$5=\"4\"),\"I\",IF(OR(Configurator!$T$5=\"2\",Configurator!$T$5=\"3\",Configurator!$T$5=\"5\"),\"G\",\"*\"))","v":"I"},{"$f":"IF(OR(Configurator!$T$5=\"0\",Configurator!$T$5=\"1\",Configurator!$T$5=\"2\"),\"H\",IF(OR(Configurator!$T$5=\"3\",Configurator!$T$5=\"5\"),\"G\",\"*\"))","v":"H"},{"$f":"IF(OR(Configurator!$T$5=\"0\",Configurator!$T$5=\"1\",Configurator!$T$5=\"6\",Configurator!$T$5=\"4\"),\"I\",IF(OR(Configurator!$T$5=\"3\",Configurator!$T$5=\"5\"),\"G\",IF(Configurator!$T$5=\"2\",\"H\",\"*\")))","v":"I"},null,null,null,null,null,null,null,null,null,null," "," "," "," "," "," "," "," "," "," "," "," "," "," "," "," "," "," "," "]
[" ","-301","-302","-302","-302","-302","-302","-302","-302","-302","-302","-302",{"$f":"IF(Tendering!$AC$22=7,\"-302\",\"-303\")","v":"-303"},{"$f":"IF(Tendering!$AC$22=7,\"-302\",\"-303\")","v":"-303"},{"$f":"IF(Tendering!$AC$22=7,\"-302\",\"-303\")","v":"-303"},{"$f":"IF(Tendering!$AC$22=7,\"-302\",\"-303\")","v":"-303"},{"$f":"IF(Tendering!$AC$22=7,\"-302\",\"-303\")","v":"-303"},{"$f":"IF(Tendering!$AC$22=7,\"-302\",IF(AND(Tendering!$AC$22>2,Tendering!$AC$22<7),\"-303\",\"-304\"))","v":"-304"},{"$f":"IF(Tendering!$AC$22=7,\"-302\",IF(AND(Tendering!$AC$22>2,Tendering!$AC$22<7),\"-303\",\"-304\"))","v":"-304"},{"$f":"IF(Tendering!$AC$22<4,\"-304\",\"-303\")","v":"-304"},{"$f":"IF(Tendering!$AC$22<4,\"-304\",\"-303\")","v":"-304"},{"$f":"IF(Tendering!$AC$22<4,\"-304\",\"-303\")","v":"-304"},{"$f":"IF(Tendering!$AC$22<4,\"-304\",\"-303\")","v":"-304"},{"$f":"IF(Tendering!$AC$22<4,\"-304\",\"-303\")","v":"-304"},-304,{"$f":"IF(Tendering!$AC$22<4,\"-304\",\"-303\")","v":"-304"},{"$f":"IF(Tendering!$AC$22<4,\"-304\",\"-303\")","v":"-304"},{"$f":"IF(Tendering!$AC$22<4,\"-304\",\"-303\")","v":"-304"},{"$f":"IF(Tendering!$AC$22<4,\"-304\",\"-303\")","v":"-304"},{"$f":"IF(Tendering!$AC$22<4,\"-304\",\"-303\")","v":"-304"},{"$f":"IF(Tendering!$AC$22<4,\"-304\",\"-303\")","v":"-304"},{"$f":"IF(Tendering!$AC$22<4,\"-304\",\"-303\")","v":"-304"},"-306",{"$f":"IF(Tendering!$AC$22<4,\"-304\",\"-303\")","v":"-304"},{"$f":"IF(Tendering!$AC$22<4,\"-304\",\"-303\")","v":"-304"},{"$f":"IF(Tendering!$AC$22<4,\"-304\",\"-303\")","v":"-304"},{"$f":"IF(Tendering!$AC$22<4,\"-304\",\"-303\")","v":"-304"},{"$f":"IF(OR(Tendering!$AC$22=7,Tendering!$AC$22<4),\"-304\",\"-303\")","v":"-304"},{"$f":"IF(OR(Tendering!$AC$22=7,Tendering!$AC$22<4),\"-304\",\"-303\")","v":"-304"},{"$f":"IF(OR(Tendering!$AC$22=7,Tendering!$AC$22<4),\"-304\",\"-303\")","v":"-304"},{"$f":"IF(OR(Tendering!$AC$22=7,Tendering!$AC$22<4),\"-304\",\"-303\")","v":"-304"},{"$f":"IF(Configurator!$T$5=\"5\",\"-304\",\"-306\")","v":"-306"},{"$f":"IF(Configurator!$T$5=\"5\",\"-304\",\"-306\")","v":"-306"},{"$f":"IF(Configurator!$T$5=\"5\",\"-304\",IF(Configurator!$T$5=\"3\",\"-306\",\"-307\"))","v":"-307"},{"$f":"IF(Configurator!$T$5=\"5\",\"-304\",\"-306\")","v":"-306"},{"$f":"IF(Configurator!$T$5=\"5\",\"-304\",\"-307\")","v":"-307"},{"$f":"IF(Configurator!$T$5=\"5\",\"-304\",\"-307\")","v":"-307"},{"$f":"IF(Configurator!$T$5=\"5\",\"-304\",\"-307\")","v":"-307"},{"$f":"IF(Configurator!$T$5=\"5\",\"-304\",\"-307\")","v":"-307"},{"$f":"IF(Configurator!$T$5=\"5\",\"-304\",\"-307\")","v":"-307"},{"$f":"IF(Configurator!$T$5=\"5\",\"-304\",\"-307\")","v":"-307"},{"$f":"IF(Configurator!$T$5=\"5\",\"-304\",\"-307\")","v":"-307"},{"$f":"IF(Configurator!$T$5=\"5\",\"-304\",\"-307\")","v":"-307"},"-307","-307","-307",{"$f":"IF(OR(Configurator!$T$5=\"0\",Configurator!$T$5=\"1\"),\"-308\",IF(OR(Configurator!$T$5=\"2\",Configurator!$T$5=\"3\",Configurator!$T$5=\"5\"),\"-307\",\"-3**\"))","v":"-308"},"-307",{"$f":"IF(OR(Configurator!$T$5=\"0\",Configurator!$T$5=\"1\"),\"-308\",IF(OR(Configurator!$T$5=\"2\",Configurator!$T$5=\"3\",Configurator!$T$5=\"5\"),\"-307\",\"-3**\"))","v":"-308"},{"$f":"IF(OR(Configurator!$T$5=\"0\",Configurator!$T$5=\"1\"),\"-308\",IF(OR(Configurator!$T$5=\"2\",Configurator!$T$5=\"3\",Configurator!$T$5=\"5\"),\"-307\",\"-3**\"))","v":"-308"},"-307","-307",{"$f":"IF(OR(Configurator!$T$5=\"0\",Configurator!$T$5=\"1\"),\"-308\",IF(OR(Configurator!$T$5=\"2\",Configurator!$T$5=\"3\",Configurator!$T$5=\"5\"),\"-307\",\"-3**\"))","v":"-308"},{"$f":"IF(OR(Configurator!$T$5=\"0\",Configurator!$T$5=\"1\",Configurator!$T$5=\"4\"),\"-308\",IF(OR(Configurator!$T$5=\"2\",Configurator!$T$5=\"3\",Configurator!$T$5=\"5\"),\"-307\",\"-3**\"))","v":"-308"},{"$f":"IF(OR(Configurator!$T$5=\"0\",Configurator!$T$5=\"1\",Configurator!$T$5=\"2\"),\"-308\",IF(OR(Configurator!$T$5=\"3\",Configurator!$T$5=\"5\"),\"-307\",\"-3**\"))","v":"-308"},{"$f":"IF(OR(Configurator!$T$5=\"0\",Configurator!$T$5=\"1\",Configurator!$T$5=\"2\"),\"-308\",IF(OR(Configurator!$T$5=\"3\",Configurator!$T$5=\"5\"),\"-307\",\"-3**\"))","v":"-308"},{"$f":"IF(OR(Configurator!$T$5=\"0\",Configurator!$T$5=\"1\",Configurator!$T$5=\"6\",Configurator!$T$5=\"4\"),\"-309\",(IF(OR(Configurator!$T$5=\"2\",Configurator!$T$5=\"3\",Configurator!$T$5=\"5\"),\"-307\",\"-3**\")))","v":"-309"},"-307",{"$f":"IF(OR(Configurator!$T$5=\"0\",Configurator!$T$5=\"1\",Configurator!$T$5=\"6\",Configurator!$T$5=\"4\"),\"-309\",(IF(OR(Configurator!$T$5=\"2\",Configurator!$T$5=\"3\",Configurator!$T$5=\"5\"),\"-307\",\"-3**\")))","v":"-309"},{"$f":"IF(OR(Configurator!$T$5=\"0\",Configurator!$T$5=\"1\",Configurator!$T$5=\"2\"),\"-308\",IF(OR(Configurator!$T$5=\"3\",Configurator!$T$5=\"5\"),\"-307\",\"-3**\"))","v":"-308"},{"$f":"IF(OR(Configurator!$T$5=\"0\",Configurator!$T$5=\"1\",Configurator!$T$5=\"6\",Configurator!$T$5=\"4\"),\"-309\",(IF(OR(Configurator!$T$5=\"2\",Configurator!$T$5=\"3\",Configurator!$T$5=\"5\"),\"-307\",\"-3**\")))","v":"-309"},{"$f":"IF(OR(Configurator!$T$5=\"0\",Configurator!$T$5=\"1\",Configurator!$T$5=\"6\",Configurator!$T$5=\"4\"),\"-309\",(IF(OR(Configurator!$T$5=\"2\",Configurator!$T$5=\"3\",Configurator!$T$5=\"5\"),\"-307\",\"-3**\")))","v":"-309"},"-307",{"$f":"IF(OR(Configurator!$T$5=\"0\",Configurator!$T$5=\"1\",Configurator!$T$5=\"6\",Configurator!$T$5=\"4\"),\"-309\",(IF(OR(Configurator!$T$5=\"2\",Configurator!$T$5=\"3\",Configurator!$T$5=\"5\"),\"-307\",\"-3**\")))","v":"-309"},{"$f":"IF(OR(Configurator!$T$5=\"0\",Configurator!$T$5=\"1\",Configurator!$T$5=\"2\"),\"-308\",IF(OR(Configurator!$T$5=\"3\",Configurator!$T$5=\"5\"),\"-307\",\"-3**\"))","v":"-308"},{"$f":"IF(OR(Configurator!$T$5=\"0\",Configurator!$T$5=\"1\",Configurator!$T$5=\"6\",Configurator!$T$5=\"4\"),\"-309\",(IF(OR(Configurator!$T$5=\"3\",Configurator!$T$5=\"5\"),\"-307\",IF(Configurator!$T$5=\"2\",\"-308\",\"-3**\"))))","v":"-309"},null,null,null,null,null,null,null,null,null,null," "," "," "," "," "," "," "," "," "," "," "," "," "," "," "," "," "," "," "]
["Case Size / Ring or Pin"," "," "," "," "," "," "," "," "," "," "," "," "," "," "," "," "," "," "," "," "," "," "," "," "," "," "," "," "," "," "," "," "," "," "," "," "," "," "," "," "," "," "," "," "," "," "," "," "," "," "," "," "," "," "," "," "," "," "," "," "," "," "," "," "," "," "," "," "," "," "," "," "," "," "," ",null,null,null,null,null,null,null,null,null,null," "," "," "," "," "," "," "," "," "," "," "," "," "," "," "," "," "," "," "]
[" ",-401,-402,-402,-402,-402,-402,-402,-402,-402,-402,-402,-402,-402,-402,-402,-402,-402,-402,-402,-402,-402,{"$f":"IF(V$37=\"-304\",\"-405\",\"-402\")","v":"-405"},{"$f":"IF(X$37=\"-304\",\"-405\",\"-402\")","v":"-405"},-405,{"$f":"IF(Z$37=\"-304\",\"-405\",\"-402\")","v":"-405"},"-405","-405","-405","-405","-405","-405","-408",{"$f":"IF(AH$37=\"-304\",\"-405\",\"-402\")","v":"-405"},"-405","-405","-405","-405","-405","-405","-405",{"$f":"IF(AP$37=\"-306\",\"-408\",\"-405\")","v":"-408"},{"$f":"IF(AQ$37=\"-306\",\"-408\",\"-405\")","v":"-408"},{"$f":"IF(AR$37=\"-306\",\"-408\",IF(AR$37=\"-304\",\"-405\",\"-411\"))","v":"-411"},{"$f":"IF(AS$37=\"-306\",\"-408\",\"-405\")","v":"-408"},{"$f":"IF(AT$37=\"-304\",\"-405\",\"-411\")","v":"-411"},"-411","-411","-411","-411","-411","-411","-411","-411","-411","-411",{"$f":"IF(OR(Configurator!$T$5=\"0\",Configurator!$T$5=\"1\"),\"-414\",IF(OR(Configurator!$T$5=\"2\",Configurator!$T$5=\"3\",Configurator!$T$5=\"5\"),\"-411\",\"-4**\"))","v":"-414"},"-411",{"$f":"IF(OR(Configurator!$T$5=\"0\",Configurator!$T$5=\"1\"),\"-414\",IF(OR(Configurator!$T$5=\"2\",Configurator!$T$5=\"3\",Configurator!$T$5=\"5\"),\"-411\",\"-4**\"))","v":"-414"},{"$f":"IF(OR(Configurator!$T$5=\"0\",Configurator!$T$5=\"1\"),\"-414\",IF(OR(Configurator!$T$5=\"2\",Configurator!$T$5=\"3\",Configurator!$T$5=\"5\"),\"-411\",\"-4**\"))","v":"-414"},"-411","-411",{"$f":"IF(OR(Configurator!$T$5=\"0\",Configurator!$T$5=\"1\"),\"-414\",IF(OR(Configurator!$T$5=\"2\",Configurator!$T$5=\"3\",Configurator!$T$5=\"5\"),\"-411\",\"-4**\"))","v":"-414"},{"$f":"IF(OR(Configurator!$T$5=\"0\",Configurator!$T$5=\"1\",Configurator!$T$5=\"4\"),\"-414\",IF(OR(Configurator!$T$5=\"2\",Configurator!$T$5=\"3\",Configurator!$T$5=\"5\"),\"-411\",\"-4**\"))","v":"-414"},{"$f":"IF(OR(Configurator!$T$5=\"0\",Configurator!$T$5=\"1\",Configurator!$T$5=\"2\"),\"-414\",IF(OR(Configurator!$T$5=\"3\",Configurator!$T$5=\"5\"),\"-411\",\"-4**\"))","v":"-414"},{"$f":"IF(OR(Configurator!$T$5=\"0\",Configurator!$T$5=\"1\",Configurator!$T$5=\"2\"),\"-414\",IF(OR(Configurator!$T$5=\"3\",Configurator!$T$5=\"5\"),\"-411\",\"-4**\"))","v":"-414"},{"$f":"IF(OR(Configurator!$T$5=\"0\",Configurator!$T$5=\"1\",Configurator!$T$5=\"4\",Configurator!$T$5=\"6\"),\"-414\",IF(OR(Configurator!$T$5=\"2\",Configurator!$T$5=\"3\",Configurator!$T$5=\"5\"),\"-411\",\"-4**\"))","v":"-414"},"-411",{"$f":"IF(OR(Configurator!$T$5=\"0\",Configurator!$T$5=\"1\",Configurator!$T$5=\"4\",Configurator!$T$5=\"6\"),\"-414\",IF(OR(Configurator!$T$5=\"2\",Configurator!$T$5=\"3\",Configurator!$T$5=\"5\"),\"-411\",\"-4**\"))","v":"-414"},{"$f":"IF(OR(Configurator!$T$5=\"0\",Configurator!$T$5=\"1\",Configurator!$T$5=\"2\"),\"-414\",IF(OR(Configurator!$T$5=\"3\",Configurator!$T$5=\"5\"),\"-411\",\"-4**\"))","v":"-414"},{"$f":"IF(OR(Configurator!$T$5=\"0\",Configurator!$T$5=\"1\",Configurator!$T$5=\"4\",Configurator!$T$5=\"6\"),\"-414\",IF(OR(Configurator!$T$5=\"2\",Configurator!$T$5=\"3\",Configurator!$T$5=\"5\"),\"-411\",\"-4**\"))","v":"-414"},{"$f":"IF(OR(Configurator!$T$5=\"0\",Configurator!$T$5=\"1\",Configurator!$T$5=\"4\",Configurator!$T$5=\"6\"),\"-414\",IF(OR(Configurator!$T$5=\"2\",Configurator!$T$5=\"3\",Configurator!$T$5=\"5\"),\"-411\",\"-4**\"))","v":"-414"},"-411",{"$f":"IF(OR(Configurator!$T$5=\"0\",Configurator!$T$5=\"1\",Configurator!$T$5=\"4\",Configurator!$T$5=\"6\"),\"-414\",IF(OR(Configurator!$T$5=\"2\",Configurator!$T$5=\"3\",Configurator!$T$5=\"5\"),\"-411\",\"-4**\"))","v":"-414"},{"$f":"IF(OR(Configurator!$T$5=\"0\",Configurator!$T$5=\"1\",Configurator!$T$5=\"2\"),\"-414\",IF(OR(Configurator!$T$5=\"3\",Configurator!$T$5=\"5\"),\"-411\",\"-4**\"))","v":"-414"},{"$f":"IF(OR(Configurator!$T$5=\"0\",Configurator!$T$5=\"1\",Configurator!$T$5=\"4\",Configurator!$T$5=\"6\",Configurator!$T$5=\"2\"),\"-414\",IF(OR(Configurator!$T$5=\"3\",Configurator!$T$5=\"5\"),\"-411\",\"-4**\"))","v":"-414"},null,null,null,null,null,null,null,null,null,null," "," "," "," "," "," "," "," "," "," "," "," "," "," "," "," "," "," "," "]
[" ",1,2,2,2,2,2,2,2,"B","B","B","B","B","B","B","B","B","B","B","B","B",{"$f":"IF(V$37=\"-304\",\"E\",\"B\")","v":"E"},{"$f":"IF(X$37=\"-304\",\"E\",\"B\")","v":"E"},"E",{"$f":"IF(Z$37=\"-304\",\"E\",\"B\")","v":"E"},"E","E","E","E","E","E","H",{"$f":"IF(AH$37=\"-304\",\"E\",\"B\")","v":"E"},"E","E","E","E","E","E","E",{"$f":"IF(AP$37=\"-306\",\"H\",\"E\")","v":"H"},{"$f":"IF(AQ$37=\"-306\",\"H\",\"E\")","v":"H"},{"$f":"IF(AR$37=\"-306\",\"H\",IF(AR$37=\"-304\",\"E\",\"K\"))","v":"K"},{"$f":"IF(AS$37=\"-306\",\"H\",\"E\")","v":"H"},{"$f":"IF(AT$37=\"-304\",\"E\",\"K\")","v":"K"},"K","K","K","K","K","K","K","K","K","K",{"$f":"IF(OR(Configurator!$T$5=\"0\",Configurator!$T$5=\"1\"),\"N\",IF(OR(Configurator!$T$5=\"2\",Configurator!$T$5=\"3\",Configurator!$T$5=\"5\"),\"K\",\"*\"))","v":"N"},"K",{"$f":"IF(OR(Configurator!$T$5=\"0\",Configurator!$T$5=\"1\"),\"N\",IF(OR(Configurator!$T$5=\"2\",Configurator!$T$5=\"3\",Configurator!$T$5=\"5\"),\"K\",\"*\"))","v":"N"},{"$f":"IF(OR(Configurator!$T$5=\"0\",Configurator!$T$5=\"1\"),\"N\",IF(OR(Configurator!$T$5=\"2\",Configurator!$T$5=\"3\",Configurator!$T$5=\"5\"),\"K\",\"*\"))","v":"N"},"K","K",{"$f":"IF(OR(Configurator!$T$5=\"0\",Configurator!$T$5=\"1\"),\"N\",IF(OR(Configurator!$T$5=\"2\",Configurator!$T$5=\"3\",Configurator!$T$5=\"5\"),\"K\",\"*\"))","v":"N"},{"$f":"IF(OR(Configurator!$T$5=\"0\",Configurator!$T$5=\"1\",Configurator!$T$5=\"4\"),\"N\",IF(OR(Configurator!$T$5=\"2\",Configurator!$T$5=\"3\",Configurator!$T$5=\"5\"),\"K\",\"*\"))","v":"N"},{"$f":"IF(OR(Configurator!$T$5=\"0\",Configurator!$T$5=\"1\",Configurator!$T$5=\"2\"),\"N\",IF(OR(Configurator!$T$5=\"3\",Configurator!$T$5=\"5\"),\"K\",\"*\"))","v":"N"},{"$f":"IF(OR(Configurator!$T$5=\"0\",Configurator!$T$5=\"1\",Configurator!$T$5=\"2\"),\"N\",IF(OR(Configurator!$T$5=\"3\",Configurator!$T$5=\"5\"),\"K\",\"*\"))","v":"N"},{"$f":"IF(OR(Configurator!$T$5=\"0\",Configurator!$T$5=\"1\",Configurator!$T$5=\"4\",Configurator!$T$5=\"6\"),\"N\",IF(OR(Configurator!$T$5=\"2\",Configurator!$T$5=\"3\",Configurator!$T$5=\"5\"),\"K\",\"*\"))","v":"N"},"K",{"$f":"IF(OR(Configurator!$T$5=\"0\",Configurator!$T$5=\"1\",Configurator!$T$5=\"4\",Configurator!$T$5=\"6\"),\"N\",IF(OR(Configurator!$T$5=\"2\",Configurator!$T$5=\"3\",Configurator!$T$5=\"5\"),\"K\",\"*\"))","v":"N"},{"$f":"IF(OR(Configurator!$T$5=\"0\",Configurator!$T$5=\"1\",Configurator!$T$5=\"2\"),\"N\",IF(OR(Configurator!$T$5=\"3\",Configurator!$T$5=\"5\"),\"K\",\"*\"))","v":"N"},{"$f":"IF(OR(Configurator!$T$5=\"0\",Configurator!$T$5=\"1\",Configurator!$T$5=\"4\",Configurator!$T$5=\"6\"),\"N\",IF(OR(Configurator!$T$5=\"2\",Configurator!$T$5=\"3\",Configurator!$T$5=\"5\"),\"K\",\"*\"))","v":"N"},{"$f":"IF(OR(Configurator!$T$5=\"0\",Configurator!$T$5=\"1\",Configurator!$T$5=\"4\",Configurator!$T$5=\"6\"),\"N\",IF(OR(Configurator!$T$5=\"2\",Configurator!$T$5=\"3\",Configurator!$T$5=\"5\"),\"K\",\"*\"))","v":"N"},"K",{"$f":"IF(OR(Configurator!$T$5=\"0\",Configurator!$T$5=\"1\",Configurator!$T$5=\"4\",Configurator!$T$5=\"6\"),\"N\",IF(OR(Configurator!$T$5=\"2\",Configurator!$T$5=\"3\",Configurator!$T$5=\"5\"),\"K\",\"*\"))","v":"N"},{"$f":"IF(OR(Configurator!$T$5=\"0\",Configurator!$T$5=\"1\",Configurator!$T$5=\"2\"),\"N\",IF(OR(Configurator!$T$5=\"3\",Configurator!$T$5=\"5\"),\"K\",\"*\"))","v":"N"},{"$f":"IF(OR(Configurator!$T$5=\"0\",Configurator!$T$5=\"1\",Configurator!$T$5=\"4\",Configurator!$T$5=\"6\",Configurator!$T$5=\"2\"),\"N\",IF(OR(Configurator!$T$5=\"3\",Configurator!$T$5=\"5\"),\"K\",\"*\"))","v":"N"},null,null,null,null,null,null,null,null,null,null," "," "," "," "," "," "," "," "," "," "," "," "," "," "," "," "," "," "," "]
[" ",-401,-404,-404,-404,-404,-404,-404,-404,-404,-404,-404,-404,-404,-404,-404,-404,-404,-404,-404,-404,-404,{"$f":"IF(V$37=\"-304\",\"-407\",\"-404\")","v":"-407"},{"$f":"IF(X$37=\"-304\",\"-407\",\"-404\")","v":"-407"},-407,{"$f":"IF(Z$37=\"-304\",\"-407\",\"-404\")","v":"-407"},"-407","-407","-407","-407","-407","-407","-409",{"$f":"IF(AH$37=\"-304\",\"-407\",\"-404\")","v":"-407"},"-407","-407","-407","-407","-407",{"$f":"IF(AN$37=\"-304\",\"-406\",\"-404\")","v":"-406"},{"$f":"IF(AO$37=\"-304\",\"-406\",\"-404\")","v":"-406"},{"$f":"IF(AP$37=\"-306\",\"-409\",\"-406\")","v":"-409"},{"$f":"IF(AQ$37=\"-306\",\"-409\",\"-406\")","v":"-409"},{"$f":"IF(AR$37=\"-306\",\"-409\",IF(AR$37=\"-304\",\"-406\",\"-412\"))","v":"-412"},{"$f":"IF(AS$37=\"-306\",\"-409\",\"-406\")","v":"-409"},{"$f":"IF(AT$37=\"-304\",\"-406\",\"-412\")","v":"-412"},"-412","-412","-412","-412","-412","-412","-412","-412","-412","-412",{"$f":"IF(OR(Configurator!$T$5=\"0\",Configurator!$T$5=\"1\"),\"-415\",IF(OR(Configurator!$T$5=\"2\",Configurator!$T$5=\"3\",Configurator!$T$5=\"5\"),\"-412\",\"-4**\"))","v":"-415"},"-412",{"$f":"IF(OR(Configurator!$T$5=\"0\",Configurator!$T$5=\"1\"),\"-415\",IF(OR(Configurator!$T$5=\"2\",Configurator!$T$5=\"3\",Configurator!$T$5=\"5\"),\"-412\",\"-4**\"))","v":"-415"},{"$f":"IF(OR(Configurator!$T$5=\"0\",Configurator!$T$5=\"1\"),\"-415\",IF(OR(Configurator!$T$5=\"2\",Configurator!$T$5=\"3\",Configurator!$T$5=\"5\"),\"-412\",\"-4**\"))","v":"-415"},"-412","-412",{"$f":"IF(OR(Configurator!$T$5=\"0\",Configurator!$T$5=\"1\"),\"-415\",IF(OR(Configurator!$T$5=\"2\",Configurator!$T$5=\"3\",Configurator!$T$5=\"5\"),\"-412\",\"-4**\"))","v":"-415"},{"$f":"IF(OR(Configurator!$T$5=\"0\",Configurator!$T$5=\"1\",Configurator!$T$5=\"4\"),\"-415\",IF(OR(Configurator!$T$5=\"2\",Configurator!$T$5=\"3\",Configurator!$T$5=\"5\"),\"-412\",\"-4**\"))","v":"-415"},{"$f":"IF(OR(Configurator!$T$5=\"0\",Configurator!$T$5=\"1\",Configurator!$T$5=\"2\"),\"-415\",IF(OR(Configurator!$T$5=\"3\",Configurator!$T$5=\"5\"),\"-412\",\"-4**\"))","v":"-415"},{"$f":"IF(OR(Configurator!$T$5=\"0\",Configurator!$T$5=\"1\",Configurator!$T$5=\"2\"),\"-415\",IF(OR(Configurator!$T$5=\"3\",Configurator!$T$5=\"5\"),\"-412\",\"-4**\"))","v":"-415"},{"$f":"IF(OR(Configurator!$T$5=\"0\",Configurator!$T$5=\"1\",Configurator!$T$5=\"4\",Configurator!$T$5=\"6\"),\"-415\",IF(OR(Configurator!$T$5=\"2\",Configurator!$T$5=\"3\",Configurator!$T$5=\"5\"),\"-412\",\"-4**\"))","v":"-415"},"-412",{"$f":"IF(OR(Configurator!$T$5=\"0\",Configurator!$T$5=\"1\",Configurator!$T$5=\"4\",Configurator!$T$5=\"6\"),\"-415\",IF(OR(Configurator!$T$5=\"2\",Configurator!$T$5=\"3\",Configurator!$T$5=\"5\"),\"-412\",\"-4**\"))","v":"-415"},{"$f":"IF(OR(Configurator!$T$5=\"0\",Configurator!$T$5=\"1\",Configurator!$T$5=\"2\"),\"-415\",IF(OR(Configurator!$T$5=\"3\",Configurator!$T$5=\"5\"),\"-412\",\"-4**\"))","v":"-415"},{"$f":"IF(OR(Configurator!$T$5=\"0\",Configurator!$T$5=\"1\",Configurator!$T$5=\"4\",Configurator!$T$5=\"6\"),\"-415\",IF(OR(Configurator!$T$5=\"2\",Configurator!$T$5=\"3\",Configurator!$T$5=\"5\"),\"-412\",\"-4**\"))","v":"-415"},{"$f":"IF(OR(Configurator!$T$5=\"0\",Configurator!$T$5=\"1\",Configurator!$T$5=\"4\",Configurator!$T$5=\"6\"),\"-415\",IF(OR(Configurator!$T$5=\"2\",Configurator!$T$5=\"3\",Configurator!$T$5=\"5\"),\"-412\",\"-4**\"))","v":"-415"},"-412",{"$f":"IF(OR(Configurator!$T$5=\"0\",Configurator!$T$5=\"1\",Configurator!$T$5=\"4\",Configurator!$T$5=\"6\"),\"-415\",IF(OR(Configurator!$T$5=\"2\",Configurator!$T$5=\"3\",Configurator!$T$5=\"5\"),\"-412\",\"-4**\"))","v":"-415"},{"$f":"IF(OR(Configurator!$T$5=\"0\",Configurator!$T$5=\"1\",Configurator!$T$5=\"2\"),\"-415\",IF(OR(Configurator!$T$5=\"3\",Configurator!$T$5=\"5\"),\"-412\",\"-4**\"))","v":"-415"},{"$f":"IF(OR(Configurator!$T$5=\"0\",Configurator!$T$5=\"1\",Configurator!$T$5=\"4\",Configurator!$T$5=\"6\",Configurator!$T$5=\"2\"),\"-415\",IF(OR(Configurator!$T$5=\"3\",Configurator!$T$5=\"5\"),\"-412\",\"-4**\"))","v":"-415"},null,null,null,null,null,null,null,null,null,null," "," "," "," "," "," "," "," "," "," "," "," "," "," "," "," "," "," "," "]
[" ",1,4,4,4,4,4,4,4,"D","D","D","D","D","D","D","D","D","D","D","D","D",{"$f":"IF(V$37=\"-304\",\"G\",\"D\")","v":"G"},{"$f":"IF(X$37=\"-304\",\"G\",\"D\")","v":"G"},"G",{"$f":"IF(Z$37=\"-304\",\"G\",\"D\")","v":"G"},"G","G","G","G","G","G","I",{"$f":"IF(AH$37=\"-304\",\"G\",\"D\")","v":"G"},"G","G","G","G","G",{"$f":"IF(AN$37=\"-304\",\"F\",\"D\")","v":"F"},{"$f":"IF(AO$37=\"-304\",\"F\",\"D\")","v":"F"},{"$f":"IF(AP$37=\"-306\",\"I\",\"F\")","v":"I"},{"$f":"IF(AQ$37=\"-306\",\"I\",\"F\")","v":"I"},{"$f":"IF(AR$37=\"-306\",\"I\",IF(AR$37=\"-304\",\"F\",\"L\"))","v":"L"},{"$f":"IF(AS$37=\"-306\",\"I\",\"F\")","v":"I"},{"$f":"IF(AT$37=\"-304\",\"F\",\"L\")","v":"L"},"L","L","L","L","L","L","L","L","L","L",{"$f":"IF(OR(Configurator!$T$5=\"0\",Configurator!$T$5=\"1\"),\"O\",IF(OR(Configurator!$T$5=\"2\",Configurator!$T$5=\"3\",Configurator!$T$5=\"5\"),\"L\",\"*\"))","v":"O"},"L",{"$f":"IF(OR(Configurator!$T$5=\"0\",Configurator!$T$5=\"1\"),\"O\",IF(OR(Configurator!$T$5=\"2\",Configurator!$T$5=\"3\",Configurator!$T$5=\"5\"),\"L\",\"*\"))","v":"O"},{"$f":"IF(OR(Configurator!$T$5=\"0\",Configurator!$T$5=\"1\"),\"O\",IF(OR(Configurator!$T$5=\"2\",Configurator!$T$5=\"3\",Configurator!$T$5=\"5\"),\"L\",\"*\"))","v":"O"},"L","L",{"$f":"IF(OR(Configurator!$T$5=\"0\",Configurator!$T$5=\"1\"),\"O\",IF(OR(Configurator!$T$5=\"2\",Configurator!$T$5=\"3\",Configurator!$T$5=\"5\"),\"L\",\"*\"))","v":"O"},{"$f":"IF(OR(Configurator!$T$5=\"0\",Configurator!$T$5=\"1\",Configurator!$T$5=\"4\"),\"O\",IF(OR(Configurator!$T$5=\"2\",Configurator!$T$5=\"3\",Configurator!$T$5=\"5\"),\"L\",\"*\"))","v":"O"},{"$f":"IF(OR(Configurator!$T$5=\"0\",Configurator!$T$5=\"1\",Configurator!$T$5=\"2\"),\"O\",IF(OR(Configurator!$T$5=\"3\",Configurator!$T$5=\"5\"),\"L\",\"*\"))","v":"O"},{"$f":"IF(OR(Configurator!$T$5=\"0\",Configurator!$T$5=\"1\",Configurator!$T$5=\"2\"),\"O\",IF(OR(Configurator!$T$5=\"3\",Configurator!$T$5=\"5\"),\"L\",\"*\"))","v":"O"},{"$f":"IF(OR(Configurator!$T$5=\"0\",Configurator!$T$5=\"1\",Configurator!$T$5=\"4\",Configurator!$T$5=\"6\"),\"O\",IF(OR(Configurator!$T$5=\"2\",Configurator!$T$5=\"3\",Configurator!$T$5=\"5\"),\"L\",\"*\"))","v":"O"},"L",{"$f":"IF(OR(Configurator!$T$5=\"0\",Configurator!$T$5=\"1\",Configurator!$T$5=\"4\",Configurator!$T$5=\"6\"),\"O\",IF(OR(Configurator!$T$5=\"2\",Configurator!$T$5=\"3\",Configurator!$T$5=\"5\"),\"L\",\"*\"))","v":"O"},{"$f":"IF(OR(Configurator!$T$5=\"0\",Configurator!$T$5=\"1\",Configurator!$T$5=\"2\"),\"O\",IF(OR(Configurator!$T$5=\"3\",Configurator!$T$5=\"5\"),\"L\",\"*\"))","v":"O"},{"$f":"IF(OR(Configurator!$T$5=\"0\",Configurator!$T$5=\"1\",Configurator!$T$5=\"4\",Configurator!$T$5=\"6\"),\"O\",IF(OR(Configurator!$T$5=\"2\",Configurator!$T$5=\"3\",Configurator!$T$5=\"5\"),\"L\",\"*\"))","v":"O"},{"$f":"IF(OR(Configurator!$T$5=\"0\",Configurator!$T$5=\"1\",Configurator!$T$5=\"4\",Configurator!$T$5=\"6\"),\"O\",IF(OR(Configurator!$T$5=\"2\",Configurator!$T$5=\"3\",Configurator!$T$5=\"5\"),\"L\",\"*\"))","v":"O"},"L",{"$f":"IF(OR(Configurator!$T$5=\"0\",Configurator!$T$5=\"1\",Configurator!$T$5=\"4\",Configurator!$T$5=\"6\"),\"O\",IF(OR(Configurator!$T$5=\"2\",Configurator!$T$5=\"3\",Configurator!$T$5=\"5\"),\"L\",\"*\"))","v":"O"},{"$f":"IF(OR(Configurator!$T$5=\"0\",Configurator!$T$5=\"1\",Configurator!$T$5=\"2\"),\"O\",IF(OR(Configurator!$T$5=\"3\",Configurator!$T$5=\"5\"),\"L\",\"*\"))","v":"O"},{"$f":"IF(OR(Configurator!$T$5=\"0\",Configurator!$T$5=\"1\",Configurator!$T$5=\"4\",Configurator!$T$5=\"6\",Configurator!$T$5=\"2\"),\"O\",IF(OR(Configurator!$T$5=\"3\",Configurator!$T$5=\"5\"),\"L\",\"*\"))","v":"O"},null,null,null,null,null,null,null,null,null,null," "," "," "," "," "," "," "," "," "," "," "," "," "," "," "," "," "," "," "]
[" ",-401,-403,-403,-403,-403,-403,-403,-403,-403,-403,-403,-403,-403,-403,-403,-403,-403,-403,-403,-403,-403,{"$f":"IF(V$37=\"-304\",\"-406\",\"-403\")","v":"-406"},{"$f":"IF(X$37=\"-304\",\"-406\",\"-403\")","v":"-406"},-406,{"$f":"IF(Z$37=\"-304\",\"-406\",\"-403\")","v":"-406"},"-406","-406","-406","-406","-406","-406","-410",{"$f":"IF(AH$37=\"-304\",\"-406\",\"-403\")","v":"-406"},"-406","-406","-406","-406","-406",{"$f":"IF(AN$37=\"-304\",\"-407\",\"-403\")","v":"-407"},{"$f":"IF(AO$37=\"-304\",\"-407\",\"-403\")","v":"-407"},{"$f":"IF(AP$37=\"-306\",\"-410\",\"-407\")","v":"-410"},{"$f":"IF(AQ$37=\"-306\",\"-410\",\"-407\")","v":"-410"},{"$f":"IF(AR$37=\"-306\",\"-410\",IF(AR$37=\"-304\",\"-407\",\"-413\"))","v":"-413"},{"$f":"IF(AS$37=\"-306\",\"-410\",\"-407\")","v":"-410"},{"$f":"IF(AT$37=\"-304\",\"-407\",\"-413\")","v":"-413"},"-413","-413","-413","-413","-413","-413","-413","-413","-413","-413",{"$f":"IF(OR(Configurator!$T$5=\"0\",Configurator!$T$5=\"1\"),\"-416\",IF(OR(Configurator!$T$5=\"2\",Configurator!$T$5=\"3\",Configurator!$T$5=\"5\"),\"-413\",\"-4**\"))","v":"-416"},"-413",{"$f":"IF(OR(Configurator!$T$5=\"0\",Configurator!$T$5=\"1\"),\"-416\",IF(OR(Configurator!$T$5=\"2\",Configurator!$T$5=\"3\",Configurator!$T$5=\"5\"),\"-413\",\"-4**\"))","v":"-416"},{"$f":"IF(OR(Configurator!$T$5=\"0\",Configurator!$T$5=\"1\"),\"-416\",IF(OR(Configurator!$T$5=\"2\",Configurator!$T$5=\"3\",Configurator!$T$5=\"5\"),\"-413\",\"-4**\"))","v":"-416"},"-413","-413",{"$f":"IF(OR(Configurator!$T$5=\"0\",Configurator!$T$5=\"1\"),\"-416\",IF(OR(Configurator!$T$5=\"2\",Configurator!$T$5=\"3\",Configurator!$T$5=\"5\"),\"-413\",\"-4**\"))","v":"-416"},{"$f":"IF(OR(Configurator!$T$5=\"0\",Configurator!$T$5=\"1\",Configurator!$T$5=\"4\"),\"-416\",IF(OR(Configurator!$T$5=\"2\",Configurator!$T$5=\"3\",Configurator!$T$5=\"5\"),\"-413\",\"-4**\"))","v":"-416"},{"$f":"IF(OR(Configurator!$T$5=\"0\",Configurator!$T$5=\"1\",Configurator!$T$5=\"2\"),\"-416\",IF(OR(Configurator!$T$5=\"3\",Configurator!$T$5=\"5\"),\"-413\",\"-4**\"))","v":"-416"},{"$f":"IF(OR(Configurator!$T$5=\"0\",Configurator!$T$5=\"1\",Configurator!$T$5=\"2\"),\"-416\",IF(OR(Configurator!$T$5=\"3\",Configurator!$T$5=\"5\"),\"-413\",\"-4**\"))","v":"-416"},{"$f":"IF(OR(Configurator!$T$5=\"0\",Configurator!$T$5=\"1\",Configurator!$T$5=\"4\",Configurator!$T$5=\"6\"),\"-416\",IF(OR(Configurator!$T$5=\"2\",Configurator!$T$5=\"3\",Configurator!$T$5=\"5\"),\"-413\",\"-4**\"))","v":"-416"},"-413",{"$f":"IF(OR(Configurator!$T$5=\"0\",Configurator!$T$5=\"1\",Configurator!$T$5=\"4\",Configurator!$T$5=\"6\"),\"-416\",IF(OR(Configurator!$T$5=\"2\",Configurator!$T$5=\"3\",Configurator!$T$5=\"5\"),\"-413\",\"-4**\"))","v":"-416"},{"$f":"IF(OR(Configurator!$T$5=\"0\",Configurator!$T$5=\"1\",Configurator!$T$5=\"2\"),\"-416\",IF(OR(Configurator!$T$5=\"3\",Configurator!$T$5=\"5\"),\"-413\",\"-4**\"))","v":"-416"},{"$f":"IF(OR(Configurator!$T$5=\"0\",Configurator!$T$5=\"1\",Configurator!$T$5=\"4\",Configurator!$T$5=\"6\"),\"-416\",IF(OR(Configurator!$T$5=\"2\",Configurator!$T$5=\"3\",Configurator!$T$5=\"5\"),\"-413\",\"-4**\"))","v":"-416"},{"$f":"IF(OR(Configurator!$T$5=\"0\",Configurator!$T$5=\"1\",Configurator!$T$5=\"4\",Configurator!$T$5=\"6\"),\"-416\",IF(OR(Configurator!$T$5=\"2\",Configurator!$T$5=\"3\",Configurator!$T$5=\"5\"),\"-413\",\"-4**\"))","v":"-416"},"-413",{"$f":"IF(OR(Configurator!$T$5=\"0\",Configurator!$T$5=\"1\",Configurator!$T$5=\"4\",Configurator!$T$5=\"6\"),\"-416\",IF(OR(Configurator!$T$5=\"2\",Configurator!$T$5=\"3\",Configurator!$T$5=\"5\"),\"-413\",\"-4**\"))","v":"-416"},{"$f":"IF(OR(Configurator!$T$5=\"0\",Configurator!$T$5=\"1\",Configurator!$T$5=\"2\"),\"-416\",IF(OR(Configurator!$T$5=\"3\",Configurator!$T$5=\"5\"),\"-413\",\"-4**\"))","v":"-416"},{"$f":"IF(OR(Configurator!$T$5=\"0\",Configurator!$T$5=\"1\",Configurator!$T$5=\"4\",Configurator!$T$5=\"6\",Configurator!$T$5=\"2\"),\"-416\",IF(OR(Configurator!$T$5=\"3\",Configurator!$T$5=\"5\"),\"-413\",\"-4**\"))","v":"-416"},null,null,null,null,null,null,null,null,null,null," "," "," "," "," "," "," "," "," "," "," "," "," "," "," "," "," "," "," "]
[" ",1,3,3,3,3,3,3,3,"C","C","C","C","C","C","C","C","C","C","C","C","C",{"$f":"IF(V$37=\"-304\",\"F\",\"C\")","v":"F"},{"$f":"IF(X$37=\"-304\",\"F\",\"C\")","v":"F"},"F",{"$f":"IF(Z$37=\"-304\",\"F\",\"C\")","v":"F"},"F","F","F","F","F","F","J",{"$f":"IF(AH$37=\"-304\",\"F\",\"C\")","v":"F"},"F","F","F","F","F",{"$f":"IF(AN$37=\"-304\",\"G\",\"C\")","v":"G"},{"$f":"IF(AO$37=\"-304\",\"G\",\"C\")","v":"G"},{"$f":"IF(AP$37=\"-306\",\"J\",\"G\")","v":"J"},{"$f":"IF(AQ$37=\"-306\",\"J\",\"G\")","v":"J"},{"$f":"IF(AR$37=\"-306\",\"J\",IF(AR$37=\"-304\",\"G\",\"M\"))","v":"M"},{"$f":"IF(AS$37=\"-306\",\"J\",\"G\")","v":"J"},{"$f":"IF(AT$37=\"-304\",\"G\",\"M\")","v":"M"},"M","M","M","M","M","M","M","M","M","M",{"$f":"IF(OR(Configurator!$T$5=\"0\",Configurator!$T$5=\"1\"),\"P\",IF(OR(Configurator!$T$5=\"2\",Configurator!$T$5=\"3\",Configurator!$T$5=\"5\"),\"M\",\"*\"))","v":"P"},"M",{"$f":"IF(OR(Configurator!$T$5=\"0\",Configurator!$T$5=\"1\"),\"P\",IF(OR(Configurator!$T$5=\"2\",Configurator!$T$5=\"3\",Configurator!$T$5=\"5\"),\"M\",\"*\"))","v":"P"},{"$f":"IF(OR(Configurator!$T$5=\"0\",Configurator!$T$5=\"1\"),\"P\",IF(OR(Configurator!$T$5=\"2\",Configurator!$T$5=\"3\",Configurator!$T$5=\"5\"),\"M\",\"*\"))","v":"P"},"M","M",{"$f":"IF(OR(Configurator!$T$5=\"0\",Configurator!$T$5=\"1\"),\"P\",IF(OR(Configurator!$T$5=\"2\",Configurator!$T$5=\"3\",Configurator!$T$5=\"5\"),\"M\",\"*\"))","v":"P"},{"$f":"IF(OR(Configurator!$T$5=\"0\",Configurator!$T$5=\"1\",Configurator!$T$5=\"4\"),\"P\",IF(OR(Configurator!$T$5=\"2\",Configurator!$T$5=\"3\",Configurator!$T$5=\"5\"),\"M\",\"*\"))","v":"P"},{"$f":"IF(OR(Configurator!$T$5=\"0\",Configurator!$T$5=\"1\",Configurator!$T$5=\"2\"),\"P\",IF(OR(Configurator!$T$5=\"3\",Configurator!$T$5=\"5\"),\"M\",\"*\"))","v":"P"},{"$f":"IF(OR(Configurator!$T$5=\"0\",Configurator!$T$5=\"1\",Configurator!$T$5=\"2\"),\"P\",IF(OR(Configurator!$T$5=\"3\",Configurator!$T$5=\"5\"),\"M\",\"*\"))","v":"P"},{"$f":"IF(OR(Configurator!$T$5=\"0\",Configurator!$T$5=\"1\",Configurator!$T$5=\"4\",Configurator!$T$5=\"6\"),\"P\",IF(OR(Configurator!$T$5=\"2\",Configurator!$T$5=\"3\",Configurator!$T$5=\"5\"),\"M\",\"*\"))","v":"P"},"M",{"$f":"IF(OR(Configurator!$T$5=\"0\",Configurator!$T$5=\"1\",Configurator!$T$5=\"4\",Configurator!$T$5=\"6\"),\"P\",IF(OR(Configurator!$T$5=\"2\",Configurator!$T$5=\"3\",Configurator!$T$5=\"5\"),\"M\",\"*\"))","v":"P"},{"$f":"IF(OR(Configurator!$T$5=\"0\",Configurator!$T$5=\"1\",Configurator!$T$5=\"2\"),\"P\",IF(OR(Configurator!$T$5=\"3\",Configurator!$T$5=\"5\"),\"M\",\"*\"))","v":"P"},{"$f":"IF(OR(Configurator!$T$5=\"0\",Configurator!$T$5=\"1\",Configurator!$T$5=\"4\",Configurator!$T$5=\"6\"),\"P\",IF(OR(Configurator!$T$5=\"2\",Configurator!$T$5=\"3\",Configurator!$T$5=\"5\"),\"M\",\"*\"))","v":"P"},{"$f":"IF(OR(Configurator!$T$5=\"0\",Configurator!$T$5=\"1\",Configurator!$T$5=\"4\",Configurator!$T$5=\"6\"),\"P\",IF(OR(Configurator!$T$5=\"2\",Configurator!$T$5=\"3\",Configurator!$T$5=\"5\"),\"M\",\"*\"))","v":"P"},"M",{"$f":"IF(OR(Configurator!$T$5=\"0\",Configurator!$T$5=\"1\",Configurator!$T$5=\"4\",Configurator!$T$5=\"6\"),\"P\",IF(OR(Configurator!$T$5=\"2\",Configurator!$T$5=\"3\",Configurator!$T$5=\"5\"),\"M\",\"*\"))","v":"P"},{"$f":"IF(OR(Configurator!$T$5=\"0\",Configurator!$T$5=\"1\",Configurator!$T$5=\"2\"),\"P\",IF(OR(Configurator!$T$5=\"3\",Configurator!$T$5=\"5\"),\"M\",\"*\"))","v":"P"},{"$f":"IF(OR(Configurator!$T$5=\"0\",Configurator!$T$5=\"1\",Configurator!$T$5=\"4\",Configurator!$T$5=\"6\",Configurator!$T$5=\"2\"),\"P\",IF(OR(Configurator!$T$5=\"3\",Configurator!$T$5=\"5\"),\"M\",\"*\"))","v":"P"},null,null,null,null,null,null,null,null,null,null," "," "," "," "," "," "," "," "," "," "," "," "," "," "," "," "," "," "," "]
["Additional options"," "," "," "," "," "," "," "," "," "," "," "," "," "," "," "," "," "," "," "," "," "," "," "," "," "," "," "," "," "," "," "," "," "," "," "," "," "," "," "," "," "," "," "," "," "," "," "," "," "," "," "," "," "," "," "," "," "," "," "," "," "," "," "," "," "," "," "," "," "," "," "," "," "," "," ",null,null,null,null,null,null,null,null,null,null," "," "," "," "," "," "," "," "," "," "," "," "," "," "," "," "," "," "," "]
[" ","None","None","None","None","None","None","None","None","None","None","None","None","None","None","None","None","None","None","None","None","None","None","None","None","None","None","None","None","None","None","None","None","None","None","None","None","None","None","None","None","None","None","None","None","None","None","None","None","None","None","None","None","None","None","None","None","None","None","None","None","None","None","None","None","None","None","None","None","None","None","None","None","None","None","None",null,null,null,null,null,null,null,null,null,null," "," "," "," "," "," "," "," "," "," "," "," "," "," "," "," "," "," "," "]
[" ","Transient ground fault module (Only if current & voltage transformers ordered!)","Transient ground fault module (Only if current & voltage transformers ordered!)","Transient ground fault module (Only if current & voltage transformers ordered!)","Transient ground fault module (Only if current & voltage transformers ordered!)","Transient ground fault module (Only if current & voltage transformers ordered!)","Transient ground fault module (Only if current & voltage transformers ordered!)","Transient ground fault module (Only if current & voltage transformers ordered!)","Transient ground fault module (Only if current & voltage transformers ordered!)","Transient ground fault module (Only if current & voltage transformers ordered!)","Transient ground fault module (Only if current & voltage transformers ordered!)","Transient ground fault module (Only if current & voltage transformers ordered!)","Transient ground fault module (Only if current & voltage transformers ordered!)","Transient ground fault module (Only if current & voltage transformers ordered!)","Transient ground fault module (Only if current & voltage transformers ordered!)","Transient ground fault module (Only if current & voltage transformers ordered!)","Transient ground fault module (Only if current & voltage transformers ordered!)","Transient ground fault module (Only if current & voltage transformers ordered!)","Transient ground fault module (Only if current & voltage transformers ordered!)","Transient ground fault module (Only if current & voltage transformers ordered!)","Transient ground fault module (Only if current & voltage transformers ordered!)","Transient ground fault module (Only if current & voltage transformers ordered!)","Transient ground fault module (Only if current & voltage transformers ordered!)","Transient ground fault module (Only if current & voltage transformers ordered!)","Transient ground fault module (Only if current & voltage transformers ordered!)","Transient ground fault module (Only if current & voltage transformers ordered!)","Transient ground fault module (Only if current & voltage transformers ordered!)","Transient ground fault module (Only if current & voltage transformers ordered!)","Transient ground fault module (Only if current & voltage transformers ordered!)","Transient ground fault module (Only if CTs & VTs ordered!)","Transient ground fault module (Only if CTs & VTs ordered!)","Transient ground fault module (Only if CTs & VTs ordered!)","Transient ground fault module (Only if CTs & VTs ordered!)","Transient ground fault module (Only if CTs & VTs ordered!)","Transient ground fault module (Only if CTs & VTs ordered!)","Transient ground fault module (Only if CTs & VTs ordered!)","Transient ground fault module (Only if CTs & VTs ordered!)","Transient ground fault module (Only if CTs & VTs ordered!)","Transient ground fault module (Only if CTs & VTs ordered!)","Transient ground fault module (Only if CTs & VTs ordered!)","Transient ground fault module (Only if CTs & VTs ordered!)","Transient ground fault module (Only if CTs & VTs ordered!)","Transient ground fault module (Only if CTs & VTs ordered!)","Transient ground fault module (Only if CTs & VTs ordered!)","Transient ground fault module (Only if CTs & VTs ordered!)","Transient ground fault module (Only if CTs & VTs ordered!)","Transient ground fault module (Only if CTs & VTs ordered!)","Transient ground fault module (Only if CTs & VTs ordered!)","Transient ground fault module (Only if CTs & VTs ordered!)","Transient ground fault module (Only if CTs & VTs ordered!)","Transient ground fault module (Only if CTs & VTs ordered!)","Transient ground fault module (Only if CTs & VTs ordered!)","Transient ground fault module (Only if CTs & VTs ordered!)","Transient ground fault module (Only if CTs & VTs ordered!)","Transient ground fault module (Only if CTs & VTs ordered!)","Transient ground fault module (Only if CTs & VTs ordered!)","Transient ground fault module (Only if CTs & VTs ordered!)","Transient ground fault module (Only if CTs & VTs ordered!)","Transient ground fault module (Only if CTs & VTs ordered!)","Transient ground fault module (Only if CTs & VTs ordered!)","Transient ground fault module (Only if CTs & VTs ordered!)","Transient ground fault module (Only if CTs & VTs ordered!)","Transient ground fault module (Only if CTs & VTs ordered!)","Transient ground fault module (Only if CTs & VTs ordered!)","Transient ground fault module (Only if CTs & VTs ordered!)","Transient ground fault module (Only if CTs & VTs ordered!)","Transient ground fault module (Only if CTs & VTs ordered!)","Transient ground fault module (Only if CTs & VTs ordered!)","Transient ground fault module (Only if CTs & VTs ordered!)","Transient ground fault module (Only if CTs & VTs ordered!)","Transient ground fault module (Only if CTs & VTs ordered!)","Transient ground fault module (Only if CTs & VTs ordered!)","Transient ground fault module (Only if CTs & VTs ordered!)","Transient ground fault module (Only if CTs & VTs ordered!)","Transient ground fault module (Only if CTs & VTs ordered!)","Transient ground fault module (Only if CTs & VTs ordered!)",null,null,null,null,null,null,null,null,null,null," "," "," "," "," "," "," "," "," "," "," "," "," "," "," "," "," "," "," "]
[" ","Analogue module","Analogue module","Analogue module","Analogue module","Analogue module","Analogue module","Analogue module","Analogue module","Analogue module","Analogue module","Analogue module","Analogue module","Analogue module","Analogue module","Analogue module","Analogue module","Analogue module","Analogue module","Analogue module","Analogue module","Analogue module","Analogue module","Analogue module","Analogue module","Analogue module","Analogue module","Analogue module","Analogue module","Analogue module","Analogue module","Analogue module","Analogue module","Analogue module","Analogue module","Analogue module","Analogue module","Analogue module","Analogue module","Analogue module","Analogue module","Analogue module","Analogue module","Analogue module","Analogue module","Analogue module","Analogue module","Analogue module","Analogue module","Analogue module","Analogue module","Analogue module","Analogue module","Analogue module","Analogue module","Analogue module","Analogue module","Analogue module","Analogue module","Analogue module","Analogue module","Analogue module","Analogue module","Analogue module","Analogue module","Analogue module","Analogue module","Analogue module","Analogue module","Analogue module","Analogue module","Analogue module","Analogue module","Analogue module","Analogue module","Analogue module",null,null,null,null,null,null,null,null,null,null," "," "," "," "," "," "," "," "," "," "," "," "," "," "," "," "," "," "," "]
[" ","Transient ground fault & analogue modules (Only if CTs & VTs ordered!)","Transient ground fault & analogue modules (Only if CTs & VTs ordered!)","Transient ground fault & analogue modules (Only if CTs & VTs ordered!)","Transient ground fault & analogue modules (Only if CTs & VTs ordered!)","Transient ground fault & analogue modules (Only if CTs & VTs ordered!)","Transient ground fault & analogue modules (Only if CTs & VTs ordered!)","Transient ground fault & analogue modules (Only if CTs & VTs ordered!)","Transient ground fault & analogue modules (Only if CTs & VTs ordered!)","Transient ground fault & analogue modules (Only if CTs & VTs ordered!)","Transient ground fault & analogue modules (Only if CTs & VTs ordered!)","Transient ground fault & analogue modules (Only if CTs & VTs ordered!)","Transient ground fault & analogue modules (Only if CTs & VTs ordered!)","Transient ground fault & analogue modules (Only if CTs & VTs ordered!)","Transient ground fault & analogue modules (Only if CTs & VTs ordered!)","Transient ground fault & analogue modules (Only if CTs & VTs ordered!)","Transient ground fault & analogue modules (Only if CTs & VTs ordered!)","Transient ground fault & analogue modules (Only if CTs & VTs ordered!)","Transient ground fault & analogue modules (Only if CTs & VTs ordered!)","Transient ground fault & analogue modules (Only if CTs & VTs ordered!)","Transient ground fault & analogue modules (Only if CTs & VTs ordered!)","Transient ground fault & analogue modules (Only if CTs & VTs ordered!)","Transient ground fault & analogue modules (Only if CTs & VTs ordered!)","Transient ground fault & analogue modules (Only if CTs & VTs ordered!)","Transient ground fault & analogue modules (Only if CTs & VTs ordered!)","Transient ground fault & analogue modules (Only if CTs & VTs ordered!)","Transient ground fault & analogue modules (Only if CTs & VTs ordered!)","Transient ground fault & analogue modules (Only if CTs & VTs ordered!)","Transient ground fault & analogue modules (Only if CTs & VTs ordered!)","Transient ground fault & analogue modules (Only if CTs & VTs ordered!)","Transient ground fault & analogue modules (Only if CTs & VTs ordered!)","Transient ground fault & analogue modules (Only if CTs & VTs ordered!)","Transient ground fault & analogue modules (Only if CTs & VTs ordered!)","Transient ground fault & analogue modules (Only if CTs & VTs ordered!)","Transient ground fault & analogue modules (Only if CTs & VTs ordered!)","Transient ground fault & analogue modules (Only if CTs & VTs ordered!)","Transient ground fault & analogue modules (Only if CTs & VTs ordered!)","Transient ground fault & analogue modules (Only if CTs & VTs ordered!)","Transient ground fault & analogue modules (Only if CTs & VTs ordered!)","Transient ground fault & analogue modules (Only if CTs & VTs ordered!)","Transient ground fault & analogue modules (Only if CTs & VTs ordered!)","Transient ground fault & analogue modules (Only if CTs & VTs ordered!)","Transient ground fault & analogue modules (Only if CTs & VTs ordered!)","Transient ground fault & analogue modules (Only if CTs & VTs ordered!)","Transient ground fault & analogue modules (Only if CTs & VTs ordered!)","Transient ground fault & analogue modules (Only if CTs & VTs ordered!)","Transient ground fault & analogue modules (Only if CTs & VTs ordered!)","Transient ground fault & analogue modules (Only if CTs & VTs ordered!)","Transient ground fault & analogue modules (Only if CTs & VTs ordered!)","Transient ground fault & analogue modules (Only if CTs & VTs ordered!)","Transient ground fault & analogue modules (Only if CTs & VTs ordered!)","Transient ground fault & analogue modules (Only if CTs & VTs ordered!)","Transient ground fault & analogue modules (Only if CTs & VTs ordered!)","Transient ground fault & analogue modules (Only if CTs & VTs ordered!)","Transient ground fault & analogue modules (Only if CTs & VTs ordered!)","Transient ground fault & analogue modules (Only if CTs & VTs ordered!)","Transient ground fault & analogue modules (Only if CTs & VTs ordered!)","Transient ground fault & analogue modules (Only if CTs & VTs ordered!)","Transient ground fault & analogue modules (Only if CTs & VTs ordered!)","Transient ground fault & analogue modules (Only if CTs & VTs ordered!)","Transient ground fault & analogue modules (Only if CTs & VTs ordered!)","Transient ground fault & analogue modules (Only if CTs & VTs ordered!)","Transient ground fault & analogue modules (Only if CTs & VTs ordered!)","Transient ground fault & analogue modules (Only if CTs & VTs ordered!)","Transient ground fault & analogue modules (Only if CTs & VTs ordered!)","Transient ground fault & analogue modules (Only if CTs & VTs ordered!)","Transient ground fault & analogue modules (Only if CTs & VTs ordered!)","Transient ground fault & analogue modules (Only if CTs & VTs ordered!)","Transient ground fault & analogue modules (Only if CTs & VTs ordered!)","Transient ground fault & analogue modules (Only if CTs & VTs ordered!)","Transient ground fault & analogue modules (Only if CTs & VTs ordered!)","Transient ground fault & analogue modules (Only if CTs & VTs ordered!)","Transient ground fault & analogue modules (Only if CTs & VTs ordered!)","Transient ground fault & analogue modules (Only if CTs & VTs ordered!)","Transient ground fault & analogue modules (Only if CTs & VTs ordered!)","Transient ground fault & analogue modules (Only if CTs & VTs ordered!)",null,null,null,null,null,null,null,null,null,null," "," "," "," "," "," "," "," "," "," "," "," "," "," "," "," "," "," "," "]
[" ","24 binary inputs","24 binary inputs","24 binary inputs","24 binary inputs","24 binary inputs","24 binary inputs","24 binary inputs","24 binary inputs","24 binary inputs","24 binary inputs","24 binary inputs","24 binary inputs","24 binary inputs","24 binary inputs","24 binary inputs","24 binary inputs","24 binary inputs","24 binary inputs","24 binary inputs","24 binary inputs","24 binary inputs","24 binary inputs","24 binary inputs","24 binary inputs","24 binary inputs","24 binary inputs","24 binary inputs","24 binary inputs","24 binary inputs","24 binary inputs","24 binary inputs","24 binary inputs","24 binary inputs","24 binary inputs","24 binary inputs","24 binary inputs","24 binary inputs","24 binary inputs","24 binary inputs","24 binary inputs","24 binary inputs","24 binary inputs","24 binary inputs","24 binary inputs","24 binary inputs","24 binary inputs","24 binary inputs","24 binary inputs","24 binary inputs","24 binary inputs","24 binary inputs","24 binary inputs","24 binary inputs","24 binary inputs","24 binary inputs","24 binary inputs","24 binary inputs","24 binary inputs","24 binary inputs","24 binary inputs","24 binary inputs","24 binary inputs","24 binary inputs","24 binary inputs","24 binary inputs","24 binary inputs","24 binary inputs","24 binary inputs","24 binary inputs","24 binary inputs","24 binary inputs","24 binary inputs","24 binary inputs","24 binary inputs","24 binary inputs",null,null,null,null,null,null,null,null,null,null," "," "," "," "," "," "," "," "," "," "," "," "," "," "," "," "," "," "," "]
[" ","24 binary inputs and transient ground fault module (Only if CTs & VTs ordered!)","24 binary inputs and transient ground fault module (Only if CTs & VTs ordered!)","24 binary inputs and transient ground fault module (Only if CTs & VTs ordered!)","24 binary inputs and transient ground fault module (Only if CTs & VTs ordered!)","24 binary inputs and transient ground fault module (Only if CTs & VTs ordered!)","24 binary inputs and transient ground fault module (Only if CTs & VTs ordered!)","24 binary inputs and transient ground fault module (Only if CTs & VTs ordered!)","24 binary inputs and transient ground fault module (Only if CTs & VTs ordered!)","24 binary inputs and transient ground fault module (Only if CTs & VTs ordered!)","24 binary inputs and transient ground fault module (Only if CTs & VTs ordered!)","24 binary inputs and transient ground fault module (Only if CTs & VTs ordered!)","24 binary inputs and transient ground fault module (Only if CTs & VTs ordered!)","24 binary inputs and transient ground fault module (Only if CTs & VTs ordered!)","24 binary inputs and transient ground fault module (Only if CTs & VTs ordered!)","24 binary inputs and transient ground fault module (Only if CTs & VTs ordered!)","24 binary inputs and transient ground fault module (Only if CTs & VTs ordered!)","24 binary inputs and transient ground fault module (Only if CTs & VTs ordered!)","24 binary inputs and transient ground fault module (Only if CTs & VTs ordered!)","24 binary inputs and transient ground fault module (Only if CTs & VTs ordered!)","24 binary inputs and transient ground fault module (Only if CTs & VTs ordered!)","24 binary inputs and transient ground fault module (Only if CTs & VTs ordered!)","24 binary inputs and transient ground fault module (Only if CTs & VTs ordered!)","24 binary inputs and transient ground fault module (Only if CTs & VTs ordered!)","24 binary inputs and transient ground fault module (Only if CTs & VTs ordered!)","24 binary inputs and transient ground fault module (Only if CTs & VTs ordered!)","24 binary inputs and transient ground fault module (Only if CTs & VTs ordered!)","24 binary inputs and transient ground fault module (Only if CTs & VTs ordered!)","24 binary inputs and transient ground fault module (Only if CTs & VTs ordered!)","24 binary inputs and transient ground fault module (Only if CTs & VTs ordered!)","24 binary inputs and transient ground fault module (Only if CTs & VTs ordered!)","24 binary inputs and transient ground fault module (Only if CTs & VTs ordered!)","24 binary inputs and transient ground fault module (Only if CTs & VTs ordered!)","24 binary inputs and transient ground fault module (Only if CTs & VTs ordered!)","24 binary inputs and transient ground fault module (Only if CTs & VTs ordered!)","24 binary inputs and transient ground fault module (Only if CTs & VTs ordered!)","24 binary inputs and transient ground fault module (Only if CTs & VTs ordered!)","24 binary inputs and transient ground fault module (Only if CTs & VTs ordered!)","24 binary inputs and transient ground fault module (Only if CTs & VTs ordered!)","24 binary inputs and transient ground fault module (Only if CTs & VTs ordered!)","24 binary inputs and transient ground fault module (Only if CTs & VTs ordered!)","24 binary inputs and transient ground fault module (Only if CTs & VTs ordered!)","24 binary inputs and transient ground fault module (Only if CTs & VTs ordered!)","24 binary inputs and transient ground fault module (Only if CTs & VTs ordered!)","24 binary inputs and transient ground fault module (Only if CTs & VTs ordered!)","24 binary inputs and transient ground fault module (Only if CTs & VTs ordered!)","24 binary inputs and transient ground fault module (Only if CTs & VTs ordered!)","24 binary inputs and transient ground fault module (Only if CTs & VTs ordered!)","24 binary inputs and transient ground fault module (Only if CTs & VTs ordered!)","24 binary inputs and transient ground fault module (Only if CTs & VTs ordered!)","24 binary inputs and transient ground fault module (Only if CTs & VTs ordered!)","24 binary inputs and transient ground fault module (Only if CTs & VTs ordered!)","24 binary inputs and transient ground fault module (Only if CTs & VTs ordered!)","24 binary inputs and transient ground fault module (Only if CTs & VTs ordered!)","24 binary inputs and transient ground fault module (Only if CTs & VTs ordered!)","24 binary inputs and transient ground fault module (Only if CTs & VTs ordered!)","24 binary inputs and transient ground fault module (Only if CTs & VTs ordered!)","24 binary inputs and transient ground fault module (Only if CTs & VTs ordered!)","24 binary inputs and transient ground fault module (Only if CTs & VTs ordered!)","24 binary inputs and transient ground fault module (Only if CTs & VTs ordered!)","24 binary inputs and transient ground fault module (Only if CTs & VTs ordered!)","24 binary inputs and transient ground fault module (Only if CTs & VTs ordered!)","24 binary inputs and transient ground fault module (Only if CTs & VTs ordered!)","24 binary inputs and transient ground fault module (Only if CTs & VTs ordered!)","24 binary inputs and transient ground fault module (Only if CTs & VTs ordered!)","24 binary inputs and transient ground fault module (Only if CTs & VTs ordered!)","24 binary inputs and transient ground fault module (Only if CTs & VTs ordered!)","24 binary inputs and transient ground fault module (Only if CTs & VTs ordered!)","24 binary inputs and transient ground fault module (Only if CTs & VTs ordered!)","24 binary inputs and transient ground fault module (Only if CTs & VTs ordered!)","24 binary inputs and transient ground fault module (Only if CTs & VTs ordered!)","24 binary inputs and transient ground fault module (Only if CTs & VTs ordered!)","24 binary inputs and transient ground fault module (Only if CTs & VTs ordered!)","24 binary inputs and transient ground fault module (Only if CTs & VTs ordered!)","24 binary inputs and transient ground fault module (Only if CTs & VTs ordered!)","24 binary inputs and transient ground fault module (Only if CTs & VTs ordered!)",null,null,null,null,null,null,null,null,null,null," "," "," "," "," "," "," "," "," "," "," "," "," "," "," "," "," "," "," "]
[null," "," "," "," "," "," "," "," "," "," "," "," "," "," "," "," "," "," "," "," "," ",{"$f":"IF(Configurator!$D$26<\"E\",\" \",\"With RTD module\")","v":" "},{"$f":"IF(Configurator!$D$26<\"E\",\" \",\"With RTD module\")","v":" "},{"$f":"IF(Configurator!$D$26<\"E\",\" \",\"With RTD module\")","v":" "},{"$f":"IF(Configurator!$D$26<\"E\",\" \",\"With RTD module\")","v":" "},{"$f":"IF(Configurator!$D$26<\"E\",\" \",\"With RTD module\")","v":" "},{"$f":"IF(Configurator!$D$26<\"E\",\" \",\"With RTD module\")","v":" "},{"$f":"IF(Configurator!$D$26<\"E\",\" \",\"With RTD module\")","v":" "},{"$f":"IF(Configurator!$D$26<\"E\",\" \",\"With RTD module\")","v":" "},{"$f":"IF(Configurator!$D$26<\"E\",\" \",\"With RTD module\")","v":" "},{"$f":"IF(Configurator!$D$26<\"E\",\" \",\"With RTD module\")","v":" "},{"$f":"IF(Configurator!$D$26<\"E\",\" \",\"With RTD module\")","v":" "},{"$f":"IF(Configurator!$D$26<\"E\",\" \",\"With RTD module\")","v":" "},{"$f":"IF(Configurator!$D$26<\"E\",\" \",\"With RTD module\")","v":" "},{"$f":"IF(Configurator!$D$26<\"E\",\" \",\"With RTD module\")","v":" "},{"$f":"IF(Configurator!$D$26<\"E\",\" \",\"With RTD module\")","v":" "},{"$f":"IF(Configurator!$D$26<\"E\",\" \",\"With RTD module\")","v":" "},{"$f":"IF(Configurator!$D$26<\"E\",\" \",\"With RTD module\")","v":" "},{"$f":"IF(Configurator!$D$26<\"E\",\" \",\"With RTD module\")","v":" "},{"$f":"IF(Configurator!$D$26<\"E\",\" \",\"With RTD module\")","v":" "},{"$f":"IF(Configurator!$D$26<\"E\",\" \",\"With RTD module\")","v":" "},{"$f":"IF(Configurator!$D$26<\"E\",\" \",\"With RTD module\")","v":" "},{"$f":"IF(Configurator!$D$26<\"E\",\" \",\"With RTD module\")","v":" "},{"$f":"IF(Configurator!$D$26<\"E\",\" \",\"With RTD module\")","v":" "},{"$f":"IF(Configurator!$D$26<\"E\",\" \",\"With RTD module\")","v":" "},{"$f":"IF(Configurator!$D$26<\"E\",\" \",\"With RTD module\")","v":" "},{"$f":"IF(Configurator!$D$26<\"E\",\" \",\"With RTD module\")","v":" "},{"$f":"IF(Configurator!$D$26<\"E\",\" \",\"With RTD module\")","v":" "},{"$f":"IF(Configurator!$D$26<\"E\",\" \",\"With RTD module\")","v":" "},{"$f":"IF(Configurator!$D$26<\"E\",\" \",\"With RTD module\")","v":" "},{"$f":"IF(Configurator!$D$26<\"E\",\" \",\"With RTD module\")","v":" "},{"$f":"IF(Configurator!$D$26<\"E\",\" \",\"With RTD module\")","v":" "},"With RTD module","With RTD module","With RTD module","With RTD module","With RTD module","With RTD module","With RTD module","With RTD module","With RTD module","With RTD module","With RTD module","With RTD module","With RTD module","With RTD module","With RTD module","With RTD module","With RTD module","With RTD module","With RTD module","With RTD module","With RTD module","With RTD module","With RTD module"]
[null," "," "," "," "," "," "," "," "," "," "," "," "," "," "," "," "," "," "," "," "," ",{"$f":"IF(Configurator!$D$26<\"E\",\" \",\"With RTD and analogue module\")","v":" "},{"$f":"IF(Configurator!$D$26<\"E\",\" \",\"With RTD and analogue module\")","v":" "},{"$f":"IF(Configurator!$D$26<\"E\",\" \",\"With RTD and analogue module\")","v":" "},{"$f":"IF(Configurator!$D$26<\"E\",\" \",\"With RTD and analogue module\")","v":" "},{"$f":"IF(Configurator!$D$26<\"E\",\" \",\"With RTD and analogue module\")","v":" "},{"$f":"IF(Configurator!$D$26<\"E\",\" \",\"With RTD and analogue module\")","v":" "},{"$f":"IF(Configurator!$D$26<\"E\",\" \",\"With RTD and analogue module\")","v":" "},{"$f":"IF(Configurator!$D$26<\"E\",\" \",\"With RTD and analogue module\")","v":" "},{"$f":"IF(Configurator!$D$26<\"E\",\" \",\"With RTD and analogue module\")","v":" "},{"$f":"IF(Configurator!$D$26<\"E\",\" \",\"With RTD and analogue module\")","v":" "},{"$f":"IF(Configurator!$D$26<\"E\",\" \",\"With RTD and analogue module\")","v":" "},{"$f":"IF(Configurator!$D$26<\"E\",\" \",\"With RTD and analogue module\")","v":" "},{"$f":"IF(Configurator!$D$26<\"E\",\" \",\"With RTD and analogue module\")","v":" "},{"$f":"IF(Configurator!$D$26<\"E\",\" \",\"With RTD and analogue module\")","v":" "},{"$f":"IF(Configurator!$D$26<\"E\",\" \",\"With RTD and analogue module\")","v":" "},{"$f":"IF(Configurator!$D$26<\"E\",\" \",\"With RTD and analogue module\")","v":" "},{"$f":"IF(Configurator!$D$26<\"E\",\" \",\"With RTD and analogue module\")","v":" "},{"$f":"IF(Configurator!$D$26<\"E\",\" \",\"With RTD and analogue module\")","v":" "},{"$f":"IF(Configurator!$D$26<\"E\",\" \",\"With RTD and analogue module\")","v":" "},{"$f":"IF(Configurator!$D$26<\"E\",\" \",\"With RTD and analogue module\")","v":" "},{"$f":"IF(Configurator!$D$26<\"E\",\" \",\"With RTD and analogue module\")","v":" "},{"$f":"IF(Configurator!$D$26<\"E\",\" \",\"With RTD and analogue module\")","v":" "},{"$f":"IF(Configurator!$D$26<\"E\",\" \",\"With RTD and analogue module\")","v":" "},{"$f":"IF(Configurator!$D$26<\"E\",\" \",\"With RTD and analogue module\")","v":" "},{"$f":"IF(Configurator!$D$26<\"E\",\" \",\"With RTD and analogue module\")","v":" "},{"$f":"IF(Configurator!$D$26<\"E\",\" \",\"With RTD and analogue module\")","v":" "},{"$f":"IF(Configurator!$D$26<\"E\",\" \",\"With RTD and analogue module\")","v":" "},{"$f":"IF(Configurator!$D$26<\"E\",\" \",\"With RTD and analogue module\")","v":" "},{"$f":"IF(Configurator!$D$26<\"E\",\" \",\"With RTD and analogue module\")","v":" "},{"$f":"IF(Configurator!$D$26<\"E\",\" \",\"With RTD and analogue module\")","v":" "},{"$f":"IF(Configurator!$D$26<\"E\",\" \",\"With RTD and analogue module\")","v":" "},"With RTD and analogue module","With RTD and analogue module","With RTD and analogue module","With RTD and analogue module","With RTD and analogue module","With RTD and analogue module","With RTD and analogue module","With RTD and analogue module","With RTD and analogue module","With RTD and analogue module","With RTD and analogue module","With RTD and analogue module","With RTD and analogue module","With RTD and analogue module","With RTD and analogue module","With RTD and analogue module","With RTD and analogue module","With RTD and analogue module","With RTD and analogue module","With RTD and analogue module","With RTD and analogue module","With RTD and analogue module","With RTD and analogue module"]
[null," "," "," "," "," "," "," "," "," "," "," "," "," "," "," "," "," "," "," "," "," ",{"$f":"IF(Configurator!$D$26<\"E\",\" \",\"With RTD and binary module (add. 24 binary inputs)\")","v":" "},{"$f":"IF(Configurator!$D$26<\"E\",\" \",\"With RTD and binary module (add. 24 binary inputs)\")","v":" "},{"$f":"IF(Configurator!$D$26<\"E\",\" \",\"With RTD and binary module (add. 24 binary inputs)\")","v":" "},{"$f":"IF(Configurator!$D$26<\"E\",\" \",\"With RTD and binary module (add. 24 binary inputs)\")","v":" "},{"$f":"IF(Configurator!$D$26<\"E\",\" \",\"With RTD and binary module (add. 24 binary inputs)\")","v":" "},{"$f":"IF(Configurator!$D$26<\"E\",\" \",\"With RTD and binary module (add. 24 binary inputs)\")","v":" "},{"$f":"IF(Configurator!$D$26<\"E\",\" \",\"With RTD and binary module (add. 24 binary inputs)\")","v":" "},{"$f":"IF(Configurator!$D$26<\"E\",\" \",\"With RTD and binary module (add. 24 binary inputs)\")","v":" "},{"$f":"IF(Configurator!$D$26<\"E\",\" \",\"With RTD and binary module (add. 24 binary inputs)\")","v":" "},{"$f":"IF(Configurator!$D$26<\"E\",\" \",\"With RTD and binary module (add. 24 binary inputs)\")","v":" "},{"$f":"IF(Configurator!$D$26<\"E\",\" \",\"With RTD and binary module (add. 24 binary inputs)\")","v":" "},{"$f":"IF(Configurator!$D$26<\"E\",\" \",\"With RTD and binary module (add. 24 binary inputs)\")","v":" "},{"$f":"IF(Configurator!$D$26<\"E\",\" \",\"With RTD and binary module (add. 24 binary inputs)\")","v":" "},{"$f":"IF(Configurator!$D$26<\"E\",\" \",\"With RTD and binary module (add. 24 binary inputs)\")","v":" "},{"$f":"IF(Configurator!$D$26<\"E\",\" \",\"With RTD and binary module (add. 24 binary inputs)\")","v":" "},{"$f":"IF(Configurator!$D$26<\"E\",\" \",\"With RTD and binary module (add. 24 binary inputs)\")","v":" "},{"$f":"IF(Configurator!$D$26<\"E\",\" \",\"With RTD and binary module (add. 24 binary inputs)\")","v":" "},{"$f":"IF(Configurator!$D$26<\"E\",\" \",\"With RTD and binary module (add. 24 binary inputs)\")","v":" "},{"$f":"IF(Configurator!$D$26<\"E\",\" \",\"With RTD and binary module (add. 24 binary inputs)\")","v":" "},{"$f":"IF(Configurator!$D$26<\"E\",\" \",\"With RTD and binary module (add. 24 binary inputs)\")","v":" "},{"$f":"IF(Configurator!$D$26<\"E\",\" \",\"With RTD and binary module (add. 24 binary inputs)\")","v":" "},{"$f":"IF(Configurator!$D$26<\"E\",\" \",\"With RTD and binary module (add. 24 binary inputs)\")","v":" "},{"$f":"IF(Configurator!$D$26<\"E\",\" \",\"With RTD and binary module (add. 24 binary inputs)\")","v":" "},{"$f":"IF(Configurator!$D$26<\"E\",\" \",\"With RTD and binary module (add. 24 binary inputs)\")","v":" "},{"$f":"IF(Configurator!$D$26<\"E\",\" \",\"With RTD and binary module (add. 24 binary inputs)\")","v":" "},{"$f":"IF(Configurator!$D$26<\"E\",\" \",\"With RTD and binary module (add. 24 binary inputs)\")","v":" "},{"$f":"IF(Configurator!$D$26<\"E\",\" \",\"With RTD and binary module (add. 24 binary inputs)\")","v":" "},{"$f":"IF(Configurator!$D$26<\"E\",\" \",\"With RTD and binary module (add. 24 binary inputs)\")","v":" "},{"$f":"IF(Configurator!$D$26<\"E\",\" \",\"With RTD and binary module (add. 24 binary inputs)\")","v":" "},{"$f":"IF(Configurator!$D$26<\"E\",\" \",\"With RTD and binary module (add. 24 binary inputs)\")","v":" "},{"$f":"IF(Configurator!$D$26<\"E\",\" \",\"With RTD and binary module (add. 24 binary inputs)\")","v":" "},"With RTD and binary module (add. 24 binary inputs)","With RTD and binary module (add. 24 binary inputs)","With RTD and binary module (add. 24 binary inputs)","With RTD and binary module (add. 24 binary inputs)","With RTD and binary module (add. 24 binary inputs)","With RTD and binary module (add. 24 binary inputs)","With RTD and binary module (add. 24 binary inputs)","With RTD and binary module (add. 24 binary inputs)","With RTD and binary module (add. 24 binary inputs)","With RTD and binary module (add. 24 binary inputs)","With RTD and binary module (add. 24 binary inputs)","With RTD and binary module (add. 24 binary inputs)","With RTD and binary module (add. 24 binary inputs)","With RTD and binary module (add. 24 binary inputs)","With RTD and binary module (add. 24 binary inputs)","With RTD and binary module (add. 24 binary inputs)","With RTD and binary module (add. 24 binary inputs)","With RTD and binary module (add. 24 binary inputs)","With RTD and binary module (add. 24 binary inputs)","With RTD and binary module (add. 24 binary inputs)","With RTD and binary module (add. 24 binary inputs)","With RTD and binary module (add. 24 binary inputs)","With RTD and binary module (add. 24 binary inputs)"]
["Interfaces"," "," "," "," "," "," "," "," "," "," "," "," "," "," "," "," "," "," "," "," "," "," "," "," "," "," "," "," "," "," "," "," "," "," "," "," "," "," "," "," "," "," "," "," "," "," "," "," "," "," "," "," "," "," "," "," "," "," "," "," "," "," "," "," "," "," "," "," "," "," "," "," "," "," "," ",null,null,null,null,null,null,null,null,null,null," "," "," "," "," "," "," "," "," "," "," "," "," "," "," "," "," "," "," "]
[" ","None","None","None","None","None","None","None","None","None","None","None","None","None","None","None","None","None","None","None","None","None","None","None","None","None","None","None","None","None","None","None","None","None","None","None","None","None","None","None","None","None","None","None","None","None","None","None","None","None","None","None","None","None","None","None","None","None","None","None","None","None","None","None","None","None","None","None","None","None","None","None","None","None","None","None",null,null,null,null,null,null,null,null,null,null," "," "," "," "," "," "," "," "," "," "," "," "," "," "," "," "," "," "," "]
[" ","Switched (IEC 60870-5-101/-103, Modbus, DNP3.0, Courier) & (IRIG-B)","Switched (IEC 60870-5-101/-103, Modbus, DNP3.0, Courier) & (IRIG-B)","Switched (IEC 60870-5-101/-103, Modbus, DNP3.0, Courier) & (IRIG-B)","Switched (IEC 60870-5-101/-103, Modbus, DNP3.0, Courier) & (IRIG-B)","Switched (IEC 60870-5-101/-103, Modbus, DNP3.0, Courier) & (IRIG-B)","Switched (IEC 60870-5-101/-103, Modbus, DNP3.0, Courier) & (IRIG-B)","Switched (IEC 60870-5-101/-103, Modbus, DNP3.0, Courier) & (IRIG-B)","Switched (IEC 60870-5-101/-103, Modbus, DNP3.0, Courier) & (IRIG-B)","Switched (IEC 60870-5-101/-103, Modbus, DNP3.0, Courier) & (IRIG-B)","Switched (IEC 60870-5-101/-103, Modbus, DNP3.0, Courier) & (IRIG-B)","Switched (IEC 60870-5-101/-103, Modbus, DNP3.0, Courier) & (IRIG-B)","Switched (IEC 60870-5-101/-103, Modbus, DNP3.0, Courier) & (IRIG-B)","Switched (IEC 60870-5-101/-103, Modbus, DNP3.0, Courier) & (IRIG-B)","Switched (IEC 60870-5-101/-103, Modbus, DNP3.0, Courier) & (IRIG-B)","Switched (IEC 60870-5-101/-103, Modbus, DNP3.0, Courier) & (IRIG-B)","Switched (IEC 60870-5-101/-103, Modbus, DNP3.0, Courier) & (IRIG-B)","Switched (IEC 60870-5-101/-103, Modbus, DNP3.0, Courier) & (IRIG-B)","Switched (IEC 60870-5-101/-103, Modbus, DNP3.0, Courier) & (IRIG-B)","Switched (IEC 60870-5-101/-103, Modbus, DNP3.0, Courier) & (IRIG-B)","Switched (IEC 60870-5-101/-103, Modbus, DNP3.0, Courier) & (IRIG-B)","Switched (IEC 60870-5-101/-103, Modbus, DNP3.0, Courier) & (IRIG-B)","Switched (IEC 60870-5-101/-103, Modbus, DNP3.0, Courier) & (IRIG-B)","Switched (IEC 60870-5-101/-103, Modbus, DNP3.0, Courier) & (IRIG-B)","Switched (IEC 60870-5-101/-103, Modbus, DNP3.0, Courier) & (IRIG-B)","Switched (IEC 60870-5-101/-103, Modbus, DNP3.0, Courier) & (IRIG-B)","Switched (IEC 60870-5-101/-103, Modbus, DNP3.0, Courier) & (IRIG-B)","Switched (IEC 60870-5-101/-103, Modbus, DNP3.0, Courier) & (IRIG-B)","Switched (IEC 60870-5-101/-103, Modbus, DNP3.0, Courier) & (IRIG-B)","Switched (IEC 60870-5-101/-103, Modbus, DNP3.0, Courier) & (IRIG-B)","Switched (IEC 60870-5-101/-103, Modbus, DNP3.0, Courier) & (IRIG-B)","Switched (IEC 60870-5-101/-103, Modbus, DNP3.0, Courier) & (IRIG-B)","Switched (IEC 60870-5-101/-103, Modbus, DNP3.0, Courier) & (IRIG-B)","Switched (IEC 60870-5-101/-103, Modbus, DNP3.0, Courier) & (IRIG-B)","Switched (IEC 60870-5-101/-103, Modbus, DNP3.0, Courier) & (IRIG-B)","Switched (IEC 60870-5-101/-103, Modbus, DNP3.0, Courier) & (IRIG-B)","Switched (IEC 60870-5-101/-103, Modbus, DNP3.0, Courier) & (IRIG-B)","Switched (IEC 60870-5-101/-103, Modbus, DNP3.0, Courier) & (IRIG-B)","Switched (IEC 60870-5-101/-103, Modbus, DNP3.0, Courier) & (IRIG-B)","Protocol can be switched between: IEC 60870-5-101/-103, Modbus, DNP3.0, Courier and IRIG-B for clock synchronisation and 2nd interface (RS485, IEC 60870-5-103)","Protocol can be switched between: IEC 60870-5-101/-103, Modbus, DNP3.0, Courier and IRIG-B for clock synchronisation and 2nd interface (RS485, IEC 60870-5-103)","Protocol can be switched between: IEC 60870-5-101/-103, Modbus, DNP3.0, Courier and IRIG-B for clock synchronisation and 2nd interface (RS485, IEC 60870-5-103)","Protocol can be switched between: IEC 60870-5-101/-103, Modbus, DNP3.0, Courier and IRIG-B for clock synchronisation and 2nd interface (RS485, IEC 60870-5-103)","Protocol can be switched between: IEC 60870-5-101/-103, Modbus, DNP3.0, Courier and IRIG-B for clock synchronisation and 2nd interface (RS485, IEC 60870-5-103)","Protocol can be switched between: IEC 60870-5-101/-103, Modbus, DNP3.0, Courier and IRIG-B for clock synchronisation and 2nd interface (RS485, IEC 60870-5-103)","Protocol can be switched between: IEC 60870-5-101/-103, Modbus, DNP3.0, Courier and IRIG-B for clock synchronisation and 2nd interface (RS485, IEC 60870-5-103)","Protocol can be switched between: IEC 60870-5-101/-103, Modbus, DNP3.0, Courier and IRIG-B for clock synchronisation and 2nd interface (RS485, IEC 60870-5-103)","Protocol can be switched between: IEC 60870-5-101/-103, Modbus, DNP3.0, Courier and IRIG-B for clock synchronisation and 2nd interface (RS485, IEC 60870-5-103)","Protocol can be switched between: IEC 60870-5-101/-103, Modbus, DNP3.0, Courier and IRIG-B for clock synchronisation and 2nd interface (RS485, IEC 60870-5-103)","Protocol can be switched between: IEC 60870-5-101/-103, Modbus, DNP3.0, Courier and IRIG-B for clock synchronisation and 2nd interface (RS485, IEC 60870-5-103)","Protocol can be switched between: IEC 60870-5-101/-103, Modbus, DNP3.0, Courier and IRIG-B for clock synchronisation and 2nd interface (RS485, IEC 60870-5-103)","Protocol can be switched between: IEC 60870-5-101/-103, Modbus, DNP3.0, Courier and IRIG-B for clock synchronisation and 2nd interface (RS485, IEC 60870-5-103)","Protocol can be switched between: IEC 60870-5-101/-103, Modbus, DNP3.0, Courier and IRIG-B for clock synchronisation and 2nd interface (RS485, IEC 60870-5-103)","Protocol can be switched between: IEC 60870-5-101/-103, Modbus, DNP3.0, Courier and IRIG-B for clock synchronisation and 2nd interface (RS485, IEC 60870-5-103)","Protocol can be switched between: IEC 60870-5-101/-103, Modbus, DNP3.0, Courier and IRIG-B for clock synchronisation and 2nd interface (RS485, IEC 60870-5-103)","Protocol can be switched between: IEC 60870-5-101/-103, Modbus, DNP3.0, Courier and IRIG-B for clock synchronisation and 2nd interface (RS485, IEC 60870-5-103)","Protocol can be switched between: IEC 60870-5-101/-103, Modbus, DNP3.0, Courier and IRIG-B for clock synchronisation and 2nd interface (RS485, IEC 60870-5-103)","Protocol can be switched between: IEC 60870-5-101/-103, Modbus, DNP3.0, Courier and IRIG-B for clock synchronisation and 2nd interface (RS485, IEC 60870-5-103)","Protocol can be switched between: IEC 60870-5-101/-103, Modbus, DNP3.0, Courier and IRIG-B for clock synchronisation and 2nd interface (RS485, IEC 60870-5-103)","Protocol can be switched between: IEC 60870-5-101/-103, Modbus, DNP3.0, Courier and IRIG-B for clock synchronisation and 2nd interface (RS485, IEC 60870-5-103)","Protocol can be switched between: IEC 60870-5-101/-103, Modbus, DNP3.0, Courier and IRIG-B for clock synchronisation and 2nd interface (RS485, IEC 60870-5-103)","Protocol can be switched between: IEC 60870-5-101/-103, Modbus, DNP3.0, Courier and IRIG-B for clock synchronisation and 2nd interface (RS485, IEC 60870-5-103)","Protocol can be switched between: IEC 60870-5-101/-103, Modbus, DNP3.0, Courier and IRIG-B for clock synchronisation and 2nd interface (RS485, IEC 60870-5-103)","Protocol can be switched between: IEC 60870-5-101/-103, Modbus, DNP3.0, Courier and IRIG-B for clock synchronisation and 2nd interface (RS485, IEC 60870-5-103)","Protocol can be switched between: IEC 60870-5-101/-103, Modbus, DNP3.0, Courier and IRIG-B for clock synchronisation and 2nd interface (RS485, IEC 60870-5-103)","Protocol can be switched between: IEC 60870-5-101/-103, Modbus, DNP3.0, Courier and IRIG-B for clock synchronisation and 2nd interface (RS485, IEC 60870-5-103)","Protocol can be switched between: IEC 60870-5-101/-103, Modbus, DNP3.0, Courier and IRIG-B for clock synchronisation and 2nd interface (RS485, IEC 60870-5-103)","Protocol can be switched between: IEC 60870-5-101/-103, Modbus, DNP3.0, Courier and IRIG-B for clock synchronisation and 2nd interface (RS485, IEC 60870-5-103)","Protocol can be switched between: IEC 60870-5-101/-103, Modbus, DNP3.0, Courier and IRIG-B for clock synchronisation and 2nd interface (RS485, IEC 60870-5-103)","Protocol can be switched between: IEC 60870-5-101/-103, Modbus, DNP3.0, Courier and IRIG-B for clock synchronisation and 2nd interface (RS485, IEC 60870-5-103)","Protocol can be switched between: IEC 60870-5-101/-103, Modbus, DNP3.0, Courier and IRIG-B for clock synchronisation and 2nd interface (RS485, IEC 60870-5-103)","Protocol can be switched between: IEC 60870-5-101/-103, Modbus, DNP3.0, Courier and IRIG-B for clock synchronisation and 2nd interface (RS485, IEC 60870-5-103)","Protocol can be switched between: IEC 60870-5-101/-103, Modbus, DNP3.0, Courier and IRIG-B for clock synchronisation and 2nd interface (RS485, IEC 60870-5-103)","Protocol can be switched between: IEC 60870-5-101/-103, Modbus, DNP3.0, Courier and IRIG-B for clock synchronisation and 2nd interface (RS485, IEC 60870-5-103)","Protocol can be switched between: IEC 60870-5-101/-103, Modbus, DNP3.0, Courier and IRIG-B for clock synchronisation and 2nd interface (RS485, IEC 60870-5-103)","Protocol can be switched between: IEC 60870-5-101/-103, Modbus, DNP3.0, Courier and IRIG-B for clock synchronisation and 2nd interface (RS485, IEC 60870-5-103)",null,null,null,null,null,null,null,null,null,null," "," "," "," "," "," "," "," "," "," "," "," "," "," "," "," "," "," "," "]
[" "," "," "," "," "," "," "," "," "," "," "," "," "," "," "," "," "," "," "," "," "," "," "," "," "," "," "," "," "," "," "," ","Protocol IEC61850"," "," "," "," "," "," "," "," ","Protocol IEC61850 Not yet functional)","IEC61850 : Not yet available","IEC61850 : Not yet available",{"$f":"IF(OR(Configurator!$T$5=\"*\",Configurator!$T$5=\"5\"),\"IEC61850 : Not yet available in Px40 English, Polish or Russian\",\"Protocol IEC61850\")","v":"Protocol IEC61850"},{"$f":"IF(OR(Configurator!$T$5=\"*\",Configurator!$T$5=\"5\"),\"IEC61850 : Not yet available in Px40 English, Polish or Russian\",\"Protocol IEC61850\")","v":"Protocol IEC61850"},{"$f":"IF(OR(Configurator!$T$5=\"*\",Configurator!$T$5=\"5\"),\"IEC61850 : Not yet available in Px40 English, Polish or Russian\",\"Protocol IEC61850\")","v":"Protocol IEC61850"},{"$f":"IF(OR(Configurator!$T$5=\"*\",Configurator!$T$5=\"5\"),\"IEC61850 : Not yet available in Px40 English, Polish or Russian\",\"Protocol IEC61850 - Withdrawn please use version 613-716 SW or later version\")","v":"Protocol IEC61850 - Withdrawn please use version 613-716 SW or later version"},{"$f":"IF(OR(Configurator!$T$5=\"*\",Configurator!$T$5=\"5\"),\"IEC61850 : Not yet available in Px40 English, Polish or Russian\",\"Protocol IEC61850\")","v":"Protocol IEC61850"},{"$f":"IF(OR(Configurator!$T$5=\"*\",Configurator!$T$5=\"5\"),\"IEC61850 : Not yet available in Px40 English, Polish or Russian\",\"Protocol IEC61850\")","v":"Protocol IEC61850"},{"$f":"IF(OR(Configurator!$T$5=\"*\",Configurator!$T$5=\"5\"),\"IEC61850 : Not yet available in Px40 English, Polish or Russian\",\"Protocol IEC61850\")","v":"Protocol IEC61850"},{"$f":"IF(OR(Configurator!$T$5=\"*\",Configurator!$T$5=\"5\"),\"IEC61850 : Not yet available in Px40 English, Polish or Russian\",\"Protocol IEC61850\")","v":"Protocol IEC61850"},{"$f":"IF(OR(Configurator!$T$5=\"*\",Configurator!$T$5=\"5\"),\"IEC61850 : Not yet available in Px40 English, Polish or Russian\",\"Protocol IEC61850\")","v":"Protocol IEC61850"},"Protocol IEC61850","Protocol IEC61850","Protocol IEC61850","Protocol IEC61850","Protocol IEC61850","Protocol IEC61850","Protocol IEC61850","Protocol IEC61850","Protocol IEC61850","Protocol IEC61850","Protocol IEC61850","Protocol IEC61850","Protocol IEC61850","Protocol IEC61850","Protocol IEC61850","Protocol IEC61850","Protocol IEC61850","Protocol IEC61850","Protocol IEC61850","Protocol IEC61850","Protocol IEC61850","Protocol IEC61850","Protocol IEC61850",null,null,null,null,null,null,null,null,null,null," "," "," "," "," "," "," "," "," "," "," "," "," "," "," "," "," "," "," "]
["Interfaces continued …"," "," "," "," "," "," "," "," "," "," "," "," "," "," "," "," "," "," "," "," "," "," "," "," "," "," "," "," "," "," "," "," "," "," "," "," "," "," "," "," "," "," "," "," "," "," "," "," "," "," "," "," "," "," "," "," "," "," "," "," "," "," "," "," "," "," "," "," "," "," "," "," "," "," "," ",null,null,null,null,null,null,null,null,null,null," "," "," "," "," "," "," "," "," "," "," "," "," "," "," "," "," "," "," "]
[" ",1,1,1,1,1,1,1,1,1,1,1,1,1,1,1,1,1,1,1,1,1,1,1,1,1,1,1,1,1,1,1,1,1,1,1,1,1,1,1,1,1,1,1,1,1,1,1,1,1,1,1,1,1,1,1,1,1,1,1,1,1,1,1,1,1,1,1,1,1,1,1,1,1,1,1,null,null,null,null,null,null,null,null,null,null," "," "," "," "," "," "," "," "," "," "," "," "," "," "," "," "," "," "," "]
[" "," "," "," "," "," "," "," "," "," "," "," "," "," "," "," "," "," "," "," "," "," "," "," "," "," "," "," "," "," "," "," "," "," "," "," "," "," "," "," "," "," "," "," "," "," "," "," "," "," "," "," "," "," "," "," "," "," "," "," "," "," "," "," "," "," "," "," "," "," "," "," "," "," "," "," ",null,null,null,null,null,null,null,null,null,null," "," "," "," "," "," "," "," "," "," "," "," "," "," "," "," "," "," "," "]
[" "," "," "," "," "," "," "," "," "," "," "," "," "," "," "," "," "," "," "," "," "," "," "," "," "," "," "," "," "," "," "," "," "," "," "," "," "," "," "," "," "," "," "," "," "," "," "," "," "," "," "," "," "," "," "," "," "," "," "," "," "," "," "," "," "," "," "," "," "," "," "," "," "," "," "," ",null,null,null,null,null,null,null,null,null,null," "," "," "," "," "," "," "," "," "," "," "," "," "," "," "," "," "," "," "]
[" "," "," "," "," "," "," "," "," "," "," "," "," "," "," "," "," "," "," "," "," "," "," "," "," "," "," "," "," "," "," "," "," "," "," "," "," "," "," "," "," "," "," "," "," "," "," "," "," "," "," "," "," "," "," "," "," "," "," "," "," "," "," "," "," "," "," "," "," "," "," "," "," "," "," "," ",null,null,null,null,null,null,null,null,null,null," "," "," "," "," "," "," "," "," "," "," "," "," "," "," "," "," "," "," "]
[null,2,2,2,2,2,2,2,2,2,2,2,2,2,2,2,2,2,2,2,2,2,2,2,2,2,2,2,2,2,2,2,2,2,2,2,2,2,2,2,2,2,2,2,2,2,2,2,2,2,2,2,2,2,2,2,2,2,2,2,2,2,2,2,2,2,2,2,2,2,2,2,2,2,2,2]
[null,"For connection to wire, RS485, isolated","For connection to wire, RS485, isolated","For connection to wire, RS485, isolated","For connection to wire, RS485, isolated","For connection to wire, RS485, isolated","For connection to wire, RS485, isolated","For connection to wire, RS485, isolated","For connection to wire, RS485, isolated","For connection to wire, RS485, isolated","For connection to wire, RS485, isolated","For connection to wire, RS485, isolated","For connection to wire, RS485, isolated","For connection to wire, RS485, isolated","For connection to wire, RS485, isolated","For connection to wire, RS485, isolated","For connection to wire, RS485, isolated","For connection to wire, RS485, isolated","For connection to wire, RS485, isolated","For connection to wire, RS485, isolated","For connection to wire, RS485, isolated","For connection to wire, RS485, isolated","For connection to wire, RS485, isolated","For connection to wire, RS485, isolated","For connection to wire, RS485, isolated","For connection to wire, RS485, isolated","For connection to wire, RS485, isolated","For connection to wire, RS485, isolated","For connection to wire, RS485, isolated","For connection to wire, RS485, isolated","For connection to wire, RS485, isolated","For connection to wire, RS485, isolated","For connection to wire, RS485, isolated","For connection to wire, RS485, isolated","For connection to wire, RS485, isolated","For connection to wire, RS485, isolated","For connection to wire, RS485, isolated","For connection to wire, RS485, isolated","For connection to wire, RS485, isolated","For connection to wire, RS485, isolated","For connection to wire, RS485, isolated","For connection to wire, RS485, isolated","For connection to wire, RS485, isolated","For connection to wire, RS485, isolated","For connection to wire, RS485, isolated","for connection to wire, RS485, isolated","for connection to wire, RS485, isolated","for connection to wire, RS485, isolated","for connection to wire, RS485, isolated","for connection to wire, RS485, isolated","for connection to wire, RS485, isolated","for connection to wire, RS485, isolated","for connection to wire, RS485, isolated","for connection to wire, RS485, isolated","for connection to wire, RS485, isolated","for connection to wire, RS485, isolated","for connection to wire, RS485, isolated","for connection to wire, RS485, isolated","for connection to wire, RS485, isolated","for connection to wire, RS485, isolated","for connection to wire, RS485, isolated","for connection to wire, RS485, isolated","for connection to wire, RS485, isolated","for connection to wire, RS485, isolated","for connection to wire, RS485, isolated","for connection to wire, RS485, isolated","for connection to wire, RS485, isolated","for connection to wire, RS485, isolated","for connection to wire, RS485, isolated","for connection to wire, RS485, isolated","for connection to wire, RS485, isolated","for connection to wire, RS485, isolated","for connection to wire, RS485, isolated","for connection to wire, RS485, isolated","for connection to wire, RS485, isolated","for connection to wire, RS485, isolated"]
[null,"For connection to plastic fibre, FSMA connector","For connection to plastic fibre, FSMA connector","For connection to plastic fibre, FSMA connector","For connection to plastic fibre, FSMA connector","For connection to plastic fibre, FSMA connector","For connection to plastic fibre, FSMA connector","For connection to plastic fibre, FSMA connector","For connection to plastic fibre, FSMA connector","For connection to plastic fibre, FSMA connector","For connection to plastic fibre, FSMA connector","For connection to plastic fibre, FSMA connector","For connection to plastic fibre, FSMA connector","For connection to plastic fibre, FSMA connector","For connection to plastic fibre, FSMA connector","For connection to plastic fibre, FSMA connector","For connection to plastic fibre, FSMA connector","For connection to plastic fibre, FSMA connector","For connection to plastic fibre, FSMA connector","For connection to plastic fibre, FSMA connector","For connection to plastic fibre, FSMA connector","For connection to plastic fibre, FSMA connector","For connection to plastic fibre, FSMA connector","For connection to plastic fibre, FSMA connector","For connection to plastic fibre, FSMA connector","For connection to plastic fibre, FSMA connector","For connection to plastic fibre, FSMA connector","For connection to plastic fibre, FSMA connector","For connection to plastic fibre, FSMA connector","For connection to plastic fibre, FSMA connector","For connection to plastic fibre, FSMA connector","For connection to plastic fibre, FSMA connector","For connection to plastic fibre, FSMA connector","For connection to plastic fibre, FSMA connector","For connection to plastic fibre, FSMA connector","For connection to plastic fibre, FSMA connector","For connection to plastic fibre, FSMA connector","For connection to plastic fibre, FSMA connector","For connection to plastic fibre, FSMA connector","For connection to plastic fibre, FSMA connector","For connection to plastic fibre, FSMA connector","For connection to plastic fibre, FSMA connector","For connection to plastic fibre, FSMA connector","For connection to plastic fibre, FSMA connector","For connection to plastic fibre, FSMA connector","for connection to plastic fibre, FSMA connector","for connection to plastic fibre, FSMA connector","for connection to plastic fibre, FSMA connector","for connection to plastic fibre, FSMA connector","for connection to plastic fibre, FSMA connector","for connection to plastic fibre, FSMA connector","for connection to plastic fibre, FSMA connector","for connection to plastic fibre, FSMA connector","for connection to plastic fibre, FSMA connector","for connection to plastic fibre, FSMA connector","for connection to plastic fibre, FSMA connector","for connection to plastic fibre, FSMA connector","for connection to plastic fibre, FSMA connector","for connection to plastic fibre, FSMA connector","for connection to plastic fibre, FSMA connector","for connection to plastic fibre, FSMA connector","for connection to plastic fibre, FSMA connector","for connection to plastic fibre, FSMA connector","for connection to plastic fibre, FSMA connector","for connection to plastic fibre, FSMA connector","for connection to plastic fibre, FSMA connector","for connection to plastic fibre, FSMA connector","for connection to plastic fibre, FSMA connector","for connection to plastic fibre, FSMA connector","for connection to plastic fibre, FSMA connector","for connection to plastic fibre, FSMA connector","for connection to plastic fibre, FSMA connector","for connection to plastic fibre, FSMA connector","for connection to plastic fibre, FSMA connector","for connection to plastic fibre, FSMA connector","for connection to plastic fibre, FSMA connector"]
[null,"For connection to glass fibre, ST connector","For connection to glass fibre, ST connector","For connection to glass fibre, ST connector","For connection to glass fibre, ST connector","For connection to glass fibre, ST connector","For connection to glass fibre, ST connector","For connection to glass fibre, ST connector","For connection to glass fibre, ST connector","For connection to glass fibre, ST connector","For connection to glass fibre, ST connector","For connection to glass fibre, ST connector","For connection to glass fibre, ST connector","For connection to glass fibre, ST connector","For connection to glass fibre, ST connector","For connection to glass fibre, ST connector","For connection to glass fibre, ST connector","For connection to glass fibre, ST connector","For connection to glass fibre, ST connector","For connection to glass fibre, ST connector","For connection to glass fibre, ST connector","For connection to glass fibre, ST connector","For connection to glass fibre, ST connector","For connection to glass fibre, ST connector","For connection to glass fibre, ST connector","For connection to glass fibre, ST connector","For connection to glass fibre, ST connector","For connection to glass fibre, ST connector","For connection to glass fibre, ST connector","For connection to glass fibre, ST connector","For connection to glass fibre, ST connector","For connection to glass fibre, ST connector","For connection to glass fibre, ST connector","For connection to glass fibre, ST connector","For connection to glass fibre, ST connector","For connection to glass fibre, ST connector","For connection to glass fibre, ST connector","For connection to glass fibre, ST connector","For connection to glass fibre, ST connector","For connection to glass fibre, ST connector","For connection to glass fibre, ST connector","For connection to glass fibre, ST connector","For connection to glass fibre, ST connector","For connection to glass fibre, ST connector","For connection to glass fibre, ST connector","for connection to glass fibre, ST connector","for connection to glass fibre, ST connector","for connection to glass fibre, ST connector","for connection to glass fibre, ST connector","for connection to glass fibre, ST connector","for connection to glass fibre, ST connector","for connection to glass fibre, ST connector","for connection to glass fibre, ST connector","for connection to glass fibre, ST connector","for connection to glass fibre, ST connector","for connection to glass fibre, ST connector","for connection to glass fibre, ST connector","for connection to glass fibre, ST connector","for connection to glass fibre, ST connector","for connection to glass fibre, ST connector","for connection to glass fibre, ST connector","for connection to glass fibre, ST connector","for connection to glass fibre, ST connector","for connection to glass fibre, ST connector","for connection to glass fibre, ST connector","for connection to glass fibre, ST connector","for connection to glass fibre, ST connector","for connection to glass fibre, ST connector","for connection to glass fibre, ST connector","for connection to glass fibre, ST connector","for connection to glass fibre, ST connector","for connection to glass fibre, ST connector","for connection to glass fibre, ST connector","for connection to glass fibre, ST connector","for connection to glass fibre, ST connector","for connection to glass fibre, ST connector"]
[null,3,3,3,3,3,3,3,3,3,3,3,3,3,3,3,3,3,3,3,3,3,3,3,3,3,3,3,3,3,3,3,3,3,3,3,3,3,3,3,3,3,3,3,3,3,3,3,3,3,3,3,3,3,3,3,3,3,3,3,3,3,3,3,3,3,3,3,3,3,3,3,3,3,3,3]
[null," "," "," "," "," "," "," "," "," "," "," "," "," "," "," "," "," "," "," "," "," "," "," "," "," "," "," "," "," "," "," ","For connection to 10Mhz Ethernet, glass fibre ST and wire RJ45 and 2nd interface (RS845, IEC60870-5-103)"," "," "," "," "," "," ","For connection to wire, RS485, isolated","For connection to wire, RS485, isolated",{"$f":"IF(OR(Tendering!$AC$22=1,Tendering!$AC$22=3),\"For connection to 10Mhz Ethernet, glass fibre ST and wire RJ45 and 2nd interface (RS845, IEC60870-5-103)\",\"\")","v":"For connection to 10Mhz Ethernet, glass fibre ST and wire RJ45 and 2nd interface (RS845, IEC60870-5-103)"}," "," ",{"$f":"IF(OR(Tendering!$AC$22=2,Tendering!$AC$22=6,Tendering!$AC$22=7),\"\",\"For connection to 10Mhz Ethernet, glass fibre ST and wire RJ45 and 2nd interface (RS845, IEC60870-5-103)\")","v":"For connection to 10Mhz Ethernet, glass fibre ST and wire RJ45 and 2nd interface (RS845, IEC60870-5-103)"},{"$f":"IF(OR(Tendering!$AC$22=2,Tendering!$AC$22=6,Tendering!$AC$22=7),\"\",\"For connection to 100Mhz Ethernet, glass fibre SC and wire RJ45 and 2nd interface (RS485, IEC 60870-5-103)\")","v":"For connection to 100Mhz Ethernet, glass fibre SC and wire RJ45 and 2nd interface (RS485, IEC 60870-5-103)"},{"$f":"IF(OR(Tendering!$AC$22=2,Tendering!$AC$22=6,Tendering!$AC$22=7),\"\",\"For connection to 100Mhz Ethernet, glass fibre SC and wire RJ45 and 2nd interface (RS485, IEC 60870-5-103)\")","v":"For connection to 100Mhz Ethernet, glass fibre SC and wire RJ45 and 2nd interface (RS485, IEC 60870-5-103)"},{"$f":"IF(OR(Tendering!$AC$22=2,Tendering!$AC$22=6,Tendering!$AC$22=7),\"\",\"n/a\")","v":"n/a"},{"$f":"IF(OR(Tendering!$AC$22=2,Tendering!$AC$22=6,Tendering!$AC$22=7),\"\",\"For connection to 100Mhz Ethernet, glass fibre SC and wire RJ45 and 2nd interface (RS485, IEC 60870-5-103)\")","v":"For connection to 100Mhz Ethernet, glass fibre SC and wire RJ45 and 2nd interface (RS485, IEC 60870-5-103)"},{"$f":"IF(OR(Tendering!$AC$22=2,Tendering!$AC$22=6,Tendering!$AC$22=7),\"\",\"For connection to 100Mhz Ethernet, glass fibre SC and wire RJ45 and 2nd interface (RS485, IEC 60870-5-103)\")","v":"For connection to 100Mhz Ethernet, glass fibre SC and wire RJ45 and 2nd interface (RS485, IEC 60870-5-103)"},{"$f":"IF(OR(Tendering!$AC$22=2,Tendering!$AC$22=6,Tendering!$AC$22=7),\"\",\"For connection to 100Mhz Ethernet, glass fibre SC and wire RJ45 and 2nd interface (RS485, IEC 60870-5-103)\")","v":"For connection to 100Mhz Ethernet, glass fibre SC and wire RJ45 and 2nd interface (RS485, IEC 60870-5-103)"},{"$f":"IF(OR(Tendering!$AC$22=2,Tendering!$AC$22=6,Tendering!$AC$22=7),\"\",\"For connection to 100Mhz Ethernet, glass fibre SC and wire RJ45 and 2nd interface (RS485, IEC 60870-5-103)\")","v":"For connection to 100Mhz Ethernet, glass fibre SC and wire RJ45 and 2nd interface (RS485, IEC 60870-5-103)"},{"$f":"IF(OR(Tendering!$AC$22=2,Tendering!$AC$22=6,Tendering!$AC$22=7),\"\",\"For connection to 100Mhz Ethernet, glass fibre SC and wire RJ45 and 2nd interface (RS485, IEC 60870-5-103)\")","v":"For connection to 100Mhz Ethernet, glass fibre SC and wire RJ45 and 2nd interface (RS485, IEC 60870-5-103)"},"For connection to 100Mhz Ethernet, glass fibre SC and wire RJ45 and 2nd interface (RS485, IEC 60870-5-103)","For connection to 100Mhz Ethernet, glass fibre SC and wire RJ45 and 2nd interface (RS485, IEC 60870-5-103)","For connection to 100Mhz Ethernet, glass fibre SC and wire RJ45 and 2nd interface (RS485, IEC 60870-5-103)","For connection to 100Mhz Ethernet, glass fibre SC and wire RJ45 and 2nd interface (RS485, IEC 60870-5-103)","For connection to 100Mhz Ethernet, glass fibre SC and wire RJ45 and 2nd interface (RS485, IEC 60870-5-103)","For connection to 100Mhz Ethernet, glass fibre SC and wire RJ45 and 2nd interface (RS485, IEC 60870-5-103)","For connection to 100Mhz Ethernet, glass fibre SC and wire RJ45 and 2nd interface (RS485, IEC 60870-5-103)","For connection to 100Mhz Ethernet, glass fibre SC and wire RJ45 and 2nd interface (RS485, IEC 60870-5-103)","For connection to 100Mhz Ethernet, glass fibre SC and wire RJ45 and 2nd interface (RS485, IEC 60870-5-103)","For connection to 100Mhz Ethernet, glass fibre SC and wire RJ45 and 2nd interface (RS485, IEC 60870-5-103)","For connection to 100Mhz Ethernet, glass fibre SC and wire RJ45 and 2nd interface (RS485, IEC 60870-5-103)","For connection to 100Mhz Ethernet, glass fibre SC and wire RJ45 and 2nd interface (RS485, IEC 60870-5-103)","For connection to 100Mhz Ethernet, glass fibre SC and wire RJ45 and 2nd interface (RS485, IEC 60870-5-103)","For connection to 100Mhz Ethernet, glass fibre SC and wire RJ45 and 2nd interface (RS485, IEC 60870-5-103)","For connection to 100Mhz Ethernet, glass fibre SC and wire RJ45 and 2nd interface (RS485, IEC 60870-5-103)","For connection to 100Mhz Ethernet, glass fibre SC and wire RJ45 and 2nd interface (RS485, IEC 60870-5-103)","For connection to 100Mhz Ethernet, glass fibre SC and wire RJ45 and 2nd interface (RS485, IEC 60870-5-103)","For connection to 100Mhz Ethernet, glass fibre SC and wire RJ45 and 2nd interface (RS485, IEC 60870-5-103)","For connection to 100Mhz Ethernet, glass fibre SC and wire RJ45 and 2nd interface (RS485, IEC 60870-5-103)","For connection to 100Mhz Ethernet, glass fibre SC and wire RJ45 and 2nd interface (RS485, IEC 60870-5-103)","For connection to 100Mhz Ethernet, glass fibre SC and wire RJ45 and 2nd interface (RS485, IEC 60870-5-103)","For connection to 100Mhz Ethernet, glass fibre SC and wire RJ45 and 2nd interface (RS485, IEC 60870-5-103)","For connection to 100Mhz Ethernet, glass fibre SC and wire RJ45 and 2nd interface (RS485, IEC 60870-5-103)"]
[null," "," "," "," "," "," "," "," "," "," "," "," "," "," "," "," "," "," "," "," "," "," "," "," "," "," "," "," "," "," "," ","For connection to 100Mhz Ethernet, glass fibre SC and wire RJ45 and 2nd interface (RS845, IEC60870-5-103)"," "," "," "," "," "," ","For connection to plastic fibre, FSMA connector","For connection to plastic fibre, FSMA connector",{"$f":"IF(OR(Tendering!$AC$22=1,Tendering!$AC$22=3),\"For connection to 100Mhz Ethernet, glass fibre SC and wire RJ45 and 2nd interface (RS845, IEC60870-5-103)\",\"\")","v":"For connection to 100Mhz Ethernet, glass fibre SC and wire RJ45 and 2nd interface (RS845, IEC60870-5-103)"}," "," ",{"$f":"IF(OR(Tendering!$AC$22=2,Tendering!$AC$22=6,Tendering!$AC$22=7),\"\",\"For connection to 100Mhz Ethernet, glass fibre SC and wire RJ45 and 2nd interface (RS845, IEC60870-5-103)\")","v":"For connection to 100Mhz Ethernet, glass fibre SC and wire RJ45 and 2nd interface (RS845, IEC60870-5-103)"},{"$f":"IF(OR(Tendering!$AC$22=2,Tendering!$AC$22=6,Tendering!$AC$22=7),\"\",\"For connection to 100Mhz Ethernet, glass fibre ST and wire RJ45 and 2nd interface (RS485, IEC 60870-5-103)\")","v":"For connection to 100Mhz Ethernet, glass fibre ST and wire RJ45 and 2nd interface (RS485, IEC 60870-5-103)"},{"$f":"IF(OR(Tendering!$AC$22=2,Tendering!$AC$22=6,Tendering!$AC$22=7),\"\",\"For connection to 100Mhz Ethernet, glass fibre ST and wire RJ45 and 2nd interface (RS485, IEC 60870-5-103)\")","v":"For connection to 100Mhz Ethernet, glass fibre ST and wire RJ45 and 2nd interface (RS485, IEC 60870-5-103)"},{"$f":"IF(OR(Tendering!$AC$22=2,Tendering!$AC$22=6,Tendering!$AC$22=7),\"\",\"n/a\")","v":"n/a"},{"$f":"IF(OR(Tendering!$AC$22=2,Tendering!$AC$22=6,Tendering!$AC$22=7),\"\",\"For connection to 100Mhz Ethernet, glass fibre ST and wire RJ45 and 2nd interface (RS485, IEC 60870-5-103)\")","v":"For connection to 100Mhz Ethernet, glass fibre ST and wire RJ45 and 2nd interface (RS485, IEC 60870-5-103)"},{"$f":"IF(OR(Tendering!$AC$22=2,Tendering!$AC$22=6,Tendering!$AC$22=7),\"\",\"For connection to 100Mhz Ethernet, glass fibre ST and wire RJ45 and 2nd interface (RS485, IEC 60870-5-103)\")","v":"For connection to 100Mhz Ethernet, glass fibre ST and wire RJ45 and 2nd interface (RS485, IEC 60870-5-103)"},{"$f":"IF(OR(Tendering!$AC$22=2,Tendering!$AC$22=6,Tendering!$AC$22=7),\"\",\"For connection to 100Mhz Ethernet, glass fibre ST and wire RJ45 and 2nd interface (RS485, IEC 60870-5-103)\")","v":"For connection to 100Mhz Ethernet, glass fibre ST and wire RJ45 and 2nd interface (RS485, IEC 60870-5-103)"},{"$f":"IF(OR(Tendering!$AC$22=2,Tendering!$AC$22=6,Tendering!$AC$22=7),\"\",\"For connection to 100Mhz Ethernet, glass fibre ST and wire RJ45 and 2nd interface (RS485, IEC 60870-5-103)\")","v":"For connection to 100Mhz Ethernet, glass fibre ST and wire RJ45 and 2nd interface (RS485, IEC 60870-5-103)"},{"$f":"IF(OR(Tendering!$AC$22=2,Tendering!$AC$22=6,Tendering!$AC$22=7),\"\",\"For connection to 100Mhz Ethernet, glass fibre ST and wire RJ45 and 2nd interface (RS485, IEC 60870-5-103)\")","v":"For connection to 100Mhz Ethernet, glass fibre ST and wire RJ45 and 2nd interface (RS485, IEC 60870-5-103)"},"For connection to 100Mhz Ethernet, glass fibre ST and wire RJ45 and 2nd interface (RS485, IEC 60870-5-103)","For connection to 100Mhz Ethernet, glass fibre ST and wire RJ45 and 2nd interface (RS485, IEC 60870-5-103)","For connection to 100Mhz Ethernet, glass fibre ST and wire RJ45 and 2nd interface (RS485, IEC 60870-5-103)","For connection to 100Mhz Ethernet, glass fibre ST and wire RJ45 and 2nd interface (RS485, IEC 60870-5-103)","For connection to 100Mhz Ethernet, glass fibre ST and wire RJ45 and 2nd interface (RS485, IEC 60870-5-103)","For connection to 100Mhz Ethernet, glass fibre ST and wire RJ45 and 2nd interface (RS485, IEC 60870-5-103)","For connection to 100Mhz Ethernet, glass fibre ST and wire RJ45 and 2nd interface (RS485, IEC 60870-5-103)","For connection to 100Mhz Ethernet, glass fibre ST and wire RJ45 and 2nd interface (RS485, IEC 60870-5-103)","For connection to 100Mhz Ethernet, glass fibre ST and wire RJ45 and 2nd interface (RS485, IEC 60870-5-103)","For connection to 100Mhz Ethernet, glass fibre ST and wire RJ45 and 2nd interface (RS485, IEC 60870-5-103)","For connection to 100Mhz Ethernet, glass fibre ST and wire RJ45 and 2nd interface (RS485, IEC 60870-5-103)","For connection to 100Mhz Ethernet, glass fibre ST and wire RJ45 and 2nd interface (RS485, IEC 60870-5-103)","For connection to 100Mhz Ethernet, glass fibre ST and wire RJ45 and 2nd interface (RS485, IEC 60870-5-103)","For connection to 100Mhz Ethernet, glass fibre ST and wire RJ45 and 2nd interface (RS485, IEC 60870-5-103)","For connection to 100Mhz Ethernet, glass fibre ST and wire RJ45 and 2nd interface (RS485, IEC 60870-5-103)","For connection to 100Mhz Ethernet, glass fibre ST and wire RJ45 and 2nd interface (RS485, IEC 60870-5-103)","For connection to 100Mhz Ethernet, glass fibre ST and wire RJ45 and 2nd interface (RS485, IEC 60870-5-103)","For connection to 100Mhz Ethernet, glass fibre ST and wire RJ45 and 2nd interface (RS485, IEC 60870-5-103)","For connection to 100Mhz Ethernet, glass fibre ST and wire RJ45 and 2nd interface (RS485, IEC 60870-5-103)","For connection to 100Mhz Ethernet, glass fibre ST and wire RJ45 and 2nd interface (RS485, IEC 60870-5-103)","For connection to 100Mhz Ethernet, glass fibre ST and wire RJ45 and 2nd interface (RS485, IEC 60870-5-103)","For connection to 100Mhz Ethernet, glass fibre ST and wire RJ45 and 2nd interface (RS485, IEC 60870-5-103)","For connection to 100Mhz Ethernet, glass fibre ST and wire RJ45 and 2nd interface (RS485, IEC 60870-5-103)"]
[null," "," "," "," "," "," "," "," "," "," "," "," "," "," "," "," "," "," "," "," "," "," "," "," "," "," "," "," "," "," "," "," "," "," "," "," "," "," ","For connection to glass fibre, ST connector","For connection to glass fibre, ST connector"," "," "," "," "," "," "," "," "," "," "," "," "," "," "," "," "," "," "," "," "," "," "," "," "," "," "," "," "," "," "," "," "," "," "," "]
["Software Issue - Major"," "," "," "," "," "," "," "," "," "," "," "," "," "," "," "," "," "," "," "," "," "," "," "," "," "," "," "," "," "," "," "," "," "," "," "," "," "," "," "," "," "," "," "," "," "," "," "," "," "," "," "," "," "," "," "," "," "," "," "," "," "," "," "," "," "," "," "," "," "," "," "," "," "," "," ",null,null,null,null,null,null,null,null,null,null," "," "," "," "," "," "," "," "," "," "," "," "," "," "," "," "," "," "," "]
["English (German)","A","B","B","B","B","B","B","B","C","C","C","D","D","D","D","D","E","E","E","E","E","E","E","D","E","E","E","E","E","E","E","J","E","E","E","E","E","E","E","E","K","K","L","K","L","L","M","M","M","N","N","N","N","N","N","O","N","O","P","N","N","O","O","Q","R","P","N","P","R","P","Q","N","Q","S","G",null,null,null,null,null,null,null,null,null,null," "," "," "," "," "," "," "," "," "," "," "," "," "," "," "," "," "," "," "]
[" ","-601","-602","-602","-602","-602","-602","-602","-602","-603","-603","-603","-604","-604","-604","-604","-604","-605","-605","-605","-605","-605","-605","-605","-604","-605","-605","-605","-605","-605","-605","-605","-610","-605","-605","-605","-605","-605","-605","-605","-605","-611","-611","-612","-611","-612","-612","-613","-613","-613","-614","-614","-614","-614","-614","-614","-630","-614","-630","-616","-614","-614","-630","-630","-616","-617","-631","-614","-631","-617","-631","-632","-614","-632","-618","-633",null,null,null,null,null,null,null,null,null,null," "," "," "," "," "," "," "," "," "," "," "," "," "," "," "," "," "," "," "]
["English (English)","*","*","*","*","*","*","*","*","*","*","*","*","*","*","*","*","*","*","*","*","*","*","*","*","*","*","*","*","*","*","*","*","*","*","*","*","*","*","*","*","*","*","*","*","*","*","*","*","*","*","*","*","*","*","*","*","*","*","*","*","*","*","*","*","*","*","*","*","*","*","*","*","*","*","*"]
[null,"****","****","****","****","****","****","****","****","****","****","****","****","****","****","****","****","****","****","****","****","****","****","****","****","****","****","****","****","****","****","****","****","****","****","****","****","****","****","****","****","****","****","****","****","****","****","****","****","****","****","****","****","****","****","****","-6**","****","-6**","-6**","****","****","-6**","-6**","-6**","-6**","-6**","****","-6**","-6**","-6**","-6**","****","-6**","-6**","-6**"]
["German (English)","*","B","B","B","B","B","B","B","C","C","C","D","D","D","D","D","E","E","E","E","E","E","E","D","E","E","E","E","E","E","E","J","E","E","E","E","E","E","E","E","K","K","L","K","L","L","M","M","M","N","N","N","N","N","N","O","N","O","P","N","N","O","O","Q","R","P","N","P","R","P","Q","N","Q","S","G"]
[null,"****","-602","-602","-602","-602","-602","-602","-602","-603","-603","-603","-604","-604","-604","-604","-604","-605","-605","-605","-605","-605","-605","-605","-604","-605","-605","-605","-605","-605","-605","-605","-610","-605","-605","-605","-605","-605","-605","-605","-605","-611","-611","-612","-611","-612","-612","-613","-613","-613","-614","-614","-614","-614","-614","-614","-630","-614","-630","-616","-614","-614","-630","-630","-616","-617","-631","-614","-631","-617","-631","-632","-614","-632","-618","-633"]
["French (English)","*","*","*","*","*","*","*","*","*","*","*","*","D","D","D","D","D","D","D","D","D","D","D","D","D","D","D","D","D","D","D","*","D","D","D","D","D","D","D","D","K","K","L","K","L","L","M","M","M","M","M","M","N","N","N","N","N","N","N","N","N","N","N","Q","Q","N","N","N","Q","N","N","N","N","Q","Q"]
[null,"****","****","****","****","****","****","****","****","****","****","***","***","-604","-604","-604","-604","-604","-604","-604","-604","-604","-604","-604","-604","-604","-604","-604","-604","-604","-604","-604","****","-604","-604","-604","-604","-604","-604","-604","-604","-611","-611","-612","-611","-612","-612","-613","-613","-613","-613","-613","-613","-614","-614","-614","-614","-614","-614","-614","-614","-614","-614","-614","-616","-616","-614","-614","-614","-616","-614","-614","-614","-614","-616","-616"]
["Spanish (English)","*","*","*","*","*","*","*","*","*","*","*","*","*","*","D","D","D","D","D","D","D","D","D","D","D","D","D","D","D","D","D","*","D","D","D","D","D","D","D","D","K","K","K","K","L","L","L","L","L","L","M","N","N","N","N","N","N","N","N","N","N","N","N","N","N","N","N","N","N","N","N","N","N","N","N"]
[null,"****","****","****","****","****","****","****","****","****","****","***","***","***","***","-604","-604","-604","-604","-604","-604","-604","-604","-604","-604","-604","-604","-604","-604","-604","-604","-604","****","-604","-604","-604","-604","-604","-604","-604","-604","-611","-611","-611","-611","-612","-612","-612","-612","-612","-612","-613","-614","-614","-614","-614","-614","-614","-614","-614","-614","-614","-614","-614","-614","-614","-614","-614","-614","-614","-614","-614","-614","-614","-614","-614"]
["Polish (English)","*","*","*","*","*","*","*","*","*","*","*","*","*","*","*","*","*","*","*","*","*","*","*","*","*","*","*","*","*","*","*","*","*","*","*","*","*","*","*","*","*","*","*","*","*","*","*","*","*","*","*","*","*","*","*","*","*","*","*","*","*","*","O","*","*","P","*","P","*","P","Q","*","Q","*","Q"]
[null,"****","****","****","****","****","****","****","****","****","****","***","***","***","***","***","***","***","***","***","***","***","***","***","***","***","***","***","***","***","***","***","***","***","***","***","***","***","***","***","***","***","***","***","***","***","***","***","***","***","***","***","***","***","***","***","-6**","***","-6**","-6**","***","***","-6**","-630","-6**","-6**","-631","***","-631","-6**","-631","-632","***","-632","-6**","-632"]
["Russian (English)","*","*","*","*","*","*","*","B","B","B","B","B","B","B","B","B","B","B","D","D","D","D","D","D","D","D","D","D","D","D","D","*","D","D","D","D","E","E","E","E","E","E","E","E","E","E","E","E","E","E","E","E","N","N","N","N","N","N","N","N","N","N","N","N","N","N","N","N","N","N","N","N","N","N","N"]
[null,"****","****","****","****","****","****","****","-602","-602","-602","-602","-602","-602","-602","-602","-602","-602","-602","-604","-604","-604","-604","-604","-604","-604","-604","-604","-604","-604","-604","-604","****","-604","-604","-604","-604","-605","-605","-605","-605","-605","-605","-605","-605","-605","-605","-605","-605","-605","-605","-605","-605","-614","-614","-614","-614","-614","-614","-614","-614","-614","-614","-614","-614","-614","-614","-614","-614","-614","-614","-614","-614","-614","-614","-614"]
["Chinese (English)","*","*","*","*","*","*","*","*","*","*","*","*","*","*","*","*","*","*","*","*","*","*","*","*","*","*","*","*","*","*","*","*","*","*","*","*","*","*","*","*","*","*","*","*","*","*","*","*","*","*","*","*","*","*","*","*","*","*","*","*","*","*","*","*","*",{"$f":"IF(AND(Configurator!$E$5<7,Configurator!$D$5<8),\"P\",\"*\")","v":"P"},"*",{"$f":"IF(AND(Configurator!$E$5<7,Configurator!$D$5<8),\"P\",\"*\")","v":"P"},"*",{"$f":"IF(AND(Configurator!$E$5<7,Configurator!$D$5<8),\"P\",\"*\")","v":"P"},{"$f":"IF(AND(Configurator!$E$5<7,Configurator!$D$5<8),\"Q\",\"*\")","v":"Q"},"*",{"$f":"IF(AND(Configurator!$E$5<7,Configurator!$D$5<8),\"Q\",\"*\")","v":"Q"},"*",{"$f":"IF(AND(Configurator!$E$5<7,Configurator!$D$5<8),\"Q\",\"*\")","v":"Q"}]
[null,"-6**","-6**","-6**","-6**","-6**","-6**","-6**","-6**","-6**","-6**","-6**","-6**","-6**","-6**","-6**","-6**","-6**","-6**","-6**","-6**","-6**","-6**","-6**","-6**","-6**","-6**","-6**","-6**","-6**","-6**","-6**","-6**","-6**","-6**","-6**","-6**","-6**","-6**","-6**","-6**","-6**","-6**","-6**","-6**","-6**","-6**","-6**","-6**","-6**","-6**","-6**","-6**","-6**","-6**","-6**","-6**","-6**","-6**","-6**","-6**","-6**","-6**","-6**","-6**","-6**",{"$f":"IF(AND(Configurator!$E$5<7,Configurator!$D$5<8),\"-631\",\"-6**\")","v":"-631"},"-6**",{"$f":"IF(AND(Configurator!$E$5<7,Configurator!$D$5<8),\"-631\",\"-6**\")","v":"-631"},"-6**",{"$f":"IF(AND(Configurator!$E$5<7,Configurator!$D$5<8),\"-631\",\"-6**\")","v":"-631"},{"$f":"IF(AND(Configurator!$E$5<7,Configurator!$D$5<8),\"-632\",\"-6**\")","v":"-632"},"-6**",{"$f":"IF(AND(Configurator!$E$5<7,Configurator!$D$5<8),\"-632\",\"-6**\")","v":"-632"},"-6**",{"$f":"IF(AND(Configurator!$E$5<7,Configurator!$D$5<8),\"-632\",\"-6**\")","v":"-632"}]
["Software Issue - Minor"," "," "," "," "," "," "," "," "," "," "," "," "," "," "," "," "," "," "," "," "," "," "," "," "," "," "," "," "," "," "," "," "," "," "," "," "," "," "," "," "," "," "," "," "," "," "," "," "," "," "," "," "," "," "," "," "," "," "," "," "," "," "," "," "," "," "," "," "," "," "," "," "," "," "," ",null,null,null,null,null,null,null,null,null,null," "," "," "," "," "," "," "," "," "," "," "," "," "," "," "," "," "," "," "]
["English (German)"," "," "," "," ","A","B","B","B","B"," "," "," "," "," "," "," "," "," "," "," "," "," "," "," "," "," "," "," "," ","C","C","D","C","C","C","C","C","C","C","C","G","J","K","K","L","N","M","P","Q"," "," "," ","R","S","T"," ","U"," "," ","V","W"," "," ","X"," "," ","Y","Z","A","Z"," ","B"," "," "," ",null,null,null,null,null,null,null,null,null,null," "," "," "," "," "," "," "," "," "," "," "," "," "," "," "," "," "," "," "]
[" "," "," "," "," ","-701","-702","-702","-702","-702"," "," "," "," "," "," "," "," "," "," "," "," "," "," "," "," "," "," "," "," ","-703","-703","-704","-703","-703","-703","-703","-703","-703","-703","-703","-707","-709","-710","-711","-712","-714","-713","-716","-717"," "," "," ","-718","-719","-720"," ","-721"," "," ","-722","-723"," "," ","-724"," "," ","-725","-726",-727,"-726"," ","-728"," "," "," ",null,null,null,null,null,null,null,null,null,null," "," "," "," "," "," "," "," "," "," "," "," "," "," "," "," "," "," "," "]
["English (English)","*","*","*","*","*","*","*","*","*","*","*","*","*","*","*","*","*","*","*","*","*","*","*","*","*","*","*","*","*","*","*","*","*","*","*","*","*","*","*","*","*","*","*","*","*","*","*","*","*","*","*","*","*","*","*","*","*","*","*","*","*","*","*","*","*","*","*","*","*","*","*","*","*","*","*"]
[null,"****","****","****","****","****","****","****","****","****","****","****","****","****","****","****","****","****","****","****","****","****","****","****","****","****","****","****","****","****","****","****","****","****","****","****","****","****","****","****","****","****","****","****","****","****","****","****","****","****","****","****","****","****","****","****","-7**","****","-7**","-7**","****","****","-7**","-7**","-7**","-7**","-7**","****","-7**","-7**","-7**","-7**","****","-7**","-7**","-7**"]
["German (English)"," "," "," "," ","A","B","B","B","B"," "," "," "," "," "," "," "," "," "," "," "," "," "," "," "," "," "," "," "," ","C","C","D","C","C","C","C","C","C","C","C","G","J","K","K","L","N","M","P","Q"," "," "," ","R","S","T"," ","U"," "," ","V","W"," "," ","X"," "," ","Y","Z","A","Z"," ","B"," "," "," "]
[null," "," "," "," ","-701","-702","-702","-702","-702"," ","    "," "," "," "," "," "," "," "," "," "," "," "," "," "," "," "," "," "," ","-703","-703","-704","-703","-703","-703","-703","-703","-703","-703","-703","-707","-709","-710","-711","-712","-714","-713","-716","-717"," "," "," ","-718","-719","-720"," ","-721"," "," ","-722","-723"," "," ","-724"," "," ","-725","-726",-727,"-726"," ","-728"," "," "," "]
["French (English)","*","*","*","*","*","*","*","*","*","*","*","*"," "," "," "," "," "," "," "," "," "," "," "," "," "," "," "," "," "," "," ","*"," "," "," "," "," "," "," "," ","G","J","K","K","L","N","M","P","P","P","Q","Q","R","S","T","T","U","U","S","V","W","U","U","X","X","U","Y","U","X","U","U","B","B","X","X"]
[null,"****","****","****","****","****","****","****","****","****","****","****","****"," "," "," "," "," "," "," "," "," "," "," "," "," "," "," "," "," "," "," ","****"," "," "," "," "," "," "," "," ","-707","-709","-710","-711","-712","-714","-713","-716","-716","-716","-717","-717","-718","-719","-720","-720","-721","-721","-719","-722","-723","-721","-721","-724","-724","-721","-725","-721","-724","-721","-721","-728","-728","-724","-724"]
["Spanish (English)","*","*","*","*","*","*","*","*","*","*","*","*","*","*"," "," "," "," "," "," "," "," "," "," "," "," "," "," "," "," "," ","*"," "," "," "," "," "," "," "," ","G","J","J","K","L","L","L","L","L","L","Q"," ","R","S","T","T","U","U","S","V","W","U","U","W","W","U","Y","U","W","U","U","B","B","B","B"]
[null,"****","****","****","****","****","****","****","****","****","****","***","***","***","***"," "," "," "," "," "," "," "," "," "," "," "," "," "," "," "," "," ","****"," "," "," "," "," "," "," "," ","-707","-709","-709","-711","-712","-712","-712","-712","-712","-712","-717"," ","-718","-719","-720","-720","-721","-721","-719","-722","-723","-721","-721","-723","-723","-721","-725","-721","-723","-721","-721","-728","-728","-728","-728"]
["Polish (English)","*","*","*","*","*","*","*","*","*","*","*","*","*","*","*","*","*","*","*","*","*","*","*","*","*","*","*","*","*","*","*","*","*","*","*","*","*","*","*","*","*","*","*","*","*","*","*","*","*","*","*","*","*","*","*","*","*","*","*","*","*","*"," ","*","*"," ","*","Z","*","Z"," ","*"," ","*"," "]
[null,"****","****","****","****","****","****","****","****","****","****","***","***","***","***","***","***","***","***","***","***","***","***","***","***","***","***","***","***","***","***","***","****","***","***","***","***","***","***","***","***","****","****","****","****","****","****","****","****","****","****","****","****","****","****","****","-7**","****","****","-7**","****","****","****"," ","-7**","-7**"," ","****","-726","-7**","-726"," ","****"," ","-7**"," "]
["Russian (English)","*","*","*","*","*","*","*","B","B","B","B","B","B","B","B","B","B","B"," "," "," "," "," "," "," "," "," "," "," "," "," ","*"," "," "," "," "," ","C","C","C","C","C","C","C","C","C","C","C","C","C","C","C","R","S","T","T","U","U","S","V","W","U","U","W","W","U","Y","U","W","U","U","B","B","B","B"]
[null,"****","****","****","****","****","****","****","-702","-702","-702","-702","-702","-702","-702","-702","-702","-702","-702","    ","    ","    ","    ","    ","    ","    ","    ","    ","    ","    ","    ","    ","****","    ","    ","    ","    "," ","-703","-703","-703","-703","-703","-703","-703","-703","-703","-703","-703","-703","-703","-703","-703","-718","-719","-720","-720","-721","-721","-719","-722","-723","-721","-721","-723","-723","-721","-725","-721","-723","-721","-721","-728","-728","-728","-728"]
["Chinese (English)","*","*","*","*","*","*","*","*","*","*","*","*","*","*","*","*","*","*","*","*","*","*","*","*","*","*","*","*","*","*","*","*","*","*","*","*","*","*","*","*","*","*","*","*","*","*","*","*","*","*","*","*","*","*","*","*","*","*","*","*","*","*","*","*","*",{"$f":"IF(AND(Configurator!$E$5<7,Configurator!$D$5<8),\" \",\"*\")","v":" "},"*","Z","*","Z"," ","*"," ","*"," "]
[null,"-7**","-7**","-7**","-7**","-7**","-7**","-7**","-7**","-7**","-7**","-7**","-7**","-7**","-7**","-7**","-7**","-7**","-7**","-7**","-7**","-7**","-7**","-7**","-7**","-7**","-7**","-7**","-7**","-7**","-7**","-7**","-7**","-7**","-7**","-7**","-7**","-7**","-7**","-7**","-7**","-7**","-7**","-7**","-7**","-7**","-7**","-7**","-7**","-7**","-7**","-7**","-7**","-7**","-7**","-7**","-7**","-7**","-7**","-7**","-7**","-7**","-7**","-7**","-7**","-7**",{"$f":"IF(AND(Configurator!$E$5<7,Configurator!$D$5<8),\" \",\"-7**\")","v":" "},"-7**","-726","-7**","-726"," ","-7**"," ","-7**"," "]
["Language"," "," "," "," "," "," "," "," "," "," "," "," "," "," "," "," "," "," "," "," "," "," "," "," "," "," "," "," "," "," "," "," "," "," "," "," "," "," "," "," "," "," "," "," "," "," "," "," "," "," "," "," "," "," "," "," "," "," "," "," "," "," "," "," "," "," "," "," "," "," "," "," "," "," "," ",null,null,null,null,null,null,null,null,null,null," "," "," "," "," "," "," "," "," "," "," "," "," "," "," "," "," "," "," "]
[" ","English (German)","English (German)","English (German)","English (German)","English (German)","English (German)","English (German)","English (German)","English (German)","English (German)","English (German)","English (German)","English (German)","English (German)","English (German)","English (German)","English (German)","English (German)","English (German)","English (German)","English (German)","English (German)","English (German)","English (German)","English (German)","English (German)","English (German)","English (German)","English (German)","English (German)","English (German)","English (German)","English (German)","English (German)","English (German)","English (German)","English (German)","English (German)","English (German)","English (German)","English (German)","English (German)","English (German)","English (German)","English (German)","English (German)","English (German)","English (German)","English (German)","English (German)","English (German)","English (German)","English (German)","English (German)","English (German)","English (German)","English (German)","English (German)","English (German)","English (German)","English (German)","English (German)","English (German)","English (German)","English (German)","English (German)","English (German)","English (German)","English (German)","English (German)","English (German)","English (German)","English (German)","English (German)","English (German)",null,null,null,null,null,null,null,null,null,null," "," "," "," "," "," "," "," "," "," "," "," "," "," "," "," "," "," "," "]
[" ","Not yet available - English (English)","Not yet available - English (English)","Not yet available - English (English)","Not yet available - English (English)","Not yet available - English (English)","Not yet available - English (English)","Not yet available - English (English)","Not yet available - English (English)","Not yet available - English (English)","Not yet available - English (English)","Not yet available - English (English)","Not yet available - English (English)","Not yet available - English (English)","Not yet available - English (English)","Not yet available - English (English)","Not yet available - English (English)","Not yet available - English (English)","Not yet available - English (English)","Not yet available - English (English)","Not yet available - English (English)","Not yet available - English (English)","Not yet available - English (English)","Not yet available - English (English)","Not yet available - English (English)","Not yet available - English (English)","Not yet available - English (English)","Not yet available - English (English)","Not yet available - English (English)","Not yet available - English (English)","Not yet available - English (English)","Not yet available - English (English)","Not yet available - English (English)","Not yet available - English (English)","Not yet available - English (English)","Not yet available - English (English)","Not yet available - English (English)","Not yet available - English (English)","Not yet available - English (English)","Not yet available - English (English)","Not yet available - English (English)","Not yet available - English (English)","Not yet available - English (English)","Not yet available - English (English)","Not yet available - English (English)","Not yet available - English (English)","Not yet available - English (English)","Not yet available - English (English)","Not yet available - English (English)","Not yet available - English (English)","Not yet available - English (English)","Not yet available - English (English)","Not yet available - English (English)","Not yet available - English (English)","Not yet available - English (English)","Not yet available - English (English)","Not yet available - English (English)","Not yet available - English (English)","Not yet available - English (English)","Not yet available - English (English)","Not yet available - English (English)","Not yet available - English (English)","Not yet available - English (English)","Not yet available - English (English)","Not yet available - English (English)","Not yet available - English (English)","Not yet available - English (English)","Not yet available - English (English)","Not yet available - English (English)","Not yet available - English (English)","Not yet available - English (English)","Not yet available - English (English)","Not yet available - English (English)","Not yet available - English (English)","Not yet available - English (English)","Not yet available - English (English)",null,null,null,null,null,null,null,null,null,null," "," "," "," "," "," "," "," "," "," "," "," "," "," "," "," "," "," "," "]
[" ","Not yet available - German (English)","German (English)","German (English)","German (English)","German (English)","German (English)","German (English)","German (English)","German (English)","German (English)","German (English)","German (English)","German (English)","German (English)","German (English)","German (English)","German (English)","German (English)","German (English)","German (English)","German (English)","German (English)","German (English)","German (English)","German (English)","German (English)","German (English)","German (English)","German (English)","German (English)","German (English)","German (English)","German (English)","German (English)","German (English)","German (English)","German (English)","German (English)","German (English)","German (English)","German (English)","German (English)","German (English)","German (English)","German (English)","German (English)","German (English)","German (English)","German (English)","German (English)","German (English)","German (English)","German (English)","German (English)","German (English)","German (English)","German (English)","German (English)","German (English)","German (English)","German (English)","German (English)","German (English)","German (English)","German (English)","German (English)","German (English)","German (English)","German (English)","German (English)","German (English)","German (English)","German (English)","German (English)","German (English)",null,null,null,null,null,null,null,null,null,null," "," "," "," "," "," "," "," "," "," "," "," "," "," "," "," "," "," "," "]
[" ","Not yet available - French (English)","Not yet available - French (English)","Not yet available - French (English)","Not yet available - French (English)","Not yet available - French (English)","Not yet available - French (English)","Not yet available - French (English)","Not yet available - French (English)","Not yet available - French (English)","Not yet available - French (English)","Not yet available - French (English)","Not yet available - French (English)","French (English)","French (English)","French (English)","French (English)","French (English)","French (English)","French (English)","French (English)","French (English)","French (English)","French (English)","French (English)","French (English)","French (English)","French (English)","French (English)","French (English)","French (English)","French (English)","Not yet available - French (English)","French (English)","French (English)","French (English)","French (English)","French (English)","French (English)","French (English)","French (English)","French (English)","French (English)","French (English)","French (English)","French (English)","French (English)","French (English)","French (English)","French (English)","French (English)","French (English)","French (English)","French (English)","French (English)","French (English)","French (English)","French (English)","French (English)","French (English)","French (English)","French (English)","French (English)","French (English)","French (English)","French (English)","French (English)","French (English)","French (English)","French (English)","French (English)","French (English)","French (English)","French (English)","French (English)","French (English)",null,null,null,null,null,null,null,null,null,null," "," "," "," "," "," "," "," "," "," "," "," "," "," "," "," "," "," "," "]
[" ","Not yet available - Spanish (English)","Not yet available - Spanish (English)","Not yet available - Spanish (English)","Not yet available - Spanish (English)","Not yet available - Spanish (English)","Not yet available - Spanish (English)","Not yet available - Spanish (English)","Not yet available - Spanish (English)","Not yet available - Spanish (English)","Not yet available - Spanish (English)","Not yet available - Spanish (English)","Not yet available - Spanish (English)","Not yet available - Spanish (English)","Not yet available - Spanish (English)","Spanish (English)","Spanish (English)","Spanish (English)","Spanish (English)","Spanish (English)","Spanish (English)","Spanish (English)","Spanish (English)","Spanish (English)","Spanish (English)","Spanish (English)","Spanish (English)","Spanish (English)","Spanish (English)","Spanish (English)","Spanish (English)","Spanish (English)","Not yet available - Spanish (English)","Spanish (English)","Spanish (English)","Spanish (English)","Spanish (English)","Spanish (English)","Spanish (English)","Spanish (English)","Spanish (English)","Spanish (English)","Spanish (English)","Spanish (English)","Spanish (English)","Spanish (English)","Spanish (English)","Spanish (English)","Spanish (English)","Spanish (English)","Spanish (English)","Spanish (English)","Spanish (English)","Spanish (English)","Spanish (English)","Spanish (English)","Spanish (English)","Spanish (English)","Spanish (English)","Spanish (English)","Spanish (English)","Spanish (English)","Spanish (English)","Spanish (English)","Spanish (English)","Spanish (English)","Spanish (English)","Spanish (English)","Spanish (English)","Spanish (English)","Spanish (English)","Spanish (English)","Spanish (English)","Spanish (English)","Spanish (English)","Spanish (English)",null,null,null,null,null,null,null,null,null,null," "," "," "," "," "," "," "," "," "," "," "," "," "," "," "," "," "," "," "]
[" ","Not yet available - Polish (English)","Not yet available - Polish (English)","Not yet available - Polish (English)","Not yet available - Polish (English)","Not yet available - Polish (English)","Not yet available - Polish (English)","Not yet available - Polish (English)","Not yet available - Polish (English)","Not yet available - Polish (English)","Not yet available - Polish (English)","Not yet available - Polish (English)","Not yet available - Polish (English)","Not yet available - Polish (English)","Not yet available - Polish (English)","Not yet available - Polish (English)","Not yet available - Polish (English)","Not yet available - Polish (English)","Not yet available - Polish (English)","Not yet available - Polish (English)","Not yet available - Polish (English)","Not yet available - Polish (English)","Not yet available - Polish (English)","Not yet available - Polish (English)","Not yet available - Polish (English)","Not yet available - Polish (English)","Not yet available - Polish (English)","Not yet available - Polish (English)","Not yet available - Polish (English)","Not yet available - Polish (English)","Not yet available - Polish (English)","Not yet available - Polish (English)","Not yet available - Polish (English)","Not yet available - Polish (English)","Not yet available - Polish (English)","Not yet available - Polish (English)","Not yet available - Polish (English)","Not yet available - Polish (English)","Not yet available - Polish (English)","Not yet available - Polish (English)","Not yet available - Polish (English)","Not yet available - Polish (English)","Not yet available - Polish (English)","Not yet available - Polish (English)","Not yet available - Polish (English)","Not yet available - Polish (English)","Not yet available - Polish (English)","Not yet available - Polish (English)","Not yet available - Polish (English)","Not yet available - Polish (English)","Not yet available - Polish (English)","Not yet available - Polish (English)","Not yet available - Polish (English)","Not yet available - Polish (English)","Not yet available - Polish (English)","Not yet available - Polish (English)","Not yet available - Polish (English)","Not yet available - Polish (English)","Not yet available - Polish (English)","Not yet available - Polish (English)","Not yet available - Polish (English)","Not yet available - Polish (English)","Not yet available - Polish (English)","Polish (English)","Polish (English)","Polish (English)","Polish (English)","Not yet available - Polish (English)","Polish (English)","Polish (English)","Polish (English)","Polish (English)","Not yet available - Polish (English)","Polish (English)","Polish (English)","Polish (English)",null,null,null,null,null,null,null,null,null,null," "," "," "," "," "," "," "," "," "," "," "," "," "," "," "," "," "," "," "]
[" ","Not yet available - Russian (English)","Not yet available - Russian (English)","Not yet available - Russian (English)","Not yet available - Russian (English)","Not yet available - Russian (English)","Not yet available - Russian (English)","Not yet available - Russian (English)","Russian (English)","Russian (English)","Russian (English)","Russian (English)","Russian (English)","Russian (English)","Russian (English)","Russian (English)","Russian (English)","Russian (English)","Russian (English)","Russian (English)","Russian (English)","Russian (English)","Russian (English)","Russian (English)","Russian (English)","Russian (English)","Russian (English)","Russian (English)","Russian (English)","Russian (English)","Russian (English)","Russian (English)","Not yet available - Russian (English)","Russian (English)","Russian (English)","Russian (English)","Russian (English)","Russian (English)","Russian (English)","Russian (English)","Russian (English)","Russian (English)","Russian (English)","Russian (English)","Russian (English)","Russian (English)","Russian (English)","Russian (English)","Russian (English)","Russian (English)","Russian (English)","Russian (English)","Russian (English)","Russian (English)","Russian (English)","Russian (English)","Russian (English)","Russian (English)","Russian (English)","Russian (English)","Russian (English)","Russian (English)","Russian (English)","Russian (English)","Russian (English)","Russian (English)","Russian (English)","Russian (English)","Russian (English)","Russian (English)","Russian (English)","Russian (English)","Russian (English)","Russian (English)","Russian (English)","Russian (English)",null,null,null,null,null,null,null,null,null,null," "," "," "," "," "," "," "," "," "," "," "," "," "," "," "," "," "]
[" ","Not yet available - Chinese (English)","Not yet available - Chinese (English)","Not yet available - Chinese (English)","Not yet available - Chinese (English)","Not yet available - Chinese (English)","Not yet available - Chinese (English)","Not yet available - Chinese (English)","Not yet available - Chinese (English)","Not yet available - Chinese (English)","Not yet available - Chinese (English)","Not yet available - Chinese (English)","Not yet available - Chinese (English)","Not yet available - Chinese (English)","Not yet available - Chinese (English)","Not yet available - Chinese (English)","Not yet available - Chinese (English)","Not yet available - Chinese (English)","Not yet available - Chinese (English)","Not yet available - Chinese (English)","Not yet available - Chinese (English)","Not yet available - Chinese (English)","Not yet available - Chinese (English)","Not yet available - Chinese (English)","Not yet available - Chinese (English)","Not yet available - Chinese (English)","Not yet available - Chinese (English)","Not yet available - Chinese (English)","Not yet available - Chinese (English)","Not yet available - Chinese (English)","Not yet available - Chinese (English)","Not yet available - Chinese (English)","Not yet available - Chinese (English)","Not yet available - Chinese (English)","Not yet available - Chinese (English)","Not yet available - Chinese (English)","Not yet available - Chinese (English)","Not yet available - Chinese (English)","Not yet available - Chinese (English)","Not yet available - Chinese (English)","Not yet available - Chinese (English)","Not yet available - Chinese (English)","Not yet available - Chinese (English)","Not yet available - Chinese (English)","Not yet available - Chinese (English)","Not yet available - Chinese (English)","Not yet available - Chinese (English)","Not yet available - Chinese (English)","Not yet available - Chinese (English)","Not yet available - Chinese (English)","Not yet available - Chinese (English)","Not yet available - Chinese (English)","Not yet available - Chinese (English)","Not yet available - Chinese (English)","Not yet available - Chinese (English)","Not yet available - Chinese (English)","Not yet available - Chinese (English)","Not yet available - Chinese (English)","Not yet available - Chinese (English)","Not yet available - Chinese (English)","Not yet available - Chinese (English)","Not yet available - Chinese (English)","Not yet available - Chinese (English)","Not yet available - Chinese (English)","Not yet available - Chinese (English)","Not yet available - Chinese (English)",{"$f":"IF(AND(Configurator!$E$5<7,Configurator!$D$5<8),\"Chinese (English)\",\"Chinese (English) not available with 84TE or detachable HMI\")","v":"Chinese (English)"},"Not yet available - Chinese (English)",{"$f":"IF(AND(Configurator!$E$5<7,Configurator!$D$5<8),\"Chinese (English)\",\"Chinese (English) not available with 84TE or detachable HMI\")","v":"Chinese (English)"},"Not yet available - Chinese (English)",{"$f":"IF(AND(Configurator!$E$5<7,Configurator!$D$5<8),\"Chinese (English)\",\"Chinese (English) not available with 84TE or detachable HMI\")","v":"Chinese (English)"},{"$f":"IF(AND(Configurator!$E$5<7,Configurator!$D$5<8),\"Chinese (English)\",\"Chinese (English) not available with 84TE or detachable HMI\")","v":"Chinese (English)"},"Not yet available - Chinese (English)",{"$f":"IF(AND(Configurator!$E$5<7,Configurator!$D$5<8),\"Chinese (English)\",\"Chinese (English) not available with 84TE or detachable HMI\")","v":"Chinese (English)"},"Not yet available - Chinese (English)",{"$f":"IF(AND(Configurator!$E$5<7,Configurator!$D$5<8),\"Chinese (English)\",\"Chinese (English) not available with 84TE or detachable HMI\")","v":"Chinese (English)"},null,null,null,null,null,null,null,null,null,null," "," "," "," "," "," "," "," "," "," "," "," "," "," "," "," "," "]
[" ","0","0","0","0","0","0","0","0","0","0","0","0","0","0","0","0","0","0","0","0","0","0","0","0","0","0","0","0","0","0","0","0","0","0","0","0","0","0","0","0","0","0","0","0","0","0","0","0","0","0","0","0","0","0","0","0","0","0","0","0","0","0","0","0","0","0","0","0","0","0","0","0","0","0","0",null,null,null,null,null,null,null,null,null,null," "," "," "," "," "," "," "," "," "," "," "," "," "," "," "," "," "]
[" ","*","*","*","*","*","*","*","*","*","*","*","*","*","*","*","*","*","*","*","*","*","*","*","*","*","*","*","*","*","*","*","*","*","*","*","*","*","*","*","*","*","*","*","*","*","*","*","*","*","*","*","*","*","*","*","*","*","*","*","*","*","*","*","*","*","*","*","*","*","*","*","*","*","*","*",null,null,null,null,null,null,null,null,null,null," "," "," "," "," "," "," "," "," "," "," "," "," "," "," "," "," "]
[" ","*","1","1","1","1","1","1","1","1","1","1","1","1","1","1","1","1","1","1","1","1","1","1","1","1","1","1","1","1","1","1","1","1","1","1","1","1","1","1","1","1","1","1","1","1","1","1","1","1","1","1","1","1","1","1","1","1","1","1","1","1","1","1","1","1","1","1","1","1","1","1","1","1","1","1"]
[null,"*","*","*","*","*","*","*","*","*","*","*","*","2","2","2","2","2","2","2","2","2","2","2","2","2","2","2","2","2","2","2","*","2","2","2","2","2","2","2","2","2","2","2","2","2","2","2","2","2","2","2","2","2","2","2","2","2","2","2","2","2","2","2","2","2","2","2","2","2","2","2","2","2","2","2"]
[null,"*","*","*","*","*","*","*","*","*","*","*","*","*","*","3","3","3","3","3","3","3","3","3","3","3","3","3","3","3","3","3","*","3","3","3","3","3","3","3","3","3","3","3","3","3","3","3","3","3","3","3","3","3","3","3","3","3","3","3","3","3","3","3","3","3","3","3","3","3","3","3","3","3","3","3"]
[" ","*","*","*","*","*","*","*","*","*","*","*","*","*","*","*","*","*","*","*","*","*","*","*","*","*","*","*","*","*","*","*","*","*","*","*","*","*","*","*","*","*","*","*","*","*","*","*","*","*","*","*","*","*","*","*","*","*","*","*","*","*","*","4","4","4","4","*","4","4","4","4","*","4","4","4",null,null,null,null,null,null,null,null,null,null," "," "," "," "," "," "," "," "," "," "," "," "," "," "," "," "," "]
[null,"*","*","*","*","*","*","*","5","5","5","5","5","5","5","5","5","5","5","5","5","5","5","5","5","5","5","5","5","5","5","5","*","5","5","5","5","5","5","5","5","5","5","5","5","5","5","5","5","5","5","5","5","5","5","5","5","5","5","5","5","5","5","5","5","5","5","5","5","5","5","5","5","5","5","5"]
[null,"*","*","*","*","*","*","*","*","*","*","*","*","*","*","*","*","*","*","*","*","*","*","*","*","*","*","*","*","*","*","*","*","*","*","*","*","*","*","*","*","*","*","*","*","*","*","*","*","*","*","*","*","*","*","*","*","*","*","*","*","*","*","*","*","*",{"$f":"IF(AND(Configurator!$E$5<7,Configurator!$D$5<8),\"6\",\"*\")","v":"6"},"*",{"$f":"IF(AND(Configurator!$E$5<7,Configurator!$D$5<8),\"6\",\"*\")","v":"6"},"*",{"$f":"IF(AND(Configurator!$E$5<7,Configurator!$D$5<8),\"6\",\"*\")","v":"6"},{"$f":"IF(AND(Configurator!$E$5<7,Configurator!$D$5<8),\"6\",\"*\")","v":"6"},"*",{"$f":"IF(AND(Configurator!$E$5<7,Configurator!$D$5<8),\"6\",\"*\")","v":"6"},"*",{"$f":"IF(AND(Configurator!$E$5<7,Configurator!$D$5<8),\"6\",\"*\")","v":"6"}]
[null," "," "," "," "," "," "," "," "," "," "," "," "," "," "," "," "," "," "," "," "," "," "," "," "," "," "," "," "," "," "," "," "," "," "," "," "," "," "," "," "," "," "," "," "," "," "," "," "," "," "," "," "," "," "," "," "," "," "," "," "," "," "," "," "," "," "," "," "," "," "," "," "," "," "," "]
[null,"-80*","-80*","-80*","-80*","-80*","-80*","-80*","-80*","-80*","-80*","-80*","-80*","-80*","-80*","-80*","-80*","-80*","-80*","-80*","-80*","-80*","-80*","-80*","-80*","-80*","-80*","-80*","-80*","-80*","-80*","-80*","-80*","-80*","-80*","-80*","-80*","-80*","-80*","-80*","-80*","-80*","-80*","-80*","-80*","-80*","-80*","-80*","-80*","-80*","-80*","-80*","-80*","-80*","-80*","-80*","-8**","-80*","-8**","-8**","-80*","-80*","-8**","-8**","-8**","-8**","-8**","-80*","-8**","-8**","-8**","-8**","-80*","-8**","-8**","-8**"]
[null,"-801","-801","-801","-801","-801","-801","-801","-801","-801","-801","-801","-801","-801","-801","-801","-801","-801","-801","-801","-801","-801","-801","-801","-801","-801","-801","-801","-801","-801","-801","-801","-801","-801","-801","-801","-801","-801","-801","-801","-801","-801","-801","-801","-801","-801","-801","-801","-801","-801","-801","-801","-801","-801","-801","-801","-801","-801","-801","-801","-801","-801","-801","-801","-801","-801","-801","-801","-801","-801","-801","-801","-801","-801","-801","-801"]
[" ","-80*","-80*","-80*","-80*","-80*","-80*","-80*","-80*","-80*","-80*","-80*","-80*","-802","-802","-802","-802","-802","-802","-802","-802","-802","-802","-802","-802","-802","-802","-802","-802","-802","-802","-802","-80*","-802","-802","-802","-802","-802","-802","-802","-802","-802","-802","-802","-802","-802","-802","-802","-802","-802","-802","-802","-802","-802","-802","-802","-802","-802","-802","-802","-802","-802","-802","-802","-802","-802","-802","-802","-802","-802","-802","-802","-802","-802","-802","-802",null,null,null,null,null,null,null,null,null,null," "," "," "," "," "," "," "," "," "," "," "," "," "," "]
[null,"-80*","-80*","-80*","-80*","-80*","-80*","-80*","-80*","-80*","-80*","-80*","-80*","-80*","-80*","-803","-803","-803","-803","-803","-803","-803","-803","-803","-803","-803","-803","-803","-803","-803","-803","-803","-80*","-803","-803","-803","-803","-803","-803","-803","-803","-803","-803","-803","-803","-803","-803","-803","-803","-803","-803","-803","-803","-803","-803","-803","-803","-803","-803","-803","-803","-803","-803","-803","-803","-803","-803","-803","-803","-803","-803","-803","-803","-803","-803","-803"]
[null,"-80*","-80*","-80*","-80*","-80*","-80*","-80*","-80*","-80*","-80*","-80*","-80*","-80*","-80*","-80*","-80*","-80*","-80*","-80*","-80*","-80*","-80*","-80*","-80*","-80*","-80*","-80*","-80*","-80*","-80*","-80*","-80*","-80*","-80*","-80*","-80*","-80*","-80*","-80*","-80*","-80*","-80*","-80*","-80*","-80*","-80*","-80*","-80*","-80*","-80*","-80*","-80*","-80*","-80*","-80*","-8**","-80*","-8**","-8**","-80*","-80*","-8**","-804","-804","-804","-804","-80*","-804","-804","-804","-804","-80*","-804","-804","-804"]
[null,"-80*","-80*","-80*","-80*","-80*","-80*","-80*","-805","-805","-805","-805","-805","-805","-805","-805","-805","-805","-805","-805","-805","-805","-805","-805","-805","-805","-805","-805","-805","-805","-805","-805","-80*","-805","-805","-805","-805","-805","-805","-805","-805","-805","-805","-805","-805","-805","-805","-805","-805","-805","-805","-805","-805","-805","-805","-805","-805","-805","-805","-805","-805","-805","-805","-805","-805","-805","-805","-805","-805","-805","-805","-805","-805","-805","-805","-805"]
[null,"-80*","-80*","-80*","-80*","-80*","-80*","-80*","-80*","-80*","-80*","-80*","-80*","-80*","-80*","-80*","-80*","-80*","-80*","-80*","-80*","-80*","-80*","-80*","-80*","-80*","-80*","-80*","-80*","-80*","-80*","-80*","-80*","-80*","-80*","-80*","-80*","-80*","-80*","-80*","-80*","-80*","-80*","-80*","-80*","-80*","-80*","-80*","-80*","-80*","-80*","-80*","-80*","-80*","-80*","-80*","-80*","-80*","-80*","-80*","-80*","-80*","-80*","-80*","-80*","-80*",{"$f":"IF(AND(Configurator!$E$5<7,Configurator!$D$5<8),\"-806\",\"-80*\")","v":"-806"},"-80*",{"$f":"IF(AND(Configurator!$E$5<7,Configurator!$D$5<8),\"-806\",\"-80*\")","v":"-806"},"-80*",{"$f":"IF(AND(Configurator!$E$5<7,Configurator!$D$5<8),\"-806\",\"-80*\")","v":"-806"},{"$f":"IF(AND(Configurator!$E$5<7,Configurator!$D$5<8),\"-806\",\"-80*\")","v":"-806"},"-80*",{"$f":"IF(AND(Configurator!$E$5<7,Configurator!$D$5<8),\"-806\",\"-80*\")","v":"-806"},"-80*",{"$f":"IF(AND(Configurator!$E$5<7,Configurator!$D$5<8),\"-806\",\"-80*\")","v":"-806"}]
[{"$f":"IF(Configurator!$L$7>\"-307\",\"Binary modules for control of switchgear units\",\"Customer Specific Options\")","v":"Binary modules for control of switchgear units"},"Standard Version","Standard Version","Standard Version","Standard Version","Standard Version","Standard Version","Standard Version","Standard Version","Standard Version","Standard Version","Standard Version","Standard Version","Standard Version","Standard Version","Standard Version","Standard Version","Standard Version","Standard Version","Standard Version","Standard Version","Standard Version","Standard Version","Standard Version","Standard Version","Standard Version","Standard Version","Standard Version","Standard Version","Standard Version","Standard Version","Standard Version","Standard Version","Standard Version","Standard Version","Standard Version","Standard Version","Standard Version","Standard Version","Standard Version","Standard Version","Standard Version","Standard Version","Standard Version","Standard Version","Standard Version","Standard Version","Standard Version","Standard Version","Standard Version","Standard Version","Standard Version","Standard Version","Standard Version","Standard Version","Standard Version",{"$f":"IF(AND(Configurator!$L$7>\"-307\",Configurator!$I$19=0),\"One module without high break contacts\",IF(AND(Configurator!$L$7>\"-307\",Configurator!$I$19=5),\"Two modules without high break contacts\",\"Standard Version\"))","v":"Two modules without high break contacts"},"Standard Version",{"$f":"IF(AND(Configurator!$L$7>\"-307\",Configurator!$I$19=0),\"One module without high break contacts\",IF(AND(Configurator!$L$7>\"-307\",Configurator!$I$19=5),\"Two modules without high break contacts\",\"Standard Version\"))","v":"Two modules without high break contacts"},{"$f":"IF(AND(Configurator!$L$7>\"-307\",Configurator!$I$19=0),\"One module without high break contacts\",IF(AND(Configurator!$L$7>\"-307\",Configurator!$I$19=5),\"Two modules without high break contacts\",\"Standard Version\"))","v":"Two modules without high break contacts"},"Standard Version","Standard Version",{"$f":"IF(AND(Configurator!$L$7>\"-307\",Configurator!$I$19=0),\"One module without high break contacts\",IF(AND(Configurator!$L$7>\"-307\",Configurator!$I$19=5),\"Two modules without high break contacts\",\"Standard Version\"))","v":"Two modules without high break contacts"},{"$f":"IF(AND(Configurator!$L$7>\"-307\",Configurator!$I$19=0),\"One module without high break contacts\",IF(AND(Configurator!$L$7>\"-307\",Configurator!$I$19=5),\"Two modules without high break contacts\",\"Standard Version\"))","v":"Two modules without high break contacts"},{"$f":"IF(AND(Configurator!$L$7>\"-307\",Configurator!$I$19=0),\"One module without high break contacts\",IF(AND(Configurator!$L$7>\"-307\",Configurator!$I$19=5),\"Two modules without high break contacts\",\"Standard Version\"))","v":"Two modules without high break contacts"},{"$f":"IF(AND(Configurator!$L$7>\"-307\",Configurator!$I$19=0),\"One module without high break contacts\",IF(AND(Configurator!$L$7>\"-307\",Configurator!$I$19=5),\"Two modules without high break contacts\",\"Standard Version\"))","v":"Two modules without high break contacts"},{"$f":"IF(AND(Configurator!$L$7>\"-307\",Configurator!$I$19=0),\"One module without high break contacts\",IF(AND(Configurator!$L$7>\"-307\",Configurator!$I$19=5),\"Two modules without high break contacts\",\"Standard Version\"))","v":"Two modules without high break contacts"},"Standard Version",{"$f":"IF(AND(Configurator!$L$7>\"-307\",Configurator!$I$19=0),\"One module without high break contacts\",IF(AND(Configurator!$L$7>\"-307\",Configurator!$I$19=5),\"Two modules without high break contacts\",\"Standard Version\"))","v":"Two modules without high break contacts"},{"$f":"IF(AND(Configurator!$L$7>\"-307\",Configurator!$I$19=0),\"One module without high break contacts\",IF(AND(Configurator!$L$7>\"-307\",Configurator!$I$19=5),\"Two modules without high break contacts\",\"Standard Version\"))","v":"Two modules without high break contacts"},{"$f":"IF(AND(Configurator!$L$7>\"-307\",Configurator!$I$19=0),\"One module without high break contacts\",IF(AND(Configurator!$L$7>\"-307\",Configurator!$I$19=5),\"Two modules without high break contacts\",\"Standard Version\"))","v":"Two modules without high break contacts"},{"$f":"IF(AND(Configurator!$L$7>\"-307\",Configurator!$I$19=0),\"One module without high break contacts\",IF(AND(Configurator!$L$7>\"-307\",Configurator!$I$19=5),\"Two modules without high break contacts\",\"Standard Version\"))","v":"Two modules without high break contacts"},"Standard Version",{"$f":"IF(AND(Configurator!$L$7>\"-307\",Configurator!$I$19=0),\"One module without high break contacts\",IF(AND(Configurator!$L$7>\"-307\",Configurator!$I$19=5),\"Two modules without high break contacts\",\"Standard Version\"))","v":"Two modules without high break contacts"},{"$f":"IF(AND(Configurator!$L$7>\"-307\",Configurator!$I$19=0),\"One module without high break contacts\",IF(AND(Configurator!$L$7>\"-307\",Configurator!$I$19=5),\"Two modules without high break contacts\",\"Standard Version\"))","v":"Two modules without high break contacts"},{"$f":"IF(AND(Configurator!$L$7>\"-307\",Configurator!$I$19=0),\"One module without high break contacts\",IF(AND(Configurator!$L$7>\"-307\",Configurator!$I$19=5),\"Two modules without high break contacts\",\"Standard Version\"))","v":"Two modules without high break contacts"}]
[null," "," "," "," "," "," "," "," "," "," "," "," "," "," "," "," "," "," "," "," "," "," "," "," "," "," "," "," "," "," "," "," "," "," "," "," "," "," "," "," "," "," "," "," "," "," "," "," "," "," "," "," "," "," "," ",{"$f":"IF(AND(Configurator!$L$7>\"-307\",Configurator!$I$19=0),\"One module with high break contacts (1-pole)\",IF(AND(Configurator!$L$7>\"-307\",Configurator!$I$19=5),\"First module with high break contacts (1-pole), second with normal contacts\",\" \"))","v":"First module with high break contacts (1-pole), second with normal contacts"}," ",{"$f":"IF(AND(Configurator!$L$7>\"-307\",Configurator!$I$19=0),\"One module with high break contacts\",IF(AND(Configurator!$L$7>\"-307\",Configurator!$I$19=5),\"First module with high break contacts, second with normal contacts\",\" \"))","v":"First module with high break contacts, second with normal contacts"},{"$f":"IF(AND(Configurator!$L$7>\"-307\",Configurator!$I$19=0),\"One module with high break contacts\",IF(AND(Configurator!$L$7>\"-307\",Configurator!$I$19=5),\"First module with high break contacts, second with normal contacts\",\" \"))","v":"First module with high break contacts, second with normal contacts"}," "," ",{"$f":"IF(AND(Configurator!$L$7>\"-307\",Configurator!$I$19=0),\"One module with high break contacts\",IF(AND(Configurator!$L$7>\"-307\",Configurator!$I$19=5),\"First module with high break contacts, second with normal contacts\",\" \"))","v":"First module with high break contacts, second with normal contacts"},{"$f":"IF(AND(Configurator!$L$7>\"-307\",Configurator!$I$19=0),\"One module with high break contacts\",IF(AND(Configurator!$L$7>\"-307\",Configurator!$I$19=5),\"First module with high break contacts, second with normal contacts\",\" \"))","v":"First module with high break contacts, second with normal contacts"},{"$f":"IF(AND(Configurator!$L$7>\"-307\",Configurator!$I$19=0),\"One module with high break contacts\",IF(AND(Configurator!$L$7>\"-307\",Configurator!$I$19=5),\"First module with high break contacts, second with normal contacts\",\" \"))","v":"First module with high break contacts, second with normal contacts"},{"$f":"IF(AND(Configurator!$L$7>\"-307\",Configurator!$I$19=0),\"One module with high break contacts\",IF(AND(Configurator!$L$7>\"-307\",Configurator!$I$19=5),\"First module with high break contacts, second with normal contacts\",\" \"))","v":"First module with high break contacts, second with normal contacts"},{"$f":"IF(AND(Configurator!$L$7>\"-307\",Configurator!$I$19=0),\"One module with high break contacts\",IF(AND(Configurator!$L$7>\"-307\",Configurator!$I$19=5),\"First module with high break contacts, second with normal contacts\",\" \"))","v":"First module with high break contacts, second with normal contacts"}," ",{"$f":"IF(AND(Configurator!$L$7>\"-307\",Configurator!$I$19=0),\"One module with high break contacts\",IF(AND(Configurator!$L$7>\"-307\",Configurator!$I$19=5),\"First module with high break contacts, second with normal contacts\",\" \"))","v":"First module with high break contacts, second with normal contacts"},{"$f":"IF(AND(Configurator!$L$7>\"-307\",Configurator!$I$19=0),\"One module with high break contacts\",IF(AND(Configurator!$L$7>\"-307\",Configurator!$I$19=5),\"First module with high break contacts, second with normal contacts\",\" \"))","v":"First module with high break contacts, second with normal contacts"},{"$f":"IF(AND(Configurator!$L$7>\"-307\",Configurator!$I$19=0),\"One module with high break contacts\",IF(AND(Configurator!$L$7>\"-307\",Configurator!$I$19=5),\"First module with high break contacts, second with normal contacts\",\" \"))","v":"First module with high break contacts, second with normal contacts"},{"$f":"IF(AND(Configurator!$L$7>\"-307\",Configurator!$I$19=0),\"One module with high break contacts\",IF(AND(Configurator!$L$7>\"-307\",Configurator!$I$19=5),\"First module with high break contacts, second with normal contacts\",\" \"))","v":"First module with high break contacts, second with normal contacts"}," ",{"$f":"IF(AND(Configurator!$L$7>\"-307\",Configurator!$I$19=0),\"One module with high break contacts\",IF(AND(Configurator!$L$7>\"-307\",Configurator!$I$19=5),\"First module with high break contacts, second with normal contacts\",\" \"))","v":"First module with high break contacts, second with normal contacts"},{"$f":"IF(AND(Configurator!$L$7>\"-307\",Configurator!$I$19=0),\"One module with high break contacts\",IF(AND(Configurator!$L$7>\"-307\",Configurator!$I$19=5),\"First module with high break contacts, second with normal contacts\",\" \"))","v":"First module with high break contacts, second with normal contacts"},{"$f":"IF(AND(Configurator!$L$7>\"-307\",Configurator!$I$19=0),\"One module with high break contacts\",IF(AND(Configurator!$L$7>\"-307\",Configurator!$I$19=5),\"First module with high break contacts, second with normal contacts\",\" \"))","v":"First module with high break contacts, second with normal contacts"}]
[null," "," "," "," "," "," "," "," "," "," "," "," "," "," "," "," "," "," "," "," "," "," "," "," "," "," "," "," "," "," "," "," "," "," "," "," "," "," "," "," "," "," "," "," "," "," "," "," "," "," "," "," "," "," "," ",{"$f":"IF(AND(Configurator!$L$7>\"-307\",Configurator!$I$19=0),\" \",IF(AND(Configurator!$L$7>\"-307\",Configurator!$I$19=5),\"Two modules with high break contacts (1-pole)\",\" \"))","v":"Two modules with high break contacts (1-pole)"}," ",{"$f":"IF(AND(Configurator!$L$7>\"-307\",Configurator!$I$19=0),\" \",IF(AND(Configurator!$L$7>\"-307\",Configurator!$I$19=5),\"Two modules with high break contacts\",\" \"))","v":"Two modules with high break contacts"},{"$f":"IF(AND(Configurator!$L$7>\"-307\",Configurator!$I$19=0),\" \",IF(AND(Configurator!$L$7>\"-307\",Configurator!$I$19=5),\"Two modules with high break contacts\",\" \"))","v":"Two modules with high break contacts"}," "," ",{"$f":"IF(AND(Configurator!$L$7>\"-307\",Configurator!$I$19=0),\" \",IF(AND(Configurator!$L$7>\"-307\",Configurator!$I$19=5),\"Two modules with high break contacts\",\" \"))","v":"Two modules with high break contacts"},{"$f":"IF(AND(Configurator!$L$7>\"-307\",Configurator!$I$19=0),\" \",IF(AND(Configurator!$L$7>\"-307\",Configurator!$I$19=5),\"Two modules with high break contacts\",\" \"))","v":"Two modules with high break contacts"},{"$f":"IF(AND(Configurator!$L$7>\"-307\",Configurator!$I$19=0),\" \",IF(AND(Configurator!$L$7>\"-307\",Configurator!$I$19=5),\"Two modules with high break contacts\",\" \"))","v":"Two modules with high break contacts"},{"$f":"IF(AND(Configurator!$L$7>\"-307\",Configurator!$I$19=0),\" \",IF(AND(Configurator!$L$7>\"-307\",Configurator!$I$19=5),\"Two modules with high break contacts\",\" \"))","v":"Two modules with high break contacts"},{"$f":"IF(AND(Configurator!$L$7>\"-307\",Configurator!$I$19=0),\" \",IF(AND(Configurator!$L$7>\"-307\",Configurator!$I$19=5),\"Two modules with high break contacts\",\" \"))","v":"Two modules with high break contacts"}," ",{"$f":"IF(AND(Configurator!$L$7>\"-307\",Configurator!$I$19=0),\" \",IF(AND(Configurator!$L$7>\"-307\",Configurator!$I$19=5),\"Two modules with high break contacts\",\" \"))","v":"Two modules with high break contacts"},{"$f":"IF(AND(Configurator!$L$7>\"-307\",Configurator!$I$19=0),\" \",IF(AND(Configurator!$L$7>\"-307\",Configurator!$I$19=5),\"Two modules with high break contacts\",\" \"))","v":"Two modules with high break contacts"},{"$f":"IF(AND(Configurator!$L$7>\"-307\",Configurator!$I$19=0),\" \",IF(AND(Configurator!$L$7>\"-307\",Configurator!$I$19=5),\"Two modules with high break contacts\",\" \"))","v":"Two modules with high break contacts"},{"$f":"IF(AND(Configurator!$L$7>\"-307\",Configurator!$I$19=0),\" \",IF(AND(Configurator!$L$7>\"-307\",Configurator!$I$19=5),\"Two modules with high break contacts\",\" \"))","v":"Two modules with high break contacts"}," ",{"$f":"IF(AND(Configurator!$L$7>\"-307\",Configurator!$I$19=0),\" \",IF(AND(Configurator!$L$7>\"-307\",Configurator!$I$19=5),\"Two modules with high break contacts\",\" \"))","v":"Two modules with high break contacts"},{"$f":"IF(AND(Configurator!$L$7>\"-307\",Configurator!$I$19=0),\" \",IF(AND(Configurator!$L$7>\"-307\",Configurator!$I$19=5),\"Two modules with high break contacts\",\" \"))","v":"Two modules with high break contacts"},{"$f":"IF(AND(Configurator!$L$7>\"-307\",Configurator!$I$19=0),\" \",IF(AND(Configurator!$L$7>\"-307\",Configurator!$I$19=5),\"Two modules with high break contacts\",\" \"))","v":"Two modules with high break contacts"}]
[null,0,0,0,0,0,0,0,0,0,0,0,0,0,0,0,0,0,0,0,0,0,0,0,0,0,0,0,0,0,0,0,0,0,0,0,0,0,0,0,0,0,0,0,0,0,0,0,0,0,0,0,0,0,0,0,0,0,0,0,0,0,0,0,0,0,0,0,0,0,0,0,0,0,0,0]
[null,0,0,0,0,0,0,0,0,0,0,0,0,0,0,0,0,0,0,0,0,0,0,0,0,0,0,0,0,0,0,0,0,0,0,0,0,0,0,0,0,0,0,0,0,0,0,0,0,0,0,0,0,0,0,0,{"$f":"IF(AND(Configurator!$L$7>\"-307\",Configurator!$I$19=0),\"1\",IF(AND(Configurator!$L$7>\"-307\",Configurator!$I$19=5),\"1\",\"0\"))","v":"1"},0,{"$f":"IF(AND(Configurator!$L$7>\"-307\",Configurator!$I$19=0),\"1\",IF(AND(Configurator!$L$7>\"-307\",Configurator!$I$19=5),\"1\",\"0\"))","v":"1"},{"$f":"IF(AND(Configurator!$L$7>\"-307\",Configurator!$I$19=0),\"1\",IF(AND(Configurator!$L$7>\"-307\",Configurator!$I$19=5),\"1\",\"0\"))","v":"1"},0,0,{"$f":"IF(AND(Configurator!$L$7>\"-307\",Configurator!$I$19=0),\"1\",IF(AND(Configurator!$L$7>\"-307\",Configurator!$I$19=5),\"1\",\"0\"))","v":"1"},{"$f":"IF(AND(Configurator!$L$7>\"-307\",Configurator!$I$19=0),\"1\",IF(AND(Configurator!$L$7>\"-307\",Configurator!$I$19=5),\"1\",\"0\"))","v":"1"},{"$f":"IF(AND(Configurator!$L$7>\"-307\",Configurator!$I$19=0),\"1\",IF(AND(Configurator!$L$7>\"-307\",Configurator!$I$19=5),\"1\",\"0\"))","v":"1"},{"$f":"IF(AND(Configurator!$L$7>\"-307\",Configurator!$I$19=0),\"1\",IF(AND(Configurator!$L$7>\"-307\",Configurator!$I$19=5),\"1\",\"0\"))","v":"1"},{"$f":"IF(AND(Configurator!$L$7>\"-307\",Configurator!$I$19=0),\"1\",IF(AND(Configurator!$L$7>\"-307\",Configurator!$I$19=5),\"1\",\"0\"))","v":"1"},0,{"$f":"IF(AND(Configurator!$L$7>\"-307\",Configurator!$I$19=0),\"1\",IF(AND(Configurator!$L$7>\"-307\",Configurator!$I$19=5),\"1\",\"0\"))","v":"1"},{"$f":"IF(AND(Configurator!$L$7>\"-307\",Configurator!$I$19=0),\"1\",IF(AND(Configurator!$L$7>\"-307\",Configurator!$I$19=5),\"1\",\"0\"))","v":"1"},{"$f":"IF(AND(Configurator!$L$7>\"-307\",Configurator!$I$19=0),\"1\",IF(AND(Configurator!$L$7>\"-307\",Configurator!$I$19=5),\"1\",\"0\"))","v":"1"},{"$f":"IF(AND(Configurator!$L$7>\"-307\",Configurator!$I$19=0),\"1\",IF(AND(Configurator!$L$7>\"-307\",Configurator!$I$19=5),\"1\",\"0\"))","v":"1"},0,{"$f":"IF(AND(Configurator!$L$7>\"-307\",Configurator!$I$19=0),\"1\",IF(AND(Configurator!$L$7>\"-307\",Configurator!$I$19=5),\"1\",\"0\"))","v":"1"},{"$f":"IF(AND(Configurator!$L$7>\"-307\",Configurator!$I$19=0),\"1\",IF(AND(Configurator!$L$7>\"-307\",Configurator!$I$19=5),\"1\",\"0\"))","v":"1"},{"$f":"IF(AND(Configurator!$L$7>\"-307\",Configurator!$I$19=0),\"1\",IF(AND(Configurator!$L$7>\"-307\",Configurator!$I$19=5),\"1\",\"0\"))","v":"1"}]
[null,0,0,0,0,0,0,0,0,0,0,0,0,0,0,0,0,0,0,0,0,0,0,0,0,0,0,0,0,0,0,0,0,0,0,0,0,0,0,0,0,0,0,0,0,0,0,0,0,0,0,0,0,0,0,0,{"$f":"IF(AND(Configurator!$L$7>\"-307\",Configurator!$I$19=0),\"1\",IF(AND(Configurator!$L$7>\"-307\",Configurator!$I$19=5),\"2\",\"0\"))","v":"2"},0,{"$f":"IF(AND(Configurator!$L$7>\"-307\",Configurator!$I$19=0),\"1\",IF(AND(Configurator!$L$7>\"-307\",Configurator!$I$19=5),\"2\",\"0\"))","v":"2"},{"$f":"IF(AND(Configurator!$L$7>\"-307\",Configurator!$I$19=0),\"1\",IF(AND(Configurator!$L$7>\"-307\",Configurator!$I$19=5),\"2\",\"0\"))","v":"2"},0,0,{"$f":"IF(AND(Configurator!$L$7>\"-307\",Configurator!$I$19=0),\"1\",IF(AND(Configurator!$L$7>\"-307\",Configurator!$I$19=5),\"2\",\"0\"))","v":"2"},{"$f":"IF(AND(Configurator!$L$7>\"-307\",Configurator!$I$19=0),\"1\",IF(AND(Configurator!$L$7>\"-307\",Configurator!$I$19=5),\"2\",\"0\"))","v":"2"},{"$f":"IF(AND(Configurator!$L$7>\"-307\",Configurator!$I$19=0),\"1\",IF(AND(Configurator!$L$7>\"-307\",Configurator!$I$19=5),\"2\",\"0\"))","v":"2"},{"$f":"IF(AND(Configurator!$L$7>\"-307\",Configurator!$I$19=0),\"1\",IF(AND(Configurator!$L$7>\"-307\",Configurator!$I$19=5),\"2\",\"0\"))","v":"2"},{"$f":"IF(AND(Configurator!$L$7>\"-307\",Configurator!$I$19=0),\"1\",IF(AND(Configurator!$L$7>\"-307\",Configurator!$I$19=5),\"2\",\"0\"))","v":"2"},0,{"$f":"IF(AND(Configurator!$L$7>\"-307\",Configurator!$I$19=0),\"1\",IF(AND(Configurator!$L$7>\"-307\",Configurator!$I$19=5),\"2\",\"0\"))","v":"2"},{"$f":"IF(AND(Configurator!$L$7>\"-307\",Configurator!$I$19=0),\"1\",IF(AND(Configurator!$L$7>\"-307\",Configurator!$I$19=5),\"2\",\"0\"))","v":"2"},{"$f":"IF(AND(Configurator!$L$7>\"-307\",Configurator!$I$19=0),\"1\",IF(AND(Configurator!$L$7>\"-307\",Configurator!$I$19=5),\"2\",\"0\"))","v":"2"},{"$f":"IF(AND(Configurator!$L$7>\"-307\",Configurator!$I$19=0),\"1\",IF(AND(Configurator!$L$7>\"-307\",Configurator!$I$19=5),\"2\",\"0\"))","v":"2"},0,{"$f":"IF(AND(Configurator!$L$7>\"-307\",Configurator!$I$19=0),\"1\",IF(AND(Configurator!$L$7>\"-307\",Configurator!$I$19=5),\"2\",\"0\"))","v":"2"},{"$f":"IF(AND(Configurator!$L$7>\"-307\",Configurator!$I$19=0),\"1\",IF(AND(Configurator!$L$7>\"-307\",Configurator!$I$19=5),\"2\",\"0\"))","v":"2"},{"$f":"IF(AND(Configurator!$L$7>\"-307\",Configurator!$I$19=0),\"1\",IF(AND(Configurator!$L$7>\"-307\",Configurator!$I$19=5),\"2\",\"0\"))","v":"2"}]
["Voltage Threshols for binary inputs","18V (Standard)","18V (Standard)","18V (Standard)","18V (Standard)","18V (Standard)","18V (Standard)","18V (Standard)","18V (Standard)","18V (Standard)","18V (Standard)","18V (Standard)","18V (Standard)","18V (Standard)","18V (Standard)","18V (Standard)","18V (Standard)","18V (Standard)","18V (Standard)","18V (Standard)","18V (Standard)","18V (Standard)","18V (Standard)","18V (Standard)","18V (Standard)","18V (Standard)","18V (Standard)","18V (Standard)","18V (Standard)","18V (Standard)","18V (Standard)","18V (Standard)","18V (Standard)","18V (Standard)","18V (Standard)","18V (Standard)","18V (Standard)","18V (Standard)","18V (Standard)","18V (Standard)","18V (Standard)",">18V (Standard)",">18V (Standard)",">18V (Standard)",">18V (Standard)",">18V (Standard)",">18V (Standard)",">18V (Standard)",">18V (Standard)",">18V (Standard)",">18V (Standard)",">18V (Standard)",">18V (Standard)",">18V (Standard)",">18V (Standard)",">18V (Standard)",">18V (Standard)",">18V (Standard)",">18V (Standard)",">18V (Standard)",">18V (Standard)",">18V (Standard)",">18V (Standard)",">18V (Standard)",">18V (Standard)",">18V (Standard)",">18V (Standard)",">18V (Standard)",">18V (Standard)",">18V (Standard)",">18V (Standard)",">18V (Standard)",">18V (Standard)",">18V (Standard)",">18V (Standard)",">18V (Standard)"]
[null," "," "," "," "," "," "," "," "," "," "," "," "," ","90V (60 to 70% of Vnom = 125 to 150V)","90V (60 to 70% of Vnom = 125 to 150V)","90V (60 to 70% of Vnom = 125 to 150V)","90V (60 to 70% of Vnom = 125 to 150V)","90V (60 to 70% of Vnom = 125 to 150V)","90V (60 to 70% of Vnom = 125 to 150V)","90V (60 to 70% of Vnom = 125 to 150V)","90V (60 to 70% of Vnom = 125 to 150V)","90V (60 to 70% of Vnom = 125 to 150V)","90V (60 to 70% of Vnom = 125 to 150V)","90V (60 to 70% of Vnom = 125 to 150V)","90V (60 to 70% of Vnom = 125 to 150V)","90V (60 to 70% of Vnom = 125 to 150V)","90V (60 to 70% of Vnom = 125 to 150V)","90V (60 to 70% of Vnom = 125 to 150V)","90V (60 to 70% of Vnom = 125 to 150V)","90V (60 to 70% of Vnom = 125 to 150V)","90V (60 to 70% of Vnom = 125 to 150V)","90V (60 to 70% of Vnom = 125 to 150V)","90V (60 to 70% of Vnom = 125 to 150V)","90V (60 to 70% of Vnom = 125 to 150V)","90V (60 to 70% of Vnom = 125 to 150V)","90V (60 to 70% of Vnom = 125 to 150V)","90V (60 to 70% of Vnom = 125 to 150V)","90V (60 to 70% of Vnom = 125 to 150V)","90V (60 to 70% of Vnom = 125 to 150V)","90V (60 to 70% of Vnom = 125 to 150V)",">90V (60 to 70% of Vnom = 125 to 150V)",">90V (60 to 70% of Vnom = 125 to 150V)",">90V (60 to 70% of Vnom = 125 to 150V)",">90V (60 to 70% of Vnom = 125 to 150V)",">90V (60 to 70% of Vnom = 125 to 150V)",">90V (60 to 70% of Vnom = 125 to 150V)",">90V (60 to 70% of Vnom = 125 to 150V)",">90V (60 to 70% of Vnom = 125 to 150V)",">90V (60 to 70% of Vnom = 125 to 150V)",">90V (60 to 70% of Vnom = 125 to 150V)",">90V (60 to 70% of Vnom = 125 to 150V)",">90V (60 to 70% of Vnom = 125 to 150V)",">90V (60 to 70% of Vnom = 125 to 150V)",">90V (60 to 70% of Vnom = 125 to 150V)",">90V (60 to 70% of Vnom = 125 to 150V)",">90V (60 to 70% of Vnom = 125 to 150V)",">90V (60 to 70% of Vnom = 125 to 150V)",">90V (60 to 70% of Vnom = 125 to 150V)",">90V (60 to 70% of Vnom = 125 to 150V)",">90V (60 to 70% of Vnom = 125 to 150V)",">90V (60 to 70% of Vnom = 125 to 150V)",">90V (60 to 70% of Vnom = 125 to 150V)",">90V (60 to 70% of Vnom = 125 to 150V)",">90V (60 to 70% of Vnom = 125 to 150V)",">90V (60 to 70% of Vnom = 125 to 150V)",">90V (60 to 70% of Vnom = 125 to 150V)",">90V (60 to 70% of Vnom = 125 to 150V)",">90V (60 to 70% of Vnom = 125 to 150V)",">90V (60 to 70% of Vnom = 125 to 150V)",">90V (60 to 70% of Vnom = 125 to 150V)",">90V (60 to 70% of Vnom = 125 to 150V)",">90V (60 to 70% of Vnom = 125 to 150V)",">90V (60 to 70% of Vnom = 125 to 150V)",">90V (60 to 70% of Vnom = 125 to 150V)",">90V (60 to 70% of Vnom = 125 to 150V)"]
[null," "," "," "," "," "," "," "," "," "," "," "," "," ","155V (60 to 70% of Vnom = 220 to 250V)","155V (60 to 70% of Vnom = 220 to 250V)","155V (60 to 70% of Vnom = 220 to 250V)","155V (60 to 70% of Vnom = 220 to 250V)","155V (60 to 70% of Vnom = 220 to 250V)","155V (60 to 70% of Vnom = 220 to 250V)","155V (60 to 70% of Vnom = 220 to 250V)","155V (60 to 70% of Vnom = 220 to 250V)","155V (60 to 70% of Vnom = 220 to 250V)","155V (60 to 70% of Vnom = 220 to 250V)","155V (60 to 70% of Vnom = 220 to 250V)","155V (60 to 70% of Vnom = 220 to 250V)","155V (60 to 70% of Vnom = 220 to 250V)","155V (60 to 70% of Vnom = 220 to 250V)","155V (60 to 70% of Vnom = 220 to 250V)","155V (60 to 70% of Vnom = 220 to 250V)","155V (60 to 70% of Vnom = 220 to 250V)","155V (60 to 70% of Vnom = 220 to 250V)","155V (60 to 70% of Vnom = 220 to 250V)","155V (60 to 70% of Vnom = 220 to 250V)","155V (60 to 70% of Vnom = 220 to 250V)","155V (60 to 70% of Vnom = 220 to 250V)","155V (60 to 70% of Vnom = 220 to 250V)","155V (60 to 70% of Vnom = 220 to 250V)","155V (60 to 70% of Vnom = 220 to 250V)","155V (60 to 70% of Vnom = 220 to 250V)","155V (60 to 70% of Vnom = 220 to 250V)",">155V (60 to 70% of Vnom = 220 to 250V)",">155V (60 to 70% of Vnom = 220 to 250V)",">155V (60 to 70% of Vnom = 220 to 250V)",">155V (60 to 70% of Vnom = 220 to 250V)",">155V (60 to 70% of Vnom = 220 to 250V)",">155V (60 to 70% of Vnom = 220 to 250V)",">155V (60 to 70% of Vnom = 220 to 250V)",">155V (60 to 70% of Vnom = 220 to 250V)",">155V (60 to 70% of Vnom = 220 to 250V)",">155V (60 to 70% of Vnom = 220 to 250V)",">155V (60 to 70% of Vnom = 220 to 250V)",">155V (60 to 70% of Vnom = 220 to 250V)",">155V (60 to 70% of Vnom = 220 to 250V)",">155V (60 to 70% of Vnom = 220 to 250V)",">155V (60 to 70% of Vnom = 220 to 250V)",">155V (60 to 70% of Vnom = 220 to 250V)",">155V (60 to 70% of Vnom = 220 to 250V)",">155V (60 to 70% of Vnom = 220 to 250V)",">155V (60 to 70% of Vnom = 220 to 250V)",">155V (60 to 70% of Vnom = 220 to 250V)",">155V (60 to 70% of Vnom = 220 to 250V)",">155V (60 to 70% of Vnom = 220 to 250V)",">155V (60 to 70% of Vnom = 220 to 250V)",">155V (60 to 70% of Vnom = 220 to 250V)",">155V (60 to 70% of Vnom = 220 to 250V)",">155V (60 to 70% of Vnom = 220 to 250V)",">155V (60 to 70% of Vnom = 220 to 250V)",">155V (60 to 70% of Vnom = 220 to 250V)",">155V (60 to 70% of Vnom = 220 to 250V)",">155V (60 to 70% of Vnom = 220 to 250V)",">155V (60 to 70% of Vnom = 220 to 250V)",">155V (60 to 70% of Vnom = 220 to 250V)",">155V (60 to 70% of Vnom = 220 to 250V)",">155V (60 to 70% of Vnom = 220 to 250V)",">155V (60 to 70% of Vnom = 220 to 250V)"]
[null," "," "," "," "," "," "," "," "," "," "," "," "," "," "," "," "," "," "," "," "," "," "," "," "," "," "," "," "," "," "," "," "," "," "," "," "," "," "," "," ",{"$f":"IF(Configurator!$T$5=\"5\",\"\",\">73 V (67% of VA,nom = 110 V)\")","v":">73 V (67% of VA,nom = 110 V)"},{"$f":"IF(Configurator!$T$5=\"5\",\"\",\">73 V (67% of VA,nom = 110 V)\")","v":">73 V (67% of VA,nom = 110 V)"},{"$f":"IF(Configurator!$T$5=\"5\",\"\",\">73 V (67% of VA,nom = 110 V)\")","v":">73 V (67% of VA,nom = 110 V)"},{"$f":"IF(Configurator!$T$5=\"5\",\"\",\">73 V (67% of VA,nom = 110 V)\")","v":">73 V (67% of VA,nom = 110 V)"},{"$f":"IF(Configurator!$T$5=\"5\",\"\",\">73 V (67% of VA,nom = 110 V)\")","v":">73 V (67% of VA,nom = 110 V)"},{"$f":"IF(Configurator!$T$5=\"5\",\"\",\">73 V (67% of VA,nom = 110 V)\")","v":">73 V (67% of VA,nom = 110 V)"},{"$f":"IF(Configurator!$T$5=\"5\",\"\",\">73 V (67% of VA,nom = 110 V)\")","v":">73 V (67% of VA,nom = 110 V)"},{"$f":"IF(Configurator!$T$5=\"5\",\"\",\">73 V (67% of VA,nom = 110 V)\")","v":">73 V (67% of VA,nom = 110 V)"},{"$f":"IF(Configurator!$T$5=\"5\",\"\",\">73 V (67% of VA,nom = 110 V)\")","v":">73 V (67% of VA,nom = 110 V)"},{"$f":"IF(Configurator!$T$5=\"5\",\"\",\">73 V (67% of VA,nom = 110 V)\")","v":">73 V (67% of VA,nom = 110 V)"},{"$f":"IF(Configurator!$T$5=\"5\",\"\",\">73 V (67% of VA,nom = 110 V)\")","v":">73 V (67% of VA,nom = 110 V)"},{"$f":"IF(Configurator!$T$5=\"5\",\"\",\">73 V (67% of VA,nom = 110 V)\")","v":">73 V (67% of VA,nom = 110 V)"},">73 V (67% of VA,nom = 110 V)",">73 V (67% of VA,nom = 110 V)",">73 V (67% of VA,nom = 110 V)",">73 V (67% of VA,nom = 110 V)",">73 V (67% of VA,nom = 110 V)",">73 V (67% of VA,nom = 110 V)",">73 V (67% of VA,nom = 110 V)",">73 V (67% of VA,nom = 110 V)",">73 V (67% of VA,nom = 110 V)",">73 V (67% of VA,nom = 110 V)",">73 V (67% of VA,nom = 110 V)",">73 V (67% of VA,nom = 110 V)",">73 V (67% of VA,nom = 110 V)",">73 V (67% of VA,nom = 110 V)",">73 V (67% of VA,nom = 110 V)",">73 V (67% of VA,nom = 110 V)",">73 V (67% of VA,nom = 110 V)",">73 V (67% of VA,nom = 110 V)",">73 V (67% of VA,nom = 110 V)",">73 V (67% of VA,nom = 110 V)",">73 V (67% of VA,nom = 110 V)",">73 V (67% of VA,nom = 110 V)",">73 V (67% of VA,nom = 110 V)"]
[null," "," "," "," "," "," "," "," "," "," "," "," "," "," "," "," "," "," "," "," "," "," "," "," "," "," "," "," "," "," "," "," "," "," "," "," "," "," "," "," ",{"$f":"IF(Configurator!$T$5=\"5\",\"\",\">146 V (67% of VA,nom = 220 V)\")","v":">146 V (67% of VA,nom = 220 V)"},{"$f":"IF(Configurator!$T$5=\"5\",\"\",\">146 V (67% of VA,nom = 220 V)\")","v":">146 V (67% of VA,nom = 220 V)"},{"$f":"IF(Configurator!$T$5=\"5\",\"\",\">146 V (67% of VA,nom = 220 V)\")","v":">146 V (67% of VA,nom = 220 V)"},{"$f":"IF(Configurator!$T$5=\"5\",\"\",\">146 V (67% of VA,nom = 220 V)\")","v":">146 V (67% of VA,nom = 220 V)"},{"$f":"IF(Configurator!$T$5=\"5\",\"\",\">146 V (67% of VA,nom = 220 V)\")","v":">146 V (67% of VA,nom = 220 V)"},{"$f":"IF(Configurator!$T$5=\"5\",\"\",\">146 V (67% of VA,nom = 220 V)\")","v":">146 V (67% of VA,nom = 220 V)"},{"$f":"IF(Configurator!$T$5=\"5\",\"\",\">146 V (67% of VA,nom = 220 V)\")","v":">146 V (67% of VA,nom = 220 V)"},{"$f":"IF(Configurator!$T$5=\"5\",\"\",\">146 V (67% of VA,nom = 220 V)\")","v":">146 V (67% of VA,nom = 220 V)"},{"$f":"IF(Configurator!$T$5=\"5\",\"\",\">146 V (67% of VA,nom = 220 V)\")","v":">146 V (67% of VA,nom = 220 V)"},{"$f":"IF(Configurator!$T$5=\"5\",\"\",\">146 V (67% of VA,nom = 220 V)\")","v":">146 V (67% of VA,nom = 220 V)"},{"$f":"IF(Configurator!$T$5=\"5\",\"\",\">146 V (67% of VA,nom = 220 V)\")","v":">146 V (67% of VA,nom = 220 V)"},{"$f":"IF(Configurator!$T$5=\"5\",\"\",\">146 V (67% of VA,nom = 220 V)\")","v":">146 V (67% of VA,nom = 220 V)"},"> 146 V (67% of VA,nom = 220 V)","> 146 V (67% of VA,nom = 220 V)","> 146 V (67% of VA,nom = 220 V)","> 146 V (67% of VA,nom = 220 V)","> 146 V (67% of VA,nom = 220 V)","> 146 V (67% of VA,nom = 220 V)","> 146 V (67% of VA,nom = 220 V)","> 146 V (67% of VA,nom = 220 V)","> 146 V (67% of VA,nom = 220 V)","> 146 V (67% of VA,nom = 220 V)","> 146 V (67% of VA,nom = 220 V)","> 146 V (67% of VA,nom = 220 V)","> 146 V (67% of VA,nom = 220 V)","> 146 V (67% of VA,nom = 220 V)","> 146 V (67% of VA,nom = 220 V)","> 146 V (67% of VA,nom = 220 V)","> 146 V (67% of VA,nom = 220 V)","> 146 V (67% of VA,nom = 220 V)","> 146 V (67% of VA,nom = 220 V)","> 146 V (67% of VA,nom = 220 V)","> 146 V (67% of VA,nom = 220 V)","> 146 V (67% of VA,nom = 220 V)","> 146 V (67% of VA,nom = 220 V)"]
[null," "," "," "," "," "," "," "," "," "," "," "," "," "," "," "," "," "," "," "," "," "," "," "," "," "," "," "," "," "," "," "," "," "," "," "," "," "," "," "," "," "," "," "," "," "," "," "," "," "," "," "," "," "," "," "," "," "," "," "," "," "," "," "," "," "," "," "," "," "," "," "," "," "," "," "]
[null," "," "," "," "," "," "," "," "," "," "," "," "," ","-461","-461","-461","-461","-461","-461","-461","-461","-461","-461","-461","-461","-461","-461","-461","-461","-461","-461","-461","-461","-461","-461","-461","-461","-461","-461","-461","-461","-461","-461","-461","-461","-461","-461","-461","-461","-461","-461","-461","-461","-461","-461","-461","-461","-461","-461","-461","-461","-461","-461","-461","-461","-461","-461","-461","-461","-461","-461","-461","-461","-461","-461"]
[null," "," "," "," "," "," "," "," "," "," "," "," "," ","-462","-462","-462","-462","-462","-462","-462","-462","-462","-462","-462","-462","-462","-462","-462","-462","-462","-462","-462","-462","-462","-462","-462","-462","-462","-462","-462","-462","-462","-462","-462","-462","-462","-462","-462","-462","-462","-462","-462","-462","-462","-462","-462","-462","-462","-462","-462","-462","-462","-462","-462","-462","-462","-462","-462","-462","-462","-462","-462","-462","-462","-462"]
[null," "," "," "," "," "," "," "," "," "," "," "," "," "," "," "," "," "," "," "," "," "," "," "," "," "," "," "," "," "," "," "," "," "," "," "," "," "," "," "," ",{"$f":"IF(Configurator!$T$5=\"5\",\"-462\",\"-463\")","v":"-463"},{"$f":"IF(Configurator!$T$5=\"5\",\"-462\",\"-463\")","v":"-463"},{"$f":"IF(Configurator!$T$5=\"5\",\"-462\",\"-463\")","v":"-463"},{"$f":"IF(Configurator!$T$5=\"5\",\"-462\",\"-463\")","v":"-463"},{"$f":"IF(Configurator!$T$5=\"5\",\"-462\",\"-463\")","v":"-463"},{"$f":"IF(Configurator!$T$5=\"5\",\"-462\",\"-463\")","v":"-463"},{"$f":"IF(Configurator!$T$5=\"5\",\"-462\",\"-463\")","v":"-463"},{"$f":"IF(Configurator!$T$5=\"5\",\"-462\",\"-463\")","v":"-463"},{"$f":"IF(Configurator!$T$5=\"5\",\"-462\",\"-463\")","v":"-463"},{"$f":"IF(Configurator!$T$5=\"5\",\"-462\",\"-463\")","v":"-463"},{"$f":"IF(Configurator!$T$5=\"5\",\"-462\",\"-463\")","v":"-463"},{"$f":"IF(Configurator!$T$5=\"5\",\"-462\",\"-463\")","v":"-463"},"-463","-463","-463","-463","-463","-463","-463","-463","-463","-463","-463","-463","-463","-463","-463","-463","-463","-463","-463","-463","-463","-463","-463"]
[null," "," "," "," "," "," "," "," "," "," "," "," "," "," "," "," "," "," "," "," "," "," "," "," "," "," "," "," "," "," "," "," "," "," "," "," "," "," "," "," ",{"$f":"IF(Configurator!$T$5=\"5\",\"-462\",\"-464\")","v":"-464"},{"$f":"IF(Configurator!$T$5=\"5\",\"-462\",\"-464\")","v":"-464"},{"$f":"IF(Configurator!$T$5=\"5\",\"-462\",\"-464\")","v":"-464"},{"$f":"IF(Configurator!$T$5=\"5\",\"-462\",\"-464\")","v":"-464"},{"$f":"IF(Configurator!$T$5=\"5\",\"-462\",\"-464\")","v":"-464"},{"$f":"IF(Configurator!$T$5=\"5\",\"-462\",\"-464\")","v":"-464"},{"$f":"IF(Configurator!$T$5=\"5\",\"-462\",\"-464\")","v":"-464"},{"$f":"IF(Configurator!$T$5=\"5\",\"-462\",\"-464\")","v":"-464"},{"$f":"IF(Configurator!$T$5=\"5\",\"-462\",\"-464\")","v":"-464"},{"$f":"IF(Configurator!$T$5=\"5\",\"-462\",\"-464\")","v":"-464"},{"$f":"IF(Configurator!$T$5=\"5\",\"-462\",\"-464\")","v":"-464"},{"$f":"IF(Configurator!$T$5=\"5\",\"-462\",\"-464\")","v":"-464"},"-464","-464","-464","-464","-464","-464","-464","-464","-464","-464","-464","-464","-464","-464","-464","-464","-464","-464","-464","-464","-464","-464","-464"]
["Inter-MiCOM","Not yet Available ","Not yet Available ","Not yet Available ","Not yet Available ","Not yet Available ","Not yet Available ","Not yet Available ","Not yet Available ","Not yet Available ","Not yet Available ","Not yet Available ","Not yet Available ","Not yet Available ","Not yet Available ","Not yet Available ","Not yet Available ","Not yet Available ","Not yet Available ","Not yet Available ","Not yet Available ","Not yet Available ","Not yet Available ",{"$f":"IF(Configurator!$D$26<\"E\",\"Not Yet Available\",\"None\")","v":"Not Yet Available"},{"$f":"IF(Configurator!$D$26<\"E\",\"Not Yet Available\",\"None\")","v":"Not Yet Available"},{"$f":"IF(Configurator!$D$26<\"E\",\"Not Yet Available\",\"None\")","v":"Not Yet Available"},{"$f":"IF(Configurator!$D$26<\"E\",\"Not Yet Available\",\"None\")","v":"Not Yet Available"},{"$f":"IF(Configurator!$D$26<\"E\",\"Not Yet Available\",\"None\")","v":"Not Yet Available"},{"$f":"IF(Configurator!$D$26<\"E\",\"Not Yet Available\",\"None\")","v":"Not Yet Available"},{"$f":"IF(Configurator!$D$26<\"E\",\"Not Yet Available\",\"None\")","v":"Not Yet Available"},{"$f":"IF(Configurator!$D$26<\"E\",\"Not Yet Available\",\"None\")","v":"Not Yet Available"},{"$f":"IF(Configurator!$D$26<\"E\",\"Not Yet Available\",\"None\")","v":"Not Yet Available"},{"$f":"IF(Configurator!$D$26<\"E\",\"Not Yet Available\",\"None\")","v":"Not Yet Available"},{"$f":"IF(Configurator!$D$26<\"E\",\"Not Yet Available\",\"None\")","v":"Not Yet Available"},{"$f":"IF(Configurator!$D$26<\"E\",\"Not Yet Available\",\"None\")","v":"Not Yet Available"},{"$f":"IF(Configurator!$D$26<\"E\",\"Not Yet Available\",\"None\")","v":"Not Yet Available"},{"$f":"IF(Configurator!$D$26<\"E\",\"Not Yet Available\",\"None\")","v":"Not Yet Available"},{"$f":"IF(Configurator!$D$26<\"E\",\"Not Yet Available\",\"None\")","v":"Not Yet Available"},{"$f":"IF(Configurator!$D$26<\"E\",\"Not Yet Available\",\"None\")","v":"Not Yet Available"},{"$f":"IF(Configurator!$D$26<\"E\",\"Not Yet Available\",\"None\")","v":"Not Yet Available"},{"$f":"IF(Configurator!$D$26<\"E\",\"Not Yet Available\",\"None\")","v":"Not Yet Available"},{"$f":"IF(Configurator!$D$26<\"E\",\"Not Yet Available\",\"None\")","v":"Not Yet Available"},{"$f":"IF(Configurator!$D$26<\"E\",\"Not Yet Available\",\"None\")","v":"Not Yet Available"},{"$f":"IF(Configurator!$D$26<\"E\",\"Not Yet Available\",\"None\")","v":"Not Yet Available"},{"$f":"IF(Configurator!$D$26<\"E\",\"Not Yet Available\",\"None\")","v":"Not Yet Available"},{"$f":"IF(Configurator!$D$26<\"E\",\"Not Yet Available\",\"None\")","v":"Not Yet Available"},{"$f":"IF(Configurator!$D$26<\"E\",\"Not Yet Available\",\"None\")","v":"Not Yet Available"},{"$f":"IF(Configurator!$D$26<\"E\",\"Not Yet Available\",\"None\")","v":"Not Yet Available"},{"$f":"IF(Configurator!$D$26<\"E\",\"Not Yet Available\",\"None\")","v":"Not Yet Available"},{"$f":"IF(Configurator!$D$26<\"E\",\"Not Yet Available\",\"None\")","v":"Not Yet Available"},{"$f":"IF(Configurator!$D$26<\"E\",\"Not Yet Available\",\"None\")","v":"Not Yet Available"},{"$f":"IF(Configurator!$D$26<\"E\",\"Not Yet Available\",\"None\")","v":"Not Yet Available"},{"$f":"IF(Configurator!$D$26<\"E\",\"Not Yet Available\",\"None\")","v":"Not Yet Available"},"None","None","None","None","None","None","None","None","None","None","None","None","None","None","None","None","None","None","None","None","None","None","None"]
[null," "," "," "," "," "," "," "," "," "," "," "," "," "," "," "," "," "," "," "," "," "," ",{"$f":"IF(Configurator!$D$26<\"E\",\" \",\"For connection to wire, RS485, isolated\")","v":" "},{"$f":"IF(Configurator!$D$26<\"E\",\" \",\"For connection to wire, RS485, isolated\")","v":" "},{"$f":"IF(Configurator!$D$26<\"E\",\" \",\"For connection to wire, RS485, isolated\")","v":" "},{"$f":"IF(Configurator!$D$26<\"E\",\" \",\"For connection to wire, RS485, isolated\")","v":" "},{"$f":"IF(Configurator!$D$26<\"E\",\" \",\"For connection to wire, RS485, isolated\")","v":" "},{"$f":"IF(Configurator!$D$26<\"E\",\" \",\"For connection to wire, RS485, isolated\")","v":" "},{"$f":"IF(Configurator!$D$26<\"E\",\" \",\"For connection to wire, RS485, isolated\")","v":" "},{"$f":"IF(Configurator!$D$26<\"E\",\" \",\"For connection to wire, RS485, isolated\")","v":" "},{"$f":"IF(Configurator!$D$26<\"E\",\" \",\"For connection to wire, RS485, isolated\")","v":" "},{"$f":"IF(Configurator!$D$26<\"E\",\" \",\"For connection to wire, RS485, isolated\")","v":" "},{"$f":"IF(Configurator!$D$26<\"E\",\" \",\"For connection to wire, RS485, isolated\")","v":" "},{"$f":"IF(Configurator!$D$26<\"E\",\" \",\"For connection to wire, RS485, isolated\")","v":" "},{"$f":"IF(Configurator!$D$26<\"E\",\" \",\"For connection to wire, RS485, isolated\")","v":" "},{"$f":"IF(Configurator!$D$26<\"E\",\" \",\"For connection to wire, RS485, isolated\")","v":" "},{"$f":"IF(Configurator!$D$26<\"E\",\" \",\"For connection to wire, RS485, isolated\")","v":" "},{"$f":"IF(Configurator!$D$26<\"E\",\" \",\"For connection to wire, RS485, isolated\")","v":" "},{"$f":"IF(Configurator!$D$26<\"E\",\" \",\"For connection to wire, RS485, isolated\")","v":" "},{"$f":"IF(Configurator!$D$26<\"E\",\" \",\"For connection to wire, RS485, isolated\")","v":" "},{"$f":"IF(Configurator!$D$26<\"E\",\" \",\"For connection to wire, RS485, isolated\")","v":" "},{"$f":"IF(Configurator!$D$26<\"E\",\" \",\"For connection to wire, RS485, isolated\")","v":" "},{"$f":"IF(Configurator!$D$26<\"E\",\" \",\"For connection to wire, RS485, isolated\")","v":" "},{"$f":"IF(Configurator!$D$26<\"E\",\" \",\"For connection to wire, RS485, isolated\")","v":" "},{"$f":"IF(Configurator!$D$26<\"E\",\" \",\"For connection to wire, RS485, isolated\")","v":" "},{"$f":"IF(Configurator!$D$26<\"E\",\" \",\"For connection to wire, RS485, isolated\")","v":" "},{"$f":"IF(Configurator!$D$26<\"E\",\" \",\"For connection to wire, RS485, isolated\")","v":" "},{"$f":"IF(Configurator!$D$26<\"E\",\" \",\"For connection to wire, RS485, isolated\")","v":" "},{"$f":"IF(Configurator!$D$26<\"E\",\" \",\"For connection to wire, RS485, isolated\")","v":" "},{"$f":"IF(Configurator!$D$26<\"E\",\" \",\"For connection to wire, RS485, isolated\")","v":" "},{"$f":"IF(Configurator!$D$26<\"E\",\" \",\"For connection to wire, RS485, isolated\")","v":" "},{"$f":"IF(Configurator!$D$26<\"E\",\" \",\"For connection to wire, RS485, isolated\")","v":" "},"For connection to wire, RS485, isolated","For connection to wire, RS485, isolated","For connection to wire, RS485, isolated","For connection to wire, RS485, isolated","For connection to wire, RS485, isolated","For connection to wire, RS485, isolated","For connection to wire, RS485, isolated","For connection to wire, RS485, isolated","For connection to wire, RS485, isolated","For connection to wire, RS485, isolated","For connection to wire, RS485, isolated","For connection to wire, RS485, isolated","For connection to wire, RS485, isolated","For connection to wire, RS485, isolated","For connection to wire, RS485, isolated","For connection to wire, RS485, isolated","For connection to wire, RS485, isolated","For connection to wire, RS485, isolated","For connection to wire, RS485, isolated","For connection to wire, RS485, isolated","For connection to wire, RS485, isolated","For connection to wire, RS485, isolated","For connection to wire, RS485, isolated"]
[null," "," "," "," "," "," "," "," "," "," "," "," "," "," "," "," "," "," "," "," "," "," ",{"$f":"IF(Configurator!$D$26<\"E\",\" \",\"For connection to plastic fibre, FSMA connector\")","v":" "},{"$f":"IF(Configurator!$D$26<\"E\",\" \",\"For connection to plastic fibre, FSMA connector\")","v":" "},{"$f":"IF(Configurator!$D$26<\"E\",\" \",\"For connection to plastic fibre, FSMA connector\")","v":" "},{"$f":"IF(Configurator!$D$26<\"E\",\" \",\"For connection to plastic fibre, FSMA connector\")","v":" "},{"$f":"IF(Configurator!$D$26<\"E\",\" \",\"For connection to plastic fibre, FSMA connector\")","v":" "},{"$f":"IF(Configurator!$D$26<\"E\",\" \",\"For connection to plastic fibre, FSMA connector\")","v":" "},{"$f":"IF(Configurator!$D$26<\"E\",\" \",\"For connection to plastic fibre, FSMA connector\")","v":" "},{"$f":"IF(Configurator!$D$26<\"E\",\" \",\"For connection to plastic fibre, FSMA connector\")","v":" "},{"$f":"IF(Configurator!$D$26<\"E\",\" \",\"For connection to plastic fibre, FSMA connector\")","v":" "},{"$f":"IF(Configurator!$D$26<\"E\",\" \",\"For connection to plastic fibre, FSMA connector\")","v":" "},{"$f":"IF(Configurator!$D$26<\"E\",\" \",\"For connection to plastic fibre, FSMA connector\")","v":" "},{"$f":"IF(Configurator!$D$26<\"E\",\" \",\"For connection to plastic fibre, FSMA connector\")","v":" "},{"$f":"IF(Configurator!$D$26<\"E\",\" \",\"For connection to plastic fibre, FSMA connector\")","v":" "},{"$f":"IF(Configurator!$D$26<\"E\",\" \",\"For connection to plastic fibre, FSMA connector\")","v":" "},{"$f":"IF(Configurator!$D$26<\"E\",\" \",\"For connection to plastic fibre, FSMA connector\")","v":" "},{"$f":"IF(Configurator!$D$26<\"E\",\" \",\"For connection to plastic fibre, FSMA connector\")","v":" "},{"$f":"IF(Configurator!$D$26<\"E\",\" \",\"For connection to plastic fibre, FSMA connector\")","v":" "},{"$f":"IF(Configurator!$D$26<\"E\",\" \",\"For connection to plastic fibre, FSMA connector\")","v":" "},{"$f":"IF(Configurator!$D$26<\"E\",\" \",\"For connection to plastic fibre, FSMA connector\")","v":" "},{"$f":"IF(Configurator!$D$26<\"E\",\" \",\"For connection to plastic fibre, FSMA connector\")","v":" "},{"$f":"IF(Configurator!$D$26<\"E\",\" \",\"For connection to plastic fibre, FSMA connector\")","v":" "},{"$f":"IF(Configurator!$D$26<\"E\",\" \",\"For connection to plastic fibre, FSMA connector\")","v":" "},{"$f":"IF(Configurator!$D$26<\"E\",\" \",\"For connection to plastic fibre, FSMA connector\")","v":" "},{"$f":"IF(Configurator!$D$26<\"E\",\" \",\"For connection to plastic fibre, FSMA connector\")","v":" "},{"$f":"IF(Configurator!$D$26<\"E\",\" \",\"For connection to plastic fibre, FSMA connector\")","v":" "},{"$f":"IF(Configurator!$D$26<\"E\",\" \",\"For connection to plastic fibre, FSMA connector\")","v":" "},{"$f":"IF(Configurator!$D$26<\"E\",\" \",\"For connection to plastic fibre, FSMA connector\")","v":" "},{"$f":"IF(Configurator!$D$26<\"E\",\" \",\"For connection to plastic fibre, FSMA connector\")","v":" "},{"$f":"IF(Configurator!$D$26<\"E\",\" \",\"For connection to plastic fibre, FSMA connector\")","v":" "},{"$f":"IF(Configurator!$D$26<\"E\",\" \",\"For connection to plastic fibre, FSMA connector\")","v":" "},"For connection to plastic fibre, FSMA connector","For connection to plastic fibre, FSMA connector","For connection to plastic fibre, FSMA connector","For connection to plastic fibre, FSMA connector","For connection to plastic fibre, FSMA connector","For connection to plastic fibre, FSMA connector","For connection to plastic fibre, FSMA connector","For connection to plastic fibre, FSMA connector","For connection to plastic fibre, FSMA connector","For connection to plastic fibre, FSMA connector","For connection to plastic fibre, FSMA connector","For connection to plastic fibre, FSMA connector","For connection to plastic fibre, FSMA connector","For connection to plastic fibre, FSMA connector","For connection to plastic fibre, FSMA connector","For connection to plastic fibre, FSMA connector","For connection to plastic fibre, FSMA connector","For connection to plastic fibre, FSMA connector","For connection to plastic fibre, FSMA connector","For connection to plastic fibre, FSMA connector","For connection to plastic fibre, FSMA connector","For connection to plastic fibre, FSMA connector","For connection to plastic fibre, FSMA connector"]
[null," "," "," "," "," "," "," "," "," "," "," "," "," "," "," "," "," "," "," "," "," "," ",{"$f":"IF(Configurator!$D$26<\"E\",\" \",\"For connection to glass fibre, ST connector\")","v":" "},{"$f":"IF(Configurator!$D$26<\"E\",\" \",\"For connection to glass fibre, ST connector\")","v":" "},{"$f":"IF(Configurator!$D$26<\"E\",\" \",\"For connection to glass fibre, ST connector\")","v":" "},{"$f":"IF(Configurator!$D$26<\"E\",\" \",\"For connection to glass fibre, ST connector\")","v":" "},{"$f":"IF(Configurator!$D$26<\"E\",\" \",\"For connection to glass fibre, ST connector\")","v":" "},{"$f":"IF(Configurator!$D$26<\"E\",\" \",\"For connection to glass fibre, ST connector\")","v":" "},{"$f":"IF(Configurator!$D$26<\"E\",\" \",\"For connection to glass fibre, ST connector\")","v":" "},{"$f":"IF(Configurator!$D$26<\"E\",\" \",\"For connection to glass fibre, ST connector\")","v":" "},{"$f":"IF(Configurator!$D$26<\"E\",\" \",\"For connection to glass fibre, ST connector\")","v":" "},{"$f":"IF(Configurator!$D$26<\"E\",\" \",\"For connection to glass fibre, ST connector\")","v":" "},{"$f":"IF(Configurator!$D$26<\"E\",\" \",\"For connection to glass fibre, ST connector\")","v":" "},{"$f":"IF(Configurator!$D$26<\"E\",\" \",\"For connection to glass fibre, ST connector\")","v":" "},{"$f":"IF(Configurator!$D$26<\"E\",\" \",\"For connection to glass fibre, ST connector\")","v":" "},{"$f":"IF(Configurator!$D$26<\"E\",\" \",\"For connection to glass fibre, ST connector\")","v":" "},{"$f":"IF(Configurator!$D$26<\"E\",\" \",\"For connection to glass fibre, ST connector\")","v":" "},{"$f":"IF(Configurator!$D$26<\"E\",\" \",\"For connection to glass fibre, ST connector\")","v":" "},{"$f":"IF(Configurator!$D$26<\"E\",\" \",\"For connection to glass fibre, ST connector\")","v":" "},{"$f":"IF(Configurator!$D$26<\"E\",\" \",\"For connection to glass fibre, ST connector\")","v":" "},{"$f":"IF(Configurator!$D$26<\"E\",\" \",\"For connection to glass fibre, ST connector\")","v":" "},{"$f":"IF(Configurator!$D$26<\"E\",\" \",\"For connection to glass fibre, ST connector\")","v":" "},{"$f":"IF(Configurator!$D$26<\"E\",\" \",\"For connection to glass fibre, ST connector\")","v":" "},{"$f":"IF(Configurator!$D$26<\"E\",\" \",\"For connection to glass fibre, ST connector\")","v":" "},{"$f":"IF(Configurator!$D$26<\"E\",\" \",\"For connection to glass fibre, ST connector\")","v":" "},{"$f":"IF(Configurator!$D$26<\"E\",\" \",\"For connection to glass fibre, ST connector\")","v":" "},{"$f":"IF(Configurator!$D$26<\"E\",\" \",\"For connection to glass fibre, ST connector\")","v":" "},{"$f":"IF(Configurator!$D$26<\"E\",\" \",\"For connection to glass fibre, ST connector\")","v":" "},{"$f":"IF(Configurator!$D$26<\"E\",\" \",\"For connection to glass fibre, ST connector\")","v":" "},{"$f":"IF(Configurator!$D$26<\"E\",\" \",\"For connection to glass fibre, ST connector\")","v":" "},{"$f":"IF(Configurator!$D$26<\"E\",\" \",\"For connection to glass fibre, ST connector\")","v":" "},{"$f":"IF(Configurator!$D$26<\"E\",\" \",\"For connection to glass fibre, ST connector\")","v":" "},"For connection to glass fibre, ST connector","For connection to glass fibre, ST connector","For connection to glass fibre, ST connector","For connection to glass fibre, ST connector","For connection to glass fibre, ST connector","For connection to glass fibre, ST connector","For connection to glass fibre, ST connector","For connection to glass fibre, ST connector","For connection to glass fibre, ST connector","For connection to glass fibre, ST connector","For connection to glass fibre, ST connector","For connection to glass fibre, ST connector","For connection to glass fibre, ST connector","For connection to glass fibre, ST connector","For connection to glass fibre, ST connector","For connection to glass fibre, ST connector","For connection to glass fibre, ST connector","For connection to glass fibre, ST connector","For connection to glass fibre, ST connector","For connection to glass fibre, ST connector","For connection to glass fibre, ST connector","For connection to glass fibre, ST connector","For connection to glass fibre, ST connector"]
[null," "," "," "," "," "," "," "," "," "," "," "," "," "," "," "," "," "," "," "," "," "," ",{"$f":"IF(Configurator!$D$26<\"E\",\" \",\"For connection to wire, RS232\")","v":" "},{"$f":"IF(Configurator!$D$26<\"E\",\" \",\"For connection to wire, RS232\")","v":" "},{"$f":"IF(Configurator!$D$26<\"E\",\" \",\"For connection to wire, RS232\")","v":" "},{"$f":"IF(Configurator!$D$26<\"E\",\" \",\"For connection to wire, RS232\")","v":" "},{"$f":"IF(Configurator!$D$26<\"E\",\" \",\"For connection to wire, RS232\")","v":" "},{"$f":"IF(Configurator!$D$26<\"E\",\" \",\"For connection to wire, RS232\")","v":" "},{"$f":"IF(Configurator!$D$26<\"E\",\" \",\"For connection to wire, RS232\")","v":" "},{"$f":"IF(Configurator!$D$26<\"E\",\" \",\"For connection to wire, RS232\")","v":" "},{"$f":"IF(Configurator!$D$26<\"E\",\" \",\"For connection to wire, RS232\")","v":" "},{"$f":"IF(Configurator!$D$26<\"E\",\" \",\"For connection to wire, RS232\")","v":" "},{"$f":"IF(Configurator!$D$26<\"E\",\" \",\"For connection to wire, RS232\")","v":" "},{"$f":"IF(Configurator!$D$26<\"E\",\" \",\"For connection to wire, RS232\")","v":" "},{"$f":"IF(Configurator!$D$26<\"E\",\" \",\"For connection to wire, RS232\")","v":" "},{"$f":"IF(Configurator!$D$26<\"E\",\" \",\"For connection to wire, RS232\")","v":" "},{"$f":"IF(Configurator!$D$26<\"E\",\" \",\"For connection to wire, RS232\")","v":" "},{"$f":"IF(Configurator!$D$26<\"E\",\" \",\"For connection to wire, RS232\")","v":" "},{"$f":"IF(Configurator!$D$26<\"E\",\" \",\"For connection to wire, RS232\")","v":" "},{"$f":"IF(Configurator!$D$26<\"E\",\" \",\"For connection to wire, RS232\")","v":" "},{"$f":"IF(Configurator!$D$26<\"E\",\" \",\"For connection to wire, RS232\")","v":" "},{"$f":"IF(Configurator!$D$26<\"E\",\" \",\"For connection to wire, RS232\")","v":" "},{"$f":"IF(Configurator!$D$26<\"E\",\" \",\"For connection to wire, RS232\")","v":" "},{"$f":"IF(Configurator!$D$26<\"E\",\" \",\"For connection to wire, RS232\")","v":" "},{"$f":"IF(Configurator!$D$26<\"E\",\" \",\"For connection to wire, RS232\")","v":" "},{"$f":"IF(Configurator!$D$26<\"E\",\" \",\"For connection to wire, RS232\")","v":" "},{"$f":"IF(Configurator!$D$26<\"E\",\" \",\"For connection to wire, RS232\")","v":" "},{"$f":"IF(Configurator!$D$26<\"E\",\" \",\"For connection to wire, RS232\")","v":" "},{"$f":"IF(Configurator!$D$26<\"E\",\" \",\"For connection to wire, RS232\")","v":" "},{"$f":"IF(Configurator!$D$26<\"E\",\" \",\"For connection to wire, RS232\")","v":" "},{"$f":"IF(Configurator!$D$26<\"E\",\" \",\"For connection to wire, RS232\")","v":" "},{"$f":"IF(Configurator!$D$26<\"E\",\" \",\"For connection to wire, RS232\")","v":" "},"For connection to wire, RS232","For connection to wire, RS232","For connection to wire, RS232","For connection to wire, RS232","For connection to wire, RS232","For connection to wire, RS232","For connection to wire, RS232","For connection to wire, RS232","For connection to wire, RS232","For connection to wire, RS232","For connection to wire, RS232","For connection to wire, RS232","For connection to wire, RS232","For connection to wire, RS232","For connection to wire, RS232","For connection to wire, RS232","For connection to wire, RS232","For connection to wire, RS232","For connection to wire, RS232","For connection to wire, RS232","For connection to wire, RS232","For connection to wire, RS232","For connection to wire, RS232"]
[null," "," "," "," "," "," "," "," "," "," "," "," "," "," "," "," "," "," "," "," "," "," ",{"$f":"IF(Configurator!$D$26<\"E\",\" \",\"-950\")","v":" "},{"$f":"IF(Configurator!$D$26<\"E\",\" \",\"-950\")","v":" "},{"$f":"IF(Configurator!$D$26<\"E\",\" \",\"-950\")","v":" "},{"$f":"IF(Configurator!$D$26<\"E\",\" \",\"-950\")","v":" "},{"$f":"IF(Configurator!$D$26<\"E\",\" \",\"-950\")","v":" "},{"$f":"IF(Configurator!$D$26<\"E\",\" \",\"-950\")","v":" "},{"$f":"IF(Configurator!$D$26<\"E\",\" \",\"-950\")","v":" "},{"$f":"IF(Configurator!$D$26<\"E\",\" \",\"-950\")","v":" "},{"$f":"IF(Configurator!$D$26<\"E\",\" \",\"-950\")","v":" "},{"$f":"IF(Configurator!$D$26<\"E\",\" \",\"-950\")","v":" "},{"$f":"IF(Configurator!$D$26<\"E\",\" \",\"-950\")","v":" "},{"$f":"IF(Configurator!$D$26<\"E\",\" \",\"-950\")","v":" "},{"$f":"IF(Configurator!$D$26<\"E\",\" \",\"-950\")","v":" "},{"$f":"IF(Configurator!$D$26<\"E\",\" \",\"-950\")","v":" "},{"$f":"IF(Configurator!$D$26<\"E\",\" \",\"-950\")","v":" "},{"$f":"IF(Configurator!$D$26<\"E\",\" \",\"-950\")","v":" "},{"$f":"IF(Configurator!$D$26<\"E\",\" \",\"-950\")","v":" "},{"$f":"IF(Configurator!$D$26<\"E\",\" \",\"-950\")","v":" "},{"$f":"IF(Configurator!$D$26<\"E\",\" \",\"-950\")","v":" "},{"$f":"IF(Configurator!$D$26<\"E\",\" \",\"-950\")","v":" "},{"$f":"IF(Configurator!$D$26<\"E\",\" \",\"-950\")","v":" "},{"$f":"IF(Configurator!$D$26<\"E\",\" \",\"-950\")","v":" "},{"$f":"IF(Configurator!$D$26<\"E\",\" \",\"-950\")","v":" "},{"$f":"IF(Configurator!$D$26<\"E\",\" \",\"-950\")","v":" "},{"$f":"IF(Configurator!$D$26<\"E\",\" \",\"-950\")","v":" "},{"$f":"IF(Configurator!$D$26<\"E\",\" \",\"-950\")","v":" "},{"$f":"IF(Configurator!$D$26<\"E\",\" \",\"-950\")","v":" "},{"$f":"IF(Configurator!$D$26<\"E\",\" \",\"-950\")","v":" "},{"$f":"IF(Configurator!$D$26<\"E\",\" \",\"-950\")","v":" "},{"$f":"IF(Configurator!$D$26<\"E\",\" \",\"-950\")","v":" "},"-950","-950","-950","-950","-950","-950","-950","-950","-950","-950","-950","-950","-950","-950","-950","-950","-950","-950","-950","-950","-950","-950","-950"]
[null," "," "," "," "," "," "," "," "," "," "," "," "," "," "," "," "," "," "," "," "," "," ",{"$f":"IF(Configurator!$D$26<\"E\",\" \",\"-951\")","v":" "},{"$f":"IF(Configurator!$D$26<\"E\",\" \",\"-951\")","v":" "},{"$f":"IF(Configurator!$D$26<\"E\",\" \",\"-951\")","v":" "},{"$f":"IF(Configurator!$D$26<\"E\",\" \",\"-951\")","v":" "},{"$f":"IF(Configurator!$D$26<\"E\",\" \",\"-951\")","v":" "},{"$f":"IF(Configurator!$D$26<\"E\",\" \",\"-951\")","v":" "},{"$f":"IF(Configurator!$D$26<\"E\",\" \",\"-951\")","v":" "},{"$f":"IF(Configurator!$D$26<\"E\",\" \",\"-951\")","v":" "},{"$f":"IF(Configurator!$D$26<\"E\",\" \",\"-951\")","v":" "},{"$f":"IF(Configurator!$D$26<\"E\",\" \",\"-951\")","v":" "},{"$f":"IF(Configurator!$D$26<\"E\",\" \",\"-951\")","v":" "},{"$f":"IF(Configurator!$D$26<\"E\",\" \",\"-951\")","v":" "},{"$f":"IF(Configurator!$D$26<\"E\",\" \",\"-951\")","v":" "},{"$f":"IF(Configurator!$D$26<\"E\",\" \",\"-951\")","v":" "},{"$f":"IF(Configurator!$D$26<\"E\",\" \",\"-951\")","v":" "},{"$f":"IF(Configurator!$D$26<\"E\",\" \",\"-951\")","v":" "},{"$f":"IF(Configurator!$D$26<\"E\",\" \",\"-951\")","v":" "},{"$f":"IF(Configurator!$D$26<\"E\",\" \",\"-951\")","v":" "},{"$f":"IF(Configurator!$D$26<\"E\",\" \",\"-951\")","v":" "},{"$f":"IF(Configurator!$D$26<\"E\",\" \",\"-951\")","v":" "},{"$f":"IF(Configurator!$D$26<\"E\",\" \",\"-951\")","v":" "},{"$f":"IF(Configurator!$D$26<\"E\",\" \",\"-951\")","v":" "},{"$f":"IF(Configurator!$D$26<\"E\",\" \",\"-951\")","v":" "},{"$f":"IF(Configurator!$D$26<\"E\",\" \",\"-951\")","v":" "},{"$f":"IF(Configurator!$D$26<\"E\",\" \",\"-951\")","v":" "},{"$f":"IF(Configurator!$D$26<\"E\",\" \",\"-951\")","v":" "},{"$f":"IF(Configurator!$D$26<\"E\",\" \",\"-951\")","v":" "},{"$f":"IF(Configurator!$D$26<\"E\",\" \",\"-951\")","v":" "},{"$f":"IF(Configurator!$D$26<\"E\",\" \",\"-951\")","v":" "},{"$f":"IF(Configurator!$D$26<\"E\",\" \",\"-951\")","v":" "},"-951","-951","-951","-951","-951","-951","-951","-951","-951","-951","-951","-951","-951","-951","-951","-951","-951","-951","-951","-951","-951","-951","-951"]
[null," "," "," "," "," "," "," "," "," "," "," "," "," "," "," "," "," "," "," "," "," "," ",{"$f":"IF(Configurator!$D$26<\"E\",\" \",\"-952\")","v":" "},{"$f":"IF(Configurator!$D$26<\"E\",\" \",\"-952\")","v":" "},{"$f":"IF(Configurator!$D$26<\"E\",\" \",\"-952\")","v":" "},{"$f":"IF(Configurator!$D$26<\"E\",\" \",\"-952\")","v":" "},{"$f":"IF(Configurator!$D$26<\"E\",\" \",\"-952\")","v":" "},{"$f":"IF(Configurator!$D$26<\"E\",\" \",\"-952\")","v":" "},{"$f":"IF(Configurator!$D$26<\"E\",\" \",\"-952\")","v":" "},{"$f":"IF(Configurator!$D$26<\"E\",\" \",\"-952\")","v":" "},{"$f":"IF(Configurator!$D$26<\"E\",\" \",\"-952\")","v":" "},{"$f":"IF(Configurator!$D$26<\"E\",\" \",\"-952\")","v":" "},{"$f":"IF(Configurator!$D$26<\"E\",\" \",\"-952\")","v":" "},{"$f":"IF(Configurator!$D$26<\"E\",\" \",\"-952\")","v":" "},{"$f":"IF(Configurator!$D$26<\"E\",\" \",\"-952\")","v":" "},{"$f":"IF(Configurator!$D$26<\"E\",\" \",\"-952\")","v":" "},{"$f":"IF(Configurator!$D$26<\"E\",\" \",\"-952\")","v":" "},{"$f":"IF(Configurator!$D$26<\"E\",\" \",\"-952\")","v":" "},{"$f":"IF(Configurator!$D$26<\"E\",\" \",\"-952\")","v":" "},{"$f":"IF(Configurator!$D$26<\"E\",\" \",\"-952\")","v":" "},{"$f":"IF(Configurator!$D$26<\"E\",\" \",\"-952\")","v":" "},{"$f":"IF(Configurator!$D$26<\"E\",\" \",\"-952\")","v":" "},{"$f":"IF(Configurator!$D$26<\"E\",\" \",\"-952\")","v":" "},{"$f":"IF(Configurator!$D$26<\"E\",\" \",\"-952\")","v":" "},{"$f":"IF(Configurator!$D$26<\"E\",\" \",\"-952\")","v":" "},{"$f":"IF(Configurator!$D$26<\"E\",\" \",\"-952\")","v":" "},{"$f":"IF(Configurator!$D$26<\"E\",\" \",\"-952\")","v":" "},{"$f":"IF(Configurator!$D$26<\"E\",\" \",\"-952\")","v":" "},{"$f":"IF(Configurator!$D$26<\"E\",\" \",\"-952\")","v":" "},{"$f":"IF(Configurator!$D$26<\"E\",\" \",\"-952\")","v":" "},{"$f":"IF(Configurator!$D$26<\"E\",\" \",\"-952\")","v":" "},{"$f":"IF(Configurator!$D$26<\"E\",\" \",\"-952\")","v":" "},"-952","-952","-952","-952","-952","-952","-952","-952","-952","-952","-952","-952","-952","-952","-952","-952","-952","-952","-952","-952","-952","-952","-952"]
[null," "," "," "," "," "," "," "," "," "," "," "," "," "," "," "," "," "," "," "," "," "," ",{"$f":"IF(Configurator!$D$26<\"E\",\" \",\"-954\")","v":" "},{"$f":"IF(Configurator!$D$26<\"E\",\" \",\"-954\")","v":" "},{"$f":"IF(Configurator!$D$26<\"E\",\" \",\"-954\")","v":" "},{"$f":"IF(Configurator!$D$26<\"E\",\" \",\"-954\")","v":" "},{"$f":"IF(Configurator!$D$26<\"E\",\" \",\"-954\")","v":" "},{"$f":"IF(Configurator!$D$26<\"E\",\" \",\"-954\")","v":" "},{"$f":"IF(Configurator!$D$26<\"E\",\" \",\"-954\")","v":" "},{"$f":"IF(Configurator!$D$26<\"E\",\" \",\"-954\")","v":" "},{"$f":"IF(Configurator!$D$26<\"E\",\" \",\"-954\")","v":" "},{"$f":"IF(Configurator!$D$26<\"E\",\" \",\"-954\")","v":" "},{"$f":"IF(Configurator!$D$26<\"E\",\" \",\"-954\")","v":" "},{"$f":"IF(Configurator!$D$26<\"E\",\" \",\"-954\")","v":" "},{"$f":"IF(Configurator!$D$26<\"E\",\" \",\"-954\")","v":" "},{"$f":"IF(Configurator!$D$26<\"E\",\" \",\"-954\")","v":" "},{"$f":"IF(Configurator!$D$26<\"E\",\" \",\"-954\")","v":" "},{"$f":"IF(Configurator!$D$26<\"E\",\" \",\"-954\")","v":" "},{"$f":"IF(Configurator!$D$26<\"E\",\" \",\"-954\")","v":" "},{"$f":"IF(Configurator!$D$26<\"E\",\" \",\"-954\")","v":" "},{"$f":"IF(Configurator!$D$26<\"E\",\" \",\"-954\")","v":" "},{"$f":"IF(Configurator!$D$26<\"E\",\" \",\"-954\")","v":" "},{"$f":"IF(Configurator!$D$26<\"E\",\" \",\"-954\")","v":" "},{"$f":"IF(Configurator!$D$26<\"E\",\" \",\"-954\")","v":" "},{"$f":"IF(Configurator!$D$26<\"E\",\" \",\"-954\")","v":" "},{"$f":"IF(Configurator!$D$26<\"E\",\" \",\"-954\")","v":" "},{"$f":"IF(Configurator!$D$26<\"E\",\" \",\"-954\")","v":" "},{"$f":"IF(Configurator!$D$26<\"E\",\" \",\"-954\")","v":" "},{"$f":"IF(Configurator!$D$26<\"E\",\" \",\"-954\")","v":" "},{"$f":"IF(Configurator!$D$26<\"E\",\" \",\"-954\")","v":" "},{"$f":"IF(Configurator!$D$26<\"E\",\" \",\"-954\")","v":" "},{"$f":"IF(Configurator!$D$26<\"E\",\" \",\"-954\")","v":" "},"-954","-954","-954","-954","-954","-954","-954","-954","-954","-954","-954","-954","-954","-954","-954","-954","-954","-954","-954","-954","-954","-954","-954"]
[null," "," "," "," "," "," "," "," "," "," "," "," "," "," "," "," "," "," "," "," "," "," ",{"$f":"IF(Configurator!$D$26<\"E\",\" \",\"-955\")","v":" "},{"$f":"IF(Configurator!$D$26<\"E\",\" \",\"-955\")","v":" "},{"$f":"IF(Configurator!$D$26<\"E\",\" \",\"-955\")","v":" "},{"$f":"IF(Configurator!$D$26<\"E\",\" \",\"-955\")","v":" "},{"$f":"IF(Configurator!$D$26<\"E\",\" \",\"-955\")","v":" "},{"$f":"IF(Configurator!$D$26<\"E\",\" \",\"-955\")","v":" "},{"$f":"IF(Configurator!$D$26<\"E\",\" \",\"-955\")","v":" "},{"$f":"IF(Configurator!$D$26<\"E\",\" \",\"-955\")","v":" "},{"$f":"IF(Configurator!$D$26<\"E\",\" \",\"-955\")","v":" "},{"$f":"IF(Configurator!$D$26<\"E\",\" \",\"-955\")","v":" "},{"$f":"IF(Configurator!$D$26<\"E\",\" \",\"-955\")","v":" "},{"$f":"IF(Configurator!$D$26<\"E\",\" \",\"-955\")","v":" "},{"$f":"IF(Configurator!$D$26<\"E\",\" \",\"-955\")","v":" "},{"$f":"IF(Configurator!$D$26<\"E\",\" \",\"-955\")","v":" "},{"$f":"IF(Configurator!$D$26<\"E\",\" \",\"-955\")","v":" "},{"$f":"IF(Configurator!$D$26<\"E\",\" \",\"-955\")","v":" "},{"$f":"IF(Configurator!$D$26<\"E\",\" \",\"-955\")","v":" "},{"$f":"IF(Configurator!$D$26<\"E\",\" \",\"-955\")","v":" "},{"$f":"IF(Configurator!$D$26<\"E\",\" \",\"-955\")","v":" "},{"$f":"IF(Configurator!$D$26<\"E\",\" \",\"-955\")","v":" "},{"$f":"IF(Configurator!$D$26<\"E\",\" \",\"-955\")","v":" "},{"$f":"IF(Configurator!$D$26<\"E\",\" \",\"-955\")","v":" "},{"$f":"IF(Configurator!$D$26<\"E\",\" \",\"-955\")","v":" "},{"$f":"IF(Configurator!$D$26<\"E\",\" \",\"-955\")","v":" "},{"$f":"IF(Configurator!$D$26<\"E\",\" \",\"-955\")","v":" "},{"$f":"IF(Configurator!$D$26<\"E\",\" \",\"-955\")","v":" "},{"$f":"IF(Configurator!$D$26<\"E\",\" \",\"-955\")","v":" "},{"$f":"IF(Configurator!$D$26<\"E\",\" \",\"-955\")","v":" "},{"$f":"IF(Configurator!$D$26<\"E\",\" \",\"-955\")","v":" "},{"$f":"IF(Configurator!$D$26<\"E\",\" \",\"-955\")","v":" "},"-955","-955","-955","-955","-955","-955","-955","-955","-955","-955","-955","-955","-955","-955","-955","-955","-955","-955","-955","-955","-955","-955","-955"]
["Comms"," "," "," "," "," "," "," "," "," "," "," "," "," "," "," "," "," "," "," "," "," "," "," "," "," "," "," "," "," "," "," "," "," "," "," "," "," "," "," "," "," "," "," "," "," "," "," "," "," "," "," "," "," "," "," "," "," "," "," "," "," "," "," "," "," "," "," "," "," "," "," "," "," "," "," "]
[null," "," "," "," "," "," "," "," "," "," "," "," "," "," "," "," "," "," "," "," "," "," "," "," "," "," "," "," "," "," "," "," "," "," "," "," "," "," "," "," "," "," "," "," "," "," "," "," "," "," "," "," "," "," "," "," "," "," "," "," "," "," "," "," "," "," "," "," "," "," "," "," "," "," "," "]
[null," "," "," "," "," "," "," "," "," "," "," "," "," "," "," "," "," "," "," "," "," "," "," "," "," "," "," "," "," "," "," "," "," "," "," "," "," "," "," "," "," "," "," "," "," "," "," "," "," "," "," "," "," "," "," "," "," "," "," "," "," "," "," "," "," "," "," "," "," "," "," "," "," "," "," "]
[null,"-921","-921","-921","-921","-921","-921","-921","-921","-921","-921","-921","-921","-921","-921","-921","-921","-921","-921","-921","-921","-921","-921","-921","-921","-921","-921","-921","-921","-921","-921","-921","-921","-921","-921","-921","-921","-921","-921","-921","-921","-921","-921","-921","-921","-921","-921","-921","-921","-921","-921","-921","-921","-921","-921","-921","-921","-921","-921","-921","-921","-921","-921","-921","-921","-921","-921","-921","-921","-921","-921","-921","-921","-921","-921","-921"]
[null,"-922","-922","-922","-922","-922","-922","-922","-922","-922","-922","-922","-922","-922","-922","-922","-922","-922","-922","-922","-922","-922","-922","-922","-922","-922","-922","-922","-922","-922","-922","-922","-922","-922","-922","-922","-922","-922","-922","-922","-922","-922","-922","-922","-922","-922","-922","-922","-922","-922","-922","-922","-922","-922","-922","-922","-922","-922","-922","-922","-922","-922","-922","-922","-922","-922","-922","-922","-922","-922","-922","-922","-922","-922","-922","-922"]
[null,"-924","-924","-924","-924","-924","-924","-924","-924","-924","-924","-924","-924","-924","-924","-924","-924","-924","-924","-924","-924","-924","-924","-924","-924","-924","-924","-924","-924","-924","-924","-924","-924","-924","-924","-924","-924","-924","-924","-924","-924","-924","-924","-924","-924","-924","-924","-924","-924","-924","-924","-924","-924","-924","-924","-924","-924","-924","-924","-924","-924","-924","-924","-924","-924","-924","-924","-924","-924","-924","-924","-924","-924","-924","-924","-924"]
[null," "," "," "," "," "," "," "," "," "," "," "," "," "," "," "," "," "," "," "," "," "," "," "," "," "," "," "," "," "," "," ","-945"," "," "," "," "," "," ","-924","-924","-***","-***","-***",{"$f":"IF(Configurator!$T$5=\"5\",\"-***\",\"-945\")","v":"-945"},{"$f":"IF(Configurator!$T$5=\"5\",\"-***\",\"-946\")","v":"-946"},{"$f":"IF(Configurator!$T$5=\"5\",\"-***\",\"-946\")","v":"-946"},{"$f":"IF(Configurator!$T$5=\"5\",\"-***\",\"-***\")","v":"-***"},{"$f":"IF(Configurator!$T$5=\"5\",\"-***\",\"-946\")","v":"-946"},{"$f":"IF(Configurator!$T$5=\"5\",\"-***\",\"-946\")","v":"-946"},{"$f":"IF(Configurator!$T$5=\"5\",\"-***\",\"-946\")","v":"-946"},{"$f":"IF(Configurator!$T$5=\"5\",\"-***\",\"-946\")","v":"-946"},{"$f":"IF(Configurator!$T$5=\"5\",\"-***\",\"-946\")","v":"-946"},"-946","-946","-946","-946","-946","-946","-946","-946","-946","-946","-946","-946","-946","-946","-946","-946","-946","-946","-946","-946","-946","-946","-946"]
[null," "," "," "," "," "," "," "," "," "," "," "," "," "," "," "," "," "," "," "," "," "," "," "," "," "," "," "," "," "," "," ","-946"," "," "," "," "," "," ","-924","-924","-***","-***","-***",{"$f":"IF(Configurator!$T$5=\"5\",\"-***\",\"-946\")","v":"-946"},{"$f":"IF(Configurator!$T$5=\"5\",\"-***\",\"-947\")","v":"-947"},{"$f":"IF(Configurator!$T$5=\"5\",\"-***\",\"-947\")","v":"-947"},{"$f":"IF(Configurator!$T$5=\"5\",\"-***\",\"-***\")","v":"-***"},{"$f":"IF(Configurator!$T$5=\"5\",\"-***\",\"-947\")","v":"-947"},{"$f":"IF(Configurator!$T$5=\"5\",\"-***\",\"-947\")","v":"-947"},{"$f":"IF(Configurator!$T$5=\"5\",\"-***\",\"-947\")","v":"-947"},{"$f":"IF(Configurator!$T$5=\"5\",\"-***\",\"-947\")","v":"-947"},{"$f":"IF(Configurator!$T$5=\"5\",\"-***\",\"-947\")","v":"-947"},"-947","-947","-947","-947","-947","-947","-947","-947","-947","-947","-947","-947","-947","-947","-947","-947","-947","-947","-947","-947","-947","-947","-947"]
[null,0,0,0,0,0,0,0,0,0,0,0,0,0,0,0,0,0,0,0,0,0,0,0,0,0,0,0,0,0,0,0,0,0,0,0,0,0,0,0,0,0,0,0,0,0,0,0,0,0,0,0,0,0,0,0,0,0,0,0,0,0,0,0,0,0,0,0,0,0,0,0,0,0,0,0]
[null,0,0,0,0,0,0,0,0,0,0,0,0,0,0,0,0,0,0,0,0,0,0,0,0,0,0,0,0,0,0,0,0,0,0,0,0,0,0,0,0,0,0,0,0,0,0,0,0,0,0,0,0,0,0,0,0,0,0,0,0,0,0,0,0,0,0,0,0,0,0,0,0,0,0,0]
[null,0,0,0,0,0,0,0,0,0,0,0,0,0,0,0,0,0,0,0,0,0,0,0,0,0,0,0,0,0,0,0,0,0,0,0,0,0,0,0,0,0,0,0,0,0,0,0,0,0,0,0,0,0,0,0,0,0,0,0,0,0,0,0,0,0,0,0,0,0,0,0,0,0,0,0]
[null,"E","E","E","E","E","E","E","E","E","E","E","E","E","E","E","E","E","E","E","E","E","E","E","E","E","E","E","E","E","E","E","E","E","E","E","E","E","E","E","E","E","E","E","E","E","E","E","E","E","E","E","E","E","E","E","E","E","E","E","E","E","E","E","E","E","E","E","E","E","E","E","E","E","E","E"]
[null,"F","F","F","F","F","F","F","F","F","F","F","F","F","F","F","F","F","F","F","F","F","F","F","F","F","F","F","F","F","F","F","F","F","F","F","F","F","F","F","F","F","F","F","F","F","F","F","F","F","F","F","F","F","F","F","F","F","F","F","F","F","F","F","F","F","F","F","F","F","F","F","F","F","F","F"]
[null,"G","G","G","G","G","G","G","G","G","G","G","G","G","G","G","G","G","G","G","G","G","G","G","G","G","G","G","G","G","G","G","G","G","G","G","G","G","G","G","G","G","G","G","G","G","G","G","G","G","G","G","G","G","G","G","G","G","G","G","G","G","G","G","G","G","G","G","G","G","G","G","G","G","G","G"]
[null,"*","*","*","*","*","*","*","*","*","*","*","*","*","*","*","*","*","*","*","*","*","*","*","*","*","*","*","*","*","*","*","H","*","*","*","*","*","*","G","G","*","*","*",{"$f":"IF(Configurator!$T$5=\"5\",\"*\",\"H\")","v":"H"},{"$f":"IF(Configurator!$T$5=\"5\",\"-***\",\"J\")","v":"J"},{"$f":"IF(Configurator!$T$5=\"5\",\"-***\",\"J\")","v":"J"},{"$f":"IF(Configurator!$T$5=\"5\",\"-***\",\"*\")","v":"*"},{"$f":"IF(Configurator!$T$5=\"5\",\"-***\",\"J\")","v":"J"},{"$f":"IF(Configurator!$T$5=\"5\",\"-***\",\"J\")","v":"J"},{"$f":"IF(Configurator!$T$5=\"5\",\"-***\",\"J\")","v":"J"},{"$f":"IF(Configurator!$T$5=\"5\",\"-***\",\"J\")","v":"J"},{"$f":"IF(Configurator!$T$5=\"5\",\"-***\",\"J\")","v":"J"},"J","J","J","J","J","J","J","J","J","J","J","J","J","J","J","J","J","J","J","J","J","J","J"]
[null,"*","*","*","*","*","*","*","*","*","*","*","*","*","*","*","*","*","*","*","*","*","*","*","*","*","*","*","*","*","*","*","J","*","*","*","*","*","*","G","G","*","*","*",{"$f":"IF(Configurator!$T$5=\"5\",\"*\",\"J\")","v":"J"},{"$f":"IF(Configurator!$T$5=\"5\",\"-***\",\"K\")","v":"K"},{"$f":"IF(Configurator!$T$5=\"5\",\"-***\",\"K\")","v":"K"},{"$f":"IF(Configurator!$T$5=\"5\",\"-***\",\"*\")","v":"*"},{"$f":"IF(Configurator!$T$5=\"5\",\"-***\",\"K\")","v":"K"},{"$f":"IF(Configurator!$T$5=\"5\",\"-***\",\"K\")","v":"K"},{"$f":"IF(Configurator!$T$5=\"5\",\"-***\",\"K\")","v":"K"},{"$f":"IF(Configurator!$T$5=\"5\",\"-***\",\"K\")","v":"K"},{"$f":"IF(Configurator!$T$5=\"5\",\"-***\",\"K\")","v":"K"},"K","K","K","K","K","K","K","K","K","K","K","K","K","K","K","K","K","K","K","K","K","K","K"]
["Extra Numbers in Model Number","0","0","0","0","0","0","0","0","0","0","0","0","0","0","0","0","0","0","0","0","0","0","0","0","0","0","0","0","0","0","0","0","0","0","0","0","0","0","0","0","0","0","0","0","0","0","0","0","0","0","0","0","0","0","0","0","0","0","0","0","0","0","0","0","0","0","0","0","0","0","0","0","0","0","0"]
["Inter-MiCOM if TGFM is Chosen","Not Available","Not Available","Not Available","Not Available","Not Available","Not Available","Not Available","Not Available","Not Available","Not Available","Not Available","Not Available","Not Available","Not Available","Not Available","Not Available","Not Available","Not Available","Not Available","Not Available","Not Available","Not Available","Not Available with Transient Ground Fault Module fitted","Not Available with Transient Ground Fault Module fitted","Not Available with Transient Ground Fault Module fitted","Not Available with Transient Ground Fault Module fitted","Not Available with Transient Ground Fault Module fitted","Not Available with Transient Ground Fault Module fitted","Not Available with Transient Ground Fault Module fitted","Not Available with Transient Ground Fault Module fitted","Not Available with Transient Ground Fault Module fitted","Not Available with Transient Ground Fault Module fitted","Not Available with Transient Ground Fault Module fitted","Not Available with Transient Ground Fault Module fitted","Not Available with Transient Ground Fault Module fitted","Not Available with Transient Ground Fault Module fitted","Not Available with Transient Ground Fault Module fitted","Not Available with Transient Ground Fault Module fitted","Not Available with Transient Ground Fault Module fitted","Not Available with Transient Ground Fault Module fitted","Not Available with Transient Ground Fault Module fitted","Not Available with Transient Ground Fault Module fitted","Not Available with Transient Ground Fault Module fitted","Not Available with Transient Ground Fault Module fitted","Not Available with Transient Ground Fault Module fitted","Not Available with Transient Ground Fault Module fitted","Not Available with Transient Ground Fault Module fitted","Not Available with Transient Ground Fault Module fitted","Not Available with Transient Ground Fault Module fitted","Not Available with Transient Ground Fault Module fitted","Not Available with Transient Ground Fault Module fitted","Not Available with Transient Ground Fault Module fitted","Not Available with Transient Ground Fault Module fitted","Not Available with Transient Ground Fault Module fitted","Not Available with Transient Ground Fault Module fitted","Not Available with Transient Ground Fault Module fitted","Not Available with Transient Ground Fault Module fitted","Not Available with Transient Ground Fault Module fitted","Not Available with Transient Ground Fault Module fitted","Not Available with Transient Ground Fault Module fitted","Not Available with Transient Ground Fault Module fitted","Not Available with Transient Ground Fault Module fitted","Not Available with Transient Ground Fault Module fitted","Not Available with Transient Ground Fault Module fitted","Not Available with Transient Ground Fault Module fitted","Not Available with Transient Ground Fault Module fitted","Not Available with Transient Ground Fault Module fitted","Not Available with Transient Ground Fault Module fitted","Not Available with Transient Ground Fault Module fitted","Not Available with Transient Ground Fault Module fitted","Not Available with Transient Ground Fault Module fitted","Not Available with Transient Ground Fault Module fitted","Not Available with Transient Ground Fault Module fitted","Not Available with Transient Ground Fault Module fitted","Not Available with Transient Ground Fault Module fitted"]
["Inter-MiCOM continued","0","0","0","0","0","0","0","0","0","0","0","0","0","0","0","0","0","0","0","0","0","0","0","0","0","0","0","0","0","0","0","0","0","0","0","0","0","0","0","0","0","0","0","0","0","0","0","0","0","0","0","0","0","0","0","0","0","0","0","0","0","0","0","0","0","0","0","0","0","0","0","0","0","0","0"]
[null,"0","0","0","0","0","0","0","0","0","0","0","0","0","0","0","0","0","0","0","0","0","0",{"$f":"IF(OR(Configurator!$D$26<\"E\",Configurator!$D$23>7,Configurator!$D$23=1,Configurator!$D$23=3),\"0\",\"A\")","v":"0"},{"$f":"IF(OR(Configurator!$D$26<\"E\",Configurator!$D$23>7,Configurator!$D$23=1,Configurator!$D$23=3),\"0\",\"A\")","v":"0"},{"$f":"IF(OR(Configurator!$D$26<\"E\",Configurator!$D$23>7,Configurator!$D$23=1,Configurator!$D$23=3),\"0\",\"A\")","v":"0"},{"$f":"IF(OR(Configurator!$D$26<\"E\",Configurator!$D$23>7,Configurator!$D$23=1,Configurator!$D$23=3),\"0\",\"A\")","v":"0"},{"$f":"IF(OR(Configurator!$D$26<\"E\",Configurator!$D$23>7,Configurator!$D$23=1,Configurator!$D$23=3),\"0\",\"A\")","v":"0"},{"$f":"IF(OR(Configurator!$D$26<\"E\",Configurator!$D$23>7,Configurator!$D$23=1,Configurator!$D$23=3),\"0\",\"A\")","v":"0"},{"$f":"IF(OR(Configurator!$D$26<\"E\",Configurator!$D$23>7,Configurator!$D$23=1,Configurator!$D$23=3),\"0\",\"A\")","v":"0"},{"$f":"IF(OR(Configurator!$D$26<\"E\",Configurator!$D$23>7,Configurator!$D$23=1,Configurator!$D$23=3),\"0\",\"A\")","v":"0"},{"$f":"IF(OR(Configurator!$D$26<\"E\",Configurator!$D$23>7,Configurator!$D$23=1,Configurator!$D$23=3),\"0\",\"A\")","v":"0"},{"$f":"IF(OR(Configurator!$D$26<\"E\",Configurator!$D$23>7,Configurator!$D$23=1,Configurator!$D$23=3),\"0\",\"A\")","v":"0"},{"$f":"IF(OR(Configurator!$D$26<\"E\",Configurator!$D$23>7,Configurator!$D$23=1,Configurator!$D$23=3),\"0\",\"A\")","v":"0"},{"$f":"IF(OR(Configurator!$D$26<\"E\",Configurator!$D$23>7,Configurator!$D$23=1,Configurator!$D$23=3),\"0\",\"A\")","v":"0"},{"$f":"IF(OR(Configurator!$D$26<\"E\",Configurator!$D$23>7,Configurator!$D$23=1,Configurator!$D$23=3),\"0\",\"A\")","v":"0"},{"$f":"IF(OR(Configurator!$D$26<\"E\",Configurator!$D$23>7,Configurator!$D$23=1,Configurator!$D$23=3),\"0\",\"A\")","v":"0"},{"$f":"IF(OR(Configurator!$D$26<\"E\",Configurator!$D$23>7,Configurator!$D$23=1,Configurator!$D$23=3),\"0\",\"A\")","v":"0"},{"$f":"IF(OR(Configurator!$D$26<\"E\",Configurator!$D$23>7,Configurator!$D$23=1,Configurator!$D$23=3),\"0\",\"A\")","v":"0"},{"$f":"IF(OR(Configurator!$D$26<\"E\",Configurator!$D$23>7,Configurator!$D$23=1,Configurator!$D$23=3),\"0\",\"A\")","v":"0"},{"$f":"IF(OR(Configurator!$D$26<\"E\",Configurator!$D$23>7,Configurator!$D$23=1,Configurator!$D$23=3),\"0\",\"A\")","v":"0"},{"$f":"IF(OR(Configurator!$D$26<\"E\",Configurator!$D$23>7,Configurator!$D$23=1,Configurator!$D$23=3),\"0\",\"A\")","v":"0"},{"$f":"IF(OR(Configurator!$D$26<\"E\",Configurator!$D$23>7,Configurator!$D$23=1,Configurator!$D$23=3),\"0\",\"A\")","v":"0"},{"$f":"IF(OR(Configurator!$D$26<\"E\",Configurator!$D$23>7,Configurator!$D$23=1,Configurator!$D$23=3),\"0\",\"A\")","v":"0"},{"$f":"IF(OR(Configurator!$D$26<\"E\",Configurator!$D$23>7,Configurator!$D$23=1,Configurator!$D$23=3),\"0\",\"A\")","v":"0"},{"$f":"IF(OR(Configurator!$D$26<\"E\",Configurator!$D$23>7,Configurator!$D$23=1,Configurator!$D$23=3),\"0\",\"A\")","v":"0"},{"$f":"IF(OR(Configurator!$D$26<\"E\",Configurator!$D$23>7,Configurator!$D$23=1,Configurator!$D$23=3),\"0\",\"A\")","v":"0"},{"$f":"IF(OR(Configurator!$D$26<\"E\",Configurator!$D$23>7,Configurator!$D$23=1,Configurator!$D$23=3),\"0\",\"A\")","v":"0"},{"$f":"IF(OR(Configurator!$D$26<\"E\",Configurator!$D$23>7,Configurator!$D$23=1,Configurator!$D$23=3),\"0\",\"A\")","v":"0"},{"$f":"IF(OR(Configurator!$D$26<\"E\",Configurator!$D$23>7,Configurator!$D$23=1,Configurator!$D$23=3),\"0\",\"A\")","v":"0"},{"$f":"IF(OR(Configurator!$D$26<\"E\",Configurator!$D$23>7,Configurator!$D$23=1,Configurator!$D$23=3),\"0\",\"A\")","v":"0"},{"$f":"IF(OR(Configurator!$D$26<\"E\",Configurator!$D$23>7,Configurator!$D$23=1,Configurator!$D$23=3),\"0\",\"A\")","v":"0"},{"$f":"IF(OR(Configurator!$D$26<\"E\",Configurator!$D$23>7,Configurator!$D$23=1,Configurator!$D$23=3),\"0\",\"A\")","v":"0"},{"$f":"IF(OR(Configurator!$D$26<\"E\",Configurator!$D$23>7,Configurator!$D$23=1,Configurator!$D$23=3),\"0\",\"A\")","v":"0"},{"$f":"IF(OR(Configurator!$D$26<\"E\",Configurator!$D$23>7,Configurator!$D$23=1,Configurator!$D$23=3),\"0\",\"A\")","v":"0"},{"$f":"IF(OR(Configurator!$D$26<\"E\",Configurator!$D$23>7,Configurator!$D$23=1,Configurator!$D$23=3),\"0\",\"A\")","v":"0"},{"$f":"IF(OR(Configurator!$D$26<\"E\",Configurator!$D$23>7,Configurator!$D$23=1,Configurator!$D$23=3),\"0\",\"A\")","v":"0"},{"$f":"IF(OR(Configurator!$D$26<\"E\",Configurator!$D$23>7,Configurator!$D$23=1,Configurator!$D$23=3),\"0\",\"A\")","v":"0"},{"$f":"IF(OR(Configurator!$D$26<\"E\",Configurator!$D$23>7,Configurator!$D$23=1,Configurator!$D$23=3),\"0\",\"A\")","v":"0"},{"$f":"IF(OR(Configurator!$D$26<\"E\",Configurator!$D$23>7,Configurator!$D$23=1,Configurator!$D$23=3),\"0\",\"A\")","v":"0"},{"$f":"IF(OR(Configurator!$D$26<\"E\",Configurator!$D$23>7,Configurator!$D$23=1,Configurator!$D$23=3),\"0\",\"A\")","v":"0"},{"$f":"IF(OR(Configurator!$D$26<\"E\",Configurator!$D$23>7,Configurator!$D$23=1,Configurator!$D$23=3),\"0\",\"A\")","v":"0"},{"$f":"IF(OR(Configurator!$D$26<\"E\",Configurator!$D$23>7,Configurator!$D$23=1,Configurator!$D$23=3),\"0\",\"A\")","v":"0"},{"$f":"IF(OR(Configurator!$D$26<\"E\",Configurator!$D$23>7,Configurator!$D$23=1,Configurator!$D$23=3),\"0\",\"A\")","v":"0"},{"$f":"IF(OR(Configurator!$D$26<\"E\",Configurator!$D$23>7,Configurator!$D$23=1,Configurator!$D$23=3),\"0\",\"A\")","v":"0"},{"$f":"IF(OR(Configurator!$D$26<\"E\",Configurator!$D$23>7,Configurator!$D$23=1,Configurator!$D$23=3),\"0\",\"A\")","v":"0"},{"$f":"IF(OR(Configurator!$D$26<\"E\",Configurator!$D$23>7,Configurator!$D$23=1,Configurator!$D$23=3),\"0\",\"A\")","v":"0"},{"$f":"IF(OR(Configurator!$D$26<\"E\",Configurator!$D$23>7,Configurator!$D$23=1,Configurator!$D$23=3),\"0\",\"A\")","v":"0"},{"$f":"IF(OR(Configurator!$D$26<\"E\",Configurator!$D$23>7,Configurator!$D$23=1,Configurator!$D$23=3),\"0\",\"A\")","v":"0"},{"$f":"IF(OR(Configurator!$D$26<\"E\",Configurator!$D$23>7,Configurator!$D$23=1,Configurator!$D$23=3),\"0\",\"A\")","v":"0"},{"$f":"IF(OR(Configurator!$D$26<\"E\",Configurator!$D$23>7,Configurator!$D$23=1,Configurator!$D$23=3),\"0\",\"A\")","v":"0"},{"$f":"IF(OR(Configurator!$D$26<\"E\",Configurator!$D$23>7,Configurator!$D$23=1,Configurator!$D$23=3),\"0\",\"A\")","v":"0"},{"$f":"IF(OR(Configurator!$D$26<\"E\",Configurator!$D$23>7,Configurator!$D$23=1,Configurator!$D$23=3),\"0\",\"A\")","v":"0"},{"$f":"IF(OR(Configurator!$D$26<\"E\",Configurator!$D$23>7,Configurator!$D$23=1,Configurator!$D$23=3),\"0\",\"A\")","v":"0"},{"$f":"IF(OR(Configurator!$D$26<\"E\",Configurator!$D$23>7,Configurator!$D$23=1,Configurator!$D$23=3),\"0\",\"A\")","v":"0"},{"$f":"IF(OR(Configurator!$D$26<\"E\",Configurator!$D$23>7,Configurator!$D$23=1,Configurator!$D$23=3),\"0\",\"A\")","v":"0"}]
[null,"0","0","0","0","0","0","0","0","0","0","0","0","0","0","0","0","0","0","0","0","0","0",{"$f":"IF(OR(Configurator!$D$26<\"E\",Configurator!$D$23>7,Configurator!$D$23=1,Configurator!$D$23=3),\"0\",\"B\")","v":"0"},{"$f":"IF(OR(Configurator!$D$26<\"E\",Configurator!$D$23>7,Configurator!$D$23=1,Configurator!$D$23=3),\"0\",\"B\")","v":"0"},{"$f":"IF(OR(Configurator!$D$26<\"E\",Configurator!$D$23>7,Configurator!$D$23=1,Configurator!$D$23=3),\"0\",\"B\")","v":"0"},{"$f":"IF(OR(Configurator!$D$26<\"E\",Configurator!$D$23>7,Configurator!$D$23=1,Configurator!$D$23=3),\"0\",\"B\")","v":"0"},{"$f":"IF(OR(Configurator!$D$26<\"E\",Configurator!$D$23>7,Configurator!$D$23=1,Configurator!$D$23=3),\"0\",\"B\")","v":"0"},{"$f":"IF(OR(Configurator!$D$26<\"E\",Configurator!$D$23>7,Configurator!$D$23=1,Configurator!$D$23=3),\"0\",\"B\")","v":"0"},{"$f":"IF(OR(Configurator!$D$26<\"E\",Configurator!$D$23>7,Configurator!$D$23=1,Configurator!$D$23=3),\"0\",\"B\")","v":"0"},{"$f":"IF(OR(Configurator!$D$26<\"E\",Configurator!$D$23>7,Configurator!$D$23=1,Configurator!$D$23=3),\"0\",\"B\")","v":"0"},{"$f":"IF(OR(Configurator!$D$26<\"E\",Configurator!$D$23>7,Configurator!$D$23=1,Configurator!$D$23=3),\"0\",\"B\")","v":"0"},{"$f":"IF(OR(Configurator!$D$26<\"E\",Configurator!$D$23>7,Configurator!$D$23=1,Configurator!$D$23=3),\"0\",\"B\")","v":"0"},{"$f":"IF(OR(Configurator!$D$26<\"E\",Configurator!$D$23>7,Configurator!$D$23=1,Configurator!$D$23=3),\"0\",\"B\")","v":"0"},{"$f":"IF(OR(Configurator!$D$26<\"E\",Configurator!$D$23>7,Configurator!$D$23=1,Configurator!$D$23=3),\"0\",\"B\")","v":"0"},{"$f":"IF(OR(Configurator!$D$26<\"E\",Configurator!$D$23>7,Configurator!$D$23=1,Configurator!$D$23=3),\"0\",\"B\")","v":"0"},{"$f":"IF(OR(Configurator!$D$26<\"E\",Configurator!$D$23>7,Configurator!$D$23=1,Configurator!$D$23=3),\"0\",\"B\")","v":"0"},{"$f":"IF(OR(Configurator!$D$26<\"E\",Configurator!$D$23>7,Configurator!$D$23=1,Configurator!$D$23=3),\"0\",\"B\")","v":"0"},{"$f":"IF(OR(Configurator!$D$26<\"E\",Configurator!$D$23>7,Configurator!$D$23=1,Configurator!$D$23=3),\"0\",\"B\")","v":"0"},{"$f":"IF(OR(Configurator!$D$26<\"E\",Configurator!$D$23>7,Configurator!$D$23=1,Configurator!$D$23=3),\"0\",\"B\")","v":"0"},{"$f":"IF(OR(Configurator!$D$26<\"E\",Configurator!$D$23>7,Configurator!$D$23=1,Configurator!$D$23=3),\"0\",\"B\")","v":"0"},{"$f":"IF(OR(Configurator!$D$26<\"E\",Configurator!$D$23>7,Configurator!$D$23=1,Configurator!$D$23=3),\"0\",\"B\")","v":"0"},{"$f":"IF(OR(Configurator!$D$26<\"E\",Configurator!$D$23>7,Configurator!$D$23=1,Configurator!$D$23=3),\"0\",\"B\")","v":"0"},{"$f":"IF(OR(Configurator!$D$26<\"E\",Configurator!$D$23>7,Configurator!$D$23=1,Configurator!$D$23=3),\"0\",\"B\")","v":"0"},{"$f":"IF(OR(Configurator!$D$26<\"E\",Configurator!$D$23>7,Configurator!$D$23=1,Configurator!$D$23=3),\"0\",\"B\")","v":"0"},{"$f":"IF(OR(Configurator!$D$26<\"E\",Configurator!$D$23>7,Configurator!$D$23=1,Configurator!$D$23=3),\"0\",\"B\")","v":"0"},{"$f":"IF(OR(Configurator!$D$26<\"E\",Configurator!$D$23>7,Configurator!$D$23=1,Configurator!$D$23=3),\"0\",\"B\")","v":"0"},{"$f":"IF(OR(Configurator!$D$26<\"E\",Configurator!$D$23>7,Configurator!$D$23=1,Configurator!$D$23=3),\"0\",\"B\")","v":"0"},{"$f":"IF(OR(Configurator!$D$26<\"E\",Configurator!$D$23>7,Configurator!$D$23=1,Configurator!$D$23=3),\"0\",\"B\")","v":"0"},{"$f":"IF(OR(Configurator!$D$26<\"E\",Configurator!$D$23>7,Configurator!$D$23=1,Configurator!$D$23=3),\"0\",\"B\")","v":"0"},{"$f":"IF(OR(Configurator!$D$26<\"E\",Configurator!$D$23>7,Configurator!$D$23=1,Configurator!$D$23=3),\"0\",\"B\")","v":"0"},{"$f":"IF(OR(Configurator!$D$26<\"E\",Configurator!$D$23>7,Configurator!$D$23=1,Configurator!$D$23=3),\"0\",\"B\")","v":"0"},{"$f":"IF(OR(Configurator!$D$26<\"E\",Configurator!$D$23>7,Configurator!$D$23=1,Configurator!$D$23=3),\"0\",\"B\")","v":"0"},{"$f":"IF(OR(Configurator!$D$26<\"E\",Configurator!$D$23>7,Configurator!$D$23=1,Configurator!$D$23=3),\"0\",\"B\")","v":"0"},{"$f":"IF(OR(Configurator!$D$26<\"E\",Configurator!$D$23>7,Configurator!$D$23=1,Configurator!$D$23=3),\"0\",\"B\")","v":"0"},{"$f":"IF(OR(Configurator!$D$26<\"E\",Configurator!$D$23>7,Configurator!$D$23=1,Configurator!$D$23=3),\"0\",\"B\")","v":"0"},{"$f":"IF(OR(Configurator!$D$26<\"E\",Configurator!$D$23>7,Configurator!$D$23=1,Configurator!$D$23=3),\"0\",\"B\")","v":"0"},{"$f":"IF(OR(Configurator!$D$26<\"E\",Configurator!$D$23>7,Configurator!$D$23=1,Configurator!$D$23=3),\"0\",\"B\")","v":"0"},{"$f":"IF(OR(Configurator!$D$26<\"E\",Configurator!$D$23>7,Configurator!$D$23=1,Configurator!$D$23=3),\"0\",\"B\")","v":"0"},{"$f":"IF(OR(Configurator!$D$26<\"E\",Configurator!$D$23>7,Configurator!$D$23=1,Configurator!$D$23=3),\"0\",\"B\")","v":"0"},{"$f":"IF(OR(Configurator!$D$26<\"E\",Configurator!$D$23>7,Configurator!$D$23=1,Configurator!$D$23=3),\"0\",\"B\")","v":"0"},{"$f":"IF(OR(Configurator!$D$26<\"E\",Configurator!$D$23>7,Configurator!$D$23=1,Configurator!$D$23=3),\"0\",\"B\")","v":"0"},{"$f":"IF(OR(Configurator!$D$26<\"E\",Configurator!$D$23>7,Configurator!$D$23=1,Configurator!$D$23=3),\"0\",\"B\")","v":"0"},{"$f":"IF(OR(Configurator!$D$26<\"E\",Configurator!$D$23>7,Configurator!$D$23=1,Configurator!$D$23=3),\"0\",\"B\")","v":"0"},{"$f":"IF(OR(Configurator!$D$26<\"E\",Configurator!$D$23>7,Configurator!$D$23=1,Configurator!$D$23=3),\"0\",\"B\")","v":"0"},{"$f":"IF(OR(Configurator!$D$26<\"E\",Configurator!$D$23>7,Configurator!$D$23=1,Configurator!$D$23=3),\"0\",\"B\")","v":"0"},{"$f":"IF(OR(Configurator!$D$26<\"E\",Configurator!$D$23>7,Configurator!$D$23=1,Configurator!$D$23=3),\"0\",\"B\")","v":"0"},{"$f":"IF(OR(Configurator!$D$26<\"E\",Configurator!$D$23>7,Configurator!$D$23=1,Configurator!$D$23=3),\"0\",\"B\")","v":"0"},{"$f":"IF(OR(Configurator!$D$26<\"E\",Configurator!$D$23>7,Configurator!$D$23=1,Configurator!$D$23=3),\"0\",\"B\")","v":"0"},{"$f":"IF(OR(Configurator!$D$26<\"E\",Configurator!$D$23>7,Configurator!$D$23=1,Configurator!$D$23=3),\"0\",\"B\")","v":"0"},{"$f":"IF(OR(Configurator!$D$26<\"E\",Configurator!$D$23>7,Configurator!$D$23=1,Configurator!$D$23=3),\"0\",\"B\")","v":"0"},{"$f":"IF(OR(Configurator!$D$26<\"E\",Configurator!$D$23>7,Configurator!$D$23=1,Configurator!$D$23=3),\"0\",\"B\")","v":"0"},{"$f":"IF(OR(Configurator!$D$26<\"E\",Configurator!$D$23>7,Configurator!$D$23=1,Configurator!$D$23=3),\"0\",\"B\")","v":"0"},{"$f":"IF(OR(Configurator!$D$26<\"E\",Configurator!$D$23>7,Configurator!$D$23=1,Configurator!$D$23=3),\"0\",\"B\")","v":"0"},{"$f":"IF(OR(Configurator!$D$26<\"E\",Configurator!$D$23>7,Configurator!$D$23=1,Configurator!$D$23=3),\"0\",\"B\")","v":"0"},{"$f":"IF(OR(Configurator!$D$26<\"E\",Configurator!$D$23>7,Configurator!$D$23=1,Configurator!$D$23=3),\"0\",\"B\")","v":"0"}]
[null,"0","0","0","0","0","0","0","0","0","0","0","0","0","0","0","0","0","0","0","0","0","0",{"$f":"IF(OR(Configurator!$D$26<\"E\",Configurator!$D$23>7,Configurator!$D$23=1,Configurator!$D$23=3),\"0\",\"C\")","v":"0"},{"$f":"IF(OR(Configurator!$D$26<\"E\",Configurator!$D$23>7,Configurator!$D$23=1,Configurator!$D$23=3),\"0\",\"C\")","v":"0"},{"$f":"IF(OR(Configurator!$D$26<\"E\",Configurator!$D$23>7,Configurator!$D$23=1,Configurator!$D$23=3),\"0\",\"C\")","v":"0"},{"$f":"IF(OR(Configurator!$D$26<\"E\",Configurator!$D$23>7,Configurator!$D$23=1,Configurator!$D$23=3),\"0\",\"C\")","v":"0"},{"$f":"IF(OR(Configurator!$D$26<\"E\",Configurator!$D$23>7,Configurator!$D$23=1,Configurator!$D$23=3),\"0\",\"C\")","v":"0"},{"$f":"IF(OR(Configurator!$D$26<\"E\",Configurator!$D$23>7,Configurator!$D$23=1,Configurator!$D$23=3),\"0\",\"C\")","v":"0"},{"$f":"IF(OR(Configurator!$D$26<\"E\",Configurator!$D$23>7,Configurator!$D$23=1,Configurator!$D$23=3),\"0\",\"C\")","v":"0"},{"$f":"IF(OR(Configurator!$D$26<\"E\",Configurator!$D$23>7,Configurator!$D$23=1,Configurator!$D$23=3),\"0\",\"C\")","v":"0"},{"$f":"IF(OR(Configurator!$D$26<\"E\",Configurator!$D$23>7,Configurator!$D$23=1,Configurator!$D$23=3),\"0\",\"C\")","v":"0"},{"$f":"IF(OR(Configurator!$D$26<\"E\",Configurator!$D$23>7,Configurator!$D$23=1,Configurator!$D$23=3),\"0\",\"C\")","v":"0"},{"$f":"IF(OR(Configurator!$D$26<\"E\",Configurator!$D$23>7,Configurator!$D$23=1,Configurator!$D$23=3),\"0\",\"C\")","v":"0"},{"$f":"IF(OR(Configurator!$D$26<\"E\",Configurator!$D$23>7,Configurator!$D$23=1,Configurator!$D$23=3),\"0\",\"C\")","v":"0"},{"$f":"IF(OR(Configurator!$D$26<\"E\",Configurator!$D$23>7,Configurator!$D$23=1,Configurator!$D$23=3),\"0\",\"C\")","v":"0"},{"$f":"IF(OR(Configurator!$D$26<\"E\",Configurator!$D$23>7,Configurator!$D$23=1,Configurator!$D$23=3),\"0\",\"C\")","v":"0"},{"$f":"IF(OR(Configurator!$D$26<\"E\",Configurator!$D$23>7,Configurator!$D$23=1,Configurator!$D$23=3),\"0\",\"C\")","v":"0"},{"$f":"IF(OR(Configurator!$D$26<\"E\",Configurator!$D$23>7,Configurator!$D$23=1,Configurator!$D$23=3),\"0\",\"C\")","v":"0"},{"$f":"IF(OR(Configurator!$D$26<\"E\",Configurator!$D$23>7,Configurator!$D$23=1,Configurator!$D$23=3),\"0\",\"C\")","v":"0"},{"$f":"IF(OR(Configurator!$D$26<\"E\",Configurator!$D$23>7,Configurator!$D$23=1,Configurator!$D$23=3),\"0\",\"C\")","v":"0"},{"$f":"IF(OR(Configurator!$D$26<\"E\",Configurator!$D$23>7,Configurator!$D$23=1,Configurator!$D$23=3),\"0\",\"C\")","v":"0"},{"$f":"IF(OR(Configurator!$D$26<\"E\",Configurator!$D$23>7,Configurator!$D$23=1,Configurator!$D$23=3),\"0\",\"C\")","v":"0"},{"$f":"IF(OR(Configurator!$D$26<\"E\",Configurator!$D$23>7,Configurator!$D$23=1,Configurator!$D$23=3),\"0\",\"C\")","v":"0"},{"$f":"IF(OR(Configurator!$D$26<\"E\",Configurator!$D$23>7,Configurator!$D$23=1,Configurator!$D$23=3),\"0\",\"C\")","v":"0"},{"$f":"IF(OR(Configurator!$D$26<\"E\",Configurator!$D$23>7,Configurator!$D$23=1,Configurator!$D$23=3),\"0\",\"C\")","v":"0"},{"$f":"IF(OR(Configurator!$D$26<\"E\",Configurator!$D$23>7,Configurator!$D$23=1,Configurator!$D$23=3),\"0\",\"C\")","v":"0"},{"$f":"IF(OR(Configurator!$D$26<\"E\",Configurator!$D$23>7,Configurator!$D$23=1,Configurator!$D$23=3),\"0\",\"C\")","v":"0"},{"$f":"IF(OR(Configurator!$D$26<\"E\",Configurator!$D$23>7,Configurator!$D$23=1,Configurator!$D$23=3),\"0\",\"C\")","v":"0"},{"$f":"IF(OR(Configurator!$D$26<\"E\",Configurator!$D$23>7,Configurator!$D$23=1,Configurator!$D$23=3),\"0\",\"C\")","v":"0"},{"$f":"IF(OR(Configurator!$D$26<\"E\",Configurator!$D$23>7,Configurator!$D$23=1,Configurator!$D$23=3),\"0\",\"C\")","v":"0"},{"$f":"IF(OR(Configurator!$D$26<\"E\",Configurator!$D$23>7,Configurator!$D$23=1,Configurator!$D$23=3),\"0\",\"C\")","v":"0"},{"$f":"IF(OR(Configurator!$D$26<\"E\",Configurator!$D$23>7,Configurator!$D$23=1,Configurator!$D$23=3),\"0\",\"C\")","v":"0"},{"$f":"IF(OR(Configurator!$D$26<\"E\",Configurator!$D$23>7,Configurator!$D$23=1,Configurator!$D$23=3),\"0\",\"C\")","v":"0"},{"$f":"IF(OR(Configurator!$D$26<\"E\",Configurator!$D$23>7,Configurator!$D$23=1,Configurator!$D$23=3),\"0\",\"C\")","v":"0"},{"$f":"IF(OR(Configurator!$D$26<\"E\",Configurator!$D$23>7,Configurator!$D$23=1,Configurator!$D$23=3),\"0\",\"C\")","v":"0"},{"$f":"IF(OR(Configurator!$D$26<\"E\",Configurator!$D$23>7,Configurator!$D$23=1,Configurator!$D$23=3),\"0\",\"C\")","v":"0"},{"$f":"IF(OR(Configurator!$D$26<\"E\",Configurator!$D$23>7,Configurator!$D$23=1,Configurator!$D$23=3),\"0\",\"C\")","v":"0"},{"$f":"IF(OR(Configurator!$D$26<\"E\",Configurator!$D$23>7,Configurator!$D$23=1,Configurator!$D$23=3),\"0\",\"C\")","v":"0"},{"$f":"IF(OR(Configurator!$D$26<\"E\",Configurator!$D$23>7,Configurator!$D$23=1,Configurator!$D$23=3),\"0\",\"C\")","v":"0"},{"$f":"IF(OR(Configurator!$D$26<\"E\",Configurator!$D$23>7,Configurator!$D$23=1,Configurator!$D$23=3),\"0\",\"C\")","v":"0"},{"$f":"IF(OR(Configurator!$D$26<\"E\",Configurator!$D$23>7,Configurator!$D$23=1,Configurator!$D$23=3),\"0\",\"C\")","v":"0"},{"$f":"IF(OR(Configurator!$D$26<\"E\",Configurator!$D$23>7,Configurator!$D$23=1,Configurator!$D$23=3),\"0\",\"C\")","v":"0"},{"$f":"IF(OR(Configurator!$D$26<\"E\",Configurator!$D$23>7,Configurator!$D$23=1,Configurator!$D$23=3),\"0\",\"C\")","v":"0"},{"$f":"IF(OR(Configurator!$D$26<\"E\",Configurator!$D$23>7,Configurator!$D$23=1,Configurator!$D$23=3),\"0\",\"C\")","v":"0"},{"$f":"IF(OR(Configurator!$D$26<\"E\",Configurator!$D$23>7,Configurator!$D$23=1,Configurator!$D$23=3),\"0\",\"C\")","v":"0"},{"$f":"IF(OR(Configurator!$D$26<\"E\",Configurator!$D$23>7,Configurator!$D$23=1,Configurator!$D$23=3),\"0\",\"C\")","v":"0"},{"$f":"IF(OR(Configurator!$D$26<\"E\",Configurator!$D$23>7,Configurator!$D$23=1,Configurator!$D$23=3),\"0\",\"C\")","v":"0"},{"$f":"IF(OR(Configurator!$D$26<\"E\",Configurator!$D$23>7,Configurator!$D$23=1,Configurator!$D$23=3),\"0\",\"C\")","v":"0"},{"$f":"IF(OR(Configurator!$D$26<\"E\",Configurator!$D$23>7,Configurator!$D$23=1,Configurator!$D$23=3),\"0\",\"C\")","v":"0"},{"$f":"IF(OR(Configurator!$D$26<\"E\",Configurator!$D$23>7,Configurator!$D$23=1,Configurator!$D$23=3),\"0\",\"C\")","v":"0"},{"$f":"IF(OR(Configurator!$D$26<\"E\",Configurator!$D$23>7,Configurator!$D$23=1,Configurator!$D$23=3),\"0\",\"C\")","v":"0"},{"$f":"IF(OR(Configurator!$D$26<\"E\",Configurator!$D$23>7,Configurator!$D$23=1,Configurator!$D$23=3),\"0\",\"C\")","v":"0"},{"$f":"IF(OR(Configurator!$D$26<\"E\",Configurator!$D$23>7,Configurator!$D$23=1,Configurator!$D$23=3),\"0\",\"C\")","v":"0"},{"$f":"IF(OR(Configurator!$D$26<\"E\",Configurator!$D$23>7,Configurator!$D$23=1,Configurator!$D$23=3),\"0\",\"C\")","v":"0"},{"$f":"IF(OR(Configurator!$D$26<\"E\",Configurator!$D$23>7,Configurator!$D$23=1,Configurator!$D$23=3),\"0\",\"C\")","v":"0"}]
[null," "," "," "," "," "," "," "," "," "," "," "," "," ","0","0","0","0","0","0","0","0","0",{"$f":"IF(OR(Configurator!$D$26<\"E\",Configurator!$D$23>7,Configurator!$D$23=1,Configurator!$D$23=3),\"0\",\"D\")","v":"0"},{"$f":"IF(OR(Configurator!$D$26<\"E\",Configurator!$D$23>7,Configurator!$D$23=1,Configurator!$D$23=3),\"0\",\"D\")","v":"0"},{"$f":"IF(OR(Configurator!$D$26<\"E\",Configurator!$D$23>7,Configurator!$D$23=1,Configurator!$D$23=3),\"0\",\"D\")","v":"0"},{"$f":"IF(OR(Configurator!$D$26<\"E\",Configurator!$D$23>7,Configurator!$D$23=1,Configurator!$D$23=3),\"0\",\"D\")","v":"0"},{"$f":"IF(OR(Configurator!$D$26<\"E\",Configurator!$D$23>7,Configurator!$D$23=1,Configurator!$D$23=3),\"0\",\"D\")","v":"0"},{"$f":"IF(OR(Configurator!$D$26<\"E\",Configurator!$D$23>7,Configurator!$D$23=1,Configurator!$D$23=3),\"0\",\"D\")","v":"0"},{"$f":"IF(OR(Configurator!$D$26<\"E\",Configurator!$D$23>7,Configurator!$D$23=1,Configurator!$D$23=3),\"0\",\"D\")","v":"0"},{"$f":"IF(OR(Configurator!$D$26<\"E\",Configurator!$D$23>7,Configurator!$D$23=1,Configurator!$D$23=3),\"0\",\"D\")","v":"0"},{"$f":"IF(OR(Configurator!$D$26<\"E\",Configurator!$D$23>7,Configurator!$D$23=1,Configurator!$D$23=3),\"0\",\"D\")","v":"0"},{"$f":"IF(OR(Configurator!$D$26<\"E\",Configurator!$D$23>7,Configurator!$D$23=1,Configurator!$D$23=3),\"0\",\"D\")","v":"0"},{"$f":"IF(OR(Configurator!$D$26<\"E\",Configurator!$D$23>7,Configurator!$D$23=1,Configurator!$D$23=3),\"0\",\"D\")","v":"0"},{"$f":"IF(OR(Configurator!$D$26<\"E\",Configurator!$D$23>7,Configurator!$D$23=1,Configurator!$D$23=3),\"0\",\"D\")","v":"0"},{"$f":"IF(OR(Configurator!$D$26<\"E\",Configurator!$D$23>7,Configurator!$D$23=1,Configurator!$D$23=3),\"0\",\"D\")","v":"0"},{"$f":"IF(OR(Configurator!$D$26<\"E\",Configurator!$D$23>7,Configurator!$D$23=1,Configurator!$D$23=3),\"0\",\"D\")","v":"0"},{"$f":"IF(OR(Configurator!$D$26<\"E\",Configurator!$D$23>7,Configurator!$D$23=1,Configurator!$D$23=3),\"0\",\"D\")","v":"0"},{"$f":"IF(OR(Configurator!$D$26<\"E\",Configurator!$D$23>7,Configurator!$D$23=1,Configurator!$D$23=3),\"0\",\"D\")","v":"0"},{"$f":"IF(OR(Configurator!$D$26<\"E\",Configurator!$D$23>7,Configurator!$D$23=1,Configurator!$D$23=3),\"0\",\"D\")","v":"0"},{"$f":"IF(OR(Configurator!$D$26<\"E\",Configurator!$D$23>7,Configurator!$D$23=1,Configurator!$D$23=3),\"0\",\"D\")","v":"0"},{"$f":"IF(OR(Configurator!$D$26<\"E\",Configurator!$D$23>7,Configurator!$D$23=1,Configurator!$D$23=3),\"0\",\"D\")","v":"0"},{"$f":"IF(OR(Configurator!$D$26<\"E\",Configurator!$D$23>7,Configurator!$D$23=1,Configurator!$D$23=3),\"0\",\"D\")","v":"0"},{"$f":"IF(OR(Configurator!$D$26<\"E\",Configurator!$D$23>7,Configurator!$D$23=1,Configurator!$D$23=3),\"0\",\"D\")","v":"0"},{"$f":"IF(OR(Configurator!$D$26<\"E\",Configurator!$D$23>7,Configurator!$D$23=1,Configurator!$D$23=3),\"0\",\"D\")","v":"0"},{"$f":"IF(OR(Configurator!$D$26<\"E\",Configurator!$D$23>7,Configurator!$D$23=1,Configurator!$D$23=3),\"0\",\"D\")","v":"0"},{"$f":"IF(OR(Configurator!$D$26<\"E\",Configurator!$D$23>7,Configurator!$D$23=1,Configurator!$D$23=3),\"0\",\"D\")","v":"0"},{"$f":"IF(OR(Configurator!$D$26<\"E\",Configurator!$D$23>7,Configurator!$D$23=1,Configurator!$D$23=3),\"0\",\"D\")","v":"0"},{"$f":"IF(OR(Configurator!$D$26<\"E\",Configurator!$D$23>7,Configurator!$D$23=1,Configurator!$D$23=3),\"0\",\"D\")","v":"0"},{"$f":"IF(OR(Configurator!$D$26<\"E\",Configurator!$D$23>7,Configurator!$D$23=1,Configurator!$D$23=3),\"0\",\"D\")","v":"0"},{"$f":"IF(OR(Configurator!$D$26<\"E\",Configurator!$D$23>7,Configurator!$D$23=1,Configurator!$D$23=3),\"0\",\"D\")","v":"0"},{"$f":"IF(OR(Configurator!$D$26<\"E\",Configurator!$D$23>7,Configurator!$D$23=1,Configurator!$D$23=3),\"0\",\"D\")","v":"0"},{"$f":"IF(OR(Configurator!$D$26<\"E\",Configurator!$D$23>7,Configurator!$D$23=1,Configurator!$D$23=3),\"0\",\"D\")","v":"0"},{"$f":"IF(OR(Configurator!$D$26<\"E\",Configurator!$D$23>7,Configurator!$D$23=1,Configurator!$D$23=3),\"0\",\"D\")","v":"0"},{"$f":"IF(OR(Configurator!$D$26<\"E\",Configurator!$D$23>7,Configurator!$D$23=1,Configurator!$D$23=3),\"0\",\"D\")","v":"0"},{"$f":"IF(OR(Configurator!$D$26<\"E\",Configurator!$D$23>7,Configurator!$D$23=1,Configurator!$D$23=3),\"0\",\"D\")","v":"0"},{"$f":"IF(OR(Configurator!$D$26<\"E\",Configurator!$D$23>7,Configurator!$D$23=1,Configurator!$D$23=3),\"0\",\"D\")","v":"0"},{"$f":"IF(OR(Configurator!$D$26<\"E\",Configurator!$D$23>7,Configurator!$D$23=1,Configurator!$D$23=3),\"0\",\"D\")","v":"0"},{"$f":"IF(OR(Configurator!$D$26<\"E\",Configurator!$D$23>7,Configurator!$D$23=1,Configurator!$D$23=3),\"0\",\"D\")","v":"0"},{"$f":"IF(OR(Configurator!$D$26<\"E\",Configurator!$D$23>7,Configurator!$D$23=1,Configurator!$D$23=3),\"0\",\"D\")","v":"0"},{"$f":"IF(OR(Configurator!$D$26<\"E\",Configurator!$D$23>7,Configurator!$D$23=1,Configurator!$D$23=3),\"0\",\"D\")","v":"0"},{"$f":"IF(OR(Configurator!$D$26<\"E\",Configurator!$D$23>7,Configurator!$D$23=1,Configurator!$D$23=3),\"0\",\"D\")","v":"0"},{"$f":"IF(OR(Configurator!$D$26<\"E\",Configurator!$D$23>7,Configurator!$D$23=1,Configurator!$D$23=3),\"0\",\"D\")","v":"0"},{"$f":"IF(OR(Configurator!$D$26<\"E\",Configurator!$D$23>7,Configurator!$D$23=1,Configurator!$D$23=3),\"0\",\"D\")","v":"0"},{"$f":"IF(OR(Configurator!$D$26<\"E\",Configurator!$D$23>7,Configurator!$D$23=1,Configurator!$D$23=3),\"0\",\"D\")","v":"0"},{"$f":"IF(OR(Configurator!$D$26<\"E\",Configurator!$D$23>7,Configurator!$D$23=1,Configurator!$D$23=3),\"0\",\"D\")","v":"0"},{"$f":"IF(OR(Configurator!$D$26<\"E\",Configurator!$D$23>7,Configurator!$D$23=1,Configurator!$D$23=3),\"0\",\"D\")","v":"0"},{"$f":"IF(OR(Configurator!$D$26<\"E\",Configurator!$D$23>7,Configurator!$D$23=1,Configurator!$D$23=3),\"0\",\"D\")","v":"0"},{"$f":"IF(OR(Configurator!$D$26<\"E\",Configurator!$D$23>7,Configurator!$D$23=1,Configurator!$D$23=3),\"0\",\"D\")","v":"0"},{"$f":"IF(OR(Configurator!$D$26<\"E\",Configurator!$D$23>7,Configurator!$D$23=1,Configurator!$D$23=3),\"0\",\"D\")","v":"0"},{"$f":"IF(OR(Configurator!$D$26<\"E\",Configurator!$D$23>7,Configurator!$D$23=1,Configurator!$D$23=3),\"0\",\"D\")","v":"0"},{"$f":"IF(OR(Configurator!$D$26<\"E\",Configurator!$D$23>7,Configurator!$D$23=1,Configurator!$D$23=3),\"0\",\"D\")","v":"0"},{"$f":"IF(OR(Configurator!$D$26<\"E\",Configurator!$D$23>7,Configurator!$D$23=1,Configurator!$D$23=3),\"0\",\"D\")","v":"0"},{"$f":"IF(OR(Configurator!$D$26<\"E\",Configurator!$D$23>7,Configurator!$D$23=1,Configurator!$D$23=3),\"0\",\"D\")","v":"0"},{"$f":"IF(OR(Configurator!$D$26<\"E\",Configurator!$D$23>7,Configurator!$D$23=1,Configurator!$D$23=3),\"0\",\"D\")","v":"0"},{"$f":"IF(OR(Configurator!$D$26<\"E\",Configurator!$D$23>7,Configurator!$D$23=1,Configurator!$D$23=3),\"0\",\"D\")","v":"0"}]
[{"$f":"HLOOKUP($B$1,$B$2:$CT$112,59)","v":1},{"$f":"HLOOKUP($B$1,$B$2:$CT$112,60)","v":" "},{"$f":"HLOOKUP($B$1,$B$2:$CT$112,62)","v":" "},{"$f":"HLOOKUP($B$1,$B$2:$CT$112,62)","v":" "},{"$f":"HLOOKUP($B$1,$B$2:$CT$112,62)","v":" "}," "]
[{"$f":"HLOOKUP($B$1,$B$2:$CT$112,63)","v":2},{"$f":"HLOOKUP($B$1,$B$2:$CT$112,64)","v":"for connection to wire, RS485, isolated"},{"$f":"HLOOKUP($B$1,$B$2:$CT$112,65)","v":"for connection to plastic fibre, FSMA connector"},{"$f":"HLOOKUP($B$1,$B$2:$CT$112,66)","v":"for connection to glass fibre, ST connector"},{"$f":"HLOOKUP($B$1,$B$2:$CT$112,67)","v":3}," "]
[{"$f":"HLOOKUP($B$1,$B$2:$CT$112,67)","v":3},{"$f":"HLOOKUP($B$1,$B$2:$CT$112,68)","v":"For connection to 100Mhz Ethernet, glass fibre SC and wire RJ45 and 2nd interface (RS485, IEC 60870-5-103)"},{"$f":"HLOOKUP($B$1,$B$2:$CT$112,69)","v":"For connection to 100Mhz Ethernet, glass fibre ST and wire RJ45 and 2nd interface (RS485, IEC 60870-5-103)"},{"$f":"HLOOKUP($B$1,$B$2:$CT$112,70)","v":" "},{"$f":"HLOOKUP($B$1,$B$2:$CT$112,71)","v":" "}," "]
[]
[]
["BOM",30,30,30,30,30,30,30,30,30,30,30,30,30,30,30,"SLOT 24 Z","SLOT 24 Z","SLOT 24 Z","SLOT 24 Z","SLOT 24 Z","SLOT 24 Z","SLOT 24 Z","SLOT 24 Z","SLOT 24 Z","SLOT 24 Z","SLOT 24 Z","SLOT 24 Z","SLOT 24 Z","SLOT 24 Z","SLOT 24 Z","SLOT 24 Z","SLOT 24 Z","SLOT 24 Z","SLOT 24 Z","SLOT 24 Z","SLOT 24 Z","SLOT 24 Z","SLOT 24 Z","SLOT 24 Z","SLOT 24 Z","SLOT 24 Z","SLOT 24 Z","SLOT 24 Z","SLOT 24 Z","SLOT 24 Z","SLOT 24 Z","SLOT 24 Z","SLOT 24 Z","SLOT 24 Z","SLOT 24 Z","SLOT 24 Z","SLOT 24 Z","SLOT 24 Z","SLOT 24 Z","SLOT 24 Z","SLOT 24 Z","SLOT 24 Z","SLOT 24 Z","SLOT 24 Z","SLOT 24 Z","SLOT 24 Z","SLOT 24 Z","SLOT 24 Z","SLOT 24 Z","SLOT 24 Z","SLOT 24 Z","SLOT 24 Z","SLOT 24 Z","SLOT 24 Z","SLOT 24 Z","SLOT 24 Z","SLOT 24 Z","SLOT 24 Z","SLOT 24 Z","SLOT 24 Z"]
[null,32,32,32,32,32,32,32,32,32,32,32,32,32,32,32,"SLOT 40","SLOT 40","SLOT 40","SLOT 40","SLOT 40","SLOT 40","SLOT 40","SLOT 40","SLOT 40","SLOT 40","SLOT 40","SLOT 40","SLOT 40","SLOT 40","SLOT 40","SLOT 40","SLOT 40","SLOT 40","SLOT 40","SLOT 40","SLOT 40","SLOT 40","SLOT 40","SLOT 40","SLOT 40","SLOT 40","SLOT 40","SLOT 40","SLOT 40","SLOT 40","SLOT 40","SLOT 40","SLOT 40","SLOT 40","SLOT 40","SLOT 40","SLOT 40","SLOT 40","SLOT 40","SLOT 40","SLOT 40","SLOT 40","SLOT 40","SLOT 40","SLOT 40","SLOT 40","SLOT 40","SLOT 40","SLOT 40","SLOT 40","SLOT 40","SLOT 40","SLOT 40","SLOT 40","SLOT 40","SLOT 40","SLOT 40","SLOT 40","SLOT 40","SLOT 40"]
[null,"SLOT 02","SLOT 02","SLOT 02","SLOT 02","SLOT 02","SLOT 02","SLOT 02","SLOT 02","SLOT 02","SLOT 02","SLOT 02","SLOT 02","SLOT 02","SLOT 02","SLOT 02","SLOT 22","SLOT 22","SLOT 22","SLOT 22","SLOT 22","SLOT 22","SLOT 22","SLOT 22","SLOT 22","SLOT 22","SLOT 22","SLOT 22","SLOT 22","SLOT 22","SLOT 22","SLOT 22","SLOT 22","SLOT 22","SLOT 22","SLOT 22","SLOT 22","SLOT 22","SLOT 22","SLOT 22","SLOT 22","SLOT 22","SLOT 22","SLOT 22","SLOT 22","SLOT 22","SLOT 22","SLOT 22","SLOT 22","SLOT 22","SLOT 22","SLOT 22","SLOT 22","SLOT 22","SLOT 22","SLOT 22","SLOT 22","SLOT 22","SLOT 22","SLOT 22","SLOT 22","SLOT 22","SLOT 22","SLOT 22","SLOT 22","SLOT 22","SLOT 22","SLOT 22","SLOT 22","SLOT 22","SLOT 22","SLOT 22","SLOT 22","SLOT 22","SLOT 22","SLOT 22"]
[null,50,50,50,50,50,50,50,50,50,50,50,50,50,50,50,"SLOT 45","SLOT 45","SLOT 45","SLOT 45","SLOT 45","SLOT 45","SLOT 45","SLOT 45","SLOT 45","SLOT 45","SLOT 45","SLOT 45","SLOT 45","SLOT 45","SLOT 45","SLOT 45","SLOT 45","SLOT 45","SLOT 45","SLOT 45","SLOT 45","SLOT 45","SLOT 45","SLOT 45","SLOT 45","SLOT 45","SLOT 45","SLOT 45","SLOT 45","SLOT 45","SLOT 45","SLOT 45","SLOT 45","SLOT 45","SLOT 45","SLOT 45","SLOT 45","SLOT 45","SLOT 45","SLOT 45","SLOT 45","SLOT 45","SLOT 45","SLOT 45","SLOT 45","SLOT 45","SLOT 45","SLOT 45","SLOT 45","SLOT 45","SLOT 45","SLOT 45","SLOT 45","SLOT 45","SLOT 45","SLOT 45","SLOT 45","SLOT 45","SLOT 45","SLOT 45"]
[]
["Livery change","Alstom (Available until 1/11/04)","Alstom (Available until 1/11/04)","Alstom (Available until 1/11/04)","Alstom (Available until 1/11/04)","Alstom (Available until 1/11/04)","Alstom (Available until 1/11/04)","Alstom (Available until 1/11/04)","Alstom (Available until 1/11/04)","Alstom (Available until 1/11/04)","Alstom (Available until 1/11/04)","Alstom (Available until 1/11/04)","Alstom (Available until 1/11/04)","Alstom (Available until 1/11/04)","Alstom (Available until 1/11/04)","Alstom (Available until 1/11/04)","Alstom (Available until 1/11/04)","Alstom (Available until 1/11/04)","Alstom (Available until 1/11/04)","Alstom (Available until 1/11/04)","Alstom (Available until 1/11/04)","Alstom (Available until 1/11/04)","Alstom (Available until 1/11/04)","Alstom (Available until 1/11/04)","Alstom (Available until 1/11/04)","Alstom (Available until 1/11/04)","Alstom (Available until 1/11/04)","Alstom (Available until 1/11/04)","Areva (Available from 4/10/04)","Areva (Available from 4/10/04)","Areva (Available from 4/10/04)","Areva (Available from 4/10/04)","Areva (Available from 4/10/04)","Areva (Available from 4/10/04)","Areva (Available from 4/10/04)","Areva (Available from 4/10/04)","Areva (Available from 4/10/04)","Areva (Available from 4/10/04)","Areva (Available from 4/10/04)","Areva (Available from 4/10/04)","Areva (Available from 4/10/04)","Areva (Available from 4/10/04)","Areva (Available from 4/10/04)","Areva (Available from 4/10/04)","Areva (Available from 4/10/04)","Areva (Available from 4/10/04)","Areva (Available from 4/10/04)","Areva (Available from 4/10/04)","Areva (Available from 4/10/04)","Areva (Available from 4/10/04)","Areva (Available from 4/10/04)","Areva (Available from 4/10/04)","Areva (Available from 4/10/04)","Areva (Available from 4/10/04)","Areva (Available from 4/10/04)","Areva (Available from 4/10/04)","Areva (Available from 4/10/04)","Areva (Available from 4/10/04)","Areva (Available from 4/10/04)","Areva (Available from 4/10/04)","Areva (Available from 4/10/04)","Areva (Available from 4/10/04)","Areva (Available from 4/10/04)","Areva (Available from 4/10/04)","Areva (Available from 4/10/04)","Areva (Available from 4/10/04)","Areva (Available from 4/10/04)","Areva (Available from 4/10/04)","Areva (Available from 4/10/04)","Areva (Available from 4/10/04)","Areva (Available from 4/10/04)","Areva (Available from 4/10/04)","Areva (Available from 4/10/04)","Areva (Available from 4/10/04)","Areva (Available from 4/10/04)","Areva (Available from 4/10/04)"]
[null,"Areva (Available from 4/10/04)","Areva (Available from 4/10/04)","Areva (Available from 4/10/04)","Areva (Available from 4/10/04)","Areva (Available from 4/10/04)","Areva (Available from 4/10/04)","Areva (Available from 4/10/04)","Areva (Available from 4/10/04)","Areva (Available from 4/10/04)","Areva (Available from 4/10/04)","Areva (Available from 4/10/04)","Areva (Available from 4/10/04)","Areva (Available from 4/10/04)","Areva (Available from 4/10/04)","Areva (Available from 4/10/04)","Areva (Available from 4/10/04)","Areva (Available from 4/10/04)","Areva (Available from 4/10/04)","Areva (Available from 4/10/04)","Areva (Available from 4/10/04)","Areva (Available from 4/10/04)","Areva (Available from 4/10/04)","Areva (Available from 4/10/04)","Areva (Available from 4/10/04)","Areva (Available from 4/10/04)","Areva (Available from 4/10/04)","Areva (Available from 4/10/04)"," "," "," "," "," "," "," "," "," "," "," "," "," "," "," "," "," "," "," "," "," "," "," "," "," "," "," "," "," "," "," "," "," "," "," "," "," "," "," "," "," "," "," "," "," "," "," "," "]
[null,1,1,1,1,1,1,1,1,1,1,1,1,1,1,1,1,1,1,1,1,1,1,1,1,1,1,1,2,2,2,2,2,2,2,2,2,2,2,2,2,2,2,2,2,2,2,2,2,2,2,2,2,2,2,2,2,2,2,2,2,2,2,2,2,2,2,2,2,2,2,2,2,2,2,2]
[null,3,3,3,3,3,3,3,3,3,3,3,3,3,3,3,3,3,3,3,3,3,3,3,3,3,2,2,2,2,2,2,2,2,2,2,2,2,2,2,2,2,2,2,2,2,2,2,2,2,2,2,2,2,2,2,2,2,2,2,2,2,2,2,2,2,2,2,2,2,2,2,2,2,2,2]
["BOM MATERIAL"]
[null,"E9650212","E9650212","E9650212","E9650212","E9650212","E9650212","E9650212","E9650212","E9650212","E9650212","E9650212","E9650212","E9650212","E9650212","E9650212","E9650212","E9650212","E9650212","E9650212","E9650212","E9650212","E9650212","E9650212","E9650212","E9650212",{"$f":"IF(Configurator!$P$6=1,'Date Drivers HIST'!$Z$195,$AN$195)","v":"E9650212"},{"$f":"IF(Configurator!$P$6=1,'Date Drivers HIST'!$Z$195,$AN$195)","v":"E9650212"},"E9650212","E9650212","E9650212","E9650212","E9650212","E9650212","E9650212","E9650212","E9650212","E9650212","E9650212","E9650212","E9650212","E9650212","E9650212","E9650212","E9650212","E9650212","E9650212","E9650212","E9650212","E9650212","E9650212","E9650212","E9650212","E9650212","E9650212","E9650212","E9650212","E9650212","E9650212","E9650212","E9650212","E9650212","E9650212","E9650212","E9650212","E9650212","E9650212","E9650212","E9650212","E9650212","E9650212","E9650212","E9650212","E9650212","E9650212","E9650212"]
[null,"E9650299","E9650299","E9650299","E9650299","E9650299","E9650299","E9650299","E9650299","E9650299","E9650299","E9650299","E9650299","E9650299","E9650299","E9650299","E9650299","E9650299","E9650299","E9650299","E9650299","E9650299","E9650299","E9650299","E9650299","E9650299",{"$f":"IF(Configurator!$P$6=1,'Date Drivers HIST'!$Z$196,$AN$196)","v":"E9650299"},{"$f":"IF(Configurator!$P$6=1,'Date Drivers HIST'!$Z$196,$AN$196)","v":"E9650299"},"E9650299","E9650299","E9650299","E9650299","E9650299","E9650299","E9650299","E9650299","E9650299","E9650299","E9650299","E9650299","E9650299","E9650299","E9650299","E9650299","E9650299","E9650299","E9650299","E9650299","E9650299","E9650299","E9650299","E9650299","E9650299","E9650299","E9650299","E9650299","E9650299","E9650299","E9650299","E9650299","E9650299","E9650299","E9650299","E9650299","E9650299","E9650299","E9650299","E9650299","E9650299","E9650299","E9650299","E9650299","E9650299","E9650299","E9650299","E9650299"]
[null,"E9650300","E9650300","E9650300","E9650300","E9650300","E9650300","E9650300","E9650300","E9650300","E9650300","E9650300","E9650300","E9650300","E9650300","E9650300","E9650300","E9650300","E9650300","E9650300","E9650300","E9650300","E9650300","E9650300","E9650300","E9650300",{"$f":"IF(Configurator!$P$6=1,'Date Drivers HIST'!$Z$197,$AN$197)","v":"E9650300"},{"$f":"IF(Configurator!$P$6=1,'Date Drivers HIST'!$Z$197,$AN$197)","v":"E9650300"},"E9650300","E9650300","E9650300","E9650300","E9650300","E9650300","E9650300","E9650300","E9650300","E9650300","E9650300","E9650300","E9650300","E9650300","E9650300","E9650300","E9650300","E9650300","E9650300","E9650300","E9650300","E9650300","E9650300","E9650300","E9650300","E9650300","E9650300","E9650300","E9650300","E9650300","E9650300","E9650300","E9650300","E9650300","E9650300","E9650300","E9650300","E9650300","E9650300","E9650300","E9650300","E9650300","E9650300","E9650300","E9650300","E9650300","E9650300","E9650300"]
[null,"E9650320","E9650320","E9650320","E9650320","E9650320","E9650320","E9650320","E9650320","E9650320","E9650320","E9650320","E9650320","E9650320","E9650320","E9650320","E9650320","E9650320","E9650320","E9650320","E9650320","E9650320","E9650320","E9650320","E9650320","E9650320",{"$f":"IF(Configurator!$P$6=1,'Date Drivers HIST'!$Z198,$AN198)","v":"E9650320"},{"$f":"IF(Configurator!$P$6=1,'Date Drivers HIST'!$Z198,$AN198)","v":"E9650320"},"E9650320","E9650320","E9650320","E9650320","E9650320","E9650320","E9650320","E9650320","E9650320","E9650320","E9650320","E9650320","E9650320","E9650320","E9650320","E9650320","E9650320","E9650320","E9650320","E9650320","E9650320","E9650320","E9650320","E9650320","E9650320","E9650320","E9650320","E9650320","E9650320","E9650320","E9650320","E9650320","E9650320","E9650320","E9650320","E9650320","E9650320","E9650320",{"$f":"IF(AND(Configurator!$D$24>\"H\",Configurator!$T$5=\"6\"),\"E9650387\",\"E9650320\")","v":"E9650320"},"E9650320",{"$f":"IF(AND(Configurator!$D$24>\"H\",Configurator!$T$5=\"6\"),\"E9650387\",\"E9650320\")","v":"E9650320"},"E9650320",{"$f":"IF(AND(Configurator!$D$24>\"H\",Configurator!$T$5=\"6\"),\"E9650387\",\"E9650320\")","v":"E9650320"},{"$f":"IF(AND(Configurator!$D$24>\"H\",Configurator!$T$5=\"6\"),\"E9650387\",\"E9650320\")","v":"E9650320"},"E9650320",{"$f":"IF(AND(Configurator!$D$24>\"H\",Configurator!$T$5=\"6\"),\"E9650387\",\"E9650320\")","v":"E9650320"},"E9650320",{"$f":"IF(AND(Configurator!$D$24>\"H\",Configurator!$T$5=\"6\"),\"E9650387\",\"E9650320\")","v":"E9650320"}]
[null,"EGN9063001","EGN9063001","EGN9063001","EGN9063001","EGN9063001","EGN9063001","EGN9063001","EGN9063001","EGN9063001","EGN9063001","EGN9063001","EGN9063001","EGN9063001","EGN9063001","EGN9063001","EGN9063001","EGN9063001","EGN9063001","EGN9063001","EGN9063001","EGN9063001","EGN9063001","EGN9063001","EGN9063001","EGN9063001",{"$f":"IF(Configurator!$P$6=1,'Date Drivers HIST'!$Z199,$AN199)","v":"EGN9063001"},{"$f":"IF(Configurator!$P$6=1,'Date Drivers HIST'!$Z199,$AN199)","v":"EGN9063001"},"EGN9063001","EGN9063001","EGN9063001","EGN9063001","EGN9063001","EGN9063001","EGN9063001","EGN9063001","EGN9063001","EGN9063001","EGN9063001","EGN9063001","EGN9063001","EGN9063001","EGN9063001","EGN9063001","EGN9063001","EGN9063001","EGN9063001","EGN9063001","EGN9063001","EGN9063001","EGN9063001","EGN9063001","EGN9063001","EGN9063001","EGN9063001","EGN9063001","EGN9063001","EGN9063001","EGN9063001","EGN9063001","EGN9063001","EGN9063001","EGN9063001","EGN9063001","EGN9063001","EGN9063001","EGN9063001","EGN9063001","EGN9063001","EGN9063001","EGN9063001","EGN9063001","EGN9063001","EGN9063001","EGN9063001","EGN9063001"]
[null,"EGN9011012","EGN9011012","EGN9011012","EGN9011012","EGN9011012","EGN9011012","EGN9011012","EGN9011012","EGN9011012","EGN9011012","EGN9011012","EGN9011012","EGN9011012","EGN9011012","EGN9011012","EGN9011012","EGN9011012","EGN9011012","EGN9011012","EGN9011012","EGN9011012","EGN9011012","EGN9011012","EGN9011012","EGN9011012",{"$f":"IF(Configurator!$P$6=1,'Date Drivers HIST'!$Z200,$AN200)","v":"EGN9011012"},{"$f":"IF(Configurator!$P$6=1,'Date Drivers HIST'!$Z200,$AN200)","v":"EGN9011012"},"EGN9011012","EGN9011012","EGN9011012","EGN9011012","EGN9011012","EGN9011012","EGN9011012","EGN9011012","EGN9011012","EGN9011012","EGN9011012","EGN9011012","EGN9011012","EGN9011012","EGN9011012","EGN9011012","EGN9011012","EGN9011012","EGN9011012","EGN9011012","EGN9011012","EGN9011012","EGN9011012","EGN9011012","EGN9011012","EGN9011012","EGN9011012","EGN9011012","EGN9011012","EGN9011012","EGN9011012","EGN9011012","EGN9011012","EGN9011012","EGN9011012","EGN9011012","EGN9011012","EGN9011012","EGN9011012","EGN9011012","EGN9011012","EGN9011012","EGN9011012","EGN9011012","EGN9011012","EGN9011012","EGN9011012","EGN9011012"]
[null,"EGN9011013","EGN9011013","EGN9011013","EGN9011013","EGN9011013","EGN9011013","EGN9011013","EGN9011013","EGN9011013","EGN9011013","EGN9011013","EGN9011013","EGN9011013","EGN9011013","EGN9011013","EGN9011013","EGN9011013","EGN9011013","EGN9011013","EGN9011013","EGN9011013","EGN9011013","EGN9011013","EGN9011013","EGN9011013",{"$f":"IF(Configurator!$P$6=1,'Date Drivers HIST'!$Z$201,$AN$201)","v":"EGN9011013"},{"$f":"IF(Configurator!$P$6=1,'Date Drivers HIST'!$Z$201,$AN$201)","v":"EGN9011013"},"EGN9011013","EGN9011013","EGN9011013","EGN9011013","EGN9011013","EGN9011013","EGN9011013","EGN9011013","EGN9011013","EGN9011013","EGN9011013","EGN9011013","EGN9011013","EGN9011013","EGN9011013","EGN9011013","EGN9011013","EGN9011013","EGN9011013","EGN9011013","EGN9011013","EGN9011013","EGN9011013","EGN9011013","EGN9011013","EGN9011013","EGN9011013","EGN9011013","EGN9011013","EGN9011013","EGN9011013","EGN9011013","EGN9011013","EGN9011013","EGN9011013","EGN9011013","EGN9011013","EGN9011013","EGN9011013","EGN9011013","EGN9011013","EGN9011013","EGN9011013","EGN9011013","EGN9011013","EGN9011013","EGN9011013","EGN9011013"]
[null,"EGN9011015","EGN9011015","EGN9011015","EGN9011015","EGN9011015","EGN9011015","EGN9011015","EGN9011015","EGN9011015","EGN9011015","EGN9011015","EGN9011015","EGN9011015","EGN9011015","EGN9011015","EGN9011015","EGN9011015","EGN9011015","EGN9011015","EGN9011015","EGN9011015","EGN9011015","EGN9011015","EGN9011015","EGN9011015",{"$f":"IF(Configurator!$P$6=1,'Date Drivers HIST'!$Z$202,$AN$202)","v":"EGN9011015"},{"$f":"IF(Configurator!$P$6=1,'Date Drivers HIST'!$Z$202,$AN$202)","v":"EGN9011015"},"EGN9011015","EGN9011015","EGN9011015","EGN9011015","EGN9011015","EGN9011015","EGN9011015","EGN9011015","EGN9011015","EGN9011015","EGN9011015","EGN9011015","EGN9011015","EGN9011015","EGN9011015","EGN9011015","EGN9011015","EGN9011015","EGN9011015","EGN9011015","EGN9011015","EGN9011015","EGN9011015","EGN9011015","EGN9011015","EGN9011015","EGN9011015","EGN9011015","EGN9011015","EGN9011015","EGN9011015","EGN9011015","EGN9011015","EGN9011015","EGN9011015","EGN9011015","EGN9011015","EGN9011015","EGN9011015","EGN9011015","EGN9011015","EGN9011015","EGN9011015","EGN9011015","EGN9011015","EGN9011015","EGN9011015","EGN9011015"]
[null,"EGN9011045","EGN9011045","EGN9011045","EGN9011045","EGN9011045","EGN9011045","EGN9011045","EGN9011045","EGN9011045","EGN9011045","EGN9011045","EGN9011045","EGN9011045","EGN9011045","EGN9011045","EGN9011045","EGN9011045","EGN9011045","EGN9011045","EGN9011045","EGN9011045","EGN9011045","EGN9011045","EGN9011045","EGN9011045",{"$f":"IF(Configurator!$P$6=1,'Date Drivers HIST'!$Z$203,$AN$203)","v":"EGN9011045"},{"$f":"IF(Configurator!$P$6=1,'Date Drivers HIST'!$Z$203,$AN$203)","v":"EGN9011045"},"EGN9011045","EGN9011045","EGN9011045","EGN9011045","EGN9011045","EGN9011045","EGN9011045","EGN9011045","EGN9011045","EGN9011045","EGN9011045","EGN9011045","EGN9011045","EGN9011045","EGN9011045","EGN9011045","EGN9011045","EGN9011045","EGN9011045","EGN9011045","EGN9011045","EGN9011045","EGN9011045","EGN9011045","EGN9011045","EGN9011045","EGN9011045","EGN9011045","EGN9011045","EGN9011045","EGN9011045","EGN9011045","EGN9011045","EGN9011045","EGN9011045","EGN9011045","EGN9011045","EGN9011045","EGN9011045","EGN9011045","EGN9011045","EGN9011045","EGN9011045","EGN9011045","EGN9011045","EGN9011045","EGN9011045","EGN9011045"]
[null,null,null,null,null,null,null,null,null,null,null,null,null,null,null,null,null,null,null,null,null,null,null,null,null,null,null,null," "," "," "," "," "," "," "," "," "," "," "," "," "," "," "," "," "," "," "," "," "," "," "," "," "," "," "," "," "," "," "," "," "," "," "," "," "," "," "," "," "," "," "," "," "," "," "," "]
["Inter-MiCOM if TGFM is Chosen"," "," "," "," "," "," "," "," "," "," "," "," "," ","Not Available","Not Available","Not Available","Not Available","Not Available","Not Available","Not Available","Not Available","Not Available","Not Available with RTD Module fitted","Not Available with RTD Module fitted","Not Available with Transient Ground Fault Module fitted","Not Available with RTD Module fitted","Not Available with RTD Module fitted","Not Available with RTD Module fitted","Not Available with RTD Module fitted","Not Available with RTD Module fitted","Not Available with RTD Module fitted","Not Available with RTD Module fitted","Not Available with RTD Module fitted","Not Available with RTD Module fitted","Not Available with RTD Module fitted","Not Available with RTD Module fitted","Not Available with RTD Module fitted","Not Available with RTD Module fitted","Not Available with RTD Module fitted","Not Available with RTD Module fitted","Not Available with RTD Module fitted","Not Available with RTD Module fitted","Not Available with RTD Module fitted","Not Available with RTD Module fitted","Not Available with RTD Module fitted","Not Available with RTD Module fitted","Not Available with RTD Module fitted","Not Available with RTD Module fitted","Not Available with RTD Module fitted","Not Available with RTD Module fitted","Not Available with RTD Module fitted","Not Available with RTD Module fitted","Not Available with RTD Module fitted","Not Available with RTD Module fitted","Not Available with RTD Module fitted","Not Available with RTD Module fitted","Not Available with RTD Module fitted","Not Available with RTD Module fitted","Not Available with RTD Module fitted","Not Available with RTD Module fitted","Not Available with RTD Module fitted","Not Available with RTD Module fitted","Not Available with RTD Module fitted","Not Available with RTD Module fitted","Not Available with RTD Module fitted","Not Available with RTD Module fitted","Not Available with RTD Module fitted","Not Available with RTD Module fitted","Not Available with RTD Module fitted","Not Available with RTD Module fitted","Not Available with RTD Module fitted","Not Available with RTD Module fitted","Not Available with RTD Module fitted","Not Available with RTD Module fitted","Not Available with RTD Module fitted"]
[null,"basic complement with 4 binary inputs and 8 output relays","basic complement with 4 binary inputs and 8 output relays","basic complement with 4 binary inputs and 8 output relays","basic complement with 4 binary inputs and 8 output relays","basic complement with 4 binary inputs and 8 output relays","basic complement with 4 binary inputs and 8 output relays","basic complement with 4 binary inputs and 8 output relays","basic complement with 4 binary inputs and 8 output relays","basic complement with 4 binary inputs and 8 output relays","basic complement with 4 binary inputs and 8 output relays","basic complement with 4 binary inputs and 8 output relays","basic complement with 4 binary inputs and 8 output relays","basic complement with 4 binary inputs and 8 output relays","basic complement with 4 binary inputs and 8 output relays","basic complement with 4 binary inputs and 8 output relays","basic complement with 4 binary inputs and 8 output relays","basic complement with 4 binary inputs and 8 output relays","basic complement with 4 binary inputs and 8 output relays","basic complement with 4 binary inputs and 8 output relays","basic complement with 4 binary inputs and 8 output relays","basic complement with 4 binary inputs and 8 output relays","basic complement with 4 binary inputs and 8 output relays","basic complement with 4 binary inputs and 8 output relays","basic complement with 4 binary inputs and 8 output relays","basic complement with 4 binary inputs and 8 output relays","basic complement with 4 binary inputs and 8 output relays","basic complement with 4 binary inputs and 8 output relays","basic complement with 4 binary inputs and 8 output relays","basic complement with 4 binary inputs and 8 output relays","basic complement with 4 binary inputs and 8 output relays","basic complement with 4 binary inputs and 8 output relays","basic complement with 4 binary inputs and 8 output relays","basic complement with 4 binary inputs and 8 output relays","basic complement with 4 binary inputs and 8 output relays","basic complement with 4 binary inputs and 8 output relays","basic complement with 4 binary inputs and 8 output relays","basic complement with 4 binary inputs and 8 output relays","basic complement with 4 binary inputs and 8 output relays","basic complement with 4 binary inputs and 8 output relays","basic complement with 4 binary inputs and 8 output relays","basic complement with 4 binary inputs and 8 output relays","basic complement with 4 binary inputs and 8 output relays","basic complement with 4 binary inputs and 8 output relays","basic complement with 4 binary inputs and 8 output relays","basic complement with 4 binary inputs and 8 output relays","basic complement with 4 binary inputs and 8 output relays","basic complement with 4 binary inputs and 8 output relays","basic complement with 4 binary inputs and 8 output relays","basic complement with 4 binary inputs and 8 output relays","basic complement with 4 binary inputs and 8 output relays","basic complement with 4 binary inputs and 8 output relays","basic complement with 4 binary inputs and 8 output relays","basic complement with 4 binary inputs and 8 output relays","basic complement with 4 binary inputs and 8 output relays","basic complement with 4 binary inputs and 8 output relays","basic complement with 4 binary inputs and 8 output relays","basic complement with 4 binary inputs and 8 output relays","basic complement with 4 binary inputs and 8 output relays","basic complement with 4 binary inputs and 8 output relays","basic complement with 4 binary inputs and 8 output relays","basic complement with 4 binary inputs and 8 output relays","basic complement with 4 binary inputs and 8 output relays","basic complement with 4 binary inputs and 8 output relays","basic complement with 4 binary inputs and 8 output relays","basic complement with 4 binary inputs and 8 output relays","basic complement with 4 binary inputs and 8 output relays","basic complement with 4 binary inputs and 8 output relays","basic complement with 4 binary inputs and 8 output relays","basic complement with 4 binary inputs and 8 output relays","basic complement with 4 binary inputs and 8 output relays","basic complement with 4 binary inputs and 8 output relays","basic complement with 4 binary inputs and 8 output relays","basic complement with 4 binary inputs and 8 output relays","basic complement with 4 binary inputs and 8 output relays","basic complement with 4 binary inputs and 8 output relays"]
[null,"and 6 binary inputs and 6 output relays","and 6 binary inputs and 6 output relays","and 6 binary inputs and 6 output relays","and 6 binary inputs and 6 output relays","and 6 binary inputs and 6 output relays","and 6 binary inputs and 6 output relays","and 6 binary inputs and 6 output relays","and 6 binary inputs and 6 output relays","and 6 binary inputs and 6 output relays","and 6 binary inputs and 6 output relays","and 6 binary inputs and 6 output relays","and 6 binary inputs and 6 output relays","and 6 binary inputs and 6 output relays","and 6 binary inputs and 6 output relays","and 6 binary inputs and 6 output relays","and 6 binary inputs and 6 output relays","and 6 binary inputs and 6 output relays","and 6 binary inputs and 6 output relays","and 6 binary inputs and 6 output relays","and 6 binary inputs and 6 output relays","and 6 binary inputs and 6 output relays","and 6 binary inputs and 6 output relays","and 6 binary inputs and 6 output relays","and 6 binary inputs and 6 output relays","and 6 binary inputs and 6 output relays","and 6 binary inputs and 6 output relays","and 6 binary inputs and 6 output relays","and 6 binary inputs and 6 output relays","and 6 binary inputs and 6 output relays","and 6 binary inputs and 6 output relays","and 6 binary inputs and 6 output relays","and 6 binary inputs and 6 output relays","and 6 binary inputs and 6 output relays","and 6 binary inputs and 6 output relays","and 6 binary inputs and 6 output relays","and 6 binary inputs and 6 output relays","and 6 binary inputs and 6 output relays","and 6 binary inputs and 6 output relays","and 6 binary inputs and 6 output relays","and 6 binary inputs and 6 output relays","and 6 binary inputs and 6 output relays","and 6 binary inputs and 6 output relays","and 6 binary inputs and 6 output relays","and 6 binary inputs and 6 output relays","and 6 binary inputs and 6 output relays","and 6 binary inputs and 6 output relays","and 6 binary inputs and 6 output relays","and 6 binary inputs and 6 output relays","and 6 binary inputs and 6 output relays","and 6 binary inputs and 6 output relays","and 6 binary inputs and 6 output relays","and 6 binary inputs and 6 output relays","and 6 binary inputs and 6 output relays","and 6 binary inputs and 6 output relays","and 6 binary inputs and 6 output relays","and 6 binary inputs and 6 output relays","and 6 binary inputs and 6 output relays"," and 6 binary inputs and 6 output relays","and 6 binary inputs and 6 output relays","and 6 binary inputs and 6 output relays","and 6 binary inputs and 6 output relays"," and 6 binary inputs and 6 output relays"," and 6 binary inputs and 6 output relays"," and 6 binary inputs and 6 output relays"," and 6 binary inputs and 6 output relays"," and 6 binary inputs and 6 output relays","and 6 binary inputs and 6 output relays"," and 6 binary inputs and 6 output relays"," and 6 binary inputs and 6 output relays"," and 6 binary inputs and 6 output relays"," and 6 binary inputs and 6 output relays","and 6 binary inputs and 6 output relays"," and 6 binary inputs and 6 output relays"," and 6 binary inputs and 6 output relays"," and 6 binary inputs and 6 output relays"]
[null,{"$f":"IF(Configurator!$D$29=0,\" (2-pole) \",\" (1-pole) \")","v":" (2-pole) "},{"$f":"IF(Configurator!$D$29=0,\" (2-pole) \",\" (1-pole) \")","v":" (2-pole) "},{"$f":"IF(Configurator!$D$29=0,\" (2-pole) \",\" (1-pole) \")","v":" (2-pole) "},{"$f":"IF(Configurator!$D$29=0,\" (2-pole) \",\" (1-pole) \")","v":" (2-pole) "},{"$f":"IF(Configurator!$D$29=0,\" (2-pole) \",\" (1-pole) \")","v":" (2-pole) "},{"$f":"IF(Configurator!$D$29=0,\" (2-pole) \",\" (1-pole) \")","v":" (2-pole) "},{"$f":"IF(Configurator!$D$29=0,\" (2-pole) \",\" (1-pole) \")","v":" (2-pole) "},{"$f":"IF(Configurator!$D$29=0,\" (2-pole) \",\" (1-pole) \")","v":" (2-pole) "},{"$f":"IF(Configurator!$D$29=0,\" (2-pole) \",\" (1-pole) \")","v":" (2-pole) "},{"$f":"IF(Configurator!$D$29=0,\" (2-pole) \",\" (1-pole) \")","v":" (2-pole) "},{"$f":"IF(Configurator!$D$29=0,\" (2-pole) \",\" (1-pole) \")","v":" (2-pole) "},{"$f":"IF(Configurator!$D$29=0,\" (2-pole) \",\" (1-pole) \")","v":" (2-pole) "},{"$f":"IF(Configurator!$D$29=0,\" (2-pole) \",\" (1-pole) \")","v":" (2-pole) "},{"$f":"IF(Configurator!$D$29=0,\" (2-pole) \",\" (1-pole) \")","v":" (2-pole) "},{"$f":"IF(Configurator!$D$29=0,\" (2-pole) \",\" (1-pole) \")","v":" (2-pole) "},{"$f":"IF(Configurator!$D$29=0,\" (2-pole) \",\" (1-pole) \")","v":" (2-pole) "},{"$f":"IF(Configurator!$D$29=0,\" (2-pole) \",\" (1-pole) \")","v":" (2-pole) "},{"$f":"IF(Configurator!$D$29=0,\" (2-pole) \",\" (1-pole) \")","v":" (2-pole) "},{"$f":"IF(Configurator!$D$29=0,\" (2-pole) \",\" (1-pole) \")","v":" (2-pole) "},{"$f":"IF(Configurator!$D$29=0,\" (2-pole) \",\" (1-pole) \")","v":" (2-pole) "},{"$f":"IF(Configurator!$D$29=0,\" (2-pole) \",\" (1-pole) \")","v":" (2-pole) "},{"$f":"IF(Configurator!$D$29=0,\" (2-pole) \",\" (1-pole) \")","v":" (2-pole) "},{"$f":"IF(Configurator!$D$29=0,\" (2-pole) \",\" (1-pole) \")","v":" (2-pole) "},{"$f":"IF(Configurator!$D$29=0,\" (2-pole) \",\" (1-pole) \")","v":" (2-pole) "},{"$f":"IF(Configurator!$D$29=0,\" (2-pole) \",\" (1-pole) \")","v":" (2-pole) "},{"$f":"IF(Configurator!$D$29=0,\" (2-pole) \",\" (1-pole) \")","v":" (2-pole) "},{"$f":"IF(Configurator!$D$29=0,\" (2-pole) \",\" (1-pole) \")","v":" (2-pole) "},{"$f":"IF(Configurator!$D$29=0,\" (2-pole) \",\" (1-pole) \")","v":" (2-pole) "},{"$f":"IF(Configurator!$D$29=0,\" (2-pole) \",\" (1-pole) \")","v":" (2-pole) "},{"$f":"IF(Configurator!$D$29=0,\" (2-pole) \",\" (1-pole) \")","v":" (2-pole) "},{"$f":"IF(Configurator!$D$29=0,\" (2-pole) \",\" (1-pole) \")","v":" (2-pole) "},{"$f":"IF(Configurator!$D$29=0,\" (2-pole) \",\" (1-pole) \")","v":" (2-pole) "},{"$f":"IF(Configurator!$D$29=0,\" (2-pole) \",\" (1-pole) \")","v":" (2-pole) "},{"$f":"IF(Configurator!$D$29=0,\" (2-pole) \",\" (1-pole) \")","v":" (2-pole) "},{"$f":"IF(Configurator!$D$29=0,\" (2-pole) \",\" (1-pole) \")","v":" (2-pole) "},{"$f":"IF(Configurator!$D$29=0,\" (2-pole) \",\" (1-pole) \")","v":" (2-pole) "},{"$f":"IF(Configurator!$D$29=0,\" (2-pole) \",\" (1-pole) \")","v":" (2-pole) "},{"$f":"IF(Configurator!$D$29=0,\" (2-pole) \",\" (1-pole) \")","v":" (2-pole) "},{"$f":"IF(Configurator!$D$29=0,\" (2-pole) \",\" (1-pole) \")","v":" (2-pole) "},{"$f":"IF(Configurator!$D$29=0,\" (2-pole) \",\" (1-pole) \")","v":" (2-pole) "},{"$f":"IF(Configurator!$D$29=0,\" (2-pole) \",\" (1-pole) \")","v":" (2-pole) "},{"$f":"IF(Configurator!$D$29=0,\" (2-pole) \",\" (1-pole) \")","v":" (2-pole) "},{"$f":"IF(Configurator!$D$29=0,\" (2-pole) \",\" (1-pole) \")","v":" (2-pole) "},{"$f":"IF(Configurator!$D$29=0,\" (2-pole) \",\" (1-pole) \")","v":" (2-pole) "},{"$f":"IF(Configurator!$D$29=0,\" (2-pole) \",\" (1-pole) \")","v":" (2-pole) "},{"$f":"IF(Configurator!$D$29=0,\" (2-pole) \",\" (1-pole) \")","v":" (2-pole) "},{"$f":"IF(Configurator!$D$29=0,\" (2-pole) \",\" (1-pole) \")","v":" (2-pole) "},{"$f":"IF(Configurator!$D$29=0,\" (2-pole) \",\" (1-pole) \")","v":" (2-pole) "},{"$f":"IF(Configurator!$D$29=0,\" (2-pole) \",\" (1-pole) \")","v":" (2-pole) "},{"$f":"IF(Configurator!$D$29=0,\" (2-pole) \",\" (1-pole) \")","v":" (2-pole) "},{"$f":"IF(Configurator!$D$29=0,\" (2-pole) \",\" (1-pole) \")","v":" (2-pole) "},{"$f":"IF(Configurator!$D$29=0,\" (2-pole) \",\" (1-pole) \")","v":" (2-pole) "},{"$f":"IF(Configurator!$D$29=0,\" (2-pole) \",\" (1-pole) \")","v":" (2-pole) "},{"$f":"IF(Configurator!$D$29=0,\" (2-pole) \",\" (1-pole) \")","v":" (2-pole) "},{"$f":"IF(Configurator!$D$29=0,\" (2-pole) \",\" (1-pole) \")","v":" (2-pole) "},{"$f":"IF(Configurator!$D$29=0,\" (2-pole) \",\" (1-pole) \")","v":" (2-pole) "},{"$f":"IF(Configurator!$D$29=0,\" (2-pole) \",\" (1-pole) \")","v":" (2-pole) "},{"$f":"IF(Configurator!$D$29=0,\" (2-pole) \",\" (1-pole) \")","v":" (2-pole) "},{"$f":"IF(Configurator!$D$29=0,\" (2-pole) \",\" (1-pole) \")","v":" (2-pole) "},{"$f":"IF(Configurator!$D$29=0,\" (2-pole) \",\" (1-pole) \")","v":" (2-pole) "},{"$f":"IF(Configurator!$D$29=0,\" (2-pole) \",\" (1-pole) \")","v":" (2-pole) "},{"$f":"IF(Configurator!$D$29=0,\" (2-pole) \",\" (1-pole) \")","v":" (2-pole) "},{"$f":"IF(Configurator!$D$29=0,\" (2-pole) \",\" (1-pole) \")","v":" (2-pole) "},{"$f":"IF(Configurator!$D$29=0,\" (2-pole) \",\" (1-pole) \")","v":" (2-pole) "},{"$f":"IF(Configurator!$D$29=0,\" (2-pole) \",\" (1-pole) \")","v":" (2-pole) "},{"$f":"IF(Configurator!$D$29=0,\" (2-pole) \",\" (1-pole) \")","v":" (2-pole) "},{"$f":"IF(Configurator!$D$29=0,\" (2-pole) \",\" (1-pole) \")","v":" (2-pole) "},{"$f":"IF(Configurator!$D$29=0,\" (2-pole) \",\" (1-pole) \")","v":" (2-pole) "},{"$f":"IF(Configurator!$D$29=0,\" (2-pole) \",\" (1-pole) \")","v":" (2-pole) "},{"$f":"IF(Configurator!$D$29=0,\" (2-pole) \",\" (1-pole) \")","v":" (2-pole) "},{"$f":"IF(Configurator!$D$29=0,\" (2-pole) \",\" (1-pole) \")","v":" (2-pole) "},{"$f":"IF(Configurator!$D$29=0,\" (2-pole) \",\" (1-pole) \")","v":" (2-pole) "},{"$f":"IF(Configurator!$D$29=0,\" (2-pole) \",\" (1-pole) \")","v":" (2-pole) "},{"$f":"IF(Configurator!$D$29=0,\" (2-pole) \",\" (1-pole) \")","v":" (2-pole) "},{"$f":"IF(Configurator!$D$29=0,\" (2-pole) \",\" (1-pole) \")","v":" (2-pole) "}]
[null,"for the control of 3 switchgear units.","for the control of 3 switchgear units.","for the control of 3 switchgear units.","for the control of 3 switchgear units.","for the control of 3 switchgear units.","for the control of 3 switchgear units.","for the control of 3 switchgear units.","for the control of 3 switchgear units.","for the control of 3 switchgear units.","for the control of 3 switchgear units.","for the control of 3 switchgear units.","for the control of 3 switchgear units.","for the control of 3 switchgear units.","for the control of 3 switchgear units.","for the control of 3 switchgear units.","for the control of 3 switchgear units.","for the control of 3 switchgear units.","for the control of 3 switchgear units.","for the control of 3 switchgear units.","for the control of 3 switchgear units.","for the control of 3 switchgear units.","for the control of 3 switchgear units.","for the control of 3 switchgear units.","for the control of 3 switchgear units.","for the control of 3 switchgear units.","for the control of 3 switchgear units.","for the control of 3 switchgear units.","for the control of 3 switchgear units.","for the control of 3 switchgear units.","for the control of 3 switchgear units.","for the control of 3 switchgear units.","for the control of 3 switchgear units.","for the control of 3 switchgear units.","for the control of 3 switchgear units.","for the control of 3 switchgear units.","for the control of 3 switchgear units.","for the control of 3 switchgear units.","for the control of 3 switchgear units.","for the control of 3 switchgear units.","for the control of 3 switchgear units.","for the control of 3 switchgear units.","for the control of 3 switchgear units.","for the control of 3 switchgear units.","for the control of 3 switchgear units.","for the control of 3 switchgear units.","for the control of 3 switchgear units.","for the control of 3 switchgear units.","for the control of 3 switchgear units.","for the control of 3 switchgear units.","for the control of 3 switchgear units.","for the control of 3 switchgear units.","for the control of 3 switchgear units.","for the control of 3 switchgear units.","for the control of 3 switchgear units.","for the control of 3 switchgear units.","for the control of 3 switchgear units.","for the control of 3 switchgear units.","for the control of 3 switchgear units.","for the control of 3 switchgear units.","for the control of 3 switchgear units.","for the control of 3 switchgear units.","for the control of 3 switchgear units.","for the control of 3 switchgear units.","for the control of 3 switchgear units.","for the control of 3 switchgear units.","for the control of 3 switchgear units.","for the control of 3 switchgear units.","for the control of 3 switchgear units.","for the control of 3 switchgear units.","for the control of 3 switchgear units.","for the control of 3 switchgear units.","for the control of 3 switchgear units.","for the control of 3 switchgear units.","for the control of 3 switchgear units.","for the control of 3 switchgear units."]
[null,{"$f":"IF(AND(Configurator!$D$24>\"H\",Configurator!$T$5=\"6\"),\"E9651367\",\"E9650564\")","v":"E9650564"},{"$f":"IF(AND(Configurator!$D$24>\"H\",Configurator!$T$5=\"6\"),\"E9651367\",\"E9650564\")","v":"E9650564"},{"$f":"IF(AND(Configurator!$D$24>\"H\",Configurator!$T$5=\"6\"),\"E9651367\",\"E9650564\")","v":"E9650564"},{"$f":"IF(AND(Configurator!$D$24>\"H\",Configurator!$T$5=\"6\"),\"E9651367\",\"E9650564\")","v":"E9650564"},{"$f":"IF(AND(Configurator!$D$24>\"H\",Configurator!$T$5=\"6\"),\"E9651367\",\"E9650564\")","v":"E9650564"},{"$f":"IF(AND(Configurator!$D$24>\"H\",Configurator!$T$5=\"6\"),\"E9651367\",\"E9650564\")","v":"E9650564"},{"$f":"IF(AND(Configurator!$D$24>\"H\",Configurator!$T$5=\"6\"),\"E9651367\",\"E9650564\")","v":"E9650564"},{"$f":"IF(AND(Configurator!$D$24>\"H\",Configurator!$T$5=\"6\"),\"E9651367\",\"E9650564\")","v":"E9650564"},{"$f":"IF(AND(Configurator!$D$24>\"H\",Configurator!$T$5=\"6\"),\"E9651367\",\"E9650564\")","v":"E9650564"},{"$f":"IF(AND(Configurator!$D$24>\"H\",Configurator!$T$5=\"6\"),\"E9651367\",\"E9650564\")","v":"E9650564"},{"$f":"IF(AND(Configurator!$D$24>\"H\",Configurator!$T$5=\"6\"),\"E9651367\",\"E9650564\")","v":"E9650564"},{"$f":"IF(AND(Configurator!$D$24>\"H\",Configurator!$T$5=\"6\"),\"E9651367\",\"E9650564\")","v":"E9650564"},{"$f":"IF(AND(Configurator!$D$24>\"H\",Configurator!$T$5=\"6\"),\"E9651367\",\"E9650564\")","v":"E9650564"},{"$f":"IF(AND(Configurator!$D$24>\"H\",Configurator!$T$5=\"6\"),\"E9651367\",\"E9650564\")","v":"E9650564"},{"$f":"IF(AND(Configurator!$D$24>\"H\",Configurator!$T$5=\"6\"),\"E9651367\",\"E9650564\")","v":"E9650564"},{"$f":"IF(AND(Configurator!$D$24>\"H\",Configurator!$T$5=\"6\"),\"E9651367\",\"E9650564\")","v":"E9650564"},{"$f":"IF(AND(Configurator!$D$24>\"H\",Configurator!$T$5=\"6\"),\"E9651367\",\"E9650564\")","v":"E9650564"},{"$f":"IF(AND(Configurator!$D$24>\"H\",Configurator!$T$5=\"6\"),\"E9651367\",\"E9650564\")","v":"E9650564"},{"$f":"IF(AND(Configurator!$D$24>\"H\",Configurator!$T$5=\"6\"),\"E9651367\",\"E9650564\")","v":"E9650564"},{"$f":"IF(AND(Configurator!$D$24>\"H\",Configurator!$T$5=\"6\"),\"E9651367\",\"E9650564\")","v":"E9650564"},{"$f":"IF(AND(Configurator!$D$24>\"H\",Configurator!$T$5=\"6\"),\"E9651367\",\"E9650564\")","v":"E9650564"},{"$f":"IF(AND(Configurator!$D$24>\"H\",Configurator!$T$5=\"6\"),\"E9651367\",\"E9650564\")","v":"E9650564"},{"$f":"IF(AND(Configurator!$D$24>\"H\",Configurator!$T$5=\"6\"),\"E9651367\",\"E9650564\")","v":"E9650564"},{"$f":"IF(AND(Configurator!$D$24>\"H\",Configurator!$T$5=\"6\"),\"E9651367\",\"E9650564\")","v":"E9650564"},{"$f":"IF(AND(Configurator!$D$24>\"H\",Configurator!$T$5=\"6\"),\"E9651367\",\"E9650564\")","v":"E9650564"},{"$f":"IF(AND(Configurator!$D$24>\"H\",Configurator!$T$5=\"6\"),\"E9651367\",\"E9650564\")","v":"E9650564"},{"$f":"IF(AND(Configurator!$D$24>\"H\",Configurator!$T$5=\"6\"),\"E9651367\",\"E9650564\")","v":"E9650564"},{"$f":"IF(AND(Configurator!$D$24>\"H\",Configurator!$T$5=\"6\"),\"E9651367\",\"E9650564\")","v":"E9650564"},{"$f":"IF(AND(Configurator!$D$24>\"H\",Configurator!$T$5=\"6\"),\"E9651367\",\"E9650564\")","v":"E9650564"},{"$f":"IF(AND(Configurator!$D$24>\"H\",Configurator!$T$5=\"6\"),\"E9651367\",\"E9650564\")","v":"E9650564"},{"$f":"IF(AND(Configurator!$D$24>\"H\",Configurator!$T$5=\"6\"),\"E9651367\",\"E9650564\")","v":"E9650564"},{"$f":"IF(AND(Configurator!$D$24>\"H\",Configurator!$T$5=\"6\"),\"E9651367\",\"E9650564\")","v":"E9650564"},{"$f":"IF(AND(Configurator!$D$24>\"H\",Configurator!$T$5=\"6\"),\"E9651367\",\"E9650564\")","v":"E9650564"},{"$f":"IF(AND(Configurator!$D$24>\"H\",Configurator!$T$5=\"6\"),\"E9651367\",\"E9650564\")","v":"E9650564"},{"$f":"IF(AND(Configurator!$D$24>\"H\",Configurator!$T$5=\"6\"),\"E9651367\",\"E9650564\")","v":"E9650564"},{"$f":"IF(AND(Configurator!$D$24>\"H\",Configurator!$T$5=\"6\"),\"E9651367\",\"E9650564\")","v":"E9650564"},{"$f":"IF(AND(Configurator!$D$24>\"H\",Configurator!$T$5=\"6\"),\"E9651367\",\"E9650564\")","v":"E9650564"},{"$f":"IF(AND(Configurator!$D$24>\"H\",Configurator!$T$5=\"6\"),\"E9651367\",\"E9650564\")","v":"E9650564"},{"$f":"IF(AND(Configurator!$D$24>\"H\",Configurator!$T$5=\"6\"),\"E9651367\",\"E9650564\")","v":"E9650564"},{"$f":"IF(AND(Configurator!$D$24>\"H\",Configurator!$T$5=\"6\"),\"E9651367\",\"E9650564\")","v":"E9650564"},{"$f":"IF(AND(Configurator!$D$24>\"H\",Configurator!$T$5=\"6\"),\"E9651367\",\"E9650564\")","v":"E9650564"},{"$f":"IF(AND(Configurator!$D$24>\"H\",Configurator!$T$5=\"6\"),\"E9651367\",\"E9650564\")","v":"E9650564"},{"$f":"IF(AND(Configurator!$D$24>\"H\",Configurator!$T$5=\"6\"),\"E9651367\",\"E9650564\")","v":"E9650564"},{"$f":"IF(AND(Configurator!$D$24>\"H\",Configurator!$T$5=\"6\"),\"E9651367\",\"E9650564\")","v":"E9650564"},{"$f":"IF(AND(Configurator!$D$24>\"H\",Configurator!$T$5=\"6\"),\"E9651367\",\"E9650564\")","v":"E9650564"},{"$f":"IF(AND(Configurator!$D$24>\"H\",Configurator!$T$5=\"6\"),\"E9651367\",\"E9650564\")","v":"E9650564"},{"$f":"IF(AND(Configurator!$D$24>\"H\",Configurator!$T$5=\"6\"),\"E9651367\",\"E9650564\")","v":"E9650564"},{"$f":"IF(AND(Configurator!$D$24>\"H\",Configurator!$T$5=\"6\"),\"E9651367\",\"E9650564\")","v":"E9650564"},{"$f":"IF(AND(Configurator!$D$24>\"H\",Configurator!$T$5=\"6\"),\"E9651367\",\"E9650564\")","v":"E9650564"},{"$f":"IF(AND(Configurator!$D$24>\"H\",Configurator!$T$5=\"6\"),\"E9651367\",\"E9650564\")","v":"E9650564"},{"$f":"IF(AND(Configurator!$D$24>\"H\",Configurator!$T$5=\"6\"),\"E9651367\",\"E9650564\")","v":"E9650564"},{"$f":"IF(AND(Configurator!$D$24>\"H\",Configurator!$T$5=\"6\"),\"E9651367\",\"E9650564\")","v":"E9650564"},{"$f":"IF(AND(Configurator!$D$24>\"H\",Configurator!$T$5=\"6\"),\"E9651367\",\"E9650564\")","v":"E9650564"},{"$f":"IF(AND(Configurator!$D$24>\"H\",Configurator!$T$5=\"6\"),\"E9651367\",\"E9650564\")","v":"E9650564"},{"$f":"IF(AND(Configurator!$D$24>\"H\",Configurator!$T$5=\"6\"),\"E9651367\",\"E9650564\")","v":"E9650564"},{"$f":"IF(AND(Configurator!$D$24>\"H\",Configurator!$T$5=\"6\"),\"E9651367\",\"E9650564\")","v":"E9650564"},{"$f":"IF(AND(Configurator!$D$24>\"H\",Configurator!$T$5=\"6\"),\"E9651367\",\"E9650564\")","v":"E9650564"},{"$f":"IF(AND(Configurator!$D$24>\"H\",Configurator!$T$5=\"6\"),\"E9651367\",\"E9650564\")","v":"E9650564"},{"$f":"IF(AND(Configurator!$D$24>\"H\",Configurator!$T$5=\"6\"),\"E9651367\",\"E9650564\")","v":"E9650564"},{"$f":"IF(AND(Configurator!$D$24>\"H\",Configurator!$T$5=\"6\"),\"E9651367\",\"E9650564\")","v":"E9650564"},{"$f":"IF(AND(Configurator!$D$24>\"H\",Configurator!$T$5=\"6\"),\"E9651367\",\"E9650564\")","v":"E9650564"},{"$f":"IF(AND(Configurator!$D$24>\"H\",Configurator!$T$5=\"6\"),\"E9651367\",\"E9650564\")","v":"E9650564"},{"$f":"IF(AND(Configurator!$D$24>\"H\",Configurator!$T$5=\"6\"),\"E9651367\",\"E9650564\")","v":"E9650564"},{"$f":"IF(AND(Configurator!$D$24>\"H\",Configurator!$T$5=\"6\"),\"E9651367\",\"E9650564\")","v":"E9650564"},{"$f":"IF(AND(Configurator!$D$24>\"H\",Configurator!$T$5=\"6\"),\"E9651367\",\"E9650564\")","v":"E9650564"},{"$f":"IF(AND(Configurator!$D$24>\"H\",Configurator!$T$5=\"6\"),\"E9651367\",\"E9650564\")","v":"E9650564"},{"$f":"IF(AND(Configurator!$D$24>\"H\",Configurator!$T$5=\"6\"),\"E9651367\",\"E9650564\")","v":"E9650564"},{"$f":"IF(AND(Configurator!$D$24>\"H\",Configurator!$T$5=\"6\"),\"E9651367\",\"E9650564\")","v":"E9650564"},{"$f":"IF(AND(Configurator!$D$24>\"H\",Configurator!$T$5=\"6\"),\"E9651367\",\"E9650564\")","v":"E9650564"},{"$f":"IF(AND(Configurator!$D$24>\"H\",Configurator!$T$5=\"6\"),\"E9651367\",\"E9650564\")","v":"E9650564"},{"$f":"IF(AND(Configurator!$D$24>\"H\",Configurator!$T$5=\"6\"),\"E9651367\",\"E9650564\")","v":"E9650564"},{"$f":"IF(AND(Configurator!$D$24>\"H\",Configurator!$T$5=\"6\"),\"E9651367\",\"E9650564\")","v":"E9650564"},{"$f":"IF(AND(Configurator!$D$24>\"H\",Configurator!$T$5=\"6\"),\"E9651367\",\"E9650564\")","v":"E9650564"},{"$f":"IF(AND(Configurator!$D$24>\"H\",Configurator!$T$5=\"6\"),\"E9651367\",\"E9650564\")","v":"E9650564"},{"$f":"IF(AND(Configurator!$D$24>\"H\",Configurator!$T$5=\"6\"),\"E9651367\",\"E9650564\")","v":"E9650564"}]
[null,{"$f":"IF(AND(Configurator!$D$24>\"H\",Configurator!$T$5=\"6\"),\"E9651908\",\"E9650740\")","v":"E9650740"},{"$f":"IF(AND(Configurator!$D$24>\"H\",Configurator!$T$5=\"6\"),\"E9651908\",\"E9650740\")","v":"E9650740"},{"$f":"IF(AND(Configurator!$D$24>\"H\",Configurator!$T$5=\"6\"),\"E9651908\",\"E9650740\")","v":"E9650740"},{"$f":"IF(AND(Configurator!$D$24>\"H\",Configurator!$T$5=\"6\"),\"E9651908\",\"E9650740\")","v":"E9650740"},{"$f":"IF(AND(Configurator!$D$24>\"H\",Configurator!$T$5=\"6\"),\"E9651908\",\"E9650740\")","v":"E9650740"},{"$f":"IF(AND(Configurator!$D$24>\"H\",Configurator!$T$5=\"6\"),\"E9651908\",\"E9650740\")","v":"E9650740"},{"$f":"IF(AND(Configurator!$D$24>\"H\",Configurator!$T$5=\"6\"),\"E9651908\",\"E9650740\")","v":"E9650740"},{"$f":"IF(AND(Configurator!$D$24>\"H\",Configurator!$T$5=\"6\"),\"E9651908\",\"E9650740\")","v":"E9650740"},{"$f":"IF(AND(Configurator!$D$24>\"H\",Configurator!$T$5=\"6\"),\"E9651908\",\"E9650740\")","v":"E9650740"},{"$f":"IF(AND(Configurator!$D$24>\"H\",Configurator!$T$5=\"6\"),\"E9651908\",\"E9650740\")","v":"E9650740"},{"$f":"IF(AND(Configurator!$D$24>\"H\",Configurator!$T$5=\"6\"),\"E9651908\",\"E9650740\")","v":"E9650740"},{"$f":"IF(AND(Configurator!$D$24>\"H\",Configurator!$T$5=\"6\"),\"E9651908\",\"E9650740\")","v":"E9650740"},{"$f":"IF(AND(Configurator!$D$24>\"H\",Configurator!$T$5=\"6\"),\"E9651908\",\"E9650740\")","v":"E9650740"},{"$f":"IF(AND(Configurator!$D$24>\"H\",Configurator!$T$5=\"6\"),\"E9651908\",\"E9650740\")","v":"E9650740"},{"$f":"IF(AND(Configurator!$D$24>\"H\",Configurator!$T$5=\"6\"),\"E9651908\",\"E9650740\")","v":"E9650740"},{"$f":"IF(AND(Configurator!$D$24>\"H\",Configurator!$T$5=\"6\"),\"E9651908\",\"E9650740\")","v":"E9650740"},{"$f":"IF(AND(Configurator!$D$24>\"H\",Configurator!$T$5=\"6\"),\"E9651908\",\"E9650740\")","v":"E9650740"},{"$f":"IF(AND(Configurator!$D$24>\"H\",Configurator!$T$5=\"6\"),\"E9651908\",\"E9650740\")","v":"E9650740"},{"$f":"IF(AND(Configurator!$D$24>\"H\",Configurator!$T$5=\"6\"),\"E9651908\",\"E9650740\")","v":"E9650740"},{"$f":"IF(AND(Configurator!$D$24>\"H\",Configurator!$T$5=\"6\"),\"E9651908\",\"E9650740\")","v":"E9650740"},{"$f":"IF(AND(Configurator!$D$24>\"H\",Configurator!$T$5=\"6\"),\"E9651908\",\"E9650740\")","v":"E9650740"},{"$f":"IF(AND(Configurator!$D$24>\"H\",Configurator!$T$5=\"6\"),\"E9651908\",\"E9650740\")","v":"E9650740"},{"$f":"IF(AND(Configurator!$D$24>\"H\",Configurator!$T$5=\"6\"),\"E9651908\",\"E9650740\")","v":"E9650740"},{"$f":"IF(AND(Configurator!$D$24>\"H\",Configurator!$T$5=\"6\"),\"E9651908\",\"E9650740\")","v":"E9650740"},{"$f":"IF(AND(Configurator!$D$24>\"H\",Configurator!$T$5=\"6\"),\"E9651908\",\"E9650740\")","v":"E9650740"},{"$f":"IF(AND(Configurator!$D$24>\"H\",Configurator!$T$5=\"6\"),\"E9651908\",\"E9650740\")","v":"E9650740"},{"$f":"IF(AND(Configurator!$D$24>\"H\",Configurator!$T$5=\"6\"),\"E9651908\",\"E9650740\")","v":"E9650740"},{"$f":"IF(AND(Configurator!$D$24>\"H\",Configurator!$T$5=\"6\"),\"E9651908\",\"E9650740\")","v":"E9650740"},{"$f":"IF(AND(Configurator!$D$24>\"H\",Configurator!$T$5=\"6\"),\"E9651908\",\"E9650740\")","v":"E9650740"},{"$f":"IF(AND(Configurator!$D$24>\"H\",Configurator!$T$5=\"6\"),\"E9651908\",\"E9650740\")","v":"E9650740"},{"$f":"IF(AND(Configurator!$D$24>\"H\",Configurator!$T$5=\"6\"),\"E9651908\",\"E9650740\")","v":"E9650740"},{"$f":"IF(AND(Configurator!$D$24>\"H\",Configurator!$T$5=\"6\"),\"E9651908\",\"E9650740\")","v":"E9650740"},{"$f":"IF(AND(Configurator!$D$24>\"H\",Configurator!$T$5=\"6\"),\"E9651908\",\"E9650740\")","v":"E9650740"},{"$f":"IF(AND(Configurator!$D$24>\"H\",Configurator!$T$5=\"6\"),\"E9651908\",\"E9650740\")","v":"E9650740"},{"$f":"IF(AND(Configurator!$D$24>\"H\",Configurator!$T$5=\"6\"),\"E9651908\",\"E9650740\")","v":"E9650740"},{"$f":"IF(AND(Configurator!$D$24>\"H\",Configurator!$T$5=\"6\"),\"E9651908\",\"E9650740\")","v":"E9650740"},{"$f":"IF(AND(Configurator!$D$24>\"H\",Configurator!$T$5=\"6\"),\"E9651908\",\"E9650740\")","v":"E9650740"},{"$f":"IF(AND(Configurator!$D$24>\"H\",Configurator!$T$5=\"6\"),\"E9651908\",\"E9650740\")","v":"E9650740"},{"$f":"IF(AND(Configurator!$D$24>\"H\",Configurator!$T$5=\"6\"),\"E9651908\",\"E9650740\")","v":"E9650740"},{"$f":"IF(AND(Configurator!$D$24>\"H\",Configurator!$T$5=\"6\"),\"E9651908\",\"E9650740\")","v":"E9650740"},{"$f":"IF(AND(Configurator!$D$24>\"H\",Configurator!$T$5=\"6\"),\"E9651908\",\"E9650740\")","v":"E9650740"},{"$f":"IF(AND(Configurator!$D$24>\"H\",Configurator!$T$5=\"6\"),\"E9651908\",\"E9650740\")","v":"E9650740"},{"$f":"IF(AND(Configurator!$D$24>\"H\",Configurator!$T$5=\"6\"),\"E9651908\",\"E9650740\")","v":"E9650740"},{"$f":"IF(AND(Configurator!$D$24>\"H\",Configurator!$T$5=\"6\"),\"E9651908\",\"E9650740\")","v":"E9650740"},{"$f":"IF(AND(Configurator!$D$24>\"H\",Configurator!$T$5=\"6\"),\"E9651908\",\"E9650740\")","v":"E9650740"},{"$f":"IF(AND(Configurator!$D$24>\"H\",Configurator!$T$5=\"6\"),\"E9651908\",\"E9650740\")","v":"E9650740"},{"$f":"IF(AND(Configurator!$D$24>\"H\",Configurator!$T$5=\"6\"),\"E9651908\",\"E9650740\")","v":"E9650740"},{"$f":"IF(AND(Configurator!$D$24>\"H\",Configurator!$T$5=\"6\"),\"E9651908\",\"E9650740\")","v":"E9650740"},{"$f":"IF(AND(Configurator!$D$24>\"H\",Configurator!$T$5=\"6\"),\"E9651908\",\"E9650740\")","v":"E9650740"},{"$f":"IF(AND(Configurator!$D$24>\"H\",Configurator!$T$5=\"6\"),\"E9651908\",\"E9650740\")","v":"E9650740"},{"$f":"IF(AND(Configurator!$D$24>\"H\",Configurator!$T$5=\"6\"),\"E9651908\",\"E9650740\")","v":"E9650740"},{"$f":"IF(AND(Configurator!$D$24>\"H\",Configurator!$T$5=\"6\"),\"E9651908\",\"E9650740\")","v":"E9650740"},{"$f":"IF(AND(Configurator!$D$24>\"H\",Configurator!$T$5=\"6\"),\"E9651908\",\"E9650740\")","v":"E9650740"},{"$f":"IF(AND(Configurator!$D$24>\"H\",Configurator!$T$5=\"6\"),\"E9651908\",\"E9650740\")","v":"E9650740"},{"$f":"IF(AND(Configurator!$D$24>\"H\",Configurator!$T$5=\"6\"),\"E9651908\",\"E9650740\")","v":"E9650740"},{"$f":"IF(AND(Configurator!$D$24>\"H\",Configurator!$T$5=\"6\"),\"E9651908\",\"E9650740\")","v":"E9650740"},{"$f":"IF(AND(Configurator!$D$24>\"H\",Configurator!$T$5=\"6\"),\"E9651908\",\"E9650740\")","v":"E9650740"},{"$f":"IF(AND(Configurator!$D$24>\"H\",Configurator!$T$5=\"6\"),\"E9651908\",\"E9650740\")","v":"E9650740"},{"$f":"IF(AND(Configurator!$D$24>\"H\",Configurator!$T$5=\"6\"),\"E9651908\",\"E9650740\")","v":"E9650740"},{"$f":"IF(AND(Configurator!$D$24>\"H\",Configurator!$T$5=\"6\"),\"E9651908\",\"E9650740\")","v":"E9650740"},{"$f":"IF(AND(Configurator!$D$24>\"H\",Configurator!$T$5=\"6\"),\"E9651908\",\"E9650740\")","v":"E9650740"},{"$f":"IF(AND(Configurator!$D$24>\"H\",Configurator!$T$5=\"6\"),\"E9651908\",\"E9650740\")","v":"E9650740"},{"$f":"IF(AND(Configurator!$D$24>\"H\",Configurator!$T$5=\"6\"),\"E9651908\",\"E9650740\")","v":"E9650740"},{"$f":"IF(AND(Configurator!$D$24>\"H\",Configurator!$T$5=\"6\"),\"E9651908\",\"E9650740\")","v":"E9650740"},{"$f":"IF(AND(Configurator!$D$24>\"H\",Configurator!$T$5=\"6\"),\"E9651908\",\"E9650740\")","v":"E9650740"},{"$f":"IF(AND(Configurator!$D$24>\"H\",Configurator!$T$5=\"6\"),\"E9651908\",\"E9650740\")","v":"E9650740"},{"$f":"IF(AND(Configurator!$D$24>\"H\",Configurator!$T$5=\"6\"),\"E9651908\",\"E9650740\")","v":"E9650740"},{"$f":"IF(AND(Configurator!$D$24>\"H\",Configurator!$T$5=\"6\"),\"E9651908\",\"E9650740\")","v":"E9650740"},{"$f":"IF(AND(Configurator!$D$24>\"H\",Configurator!$T$5=\"6\"),\"E9651908\",\"E9650740\")","v":"E9650740"},{"$f":"IF(AND(Configurator!$D$24>\"H\",Configurator!$T$5=\"6\"),\"E9651908\",\"E9650740\")","v":"E9650740"},{"$f":"IF(AND(Configurator!$D$24>\"H\",Configurator!$T$5=\"6\"),\"E9651908\",\"E9650740\")","v":"E9650740"},{"$f":"IF(AND(Configurator!$D$24>\"H\",Configurator!$T$5=\"6\"),\"E9651908\",\"E9650740\")","v":"E9650740"},{"$f":"IF(AND(Configurator!$D$24>\"H\",Configurator!$T$5=\"6\"),\"E9651908\",\"E9650740\")","v":"E9650740"},{"$f":"IF(AND(Configurator!$D$24>\"H\",Configurator!$T$5=\"6\"),\"E9651908\",\"E9650740\")","v":"E9650740"},{"$f":"IF(AND(Configurator!$D$24>\"H\",Configurator!$T$5=\"6\"),\"E9651908\",\"E9650740\")","v":"E9650740"}]
[null,{"$f":"IF(AND(Configurator!$D$24>\"H\",Configurator!$T$5=\"6\"),\"E9651914\",\"E9650741\")","v":"E9650741"},{"$f":"IF(AND(Configurator!$D$24>\"H\",Configurator!$T$5=\"6\"),\"E9651914\",\"E9650741\")","v":"E9650741"},{"$f":"IF(AND(Configurator!$D$24>\"H\",Configurator!$T$5=\"6\"),\"E9651914\",\"E9650741\")","v":"E9650741"},{"$f":"IF(AND(Configurator!$D$24>\"H\",Configurator!$T$5=\"6\"),\"E9651914\",\"E9650741\")","v":"E9650741"},{"$f":"IF(AND(Configurator!$D$24>\"H\",Configurator!$T$5=\"6\"),\"E9651914\",\"E9650741\")","v":"E9650741"},{"$f":"IF(AND(Configurator!$D$24>\"H\",Configurator!$T$5=\"6\"),\"E9651914\",\"E9650741\")","v":"E9650741"},{"$f":"IF(AND(Configurator!$D$24>\"H\",Configurator!$T$5=\"6\"),\"E9651914\",\"E9650741\")","v":"E9650741"},{"$f":"IF(AND(Configurator!$D$24>\"H\",Configurator!$T$5=\"6\"),\"E9651914\",\"E9650741\")","v":"E9650741"},{"$f":"IF(AND(Configurator!$D$24>\"H\",Configurator!$T$5=\"6\"),\"E9651914\",\"E9650741\")","v":"E9650741"},{"$f":"IF(AND(Configurator!$D$24>\"H\",Configurator!$T$5=\"6\"),\"E9651914\",\"E9650741\")","v":"E9650741"},{"$f":"IF(AND(Configurator!$D$24>\"H\",Configurator!$T$5=\"6\"),\"E9651914\",\"E9650741\")","v":"E9650741"},{"$f":"IF(AND(Configurator!$D$24>\"H\",Configurator!$T$5=\"6\"),\"E9651914\",\"E9650741\")","v":"E9650741"},{"$f":"IF(AND(Configurator!$D$24>\"H\",Configurator!$T$5=\"6\"),\"E9651914\",\"E9650741\")","v":"E9650741"},{"$f":"IF(AND(Configurator!$D$24>\"H\",Configurator!$T$5=\"6\"),\"E9651914\",\"E9650741\")","v":"E9650741"},{"$f":"IF(AND(Configurator!$D$24>\"H\",Configurator!$T$5=\"6\"),\"E9651914\",\"E9650741\")","v":"E9650741"},{"$f":"IF(AND(Configurator!$D$24>\"H\",Configurator!$T$5=\"6\"),\"E9651914\",\"E9650741\")","v":"E9650741"},{"$f":"IF(AND(Configurator!$D$24>\"H\",Configurator!$T$5=\"6\"),\"E9651914\",\"E9650741\")","v":"E9650741"},{"$f":"IF(AND(Configurator!$D$24>\"H\",Configurator!$T$5=\"6\"),\"E9651914\",\"E9650741\")","v":"E9650741"},{"$f":"IF(AND(Configurator!$D$24>\"H\",Configurator!$T$5=\"6\"),\"E9651914\",\"E9650741\")","v":"E9650741"},{"$f":"IF(AND(Configurator!$D$24>\"H\",Configurator!$T$5=\"6\"),\"E9651914\",\"E9650741\")","v":"E9650741"},{"$f":"IF(AND(Configurator!$D$24>\"H\",Configurator!$T$5=\"6\"),\"E9651914\",\"E9650741\")","v":"E9650741"},{"$f":"IF(AND(Configurator!$D$24>\"H\",Configurator!$T$5=\"6\"),\"E9651914\",\"E9650741\")","v":"E9650741"},{"$f":"IF(AND(Configurator!$D$24>\"H\",Configurator!$T$5=\"6\"),\"E9651914\",\"E9650741\")","v":"E9650741"},{"$f":"IF(AND(Configurator!$D$24>\"H\",Configurator!$T$5=\"6\"),\"E9651914\",\"E9650741\")","v":"E9650741"},{"$f":"IF(AND(Configurator!$D$24>\"H\",Configurator!$T$5=\"6\"),\"E9651914\",\"E9650741\")","v":"E9650741"},{"$f":"IF(AND(Configurator!$D$24>\"H\",Configurator!$T$5=\"6\"),\"E9651914\",\"E9650741\")","v":"E9650741"},{"$f":"IF(AND(Configurator!$D$24>\"H\",Configurator!$T$5=\"6\"),\"E9651914\",\"E9650741\")","v":"E9650741"},{"$f":"IF(AND(Configurator!$D$24>\"H\",Configurator!$T$5=\"6\"),\"E9651914\",\"E9650741\")","v":"E9650741"},{"$f":"IF(AND(Configurator!$D$24>\"H\",Configurator!$T$5=\"6\"),\"E9651914\",\"E9650741\")","v":"E9650741"},{"$f":"IF(AND(Configurator!$D$24>\"H\",Configurator!$T$5=\"6\"),\"E9651914\",\"E9650741\")","v":"E9650741"},{"$f":"IF(AND(Configurator!$D$24>\"H\",Configurator!$T$5=\"6\"),\"E9651914\",\"E9650741\")","v":"E9650741"},{"$f":"IF(AND(Configurator!$D$24>\"H\",Configurator!$T$5=\"6\"),\"E9651914\",\"E9650741\")","v":"E9650741"},{"$f":"IF(AND(Configurator!$D$24>\"H\",Configurator!$T$5=\"6\"),\"E9651914\",\"E9650741\")","v":"E9650741"},{"$f":"IF(AND(Configurator!$D$24>\"H\",Configurator!$T$5=\"6\"),\"E9651914\",\"E9650741\")","v":"E9650741"},{"$f":"IF(AND(Configurator!$D$24>\"H\",Configurator!$T$5=\"6\"),\"E9651914\",\"E9650741\")","v":"E9650741"},{"$f":"IF(AND(Configurator!$D$24>\"H\",Configurator!$T$5=\"6\"),\"E9651914\",\"E9650741\")","v":"E9650741"},{"$f":"IF(AND(Configurator!$D$24>\"H\",Configurator!$T$5=\"6\"),\"E9651914\",\"E9650741\")","v":"E9650741"},{"$f":"IF(AND(Configurator!$D$24>\"H\",Configurator!$T$5=\"6\"),\"E9651914\",\"E9650741\")","v":"E9650741"},{"$f":"IF(AND(Configurator!$D$24>\"H\",Configurator!$T$5=\"6\"),\"E9651914\",\"E9650741\")","v":"E9650741"},{"$f":"IF(AND(Configurator!$D$24>\"H\",Configurator!$T$5=\"6\"),\"E9651914\",\"E9650741\")","v":"E9650741"},{"$f":"IF(AND(Configurator!$D$24>\"H\",Configurator!$T$5=\"6\"),\"E9651914\",\"E9650741\")","v":"E9650741"},{"$f":"IF(AND(Configurator!$D$24>\"H\",Configurator!$T$5=\"6\"),\"E9651914\",\"E9650741\")","v":"E9650741"},{"$f":"IF(AND(Configurator!$D$24>\"H\",Configurator!$T$5=\"6\"),\"E9651914\",\"E9650741\")","v":"E9650741"},{"$f":"IF(AND(Configurator!$D$24>\"H\",Configurator!$T$5=\"6\"),\"E9651914\",\"E9650741\")","v":"E9650741"},{"$f":"IF(AND(Configurator!$D$24>\"H\",Configurator!$T$5=\"6\"),\"E9651914\",\"E9650741\")","v":"E9650741"},{"$f":"IF(AND(Configurator!$D$24>\"H\",Configurator!$T$5=\"6\"),\"E9651914\",\"E9650741\")","v":"E9650741"},{"$f":"IF(AND(Configurator!$D$24>\"H\",Configurator!$T$5=\"6\"),\"E9651914\",\"E9650741\")","v":"E9650741"},{"$f":"IF(AND(Configurator!$D$24>\"H\",Configurator!$T$5=\"6\"),\"E9651914\",\"E9650741\")","v":"E9650741"},{"$f":"IF(AND(Configurator!$D$24>\"H\",Configurator!$T$5=\"6\"),\"E9651914\",\"E9650741\")","v":"E9650741"},{"$f":"IF(AND(Configurator!$D$24>\"H\",Configurator!$T$5=\"6\"),\"E9651914\",\"E9650741\")","v":"E9650741"},{"$f":"IF(AND(Configurator!$D$24>\"H\",Configurator!$T$5=\"6\"),\"E9651914\",\"E9650741\")","v":"E9650741"},{"$f":"IF(AND(Configurator!$D$24>\"H\",Configurator!$T$5=\"6\"),\"E9651914\",\"E9650741\")","v":"E9650741"},{"$f":"IF(AND(Configurator!$D$24>\"H\",Configurator!$T$5=\"6\"),\"E9651914\",\"E9650741\")","v":"E9650741"},{"$f":"IF(AND(Configurator!$D$24>\"H\",Configurator!$T$5=\"6\"),\"E9651914\",\"E9650741\")","v":"E9650741"},{"$f":"IF(AND(Configurator!$D$24>\"H\",Configurator!$T$5=\"6\"),\"E9651914\",\"E9650741\")","v":"E9650741"},{"$f":"IF(AND(Configurator!$D$24>\"H\",Configurator!$T$5=\"6\"),\"E9651914\",\"E9650741\")","v":"E9650741"},{"$f":"IF(AND(Configurator!$D$24>\"H\",Configurator!$T$5=\"6\"),\"E9651914\",\"E9650741\")","v":"E9650741"},{"$f":"IF(AND(Configurator!$D$24>\"H\",Configurator!$T$5=\"6\"),\"E9651914\",\"E9650741\")","v":"E9650741"},{"$f":"IF(AND(Configurator!$D$24>\"H\",Configurator!$T$5=\"6\"),\"E9651914\",\"E9650741\")","v":"E9650741"},{"$f":"IF(AND(Configurator!$D$24>\"H\",Configurator!$T$5=\"6\"),\"E9651914\",\"E9650741\")","v":"E9650741"},{"$f":"IF(AND(Configurator!$D$24>\"H\",Configurator!$T$5=\"6\"),\"E9651914\",\"E9650741\")","v":"E9650741"},{"$f":"IF(AND(Configurator!$D$24>\"H\",Configurator!$T$5=\"6\"),\"E9651914\",\"E9650741\")","v":"E9650741"},{"$f":"IF(AND(Configurator!$D$24>\"H\",Configurator!$T$5=\"6\"),\"E9651914\",\"E9650741\")","v":"E9650741"},{"$f":"IF(AND(Configurator!$D$24>\"H\",Configurator!$T$5=\"6\"),\"E9651914\",\"E9650741\")","v":"E9650741"},{"$f":"IF(AND(Configurator!$D$24>\"H\",Configurator!$T$5=\"6\"),\"E9651914\",\"E9650741\")","v":"E9650741"},{"$f":"IF(AND(Configurator!$D$24>\"H\",Configurator!$T$5=\"6\"),\"E9651914\",\"E9650741\")","v":"E9650741"},{"$f":"IF(AND(Configurator!$D$24>\"H\",Configurator!$T$5=\"6\"),\"E9651914\",\"E9650741\")","v":"E9650741"},{"$f":"IF(AND(Configurator!$D$24>\"H\",Configurator!$T$5=\"6\"),\"E9651914\",\"E9650741\")","v":"E9650741"},{"$f":"IF(AND(Configurator!$D$24>\"H\",Configurator!$T$5=\"6\"),\"E9651914\",\"E9650741\")","v":"E9650741"},{"$f":"IF(AND(Configurator!$D$24>\"H\",Configurator!$T$5=\"6\"),\"E9651914\",\"E9650741\")","v":"E9650741"},{"$f":"IF(AND(Configurator!$D$24>\"H\",Configurator!$T$5=\"6\"),\"E9651914\",\"E9650741\")","v":"E9650741"},{"$f":"IF(AND(Configurator!$D$24>\"H\",Configurator!$T$5=\"6\"),\"E9651914\",\"E9650741\")","v":"E9650741"},{"$f":"IF(AND(Configurator!$D$24>\"H\",Configurator!$T$5=\"6\"),\"E9651914\",\"E9650741\")","v":"E9650741"},{"$f":"IF(AND(Configurator!$D$24>\"H\",Configurator!$T$5=\"6\"),\"E9651914\",\"E9650741\")","v":"E9650741"},{"$f":"IF(AND(Configurator!$D$24>\"H\",Configurator!$T$5=\"6\"),\"E9651914\",\"E9650741\")","v":"E9650741"}]
[null,{"$f":"IF(AND(Configurator!$D$24>\"H\",Configurator!$T$5=\"6\"),\"E9651366\",\"E9650552\")","v":"E9650552"},{"$f":"IF(AND(Configurator!$D$24>\"H\",Configurator!$T$5=\"6\"),\"E9651366\",\"E9650552\")","v":"E9650552"},{"$f":"IF(AND(Configurator!$D$24>\"H\",Configurator!$T$5=\"6\"),\"E9651366\",\"E9650552\")","v":"E9650552"},{"$f":"IF(AND(Configurator!$D$24>\"H\",Configurator!$T$5=\"6\"),\"E9651366\",\"E9650552\")","v":"E9650552"},{"$f":"IF(AND(Configurator!$D$24>\"H\",Configurator!$T$5=\"6\"),\"E9651366\",\"E9650552\")","v":"E9650552"},{"$f":"IF(AND(Configurator!$D$24>\"H\",Configurator!$T$5=\"6\"),\"E9651366\",\"E9650552\")","v":"E9650552"},{"$f":"IF(AND(Configurator!$D$24>\"H\",Configurator!$T$5=\"6\"),\"E9651366\",\"E9650552\")","v":"E9650552"},{"$f":"IF(AND(Configurator!$D$24>\"H\",Configurator!$T$5=\"6\"),\"E9651366\",\"E9650552\")","v":"E9650552"},{"$f":"IF(AND(Configurator!$D$24>\"H\",Configurator!$T$5=\"6\"),\"E9651366\",\"E9650552\")","v":"E9650552"},{"$f":"IF(AND(Configurator!$D$24>\"H\",Configurator!$T$5=\"6\"),\"E9651366\",\"E9650552\")","v":"E9650552"},{"$f":"IF(AND(Configurator!$D$24>\"H\",Configurator!$T$5=\"6\"),\"E9651366\",\"E9650552\")","v":"E9650552"},{"$f":"IF(AND(Configurator!$D$24>\"H\",Configurator!$T$5=\"6\"),\"E9651366\",\"E9650552\")","v":"E9650552"},{"$f":"IF(AND(Configurator!$D$24>\"H\",Configurator!$T$5=\"6\"),\"E9651366\",\"E9650552\")","v":"E9650552"},{"$f":"IF(AND(Configurator!$D$24>\"H\",Configurator!$T$5=\"6\"),\"E9651366\",\"E9650552\")","v":"E9650552"},{"$f":"IF(AND(Configurator!$D$24>\"H\",Configurator!$T$5=\"6\"),\"E9651366\",\"E9650552\")","v":"E9650552"},{"$f":"IF(AND(Configurator!$D$24>\"H\",Configurator!$T$5=\"6\"),\"E9651366\",\"E9650552\")","v":"E9650552"},{"$f":"IF(AND(Configurator!$D$24>\"H\",Configurator!$T$5=\"6\"),\"E9651366\",\"E9650552\")","v":"E9650552"},{"$f":"IF(AND(Configurator!$D$24>\"H\",Configurator!$T$5=\"6\"),\"E9651366\",\"E9650552\")","v":"E9650552"},{"$f":"IF(AND(Configurator!$D$24>\"H\",Configurator!$T$5=\"6\"),\"E9651366\",\"E9650552\")","v":"E9650552"},{"$f":"IF(AND(Configurator!$D$24>\"H\",Configurator!$T$5=\"6\"),\"E9651366\",\"E9650552\")","v":"E9650552"},{"$f":"IF(AND(Configurator!$D$24>\"H\",Configurator!$T$5=\"6\"),\"E9651366\",\"E9650552\")","v":"E9650552"},{"$f":"IF(AND(Configurator!$D$24>\"H\",Configurator!$T$5=\"6\"),\"E9651366\",\"E9650552\")","v":"E9650552"},{"$f":"IF(AND(Configurator!$D$24>\"H\",Configurator!$T$5=\"6\"),\"E9651366\",\"E9650552\")","v":"E9650552"},{"$f":"IF(AND(Configurator!$D$24>\"H\",Configurator!$T$5=\"6\"),\"E9651366\",\"E9650552\")","v":"E9650552"},{"$f":"IF(AND(Configurator!$D$24>\"H\",Configurator!$T$5=\"6\"),\"E9651366\",\"E9650552\")","v":"E9650552"},{"$f":"IF(AND(Configurator!$D$24>\"H\",Configurator!$T$5=\"6\"),\"E9651366\",\"E9650552\")","v":"E9650552"},{"$f":"IF(AND(Configurator!$D$24>\"H\",Configurator!$T$5=\"6\"),\"E9651366\",\"E9650552\")","v":"E9650552"},{"$f":"IF(AND(Configurator!$D$24>\"H\",Configurator!$T$5=\"6\"),\"E9651366\",\"E9650552\")","v":"E9650552"},{"$f":"IF(AND(Configurator!$D$24>\"H\",Configurator!$T$5=\"6\"),\"E9651366\",\"E9650552\")","v":"E9650552"},{"$f":"IF(AND(Configurator!$D$24>\"H\",Configurator!$T$5=\"6\"),\"E9651366\",\"E9650552\")","v":"E9650552"},{"$f":"IF(AND(Configurator!$D$24>\"H\",Configurator!$T$5=\"6\"),\"E9651366\",\"E9650552\")","v":"E9650552"},{"$f":"IF(AND(Configurator!$D$24>\"H\",Configurator!$T$5=\"6\"),\"E9651366\",\"E9650552\")","v":"E9650552"},{"$f":"IF(AND(Configurator!$D$24>\"H\",Configurator!$T$5=\"6\"),\"E9651366\",\"E9650552\")","v":"E9650552"},{"$f":"IF(AND(Configurator!$D$24>\"H\",Configurator!$T$5=\"6\"),\"E9651366\",\"E9650552\")","v":"E9650552"},{"$f":"IF(AND(Configurator!$D$24>\"H\",Configurator!$T$5=\"6\"),\"E9651366\",\"E9650552\")","v":"E9650552"},{"$f":"IF(AND(Configurator!$D$24>\"H\",Configurator!$T$5=\"6\"),\"E9651366\",\"E9650552\")","v":"E9650552"},{"$f":"IF(AND(Configurator!$D$24>\"H\",Configurator!$T$5=\"6\"),\"E9651366\",\"E9650552\")","v":"E9650552"},{"$f":"IF(AND(Configurator!$D$24>\"H\",Configurator!$T$5=\"6\"),\"E9651366\",\"E9650552\")","v":"E9650552"},{"$f":"IF(AND(Configurator!$D$24>\"H\",Configurator!$T$5=\"6\"),\"E9651366\",\"E9650552\")","v":"E9650552"},{"$f":"IF(AND(Configurator!$D$24>\"H\",Configurator!$T$5=\"6\"),\"E9651366\",\"E9650552\")","v":"E9650552"},{"$f":"IF(AND(Configurator!$D$24>\"H\",Configurator!$T$5=\"6\"),\"E9651366\",\"E9650552\")","v":"E9650552"},{"$f":"IF(AND(Configurator!$D$24>\"H\",Configurator!$T$5=\"6\"),\"E9651366\",\"E9650552\")","v":"E9650552"},{"$f":"IF(AND(Configurator!$D$24>\"H\",Configurator!$T$5=\"6\"),\"E9651366\",\"E9650552\")","v":"E9650552"},{"$f":"IF(AND(Configurator!$D$24>\"H\",Configurator!$T$5=\"6\"),\"E9651366\",\"E9650552\")","v":"E9650552"},{"$f":"IF(AND(Configurator!$D$24>\"H\",Configurator!$T$5=\"6\"),\"E9651366\",\"E9650552\")","v":"E9650552"},{"$f":"IF(AND(Configurator!$D$24>\"H\",Configurator!$T$5=\"6\"),\"E9651366\",\"E9650552\")","v":"E9650552"},{"$f":"IF(AND(Configurator!$D$24>\"H\",Configurator!$T$5=\"6\"),\"E9651366\",\"E9650552\")","v":"E9650552"},{"$f":"IF(AND(Configurator!$D$24>\"H\",Configurator!$T$5=\"6\"),\"E9651366\",\"E9650552\")","v":"E9650552"},{"$f":"IF(AND(Configurator!$D$24>\"H\",Configurator!$T$5=\"6\"),\"E9651366\",\"E9650552\")","v":"E9650552"},{"$f":"IF(AND(Configurator!$D$24>\"H\",Configurator!$T$5=\"6\"),\"E9651366\",\"E9650552\")","v":"E9650552"},{"$f":"IF(AND(Configurator!$D$24>\"H\",Configurator!$T$5=\"6\"),\"E9651366\",\"E9650552\")","v":"E9650552"},{"$f":"IF(AND(Configurator!$D$24>\"H\",Configurator!$T$5=\"6\"),\"E9651366\",\"E9650552\")","v":"E9650552"},{"$f":"IF(AND(Configurator!$D$24>\"H\",Configurator!$T$5=\"6\"),\"E9651366\",\"E9650552\")","v":"E9650552"},{"$f":"IF(AND(Configurator!$D$24>\"H\",Configurator!$T$5=\"6\"),\"E9651366\",\"E9650552\")","v":"E9650552"},{"$f":"IF(AND(Configurator!$D$24>\"H\",Configurator!$T$5=\"6\"),\"E9651366\",\"E9650552\")","v":"E9650552"},{"$f":"IF(AND(Configurator!$D$24>\"H\",Configurator!$T$5=\"6\"),\"E9651366\",\"E9650552\")","v":"E9650552"},{"$f":"IF(AND(Configurator!$D$24>\"H\",Configurator!$T$5=\"6\"),\"E9651366\",\"E9650552\")","v":"E9650552"},{"$f":"IF(AND(Configurator!$D$24>\"H\",Configurator!$T$5=\"6\"),\"E9651366\",\"E9650552\")","v":"E9650552"},{"$f":"IF(AND(Configurator!$D$24>\"H\",Configurator!$T$5=\"6\"),\"E9651366\",\"E9650552\")","v":"E9650552"},{"$f":"IF(AND(Configurator!$D$24>\"H\",Configurator!$T$5=\"6\"),\"E9651366\",\"E9650552\")","v":"E9650552"},{"$f":"IF(AND(Configurator!$D$24>\"H\",Configurator!$T$5=\"6\"),\"E9651366\",\"E9650552\")","v":"E9650552"},{"$f":"IF(AND(Configurator!$D$24>\"H\",Configurator!$T$5=\"6\"),\"E9651366\",\"E9650552\")","v":"E9650552"},{"$f":"IF(AND(Configurator!$D$24>\"H\",Configurator!$T$5=\"6\"),\"E9651366\",\"E9650552\")","v":"E9650552"},{"$f":"IF(AND(Configurator!$D$24>\"H\",Configurator!$T$5=\"6\"),\"E9651366\",\"E9650552\")","v":"E9650552"},{"$f":"IF(AND(Configurator!$D$24>\"H\",Configurator!$T$5=\"6\"),\"E9651366\",\"E9650552\")","v":"E9650552"},{"$f":"IF(AND(Configurator!$D$24>\"H\",Configurator!$T$5=\"6\"),\"E9651366\",\"E9650552\")","v":"E9650552"},{"$f":"IF(AND(Configurator!$D$24>\"H\",Configurator!$T$5=\"6\"),\"E9651366\",\"E9650552\")","v":"E9650552"},{"$f":"IF(AND(Configurator!$D$24>\"H\",Configurator!$T$5=\"6\"),\"E9651366\",\"E9650552\")","v":"E9650552"},{"$f":"IF(AND(Configurator!$D$24>\"H\",Configurator!$T$5=\"6\"),\"E9651366\",\"E9650552\")","v":"E9650552"},{"$f":"IF(AND(Configurator!$D$24>\"H\",Configurator!$T$5=\"6\"),\"E9651366\",\"E9650552\")","v":"E9650552"},{"$f":"IF(AND(Configurator!$D$24>\"H\",Configurator!$T$5=\"6\"),\"E9651366\",\"E9650552\")","v":"E9650552"},{"$f":"IF(AND(Configurator!$D$24>\"H\",Configurator!$T$5=\"6\"),\"E9651366\",\"E9650552\")","v":"E9650552"},{"$f":"IF(AND(Configurator!$D$24>\"H\",Configurator!$T$5=\"6\"),\"E9651366\",\"E9650552\")","v":"E9650552"},{"$f":"IF(AND(Configurator!$D$24>\"H\",Configurator!$T$5=\"6\"),\"E9651366\",\"E9650552\")","v":"E9650552"},{"$f":"IF(AND(Configurator!$D$24>\"H\",Configurator!$T$5=\"6\"),\"E9651366\",\"E9650552\")","v":"E9650552"}]
[]
[]
[]
[]
[]
[]
[]
[]
[]
[]
[]
[]
[]
[]
[]
[]
[]
[]
[]
[]
[]
[]
[]
[]
[]
[]
[]
[]
[]
[]
[]
[]
[]
[]
[]
[]
[]
[]
[]
[]
[]
[]
[]
[]
[]
[]
[]
[]
[]
[]
[]
[]
[]
[]
[]
[]
[]
[]
[]
[]
[]
[]
[]
[]
[]
[]
[]
[]
[]
[]
[]
[]
[]
[]
[]
[]
[]
[]
[]
[]
[]
[]
[]
[]
[]
[]
[]
[]
[]
[]
[]
[]
[]
[]
[]
[]
[]
[]
[]
[]
[]
[]
[]
[]
[]
[]
[]
[]
[]
[]
[]
[]
[]
[]
[]
[]
[]
[]
[]
[]
[]
[]
[]
[]
[]
[]
[]
[]
[]
[]
[]
[]
[]
[]
[]
[]
[]
[]
[]
[]
[]
[]
[]
[]
[]
[]
[]
[]
[]
[]
[]
[]
[]
[]
[]
[]
[]
[]
[]
[]
[]
[]
[]
[]
[]
[]
[]
[]
[]
[]
[]
[]
[]
[]
[]
[]
[]
[]
[]
[]
[]
[]
[]
[]
[]
[]
[]
[]
[]
[]
[]
[]
[]
[]
[]
[]
[]
[]
[]
[]
[]
[]
[]
[]
[]
[]
[]
[]
[]
[]
[]
[]
[]
[]
[]
[]
[]
[]
[]
[]
[]
[]
[]
[]
[]
[]
[]
[]
[]
[]
[]
[]
[]
[]
[]
[]
[]
[]
[]
[]
[]
[]
[]
[]
[]
[]
[]
[]
[]
[]
[]
[]
[]
[]
[]
[]
[]
[]
[]
[]
[]
[]
[]
[]
[]
[]
[]
[]
[]
[]
[]
[]
[]
[]
[]
[]
[]
[]
[]
[]
[]
[]
[]
[]
[]
[]
[]
[]
[]
[]
[]
[]
[]
[]
[]
[]
[]
[]
[]
[]
[]
[]
[]
[]
[]
[]
[]
[]
[]
[]
[]
[]
[]
[]
[]
[]
[]
[]
[]
[]
[]
[]
[]
[]
[]
[]
[]
[]
[]
[]
[]
[]
[]
[]
[]
[]
[]
[]
[]
[]
[]
[]
[]
[]
[]
[]
[]
[]
[]
[]
[]
[]
[]
[]
[]
[]
[]
[]
[]
[]
[]
[]
[]
[]
[]
[]
[]
[]
[]
[]
[]
[]
[]
[]
[]
[]
[]
[]
[]
[]
[]
[]
[]
[]
[]
[]
[]
[]
[]
[]
[]
[]
[]
[]
[]
[]
[]
[]
[]
[]
[]
[]
[]
[]
[]
[]
[]
[]
[]
[]
[]
[]
[]
[]
[]
[]
[]
[]
[]
[]
[]
[]
[]
[]
[]
[]
[]
[]
[]
[]
[]
[]
[]
[]
[]
[]
[]
[]
[]
[]
[]
[null,null,null,null,null,null,null,null,null,null,null,null,null,null,null,null,null,null,null,null,null,null,null,null,null,null,null,null," "," "," "," "," "," "," "," "," "," "," "," "," "," "," "," "," "," "," "," "," "," "," "," "," "," "," "," "," "," "," "," "," "," "," "," "," "," "," "," "," "," "," "," "," "," "," "," "]
[" "," "," "," "," "," "," "," ",null," "," "," "," "," "," "," "," "," "," "," "," "," "," "," "," "," "," "," "," "," "," "," "," "," "," "," "," "," "," "," "," "," "," "," "," "," "," "," "," "," "," "," "," "," "," "," "," "," "," "," "," "," "," "," "," "," "," "," "," "," "," "," "," "," "," "," ",null,null,null,null,null,null,null,null,null,null," "," "," "," "," "," "," "," "," "," "," "," "," "]
[" "," "," "," "," "," "," "," ",null," "," "," "," "," "," "," "," "," "," "," "," "," "," "," "," "," "," "," "," "," "," "," "," "," "," "," "," "," "," "," "," "," "," "," "," "," "," "," "," "," "," "," "," "," "," "," "," "," "," "," "," "," "," "," "," "," "," "," "," "," "," "," "," "," "," "," ",null,null,null,null,null,null,null,null,null,null," "," "," "," "," "," "," "," "," "," "," "," "," "]
[" "," "," "," "," "," "," "," ",null," "," "," "," "," "," "," "," "," "," "," "," "," "," "," "," "," "," "," "," "," "," "," "," "," "," "," "," "," "," "," "," "," "," "," "," "," "," "," "," "," "," "," "," "," "," "," "," "," "," "," "," "," "," "," "," "," "," "," "," "," "," "," "," "," "," "," ",null,null,null,null,null,null,null,null,null,null," "," "," "," "," "," "," "," "," "," "," "," "," "]
[" "," "," "," "," "," "," "," ",null," "," "," "," "," "," "," "," "," "," "," "," "," "," "," "," "," "," "," "," "," "," "," "," "," "," "," "," "," "," "," "," "," "," "," "," "," "," "," "," "," "," "," "," "," "," "," "," "," "," "," "," "," "," "," "," "," "," "," "," "," "," "," "," "," "," "," ",null,null,null,null,null,null,null,null,null,null," "," "," "," "," "," "," "," "," "," "," "," "," "]
[" "," "," "," "," "," "," "," ",null," "," "," "," "," "," "," "," "," "," "," "," "," "," "," "," "," "," "," "," "," "," "," "," "," "," "," "," "," "," "," "," "," "," "," "," "," "," "," "," "," "," "," "," "," "," "," "," "," "," "," "," "," "," "," "," "," "," "," "," "," "," "," "," "," "," "," ",null,null,null,null,null,null,null,null,null,null," "," "," "," "," "," "," "," "," "," "," "," "," "]
[" "," "," "," "," "," "," "," ",null," "," "," "," "," "," "," "," "," "," "," "," "," "," "," "," "," "," "," "," "," "," "," "," "," "," "," "," "," "," "," "," "," "," "," "," "," "," "," "," "," "," "," "," "," "," "," "," "," "," "," "," "," "," "," "," "," "," "," "," "," "," "," "," "," "," "," ",null,null,null,null,null,null,null,null,null,null," "," "," "," "," "," "," "," "," "," "," "," "," "]
[" "," "," "," "," "," "," "," ",null," "," "," "," "," "," "," "," "," "," "," "," "," "," "," "," "," "," "," "," "," "," "," "," "," "," "," "," "," "," "," "," "," "," "," "," "," "," "," "," "," "," "," "," "," "," "," "," "," "," "," "," "," "," "," "," "," "," "," "," "," "," "," "," "," "," "," ",null,null,null,null,null,null,null,null,null,null," "," "," "," "," "," "," "," "," "," "," "," "," "]
[" "," "," "," "," "," "," "," ",null," "," "," "," "," "," "," "," "," "," "," "," "," "," "," "," "," "," "," "," "," "," "," "," "," "," "," "," "," "," "," "," "," "," "," "," "," "," "," "," "," "," "," "," "," "," "," "," "," "," "," "," "," "," "," "," "," "," "," "," "," "," "," "," "," "," "," ",null,null,null,null,null,null,null,null,null,null," "," "," "," "," "," "," "," "," "," "," "," "," "]
[" "," "," "," "," "," "," "," ",null," "," "," "," "," "," "," "," "," "," "," "," "," "," "," "," "," "," "," "," "," "," "," "," "," "," "," "," "," "," "," "," "," "," "," "," "," "," "," "," "," "," "," "," "," "," "," "," "," "," "," "," "," "," "," "," "," "," "," "," "," "," "," "," "," "," "," ",null,null,null,null,null,null,null,null,null,null," "," "," "," "," "," "," "," "," "," "," "," "," "]
[" "," "," "," "," "," "," "," ",null," "," "," "," "," "," "," "," "," "," "," "," "," "," "," "," "," "," "," "," "," "," "," "," "," "," "," "," "," "," "," "," "," "," "," "," "," "," "," "," "," "," "," "," "," "," "," "," "," "," "," "," "," "," "," "," "," "," "," "," "," "," "," "," "," "," "," ",null,null,null,null,null,null,null,null,null,null," "," "," "," "," "," "," "," "," "," "," "," "," "]
[" "," "," "," "," "," "," "," ",null," "," "," "," "," "," "," "," "," "," "," "," "," "," "," "," "," "," "," "," "," "," "," "," "," "," "," "," "," "," "," "," "," "," "," "," "," "," "," "," "," "," "," "," "," "," "," "," "," "," "," "," "," "," "," "," "," "," "," "," "," "," "," "," "," "," "," ",null,null,null,null,null,null,null,null,null,null," "," "," "," "," "," "," "," "," "," "," "," "," "]
[" "," "," "," "," "," "," "," ",null," "," "," "," "," "," "," "," "," "," "," "," "," "," "," "," "," "," "," ",null,null,null,null,null,null,null,null,null,null,null,null,null,null,null,null,null,null,null,null,null,null,null,null,null,null,null,null,null,null,null,null,null,null,null,null,null,null,null,null,null,null,null,null,null,null,null,null,null,null,null,null,null,null,null,null,null,null," "," "," "," "," "," "," "," "," "," "," "," "," "]

{"sheet":"Codes","index":10,"n_rows":64,"n_cols":39,"rows_kept":64,"cut":false,"hidden":true,"merged":[]}
[null,null,null,{"$f":"'Date Drivers'!$B$1","v":"2017-12-16"},{"$f":"HLOOKUP($D$1,$D$2:$AK$64,63)","v":2},{"$f":"HLOOKUP($D$1,$D$2:$AK$64,63)","v":2}]
[{"$f":"CONCATENATE(Configurator!$L$6,Configurator!$M$6,Configurator!$N$6,Configurator!$O$6,F1,Configurator!T6)","v":"PABB20"},null,null,"2008-02-15","2008-06-06","2009-02-04","2010-09-17","2011-03-07","2011-03-08","2011-11-14","2011-11-24","2011-12-01","2011-12-06","2012-01-10","2012-03-05","2012-03-06","2012-03-07","2012-08-22","2013-03-04","2013-04-05","2013-04-06","2013-05-23","2013-07-16","2013-08-14","2013-11-07","2014-06-18","2014-08-27","2014-12-04","2015-02-16","2015-09-24","2016-02-15","2016-04-21","2017-01-26","2017-02-24","2017-07-17","2017-11-28","2017-12-16",null,"Last Issue Used"]
[1,{"$f":"HLOOKUP($D$1,$D$2:$AK$60,2)","v":"***2*"},{"$f":"HLOOKUP($D$1,$D$2:$AK$60,32)","v":"**"},"***2*","***2*","***2*","***2*","***2*","***2*","***2*","***2*","***2*","***2*","***2*","***2*","***2*","***2*","***2*","***2*","***2*","***2*","***2*","***2*","***2*","***2*","***2*","***2*","***2*","***2*","***2*","***2*","***2*","***2*","***2*","***2*","***2*","***2*",1,"Rejuv = YB"]
[2,{"$f":"HLOOKUP($D$1,$D$2:$AK$60,3)","v":"PABB20"},{"$f":"HLOOKUP($D$1,$D$2:$AK$60,33)","v":"EK"},"GKMQ20","GKN 20","GKNT22","GKNB20","HNS 23","GKNB22","HNSC23","JQH 20","KQH 20","GKND20","LTH 20","LTHE20","HNSG20","HNSL20","LTHH20","LTHI20","LTHJ20","LTHK20","MTA 20","MTB 20","MTAA20","MTBA20","MTCA20","LTHO20","NTD 20","OWE 20","OWFA20","PAAJ20","OWG 20","OWH 20","OWHA20","PAAK20","PAAM20","PABB20",2,"Prior = TN"]
[3,{"$f":"HLOOKUP($D$1,$D$2:$AK$60,4)","v":"PABB21"},{"$f":"HLOOKUP($D$1,$D$2:$AK$60,34)","v":"EK"},"GKMQ21","GKN 21","GKNT23","GKNB21","GKNB25","ING 23","GKNB25","JQH 21","KQH 21","GKND21","LTH 21","LTHE21","HNSG21","HNSL21","LTHH21","LTHI21","LTHJ21","LTHK21","MTA 21","MTB 21","MTAA21","MTBA21","MTCA21","LTHO21","NTD 21","OWE 21","OWFA21","PAAJ21","OWG 21","OWH 21","OWHA21","PAAK21","PAAM21","PABB21",3]
[4,{"$f":"HLOOKUP($D$1,$D$2:$AK$60,5)","v":"PABB24"},{"$f":"HLOOKUP($D$1,$D$2:$AK$60,35)","v":"EK"},"GKMQ22","GKN 23","GKNT25","GKNB22","HOS 23","GKNB25","HOSC23","JQH 24","KQH 24","GLND20","LTH 24","LTHE22","HNSG22","HNSL22","LTHH22","LTHI22","LTHJ22","LTHK22","MUA 20","MTB 24","MUAA20","MTBA24","MTCA22","LTHO22","NTD 22","OWE 24","OWFA24","PAAJ24","OXG 20","OXH 20","OXHA20","PAAK24","PAAM24","PABB24",4]
[5,{"$f":"HLOOKUP($D$1,$D$2:$AK$60,6)","v":"PBBB20"},{"$f":"HLOOKUP($D$1,$D$2:$AK$60,36)","v":"EL"},"GKMQ23","GLN 20","GLNT22","GKNB23","GLNB25","GLNB22","GLNB25","JQH 25","KQH 25","GLND21","LTH 25","LTHE23","HNSG23","HNSL23","LTHH23","LTHI23","LTHJ23","LTHK23","MUA 21","MUB 20","MUAA21","MUBA20","MTCA24","LTHO23","NTD 24","OXE 20","OXFA20","PBAJ20","OXG 21","OXH 21","OXHA21","PBAK20","PBAM20","PBBB20",5]
[6,{"$f":"HLOOKUP($D$1,$D$2:$AK$60,7)","v":"PBBB21"},{"$f":"HLOOKUP($D$1,$D$2:$AK$60,37)","v":"EL"},"GLMQ20","GLN 21","GLNT23","GKNB25","HPS 23","IOG 23","HPSC23","JRH 20","KRH 20","GMND20","LUH 20","LTHE24","HNSG25","HNSL25","LTHH24","LTHI24","LTHJ24","LTHK24","MVA 20","MUB 21","MVAA20","MUBA21","MUCA20","LTHO24","NTD 25","OXE 21","OXFA21","PBAJ21","OYG 20","OYH 20","OYHA20","PBAK21","PBAM21","PBBB21",6]
[7,{"$f":"HLOOKUP($D$1,$D$2:$AK$60,8)","v":"PBBB24"},{"$f":"HLOOKUP($D$1,$D$2:$AK$60,38)","v":"EL"},"GLMQ21","GLN 23","GLNT25","GLNB20","GMNB25","GLNB25","GMNB25","JRH 21","KRH 21","GMND21","LUH 21","LTHE25","HOSG20","HOSL20","LTHH25","LTHI25","LTHJ25","LTHK25","MVA 21","MUB 24","MVAA21","MUBA24","MUCA21","LTHO25","NUD 20","OXE 24","OXFA24","PBAJ24","OYG 21","OYH 21","OYHA21","PBAK24","PBAM24","PBBB24",7]
[8,{"$f":"HLOOKUP($D$1,$D$2:$AK$60,9)","v":"PCBB20"},{"$f":"HLOOKUP($D$1,$D$2:$AK$60,39)","v":"EM"},"GLMQ22","GMN 20","GMNT22","GLNB21","HNS 20","GMNB22","HNSC20","JRH 24","KRH 24"," ","LUH 24","LUHE20","HOSG21","HOSL21","LUHH20","LUHI20","LUHJ20","LUHK20"," ","MVB 20"," ","MVBA20","MUCA22","LUHO20","NUD 21","OYE 20","OYFA20","PCAJ20"," "," "," ","PCAK20","PCAM20","PCBB20",8]
[9,{"$f":"HLOOKUP($D$1,$D$2:$AK$60,10)","v":"PCBB21"},{"$f":"HLOOKUP($D$1,$D$2:$AK$60,40)","v":"EM"},"GLMQ23","GMN 21","GMNT23","GLNB22","HNS 21","IPG 23","HNSC21","JRH 25","KRH 25"," ","LUH 25","LUHE21","HOSG22","HOSL22","LUHH21","LUHI21","LUHJ21","LUHK21"," ","MVB 21"," ","MVBA21","MUCA24","LUHO21","NUD 22","OYE 21","OYFA21","PCAJ21"," "," "," ","PCAK21","PCAM21","PCBB21",9]
[10,{"$f":"HLOOKUP($D$1,$D$2:$AK$60,11)","v":"PCBB24"},{"$f":"HLOOKUP($D$1,$D$2:$AK$60,41)","v":"EM"},"GMMQ20","GMN 23","GMNT25","GLNB23","GKNB22","GMNB25","GKNB22","JSH 20","KSH 20"," ","LVH 20","LUHE22","HOSG23","HOSL23","LUHH22","LUHI22","LUHJ22","LUHK22"," ","MVB 24"," ","MVBA24","MVCA20","LUHO22","NUD 24","OYE 24","OYFA24","PCAJ24"," "," "," ","PCAK24","PCAM24","PCBB24",10]
[11,{"$f":"HLOOKUP($D$1,$D$2:$AK$60,12)","v":" "},{"$f":"HLOOKUP($D$1,$D$2:$AK$60,42)","v":" "},"GMMQ21"," ","HNO 20","GLNB25","HOS 20","ING 20","HOSC20","JSH 21","KSH 21"," ","LVH 21","LUHE23","HOSG25","HOSL25","LUHH23","LUHI23","LUHJ23","LUHK23"," "," "," "," ","MVCA21","LUHO23","NUD 25"," "," "," "," "," "," "," "," "," ",11]
[12,{"$f":"HLOOKUP($D$1,$D$2:$AK$60,13)","v":" "},{"$f":"HLOOKUP($D$1,$D$2:$AK$60,43)","v":" "},"GMMQ22"," ","HNO 21","GMNB20","HOS 21","ING 21","HOSC21","JSH 24","KSH 24"," ","LVH 24","LUHE24","HPSG20","HPSL20","LUHH24","LUHI24","LUHJ24","LUHK24"," "," "," "," ","MVCA22","LUHO24","NVD 20"," "," "," "," "," "," "," "," "," ",12]
[13,{"$f":"HLOOKUP($D$1,$D$2:$AK$60,14)","v":" "},{"$f":"HLOOKUP($D$1,$D$2:$AK$60,44)","v":" "},"GMMQ23"," ","HOO 20","GMNB21","GLNB22","ING 24","GLNB22","JSH 25","KSH 25"," ","LVH 25","LUHE25","HPSG21","HPSL21","LUHH25","LUHI25","LUHJ25","LUHK25"," "," "," "," ","MVCA24","LUHO25","NVD 21"," "," "," "," "," "," "," "," "," ",13]
[14,{"$f":"HLOOKUP($D$1,$D$2:$AK$60,15)","v":" "},{"$f":"HLOOKUP($D$1,$D$2:$AK$60,45)","v":" "}," "," ","HOO 21","GMNB22","HPS 20","ING 26","HPSC20"," "," "," "," ","LVHE20","HPSG22","HPSL22","LVHH20","LVHI20","LVHJ20","LVHK20"," "," "," "," "," ","LVHO20","NVD 22"," "," "," "," "," "," "," "," "," ",14]
[15,{"$f":"HLOOKUP($D$1,$D$2:$AK$60,16)","v":" "},{"$f":"HLOOKUP($D$1,$D$2:$AK$60,46)","v":" "}," "," ","HPO 20","GMNB23","HPS 21","IOG 20","HPSC21"," "," "," "," ","LVHE21","HPSG23","HPSL23","LVHH21","LVHI21","LVHJ21","LVHK21"," "," "," "," "," ","LVHO21","NVD 25"," "," "," "," "," "," "," "," "," ",15]
[16,{"$f":"HLOOKUP($D$1,$D$2:$AK$60,17)","v":" "},{"$f":"HLOOKUP($D$1,$D$2:$AK$60,47)","v":" "}," "," ","HPO 21","GMNB25","GMNB22","IOG 21","GMNB22"," "," "," "," ","LVHE22","HPSG25","HPSL25","LVHH22","LVHI22","LVHJ22","LVHK22"," "," "," "," "," ","LVHO22"," "," "," "," "," "," "," "," "," "," ",16]
[17,{"$f":"HLOOKUP($D$1,$D$2:$AK$60,18)","v":" "},{"$f":"HLOOKUP($D$1,$D$2:$AK$60,48)","v":" "}," "," "," "," "," ","IOG 24"," "," "," "," "," ","LVHE23"," "," ","LVHH23","LVHI23","LVHJ23","LVHK23"," "," "," "," "," ","LVHO23"," "," "," "," "," "," "," "," "," "," ",17]
[18,{"$f":"HLOOKUP($D$1,$D$2:$AK$60,19)","v":" "},{"$f":"HLOOKUP($D$1,$D$2:$AK$60,49)","v":" "}," "," "," "," "," ","IOG 26"," "," "," "," "," ","LVHE24"," "," ","LVHH24","LVHI24","LVHJ24","LVHK24"," "," "," "," "," ","LVHO24"," "," "," "," "," "," "," "," "," "," ",18]
[19,{"$f":"HLOOKUP($D$1,$D$2:$AK$60,20)","v":" "},{"$f":"HLOOKUP($D$1,$D$2:$AK$60,50)","v":" "}," "," "," "," "," ","IPG 20"," "," "," "," "," ","LVHE25"," "," ","LVHH25","LVHI25","LVHJ25","LVHK25"," "," "," "," "," ","LVHO25"," "," "," "," "," "," "," "," "," "," ",19]
[20,{"$f":"HLOOKUP($D$1,$D$2:$AK$60,21)","v":" "},{"$f":"HLOOKUP($D$1,$D$2:$AK$60,51)","v":" "}," "," "," "," "," ","IPG 21"," "," "," "," "," "," "," "," "," "," "," "," "," "," "," "," "," "," "," "," "," "," "," "," "," "," "," "," ",20]
[21,{"$f":"HLOOKUP($D$1,$D$2:$AK$60,22)","v":" "},{"$f":"HLOOKUP($D$1,$D$2:$AK$60,52)","v":" "}," "," "," "," "," ","IPG 24"," "," "," "," "," "," "," "," "," "," "," "," "," "," "," "," "," "," "," "," "," "," "," "," "," "," "," "," ",21]
[22,{"$f":"HLOOKUP($D$1,$D$2:$AK$60,23)","v":" "},{"$f":"HLOOKUP($D$1,$D$2:$AK$60,53)","v":" "}," "," "," "," "," ","IPG 26"," "," "," "," "," "," "," "," "," "," "," "," "," "," "," "," "," "," "," "," "," "," "," "," "," "," "," "," ",22]
[23,{"$f":"HLOOKUP($D$1,$D$2:$AK$60,24)","v":" "},{"$f":"HLOOKUP($D$1,$D$2:$AK$60,54)","v":" "}," "," "," "," "," "," "," "," "," "," "," "," "," "," "," "," "," "," "," "," "," "," "," "," "," "," "," "," "," "," "," "," "," "," ",23]
[24,{"$f":"HLOOKUP($D$1,$D$2:$AK$60,25)","v":" "},{"$f":"HLOOKUP($D$1,$D$2:$AK$60,55)","v":" "}," "," "," "," "," "," "," "," "," "," "," "," "," "," "," "," "," "," "," "," "," "," "," "," "," "," "," "," "," "," "," "," "," "," ",24]
[25,{"$f":"HLOOKUP($D$1,$D$2:$AK$60,26)","v":" "},{"$f":"HLOOKUP($D$1,$D$2:$AK$60,56)","v":" "}," "," "," "," "," "," "," "," "," "," "," "," "," "," "," "," "," "," "," "," "," "," "," "," "," "," "," "," "," "," "," "," "," "," ",25]
[26,{"$f":"HLOOKUP($D$1,$D$2:$AK$60,27)","v":" "},{"$f":"HLOOKUP($D$1,$D$2:$AK$60,57)","v":" "}," "," "," "," "," "," "," "," "," "," "," "," "," "," "," "," "," "," "," "," "," "," "," "," "," "," "," "," "," "," "," "," "," "," ",26]
[27,{"$f":"HLOOKUP($D$1,$D$2:$AK$60,28)","v":" "},{"$f":"HLOOKUP($D$1,$D$2:$AK$60,58)","v":" "}," "," "," "," "," "," "," "," "," "," "," "," "," "," "," "," "," "," "," "," "," "," "," "," "," "," "," "," "," "," "," "," "," "," ",27]
[28,{"$f":"HLOOKUP($D$1,$D$2:$AK$60,29)","v":" "},{"$f":"HLOOKUP($D$1,$D$2:$AK$60,59)","v":" "}," "," "," "," "," "," "," "," "," "," "," "," "," "," "," "," "," "," "," "," "," "," "," "," "," "," "," "," "," "," "," "," "," "," ",28]
[29,{"$f":"HLOOKUP($D$1,$D$2:$AK$60,30)","v":" "},{"$f":"HLOOKUP($D$1,$D$2:$AK$62,60)","v":" "}," "," "," "," "," "," "," "," "," "," "," "," "," "," "," "," "," "," "," "," "," "," "," "," "," "," "," "," "," "," "," "," "," "," ",29]
[30,{"$f":"HLOOKUP($D$1,$D$2:$AK$60,31)","v":" "},{"$f":"HLOOKUP($D$1,$D$2:$AK$62,61)","v":" "}," "," "," "," "," "," "," "," "," "," "," "," "," "," "," "," "," "," "," "," "," "," "," "," "," "," "," "," "," "," "," "," "," "," ",30]
[31,null,null,"**","**","**","**","**","**","**","**","**","**","**","**","**","**","**","**","**","**","**","**","**","**","**","**","**","**","**","**","**","**","**","**","**","**",1]
[32,null,null,"PJ","PM","QC","RN","RR","RN","RY","SB","SE","SH","SL","SP","SS","TE","SV","SY","TB","TH","XA","XD","XG","XK","XR","TL","XU","XZ","YC","EA","YF","YJ","YM","ED","EG","EK",2]
[33,null,null,"PJ","PM","QC","RN","RN","RU","RN","SB","SE","SH","SL","SP","SS","TE","SV","SY","TB","TH","XA","XD","XG","XK","XR","TL","XU","XZ","YC","EA","YF","YJ","YM","ED","EG","EK",3]
[34,null,null,"PJ","PM","QC","RN","RS","RN","RZ","SB","SE","SJ","SL","SP","SS","TE","SV","SY","TB","TH","XB","XD","XH","XK","XR","TL","XU","XZ","YC","EA","YG","YK","YN","ED","EG","EK",4]
[35,null,null,"PJ","PP","QD","RN","RP","RP","RP","SB","SE","SJ","SL","SP","SS","TE","SV","SY","TB","TH","XB","XE","XH","XL","XR","TL","XU","YA","YD","EB","YG","YK","YN","EE","EH","EL",5]
[36,null,null,"PK","PP","QD","RN","RT","RV","SA","SC","SF","SK","SM","SP","SS","TE","SV","SY","TB","TH","XC","XE","XJ","XL","XS","TL","XU","YA","YD","EB","YH","YL","YP","EE","EH","EL",6]
[37,null,null,"PK","PP","QD","RP","RQ","RP","RQ","SC","SF","SK","SM","SP","ST","TF","SV","SY","TB","TH","XC","XE","XJ","XL","XS","TL","XV","YA","YD","EB","YH","YL","YP","EE","EH","EL",7]
[38,null,null,"PK","PN","QE","RP","RR","RQ","RY","SC","SF"," ","SM","SQ","ST","TF","SW","SZ","TC","TJ"," ","XF"," ","XM","XS","TM","XV","YB","YE","EC"," "," "," ","EF","EJ","EM",8]
[39,null,null,"PK","PN","QE","RP","RR","RX","RY","SC","SF"," ","SM","SQ","ST","TF","SW","SZ","TC","TJ"," ","XF"," ","XM","XS","TM","XV","YB","YE","EC"," "," "," ","EF","EJ","EM",9]
[40,null,null,"PL","PN","QE","RP","RN","RQ","RN","SD","SG"," ","SN","SQ","ST","TF","SW","SZ","TC","TJ"," ","XF"," ","XM","XT","TM","XV","YB","YE","EC"," "," "," ","EF","EJ","EM",10]
[41,null,null,"PL"," ","PZ","RP","RS","RU","RZ","SD","SG"," ","SN","SQ","ST","TF","SW","SZ","TC","TJ"," "," "," "," ","XT","TM","XV"," "," "," "," "," "," "," "," "," ",11]
[42,null,null,"PL"," ","PZ","RQ","RS","RU","RZ","SD","SG"," ","SN","SQ","SU","TG","SW","SZ","TC","TJ"," "," "," "," ","XT","TM","XY"," "," "," "," "," "," "," "," "," ",12]
[43,null,null,"PL"," ","QA","RQ","RP","RU","RP","SD","SG"," ","SN","SQ","SU","TG","SW","SZ","TC","TJ"," "," "," "," ","XT","TM","XY"," "," "," "," "," "," "," "," "," ",13]
[44,null,null," "," ","QA","RQ","RT","RU","SA"," "," "," "," ","SR","SU","TG","SX","TA","TD","TK"," "," "," "," "," ","TN","XY"," "," "," "," "," "," "," "," "," ",14]
[45,null,null," "," ","QB","RQ","RT","RV","SA"," "," "," "," ","SR","SU","TG","SX","TA","TD","TK"," "," "," "," "," ","TN","XY"," "," "," "," "," "," "," "," "," ",15]
[46,null,null," "," ","QB","RQ","RQ","RV","RQ"," "," "," "," ","SR","SU","TG","SX","TA","TD","TK"," "," "," "," "," ","TN","XY"," "," "," "," "," "," "," "," "," ",16]
[47,null,null," "," "," "," "," ","RV"," "," "," "," "," ","SR"," "," ","SX","TA","TD","TK"," "," "," "," "," ","TN"," "," "," "," "," "," "," "," "," "," ",17]
[48,null,null," "," "," "," "," ","RV"," "," "," "," "," ","SR"," "," ","SX","TA","TD","TK"," "," "," "," "," ","TN"," "," "," "," "," "," "," "," "," "," ",18]
[49,null,null," "," "," "," "," ","RX"," "," "," "," "," ","SR"," "," ","SX","TA","TD","TK"," "," "," "," "," ","TN"," "," "," "," "," "," "," "," "," "," ",19]
[50,null,null," "," "," "," "," ","RX"," "," "," "," "," "," "," "," "," "," "," "," "," "," "," "," "," "," "," "," "," "," "," "," "," "," "," "," ",20]
[51,null,null," "," "," "," "," ","RX"," "," "," "," "," "," "," "," "," "," "," "," "," "," "," "," "," "," "," "," "," "," "," "," "," "," "," "," ",21]
[52,null,null," "," "," "," "," ","RX"," "," "," "," "," "," "," "," "," "," "," "," "," "," "," "," "," "," "," "," "," "," "," "," "," "," "," "," ",22]
[53,null,null," "," "," "," "," "," "," "," "," "," "," "," "," "," "," "," "," "," "," "," "," "," "," "," "," "," "," "," "," "," "," "," "," "," ",23]
[54,null,null," "," "," "," "," "," "," "," "," "," "," "," "," "," "," "," "," "," "," "," "," "," "," "," "," "," "," "," "," "," "," "," "," "," ",24]
[55,null,null," "," "," "," "," "," "," "," "," "," "," "," "," "," "," "," "," "," "," "," "," "," "," "," "," "," "," "," "," "," "," "," "," "," ",25]
[56,null,null," "," "," "," "," "," "," "," "," "," "," "," "," "," "," "," "," "," "," "," "," "," "," "," "," "," "," "," "," "," "," "," "," "," ",26]
[57,null,null," "," "," "," "," "," "," "," "," "," "," "," "," "," "," "," "," "," "," "," "," "," "," "," "," "," "," "," "," "," "," "," "," "," ",27]
[58,null,null," "," "," "," "," "," "," "," "," "," "," "," "," "," "," "," "," "," "," "," "," "," "," "," "," "," "," "," "," "," "," "," "," "," ",28]
[59,null,null," "," "," "," "," "," "," "," "," "," "," "," "," "," "," "," "," "," "," "," "," "," "," "," "," "," "," "," "," "," "," "," "," "," ",29]
[60,null,null," "," "," "," "," "," "," "," "," "," "," "," "," "," "," "," "," "," "," "," "," "," "," "," "," "," "," "," "," "," "," "," "," "," ",30]
[]
[null,null,null,2,2,2,2,2,2,2,2,2,2,2,2,2,2,2,2,2,2,2,2,2,2,2,2,2,2,2,2,2,2,2,2,2,2]

{"sheet":"Codes HIST","index":11,"n_rows":64,"n_cols":59,"rows_kept":64,"cut":false,"hidden":true,"merged":[]}
[null,null,null,{"$f":"'Date Drivers'!$B$1","v":"2017-12-16"},{"$f":"HLOOKUP($D$1,$D$2:$BE$64,63)","v":2}]
[{"$f":"CONCATENATE(Configurator!$L$6,Configurator!$M$6,Configurator!$N$6,Configurator!$O$6,E1,Configurator!T6)","v":"PABB20"},null,null,"2002-02-19","2002-02-20","2002-05-24","2002-08-12","2002-08-24","2002-09-10","2002-09-11","2003-01-20","2004-01-08","2004-03-17","2004-07-19","2004-07-20","2004-10-04","2004-11-01","2005-02-21","2005-05-31","2005-06-01","2005-11-09","2005-11-10","2006-06-16","2006-10-16","2007-01-23","2007-02-07","2007-02-08","2007-07-31","2007-08-01","2007-11-19","2008-02-15","2008-02-18","2008-06-05","2008-06-06","2008-07-30","2008-10-08","2009-02-03","2009-02-04","2009-04-23","2009-04-24","2009-06-07","2009-07-13","2009-07-14","2009-07-15","2009-10-16","2010-02-08","2010-03-16","2010-03-17","2010-05-01","2010-05-13","2010-08-31","2010-09-01","2010-09-14","2010-09-17","2010-09-18","2011-03-07","2011-03-08",null,"Last Issue Used = RX"]
[1,{"$f":"HLOOKUP($D$1,$D$2:$BE$60,2)","v":"***2*"},{"$f":"HLOOKUP($D$1,$D$2:$BE$60,32)","v":"**"},"A1A 10","B2B 10","B2BA10","B2BB10","B2BB10","B2BB15","B2BB15","CBBB15","BBBB15","CBD 12","DED 10","CBD 12","CBD 12","CBD 22","CBD 22","FHJD20","CBD 22","CBD 22","CBD 22","DEEC25","DEEC25","DEEC25","DEEC25","DEEC25","DEEC25","DEEC25","DEEC25","DEEC25","DEEC25","DEEC25","DEEC25","GKNR20","GKNS20","GKNT20","***2*","GKNU20","***2*","***2*","GKNV20","GKNW20","***2*","***2*","***2*","***2*","***2*","GKNY20","***2*","***2*","***2*","***2*","GKNB20","***2*","***2*","***2*",1]
[2,{"$f":"HLOOKUP($D$1,$D$2:$BE$60,3)","v":"HNQX22"},{"$f":"HLOOKUP($D$1,$D$2:$BE$60,33)","v":"QV"},"A1A 30","B2B 11","B2BA11","B2BB11","B2BB11","B2BB35","B2BB35","CBBB35","BBBB35","CBD 13","DED 11","CBD 13","CBD 13","CBD 23","CBD 23","FHJD21","CBD 23","CBD 23","CBD 23","DFEC25","DFEC25","DFEC25","DFEC25","DFEC25","DFEC25","DFEC25","DFEC25","DFEC25","DFEC25","DFEC25","DFEC25","GKNR21","GKNS21","GKNT21","GKNT22","GKNU21","GKNU22","GKNS22","GKNV21","GKNW21","GKNU22","GKNU22","GKNW23","GKNW23","GKNU22","GKNY21","GKNU22","GKNW23","GKNU22","GKNU22","GKNB21","GKNB22","GKNB23","HNQX22",2]
[3,{"$f":"HLOOKUP($D$1,$D$2:$BE$60,4)","v":"GKNB23"},{"$f":"HLOOKUP($D$1,$D$2:$BE$60,34)","v":"RN"}," ","B2B 30","B2BA30","B2BB30","B2BB15","B3BB15","B3BB15","CBD 10","BCBB15","CBD 15","DED 12","CBD 15","CBD 15","CBD 25","CBD 25","FIJD20","CBD 25","CCD 22","CCD 22","DGEC25","DGEC25","DGEC25","DGEC25","DGEC25","DGEC25","DGEC25","DGEC25","DGEC25","DGEC25","DGEC25","DGEC25","GKNR22","GKNS22","GKNT22","GKNT23","GKNU22","GKNU23","GKNS23","GKNV22","GKNW22","GKNU23","GKNU23","GKNW25","GKNW25","GKNU23","GKNY22","GKNU23","GKNW25","GKNU23","GKNU23","GKNB22","GKNB23","GKNB25","GKNB23",3]
[4,{"$f":"HLOOKUP($D$1,$D$2:$BE$60,5)","v":"GKNB25"},{"$f":"HLOOKUP($D$1,$D$2:$BE$60,35)","v":"RN"}," ","B2B 31","B2BA31","B2BB31","B2BB30","B3BB35","B3BB35","CBD 11","BCBB35","CBD 32","DED 13","CBD 32","CBD 22","CCD 22","CCD 22","FIJD21","CCD 22","CCD 23","CCD 23","FHKG20","FHKJ20","FHKJ23","FHKK20","GKLL20","GKLL23","GKLL23","GKLL23","GKLL23","GKLL23","GKMQ22","GKMQ22","GKNR23","GKNS23","GKNT23","GKNT25","GKNU23","GKNU25","GKNS25","GKNV23","GKNW23","GKNU25","GKNU25","GLNW23","GLNW23","GKNU25","GKNY23","GKNU25","GLNW23","GKNU25","GKNU25","GKNB23","GKNB25","GLNB23","GKNB25",4]
[5,{"$f":"HLOOKUP($D$1,$D$2:$BE$60,6)","v":"HOQX22"},{"$f":"HLOOKUP($D$1,$D$2:$BE$60,36)","v":"QW"}," ","B3B 10","B3BA10","B3BB10","B2BB31","B4BB15","B4BB15","CBD 30","BDBB15","CBD 33","DED 15","CBD 33","CBD 23","CCD 23","CCD 23","FJJD20","CCD 23","CDD 22","CDD 22","FHKG21","FHKJ21","FIKJ23","FHKK21","GKLL21","GKLN20","GKMM20","GKMP20","GKMP22","GKMP22","GKMQ23","GKN 20","GKNR25","GKNS25","GKNT25","GLNT22","GKNU25","GLNU22","GLNS22","GKNV25","GKNW25","GLNU22","GLNU22","GLNW25","GLNW25","GLNU22","GKNY25","GLNU22","GLNW25","GLNU22","GLNU22","GKNB25","GLNB22","GLNB25","HOQX22",5]
[6,{"$f":"HLOOKUP($D$1,$D$2:$BE$60,7)","v":"GLNB23"},{"$f":"HLOOKUP($D$1,$D$2:$BE$60,37)","v":"RP"}," ","B3B 11","B3BA11","B3BB11","B2BB35","B4BB35","B4BB35","CBD 31","BDBB35","CBD 35","DED 30","CBD 35","CBD 25","CCD 25","CCD 25","FJJD21","CCD 25","CDD 23","CDD 23","FHKG22","FHKJ22","FJKJ23","FHKK22","GKLL22","GKLN21","GKMM21","GKMP21","GKMQ20","GKN 20","GKN 20","GKN 21","GLNR20","GLNS20","GLNT20","GLNT23","GLNU20","GLNU23","GLNS23","GLNV20","GLNW20","GLNU23","GLNU23","GMNW23","GMNW23","GLNU23","GLNY20","GLNU23","GMNW23","GLNU23","GLNU23","GLNB20","GLNB23","GMNB23","GLNB23",6]
[7,{"$f":"HLOOKUP($D$1,$D$2:$BE$60,8)","v":"GLNB25"},{"$f":"HLOOKUP($D$1,$D$2:$BE$60,38)","v":"RP"}," ","B3B 30","B3BA30","B3BB30","B3BB10","BBCB10","BBC 10","CCBB15","CBD 12","CCD 12","DED 31","CCD 12","CCD 12","CDD 22","CDD 22"," ","CDD 22","DEE 25","DEEC20","FHKG23","FHKJ23","GKLK20","FHKK23","GKLL23","GKLN22","GKMM22","GKMP22","GKMQ21","GKN 21","GKN 21","GKN 23","GLNR21","GLNS21","GLNT21","GLNT25","GLNU21","GLNU25","GLNS25","GLNV21","GLNW21","GLNU25","GLNU25","GMNW25","GMNW25","GLNU25","GLNY21","GLNU25","GMNW25","GLNU25","GLNU25","GLNB21","GLNB25","GMNB25","GLNB25",7]
[8,{"$f":"HLOOKUP($D$1,$D$2:$BE$60,9)","v":"HPQX22"},{"$f":"HLOOKUP($D$1,$D$2:$BE$60,39)","v":"QX"}," ","B3B 31","B3BA31","B3BB31","B3BB11","BBCB11","BBC 11","CCBB35","CBD 13","CCD 13","DED 32","CCD 13","CCD 13","CDD 23","CDD 23"," ","CDD 23","DEEC20","DEEC21","FIKG20","FIKJ20","GKLK21","FIKK20","GLLL20","GLLL23","GLLL23","GLLL23","GLLL23","GLLL23","GLMQ22","GLMQ22","GLNR22","GLNS22","GLNT22","GMNT22","GLNU22","GMNU22","GMNS22","GLNV22","GLNW22","GMNU22","GMNU22","HNQX20","HNR 20","GMNU22","GLNY22","GMNU22","HNRA20","GMNU22","GMNU22","GLNB22","GMNB22","HNS 20","HPQX22",8]
[9,{"$f":"HLOOKUP($D$1,$D$2:$BE$60,10)","v":"GMNB23"},{"$f":"HLOOKUP($D$1,$D$2:$BE$60,40)","v":"RQ"}," ","B4B 10","B4BA10","B4BB10","B3BB15","BBCB30","BBC 30","CCD 10","CBD 32","CCD 15","DED 33","CCD 15","CCD 15","CDD 25","CDD 25"," ","CDD 25","DEEC21","DEEC25","FIKG21","FIKJ21","GKLK22","FIKK21","GLLL21","GLLN20","GLMM20","GLMP20","GLMP22","GLMP22","GLMQ23","GLN 20","GLNR23","GLNS23","GLNT23","GMNT23","GLNU23","GMNU23","GMNS23","GLNV23","GLNW23","GMNU23","GMNU23","HNQX21","HNR 21","GMNU23","GLNY23","GMNU23","HNRA21","GMNU23","GMNU23","GLNB23","GMNB23","HNS 21","GMNB23",9]
[10,{"$f":"HLOOKUP($D$1,$D$2:$BE$60,11)","v":"GMNB25"},{"$f":"HLOOKUP($D$1,$D$2:$BE$60,41)","v":"RQ"}," ","B4B 11","B4BA11","B4BB11","B3BB30","BBCB31","BBC 31","CCD 11","CBD 33","CCD 32","DED 35","CCD 32","CCD 22","DEE 20","DEEC20"," ","DEEC20","DFE 25","DFEC20","FIKG22","FIKJ22","GLLK20","FIKK22","GLLL22","GLLN21","GLMM21","GLMP21","GLMQ20","GLN 20","GLN 20","GLN 21","GLNR25","GLNS25","GLNT25","GMNT25","GLNU25","GMNU25","GMNS25","GLNV25","GLNW25","GMNU25","GMNU25","HNQX22","HNQX22","GMNU25","GLNY25","GMNU25","HNQX22","GMNU25","GMNU25","GLNB25","GMNB25","HNQX22","GMNB25",10]
[11,{"$f":"HLOOKUP($D$1,$D$2:$BE$60,12)","v":"ING 20"},{"$f":"HLOOKUP($D$1,$D$2:$BE$60,42)","v":"RU"}," ","B4B 30","B4BA30","B4BB30","B3BB31","BCCB10","BCC 10","CCD 30","CBE 11","CCD 33","DFD 10","CCD 33","CCD 23","DEE 21","DEEC21"," ","DEEC21","DFEC20","DFEC21","FIKG23","FIKJ23","GLLK21","FIKK23","GLLL23","GLLN22","GLMM22","GLMP22","GLMQ21","GLN 21","GLN 21","GLN 23","GMNR20","GMNS20","GMNT20","HNO 20","GMNU20","HNO 20","HNP 20","GMNV20","GMNW20","HNO 20","HNO 20","HOQX20","HOR 20","INP 20","GMNY20","INPZ20","HORA20","INPZ20","INQ 20","GMNB20","INQ 20","HOS 20","ING 20",11]
[12,{"$f":"HLOOKUP($D$1,$D$2:$BE$60,13)","v":"ING 21"},{"$f":"HLOOKUP($D$1,$D$2:$BE$60,43)","v":"RU"}," ","B4B 31","B4BA31","B4BB31","B3BB35","BCCB11","BCC 11","CCD 31","CBE 31","CCD 35","DFD 11","CCD 35","CCD 25","DFE 20","DFEC20"," ","DFEC20","DFEC21","DFEC25","FJKG20","FJKJ20","GLLK22","FJKK20","GMLL20","GMLL23","GMLL23","GMLL23","GMLL23","GMLL23","GMMQ22","GMMQ22","GMNR21","GMNS21","GMNT21","HNO 21","GMNU21","HNO 21","HNP 21","GMNV21","GMNW21","HNO 21","HNO 21","HOQX21","HOR 21","INP 21","GMNY21","INPZ21","HORA21","INPZ21","INQ 21","GMNB21","INQ 21","HOS 21","ING 21",12]
[13,{"$f":"HLOOKUP($D$1,$D$2:$BE$60,14)","v":"INQ 24"},{"$f":"HLOOKUP($D$1,$D$2:$BE$60,44)","v":"RK"}," "," "," "," ","B4BB10","BCCB30","BCC 30 ","CDBB15","CCD 12","CDD 12","DFD 12","CDD 12","CDD 12","DFE 21","DFEC21"," ","DFEC21","DGE 25","DGEC20","FJKG21","FJKJ21","GMLK20","FJKK21","GMLL21","GMLN20","GMMM20","GMMP20","GMMP22","GMMP22","GMMQ23","GMN 20","GMNR22","GMNS22","GMNT22","HOO 20","GMNU22","HOO 20","HOP 20","GMNV22","GMNW22","HOO 20","HNO 24","HOQX22","HOQX22","INP 24","GMNY22","INPZ24","HOQX22","INPZ24","INQ 24","GMNB22","INQ 24","HOQX22","INQ 24",13]
[14,{"$f":"HLOOKUP($D$1,$D$2:$BE$60,15)","v":"INQ 26"},{"$f":"HLOOKUP($D$1,$D$2:$BE$60,45)","v":"RK"}," "," "," "," ","B4BB11","BCCB31","BCC 31","CDBB35","CCD 13","CDD 13","DFD 13","CDD 13","CDD 13","DGE 20","DGEC20"," ","DGEC20","DGEC20","DGEC21","FJKG22","FJKJ22","GMLK21","FJKK22","GMLL22","GMLN21","GMMM21","GMMP21","GMMQ20","GMN 20","GMN 20","GMN 21","GMNR23","GMNS23","GMNT23","HOO 21","GMNU23","HOO 21","HOP 21","GMNV23","GMNW23","HOO 21","HOO 20","HPQX20","HPR 20","INP 26","GMNY23","INPZ26","HPRA20","INPZ26","INQ 26","GMNB23","INQ 26","HPS 20","INQ 26",14]
[15,{"$f":"HLOOKUP($D$1,$D$2:$BE$60,16)","v":"IOG 20"},{"$f":"HLOOKUP($D$1,$D$2:$BE$60,46)","v":"RV"}," "," "," "," ","B4BB15","BDCB10","BDC 10","CDD 10","CCD 32","CDD 15","DFD 15","CDD 15","CDD 15","DGE 21","DGEC21"," ","DGEC21","DGEC21","DGEC25","FJKG23","FJKJ23","GMLK22","FJKK23","GMLL23","GMLN22","GMMM22","GMMP22","GMMQ21","GMN 21","GMN 21","GMN 23","GMNR25","GMNS25","GMNT25","HPO 20","GMNU25","HPO 20","HPP 20","GMNV25","GMNW25","HPO 20","HOO 21","HPQX21","HPR 21","IOP 20","GMNY25","IOPZ20","HPRA21","IOPZ20","IOQ 20","GMNB25","IOQ 20","HPS 21","IOG 20",15]
[16,{"$f":"HLOOKUP($D$1,$D$2:$BE$60,17)","v":"IOG 21"},{"$f":"HLOOKUP($D$1,$D$2:$BE$60,47)","v":"RV"}," "," "," "," ","B4BB30","BDCB11","BDC 11","CDD 11","CCD 33","CDD 32","DFD 30","CDD 32","CDD 22"," "," "," "," "," "," "," "," "," "," "," "," "," "," "," "," "," "," "," "," "," ","HPO 21"," ","HPO 21","HPP 21"," "," ","HPO 21","HOO 24","HPQX22","HPQX22","IOP 21"," ","IOPZ21","HPQX22","IOPZ21","IOQ 21"," ","IOQ 21","HPQX22","IOG 21",16]
[17,{"$f":"HLOOKUP($D$1,$D$2:$BE$60,18)","v":"IOQ 24"},{"$f":"HLOOKUP($D$1,$D$2:$BE$60,48)","v":"RL"}," "," "," "," ","B4BB31","BDCB30","BDC 30","CDD 30","CCE 11","CDD 33","DFD 31","CDD 33","CDD 23"," "," "," "," "," "," "," "," "," "," "," "," "," "," "," "," "," "," "," "," "," "," "," "," "," "," "," "," ","HPO 20"," "," ","IOP 24"," ","IOPZ24"," ","IOPZ24","IOQ 24"," ","IOQ 24"," ","IOQ 24",17]
[18,{"$f":"HLOOKUP($D$1,$D$2:$BE$60,19)","v":"IOQ 26"},{"$f":"HLOOKUP($D$1,$D$2:$BE$60,49)","v":"RL"}," "," "," "," ","B4BB35","BDCB31","BDC 31","CDD 31","CCE 31","CDD 35","DFD 32","CDD 35","CDD 25"," "," "," "," "," "," "," "," "," "," "," "," "," "," "," "," "," "," "," "," "," "," "," "," "," "," "," "," ","HPO 21"," "," ","IOP 26"," ","IOPZ26"," ","IOPZ26","IOQ 26"," ","IOQ 26"," ","IOQ 26",18]
[19,{"$f":"HLOOKUP($D$1,$D$2:$BE$60,20)","v":"IPG 20"},{"$f":"HLOOKUP($D$1,$D$2:$BE$60,50)","v":"RX"}," "," "," "," "," "," "," "," ","CDD 12","DEE 10","DFD 33","DEE 10","DEE 10"," "," "," "," "," "," "," "," "," "," "," "," "," "," "," "," "," "," "," "," "," "," "," "," "," "," "," "," ","HPO 24"," "," ","IPP 20"," ","IPPZ20"," ","IPPZ20","IPQ 20"," ","IPQ 20"," ","IPG 20",19]
[20,{"$f":"HLOOKUP($D$1,$D$2:$BE$60,21)","v":"IPG 21"},{"$f":"HLOOKUP($D$1,$D$2:$BE$60,51)","v":"RX"}," "," "," "," "," "," "," "," ","CDD 13","DEE 11","DFD 35","DEE 11","DEE 11"," "," "," "," "," "," "," "," "," "," "," "," "," "," "," "," "," "," "," "," "," "," "," "," "," "," "," "," "," "," "," ","IPP 21"," ","IPPZ21"," ","IPPZ21","IPQ 21"," ","IPQ 21"," ","IPG 21",20]
[21,{"$f":"HLOOKUP($D$1,$D$2:$BE$60,22)","v":"IPQ 24"},{"$f":"HLOOKUP($D$1,$D$2:$BE$60,52)","v":"RM"}," "," "," "," "," "," "," "," ","CDD 32","DEE 30","DGD 10","DEE 30","DEE 20"," "," "," "," "," "," "," "," "," "," "," "," "," "," "," "," "," "," "," "," "," "," "," "," "," "," "," "," "," "," "," ","IPP 24"," ","IPPZ24"," ","IPPZ24","IPQ 24"," ","IPQ 24"," ","IPQ 24",21]
[22,{"$f":"HLOOKUP($D$1,$D$2:$BE$60,23)","v":"IPQ 26"},{"$f":"HLOOKUP($D$1,$D$2:$BE$60,53)","v":"RM"}," "," "," "," "," "," "," "," ","CDD 33","DEE 31","DGD 11","DEE 31","DEE 21"," "," "," "," "," "," "," "," "," "," "," "," "," "," "," "," "," "," "," "," "," "," "," "," "," "," "," "," "," "," "," ","IPP 26"," ","IPPZ26"," ","IPPZ26","IPQ 26"," ","IPQ 26"," ","IPQ 26",22]
[23,{"$f":"HLOOKUP($D$1,$D$2:$BE$60,24)","v":" "},{"$f":"HLOOKUP($D$1,$D$2:$BE$60,54)","v":" "}," "," "," "," "," "," "," "," ","CDE 11","DFE 10","DGD 12","DFE 10","DFE 10"," "," "," "," "," "," "," "," "," "," "," "," "," "," "," "," "," "," "," "," "," "," "," "," "," "," "," "," "," "," "," "," "," "," "," "," "," "," "," "," "," ",23]
[24,{"$f":"HLOOKUP($D$1,$D$2:$BE$60,25)","v":" "},{"$f":"HLOOKUP($D$1,$D$2:$BE$60,55)","v":" "}," "," "," "," "," "," "," "," ","CDE 31","DFE 11","DGD 13","DFE 11","DFE 11"," "," "," "," "," "," "," "," "," "," "," "," "," "," "," "," "," "," "," "," "," "," "," "," "," "," "," "," "," "," "," "," "," "," "," "," "," "," "," "," "," ",24]
[25,{"$f":"HLOOKUP($D$1,$D$2:$BE$60,26)","v":" "},{"$f":"HLOOKUP($D$1,$D$2:$BE$60,56)","v":" "}," "," "," "," "," "," "," "," ","DBE 10","DFE 30","DGD 15","DFE 30","DFE 20"," "," "," "," "," "," "," "," "," "," "," "," "," "," "," "," "," "," "," "," "," "," "," "," "," "," "," "," "," "," "," "," "," "," "," "," "," "," "," "," "," ",25]
[26,{"$f":"HLOOKUP($D$1,$D$2:$BE$60,27)","v":" "},{"$f":"HLOOKUP($D$1,$D$2:$BE$60,57)","v":" "}," "," "," "," "," "," "," "," ","DBE 30","DFE 31","DGD 30","DFE 31","DFE 21"," "," "," "," "," "," "," "," "," "," "," "," "," "," "," "," "," "," "," "," "," "," "," "," "," "," "," "," "," "," "," "," "," "," "," "," "," "," "," "," "," ",26]
[27,{"$f":"HLOOKUP($D$1,$D$2:$BE$60,28)","v":" "},{"$f":"HLOOKUP($D$1,$D$2:$BE$60,58)","v":" "}," "," "," "," "," "," "," "," ","DCE 10","DGE 10","DGD 31","DGE 10","DGE 10"," "," "," "," "," "," "," "," "," "," "," "," "," "," "," "," "," "," "," "," "," "," "," "," "," "," "," "," "," "," "," "," "," "," "," "," "," "," "," "," "," ",27]
[28,{"$f":"HLOOKUP($D$1,$D$2:$BE$60,29)","v":" "},{"$f":"HLOOKUP($D$1,$D$2:$BE$60,59)","v":" "}," "," "," "," "," "," "," "," ","DCE 30","DGE 11","DGD 32","DGE 11","DGE 11"," "," "," "," "," "," "," "," "," "," "," "," "," "," "," "," "," "," "," "," "," "," "," "," "," "," "," "," "," "," "," "," "," "," "," "," "," "," "," "," "," ",28]
[29,{"$f":"HLOOKUP($D$1,$D$2:$BE$60,30)","v":" "},{"$f":"HLOOKUP($D$1,$D$2:$BE$62,60)","v":" "}," "," "," "," "," "," "," "," ","DDE 10","DGE 30","DGD 33","DGE 30","DGE 20"," "," "," "," "," "," "," "," "," "," "," "," "," "," "," "," "," "," "," "," "," "," "," "," "," "," "," "," "," "," "," "," "," "," "," "," "," "," "," "," "," ",29]
[30,{"$f":"HLOOKUP($D$1,$D$2:$BE$60,31)","v":" "},{"$f":"HLOOKUP($D$1,$D$2:$BE$62,61)","v":" "}," "," "," "," "," "," "," "," ","DDE 30","DGE 31","DGD 35","DGE 31","DGE 21"," "," "," "," "," "," "," "," "," "," "," "," "," "," "," "," "," "," "," "," "," "," "," "," "," "," "," "," "," "," "," "," "," "," "," "," "," "," "," "," "," ",30]
[31,null,null,"LP","LQ","LT","LX","LX","LX","LX","AN","AG","AK","BC","AK","AK","MK","MK","NC","MK","MK","MK","NJ","NJ","NJ","NJ","NJ","NJ","NJ","NJ","NJ","NJ","NJ","NJ","PT","PW","QC","**","QF","**","**","QL","QP","**","**","**","**","**","RE","**","**","**","**","RN","**","**","**",1]
[32,null,null,"**","LQ","LT","LX","LX","**","**","**","**","AK","BC","AK","AK","MK","MK","NC","MK","MK","MK","NK","NK","NK","NK","NK","NK","NK","NK","NK","NK","NK","NK","PT","PW","QC","QC","QF","QF","PW","QL","QP","QF","QF","QP","QP","QF","RE","QF","QP","QF","QF","RN","RN","RN","QV",2]
[33,null,null," ","**","**","**","LX","LZ","LZ","AK","AJ","AK","BC","AK","AK","MK","MK","ND","MK","MM","MM","NL","NL","NL","NL","NL","NL","NL","NL","NL","NL","NL","NL","PT","PW","QC","QC","QF","QF","PW","QL","QP","QF","QF","QP","QP","QF","RE","QF","QP","QF","QF","RN","RN","RN","RN",3]
[34,null,null," ","**","**","**","**","**","**","AK","**","**","BC","**","MK","MM","MM","ND","MM","MM","MM","NM","NQ","NQ","NW","NZ","NZ","NZ","NZ","NZ","NZ","PJ","PJ","PT","PW","QC","QC","QF","QF","PW","QL","QP","QF","QF","QQ","QQ","QF","RE","QF","QQ","QF","QF","RN","RN","RP","RN",4]
[35,null,null," ","LS","LW","LZ","**","LY","LY","MK","AH","**","BC","**","MK","MM","MM","NE","MM","ML","ML","NM","NQ","NS","NW","NZ","PQ","PC","PF","PF","PF","PJ","PM","PT","PW","QC","QD","QF","QG","PY","QL","QP","QG","QG","QQ","QQ","QG","RE","QG","QQ","QG","QG","RN","RP","RP","QW",5]
[36,null,null," ","LS","LW","LZ","**","**","**","MK","**","**",{"$f":"IF(Configurator!#REF!=3,\"MN\",\"**\")","v":{"$error":"#REF!"}},"**","MK","MM","MM","NE","MM","ML","ML","NM","NQ","NR","NW","NZ","PQ","PC","PF","PJ","PM","PM","PM","PV","PY","QD","QD","QG","QG","PY","QM","QQ","QG","QG","QR","QR","QG","RF","QG","QR","QG","QG","RP","RP","RQ","RP",6]
[37,null,null," ","**","**","**","LZ","AA","MD","AQ","AK","AM","**","AM","AM","ML","ML"," ","ML","NF","MZ","NM","NQ","NT","NW","NZ","PQ","PC","PF","PJ","PM","PM","PM","PV","PY","QD","QD","QG","QG","PY","QM","QQ","QG","QG","QR","QR","QG","RF","QG","QR","QG","QG","RP","RP","RQ","RP",7]
[38,null,null," ","**","**","**","LZ","AA","MD","**","AK","AM","**","AM","AM","ML","ML"," ","ML","MZ","MZ","NP","NS","NT","NY","PB","PB","PB","PB","PB","PB","PL","PL","PV","PY","QD","QE","QG","QH","PX","QM","QQ","QH","QH","QV","RB","QH","RF","QH","RH","QH","QH","RP","RQ","RR","QX",8]
[39,null,null," ","LR","LV","LY","LZ","**","**","AM","**","AM","**","AM","AM","ML","ML"," ","ML","MZ","NJ","NP","NS","NT","NY","PB","PS","PE","PH","PH","PH","PL","PP","PV","PY","QD","QE","QG","QH","PX","QM","QQ","QH","QH","QV","RB","QH","RF","QH","RH","QH","QH","RP","RQ","RR","RQ",9]
[40,null,null," ","LR","LV","LY","**","**","**","AM","**","**","**","**","MM","MW","MZ"," ","MZ","NG","NA","NP","NS","NV","NY","PB","PS","PE","PH","PL","PP","PP","PP","PV","PY","QD","QE","QG","QH","PX","QM","QQ","QH","QH","QV","QV","QH","RF","QH","QV","QH","QH","RP","RQ","QV","RQ",10]
[41,null,null," ","**","**","**","**","AC","MF","MM","AU","**","BD","**","MM","MW","MZ"," ","MZ","NA","NA","NP","NS","NV","NY","PB","PS","PE","PH","PL","PP","PP","PP","PU","PX","QE","PZ","QH","PZ","QI","QN","QR","PZ","PZ","QW","RC","** Withdrawn : Use 632 SW","RG","** Withdrawn : Use 632 SW","RI","** Withdrawn : Use 632 SW","RK","RQ","RK","RS","RU",11]
[42,null,null," ","**","**","**","**","AC","MF","MM","**","**","BD","**","MM","MX","NA"," ","NA","NA","NK","NN","NR","NV","NX","PA","PA","PA","PA","PA","PA","PK","PK","PU","PX","QE","PZ","QH","PZ","QI","QN","QR","PZ","PZ","QW","RC","** Withdrawn : Use 632 SW","RG","** Withdrawn : Use 632 SW","RI","** Withdrawn : Use 632 SW","RK","RQ","RK","RS","RU",12]
[43,null,null," "," "," "," ","LY","**","**","AP","AM","AL","BD","AL","AL","MX","NA"," ","NA","NH","NB","NN","NR","NU","NX","PA","PR","PD","PG","PG","PG","PK","PN","PU","PX","QE","QA","QH","QA","QJ","QN","QR","QA","PZ","QW","QW","** Withdrawn : Use 632 SW","RG","** Withdrawn : Use 632 SW","QW","** Withdrawn : Use 632 SW","RK","RQ","RK","QW","RK",13]
[44,null,null," "," "," "," ","LY","**","**","**","AM","AL","BD","AL","AL","MY","NB"," ","NB","NB","NB","NN","NR","NU","NX","PA","PR","PD","PG","PK","PN","PN","PN","PU","PX","QE","QA","QH","QA","QJ","QN","QR","QA","QA","QX","RD","** Withdrawn : Use 632 SW","RG","** Withdrawn : Use 632 SW","RJ","** Withdrawn : Use 632 SW","RK","RQ","RK","RT","RK",14]
[45,null,null," "," "," "," ","LY","AJ","ME","AL","**","AL","BD","AL","AL","MY","NB"," ","NB","NB","NL","NN","NR","NU","NX","PA","PR","PD","PG","PK","PN","PN","PN","PU","PX","QE","QB","QH","QB","QK","QN","QR","QB","QA","QX","RD","** Withdrawn : Use 632 SW","RG","** Withdrawn : Use 632 SW","RJ","** Withdrawn : Use 632 SW","RL","RQ","RL","RT","RV",15]
[46,null,null," "," "," "," ","**","AJ","ME","AL","**","ML","**","**","ML"," "," "," "," "," "," "," "," "," "," "," "," "," "," "," "," "," "," "," "," "," ","QB"," ","QB","QK"," "," ","QB","QA","QX","QX","** Withdrawn : Use 632 SW"," ","** Withdrawn : Use 632 SW","QX","** Withdrawn : Use 632 SW","RL"," ","RL","QX","RV",16]
[47,null,null," "," "," "," ","**","**","**","ML","AW","**","**","**","ML"," "," "," "," "," "," "," "," "," "," "," "," "," "," "," "," "," "," "," "," "," "," "," "," "," "," "," "," ","QB"," "," ","** Withdrawn : Use 632 SW"," ","** Withdrawn : Use 632 SW"," ","** Withdrawn : Use 632 SW","RL"," ","RL"," ","RL",17]
[48,null,null," "," "," "," ","**","**","**","ML","**","**","**","**","ML"," "," "," "," "," "," "," "," "," "," "," "," "," "," "," "," "," "," "," "," "," "," "," "," "," "," "," "," ","QB"," "," ","** Withdrawn : Use 632 SW"," ","** Withdrawn : Use 632 SW"," ","** Withdrawn : Use 632 SW","RL"," ","RL"," ","RL",18]
[49,null,null," "," "," "," "," "," "," "," ","AL","AW","**","AW","AW"," "," "," "," "," "," "," "," "," "," "," "," "," "," "," "," "," "," "," "," "," "," "," "," "," "," "," "," ","QB"," "," ","** Withdrawn : Use 632 SW"," ","** Withdrawn : Use 632 SW"," ","** Withdrawn : Use 632 SW","RM"," ","RM"," ","RX",19]
[50,null,null," "," "," "," "," "," "," "," ","AL","AW","**","AW","AW"," "," "," "," "," "," "," "," "," "," "," "," "," "," "," "," "," "," "," "," "," "," "," "," "," "," "," "," "," "," "," ","** Withdrawn : Use 632 SW"," ","** Withdrawn : Use 632 SW"," ","** Withdrawn : Use 632 SW","RM"," ","RM"," ","RX",20]
[51,null,null," "," "," "," "," "," "," "," ","**","**","BE","**","MW"," "," "," "," "," "," "," "," "," "," "," "," "," "," "," "," "," "," "," "," "," "," "," "," "," "," "," "," "," "," "," ","** Withdrawn : Use 632 SW"," ","** Withdrawn : Use 632 SW"," ","** Withdrawn : Use 632 SW","RM"," ","RM"," ","RM",21]
[52,null,null," "," "," "," "," "," "," "," ","**","**","BE","**","MW"," "," "," "," "," "," "," "," "," "," "," "," "," "," "," "," "," "," "," "," "," "," "," "," "," "," "," "," "," "," "," ","** Withdrawn : Use 632 SW"," ","** Withdrawn : Use 632 SW"," ","** Withdrawn : Use 632 SW","RM"," ","RM"," ","RM",22]
[53,null,null," "," "," "," "," "," "," "," ","AV","AX","BE","AX","AX"," "," "," "," "," "," "," "," "," "," "," "," "," "," "," "," "," "," "," "," "," "," "," "," "," "," "," "," "," "," "," "," "," "," "," "," "," "," "," "," "," ",23]
[54,null,null," "," "," "," "," "," "," "," ","**","AX","BE","AX","AX"," "," "," "," "," "," "," "," "," "," "," "," "," "," "," "," "," "," "," "," "," "," "," "," "," "," "," "," "," "," "," "," "," "," "," "," "," "," "," "," "," ",24]
[55,null,null," "," "," "," "," "," "," "," ","AR","**","BE","**","MX"," "," "," "," "," "," "," "," "," "," "," "," "," "," "," "," "," "," "," "," "," "," "," "," "," "," "," "," "," "," "," "," "," "," "," "," "," "," "," "," "," ",25]
[56,null,null," "," "," "," "," "," "," "," ","**","**","**","**","MX"," "," "," "," "," "," "," "," "," "," "," "," "," "," "," "," "," "," "," "," "," "," "," "," "," "," "," "," "," "," "," "," "," "," "," "," "," "," "," "," "," ",26]
[57,null,null," "," "," "," "," "," "," "," ","AT","AY","**","AY","AY"," "," "," "," "," "," "," "," "," "," "," "," "," "," "," "," "," "," "," "," "," "," "," "," "," "," "," "," "," "," "," "," "," "," "," "," "," "," "," "," "," ",27]
[58,null,null," "," "," "," "," "," "," "," ","**","AY","**","AY","AY"," "," "," "," "," "," "," "," "," "," "," "," "," "," "," "," "," "," "," "," "," "," "," "," "," "," "," "," "," "," "," "," "," "," "," "," "," "," "," "," "," ",28]
[59,null,null," "," "," "," "," "," "," "," ","AS","**","**","**","MY"," "," "," "," "," "," "," "," "," "," "," "," "," "," "," "," "," "," "," "," "," "," "," "," "," "," "," "," "," "," "," "," "," "," "," "," "," "," "," "," "," ",29]
[60,null,null," "," "," "," "," "," "," "," ","**","**","**","**","MY"," "," "," "," "," "," "," "," "," "," "," "," "," "," "," "," "," "," "," "," "," "," "," "," "," "," "," "," "," "," "," "," "," "," "," "," "," "," "," "," "," ",30]
[]
[null,null,null,1,1,1,1,1,1,1,1,1,2,2,2,2,2,2,2,2,2,2,2,2,2,2,2,2,2,2,2,2,2,2,2,2,2,2,2,2,2,2,2,2,2,2,2,2,2,2,2,2,2,2,2,2,2]

{"sheet":"Database","index":12,"n_rows":276,"n_cols":31,"rows_kept":276,"cut":false,"hidden":true,"merged":[]}
[]
[]
[1,"316-4xx-661-702","2017-12-16"," "]
[2,"316-4xx-660-713","2017-11-28"," "]
[3,"315-4xx-657-701","2017-02-24"," "]
[4,"315-4xx-657","2017-01-26"," "]
[5,"315-4xx-656","2016-04-21"," "]
[6,"315-4xx-655-701","2015-09-24"," "]
[7,"315-4xx-654","2015-02-16"," "]
[8,"314-4xx-653","2014-12-04"," "]
[9,"313-4xx-652-701","2014-06-18"," "]
[10,"313-4xx-651-701","2013-11-07"," "]
[11,"313-4xx-651","2013-07-16"," "]
[12,"313-4xx-650-701","2013-08-14"," "]
[]
[]
[]
[]
[]
[null,null,null,{"$f":"'Date Drivers'!B1","v":"2017-12-16"}]
[]
[1,{"$f":"CONCATENATE(HLOOKUP('Date Drivers'!$B$1,'Date Drivers'!$B$2:$AI$3,2))","v":"Basic device 40TE, pin terminal connection"},3,{"$f":"HLOOKUP('Date Drivers'!$B$1,'Date Drivers'!$B$2:$AI$12,6)","v":"Surface-mounted, local control panel with serial graphic display"},{"$f":"HLOOKUP('Date Drivers'!$B$1,'Date Drivers'!$B$2:$AI$12,7)","v":"Flush-mounted, local control panel with serial graphic display"},{"$f":"HLOOKUP('Date Drivers'!$B$1,'Date Drivers'!$B$2:$AI$12,8)","v":"Surface-mounted, with detachable HMI"},{"$f":"HLOOKUP('Date Drivers'!$B$1,'Date Drivers'!$B$2:$AI$12,9)","v":"Flush-mounted, with detachable HMI"},{"$f":"HLOOKUP('Date Drivers'!$B$1,'Date Drivers'!$B$2:$AI$12,10)","v":" "},{"$f":"HLOOKUP('Date Drivers'!$B$1,'Date Drivers'!$B$2:$AI$12,11)","v":" "},{"$f":"HLOOKUP('Date Drivers'!$B$1,'Date Drivers'!$B$2:$AI$13,12)","v":" "},{"$f":"HLOOKUP('Date Drivers'!$B$1,'Date Drivers'!$B$2:$AI$14,13)","v":" "},{"$f":"HLOOKUP('Date Drivers'!$B$1,'Date Drivers'!$B$2:$AI$112,38)","v":"-426"},{"$f":"HLOOKUP('Date Drivers'!$B$1,'Date Drivers'!$B$2:$AI$112,39)","v":"A"},{"$f":"IF(Configurator!$P$5=\" \",\"\",\"-45\")","v":"-45"},{"$f":"IF(Configurator!$P$5=\" \",\"\",\"9\")","v":"9"},{"$f":"IF(Tendering!$AC$22=1,\"\",\"-80\")","v":""},{"$f":"HLOOKUP('Date Drivers'!$B$1,'Date Drivers'!$B$2:$AI$19,15)","v":"Without"},{"$f":"HLOOKUP('Date Drivers'!$B$1,'Date Drivers'!$B$2:$AI$19,16)","v":"Vnom = 50V to 130V (4-pole)"},{"$f":"HLOOKUP('Date Drivers'!$B$1,'Date Drivers'!$B$2:$AI$19,17)","v":"Vnom = 50V to 130V (5-pole) for Automatic Synchronism Check"},{"$f":"HLOOKUP('Date Drivers'!$B$1,'Date Drivers'!$B$2:$AI$19,18)","v":" "},0,4,5,{"$f":"HLOOKUP('Date Drivers'!$B$1,'Date Drivers'!$B$2:$B$204,19)","v":"*"}]
[2,{"$f":"(HLOOKUP('Date Drivers'!$B$1,'Date Drivers'!$B$2:$AI$4,3))","v":"Basic device 40TE, CT/VT ring-, I/O pin-terminal connection"},5,{"$f":"HLOOKUP('Date Drivers'!$B$1,'Date Drivers'!$B$2:$AI$12,6)","v":"Surface-mounted, local control panel with serial graphic display"},{"$f":"HLOOKUP('Date Drivers'!$B$1,'Date Drivers'!$B$2:$AI$12,7)","v":"Flush-mounted, local control panel with serial graphic display"},{"$f":"HLOOKUP('Date Drivers'!$B$1,'Date Drivers'!$B$2:$AI$12,8)","v":"Surface-mounted, with detachable HMI"},{"$f":"HLOOKUP('Date Drivers'!$B$1,'Date Drivers'!$B$2:$AI$12,9)","v":"Flush-mounted, with detachable HMI"},{"$f":"HLOOKUP('Date Drivers'!$B$1,'Date Drivers'!$B$2:$AI$12,10)","v":" "},{"$f":"HLOOKUP('Date Drivers'!$B$1,'Date Drivers'!$B$2:$AI$12,11)","v":" "},{"$f":"HLOOKUP('Date Drivers'!$B$1,'Date Drivers'!$B$2:$AI$13,12)","v":" "},{"$f":"HLOOKUP('Date Drivers'!$B$1,'Date Drivers'!$B$2:$AI$14,13)","v":" "},{"$f":"HLOOKUP('Date Drivers'!$B$1,'Date Drivers'!$B$2:$AI$112,40)","v":"-427"},{"$f":"HLOOKUP('Date Drivers'!$B$1,'Date Drivers'!$B$2:$AI$112,41)","v":"B"},{"$f":"IF(Configurator!$P$5=\" \",\"\",\"-45\")","v":"-45"},{"$f":"IF(Configurator!$P$5=\" \",\"\",\"9\")","v":"9"},{"$f":"IF(Tendering!$AC$22=1,\"\",\"-80\")","v":""},{"$f":"HLOOKUP('Date Drivers'!$B$1,'Date Drivers'!$B$2:$AI$19,15)","v":"Without"},{"$f":"HLOOKUP('Date Drivers'!$B$1,'Date Drivers'!$B$2:$AI$19,16)","v":"Vnom = 50V to 130V (4-pole)"},{"$f":"HLOOKUP('Date Drivers'!$B$1,'Date Drivers'!$B$2:$AI$19,17)","v":"Vnom = 50V to 130V (5-pole) for Automatic Synchronism Check"}," ",{"$f":"IF(Tendering!$B$16=4,\"*\",0)","v":0},4,5,5]
[3,{"$f":"(HLOOKUP('Date Drivers'!$B$1,'Date Drivers'!$B$2:$AI$5,4))","v":"Basic device 84TE, ring terminal connection"},8,{"$f":"HLOOKUP('Date Drivers'!$B$1,'Date Drivers'!$B$2:$AI$12,6)","v":"Surface-mounted, local control panel with serial graphic display"},{"$f":"HLOOKUP('Date Drivers'!$B$1,'Date Drivers'!$B$2:$AI$12,7)","v":"Flush-mounted, local control panel with serial graphic display"},{"$f":"HLOOKUP('Date Drivers'!$B$1,'Date Drivers'!$B$2:$AI$14,8)","v":"Surface-mounted, with detachable HMI"},{"$f":"HLOOKUP('Date Drivers'!$B$1,'Date Drivers'!$B$2:$AI$14,9)","v":"Flush-mounted, with detachable HMI"},{"$f":"HLOOKUP('Date Drivers'!$B$1,'Date Drivers'!$B$2:$AI$12,10)","v":" "},{"$f":"HLOOKUP('Date Drivers'!$B$1,'Date Drivers'!$B$2:$AI$12,11)","v":" "},{"$f":"HLOOKUP('Date Drivers'!$B$1,'Date Drivers'!$B$2:$AI$13,12)","v":" "},{"$f":"HLOOKUP('Date Drivers'!$B$1,'Date Drivers'!$B$2:$AI$14,13)","v":" "},{"$f":"HLOOKUP('Date Drivers'!$B$1,'Date Drivers'!$B$2:$AI$112,42)","v":"-428"},{"$f":"HLOOKUP('Date Drivers'!$B$1,'Date Drivers'!$B$2:$AI$112,43)","v":"C"},{"$f":"IF(Configurator!$P$5=\" \",\"\",\"-45\")","v":"-45"},{"$f":"IF(Configurator!$P$5=\" \",\"\",\"9\")","v":"9"},{"$f":"IF(Tendering!$AC$22=1,\"\",\"-80\")","v":""},{"$f":"HLOOKUP('Date Drivers'!$B$1,'Date Drivers'!$B$2:$AI$19,15)","v":"Without"},{"$f":"HLOOKUP('Date Drivers'!$B$1,'Date Drivers'!$B$2:$AI$19,16)","v":"Vnom = 50V to 130V (4-pole)"},{"$f":"HLOOKUP('Date Drivers'!$B$1,'Date Drivers'!$B$2:$AI$19,17)","v":"Vnom = 50V to 130V (5-pole) for Automatic Synchronism Check"},{"$f":"HLOOKUP('Date Drivers'!$B$1,'Date Drivers'!$B$2:$AI$19,18)","v":" "},{"$f":"IF(Tendering!$B$16=4,\"*\",0)","v":0},4,5,{"$f":"HLOOKUP('Date Drivers'!$B$1,'Date Drivers'!$B$2:$B$204,19)","v":"*"}]
[]
[null,null,null,"Connection Key",{"$f":"Tendering!$B$9","v":1},11,12,13,14,15,16,17,18,21,22,23,24,25,26,27,28,31,32,33,34,35,36,37,38]
[1,{"$f":"VLOOKUP(Tendering!$B$9,$A$22:$K$24,4)","v":"Surface-mounted, local control panel with serial graphic display"},{"$f":"HLOOKUP($E$34,$F$26:$AC$27,2)","v":6},"Case design Key",{"$f":"Tendering!$B$10","v":2},5,6,{"$f":"IF($F$22=\" \",6,7)","v":7},{"$f":"IF($F$22=\" \",6,9)","v":9},"E","F",{"$f":"IF($J$22=\" \",\"F\",\"G\")","v":"F"},{"$f":"IF($J$22=\" \",\"F\",\"J\")","v":"F"},5,6,{"$f":"IF($F$22=\" \",6,7)","v":7},{"$f":"IF($F$22=\" \",6,9)","v":9},"E","F",{"$f":"IF($J$22=\" \",\"F\",\"G\")","v":"F"},{"$f":"IF($J$22=\" \",\"F\",\"J\")","v":"F"},5,6,{"$f":"IF($F$22=\" \",6,7)","v":7},{"$f":"IF($F$22=\" \",6,9)","v":9},"E","F",{"$f":"IF($J$22=\" \",\"F\",\"G\")","v":"F"},{"$f":"IF($J$22=\" \",\"F\",\"J\")","v":"F"}]
[2,{"$f":"VLOOKUP(Tendering!$B$9,$A$22:$K$24,5)","v":"Flush-mounted, local control panel with serial graphic display"},{"$f":"HLOOKUP($E$34,$F$26:$AC$27,2)","v":6}]
[3,{"$f":"VLOOKUP(Tendering!$B$9,$A$22:$K$24,6)","v":"Surface-mounted, with detachable HMI"},6]
[4,{"$f":"VLOOKUP(Tendering!$B$9,$A$22:$K$24,7)","v":"Flush-mounted, with detachable HMI"},6]
[5,{"$f":"VLOOKUP(Tendering!$B$9,$A$22:$K$24,8)","v":" "},6]
[6,{"$f":"VLOOKUP(Tendering!$B$9,$A$22:$K$24,9)","v":" "},6]
[7,{"$f":"VLOOKUP(Tendering!$B$9,$A$22:$K$24,10)","v":" "},6]
[8,{"$f":"VLOOKUP(Tendering!$B$9,$A$22:$K$24,11)","v":" "},6,"COMBINED KEY",{"$f":"$E$26*10+$E$27","v":12}]
[]
[]
[1,{"$f":"VLOOKUP(Tendering!$B$9,$A$22:$X$24,17)","v":"Without"},{"$f":"VLOOKUP(Tendering!$B$9,$A$22:$X$24,21)","v":0},{"$f":"HLOOKUP('Date Drivers'!$B$1,'Date Drivers'!$B$2:$AI$501,45)","v":"None"},{"$f":"HLOOKUP('Date Drivers'!$B$1,'Date Drivers'!$B$2:$AI$54,47)","v":"Analogue module"},{"$f":"HLOOKUP('Date Drivers'!$B$1,'Date Drivers'!$B$2:$AI$54,49)","v":"24 binary inputs"},{"$f":"HLOOKUP('Date Drivers'!$B$1,'Date Drivers'!$B$2:$AI$54,51)","v":"With RTD module"},{"$f":"HLOOKUP('Date Drivers'!$B$1,'Date Drivers'!$B$2:$AI$54,52)","v":"With RTD and analogue module"},{"$f":"HLOOKUP('Date Drivers'!$B$1,'Date Drivers'!$B$2:$AI$54,53)","v":"With RTD and binary module (add. 24 binary inputs)"},{"$f":"HLOOKUP('Date Drivers'!$B$1,'Date Drivers'!$B$2:$AI$215,213)","v":"With analog module and binary module (add. 24 binary inputs)"},{"$f":"HLOOKUP('Date Drivers'!$B$1,'Date Drivers'!$B$2:$AI$215,214)","v":"With two binary modules (add. 48 binary inputs)"},{"$f":"HLOOKUP('Date Drivers'!$B$1,'Date Drivers'!$B$2:$AI$245,235)","v":"With binary module (add. 6 binary inputs and 8 outputs)"},{"$f":"HLOOKUP('Date Drivers'!$B$1,'Date Drivers'!$B$2:$AI$245,236)","v":"With binary module (add. 6 binary inputs and 8 outputs) and 24 binary inputs"},{"$f":"HLOOKUP('Date Drivers'!$B$1,'Date Drivers'!$B$2:$AI$245,237)","v":"With binary module (add. 6 binary inputs and 8 outputs) and analogue module"},{"$f":"HLOOKUP('Date Drivers'!$B$1,'Date Drivers'!$B$2:$AI$245,238)","v":"With binary module (add. 6 binary inputs and 8 outputs) and RTD module"}," "," "," "," "]
[2,{"$f":"VLOOKUP(Tendering!$B$9,$A$22:$X$24,18)","v":"Vnom = 50V to 130V (4-pole)"},{"$f":"VLOOKUP(Tendering!$B$9,$A$22:$X$24,22)","v":4},{"$f":"HLOOKUP('Date Drivers'!$B$1,'Date Drivers'!$B$2:$AI$501,45)","v":"None"},{"$f":"HLOOKUP('Date Drivers'!$B$1,'Date Drivers'!$B$2:$AI$54,46)","v":"Transient ground fault module"},{"$f":"HLOOKUP('Date Drivers'!$B$1,'Date Drivers'!$B$2:$AI$54,47)","v":"Analogue module"},{"$f":"HLOOKUP('Date Drivers'!$B$1,'Date Drivers'!$B$2:$AI$54,48)","v":"Transient ground fault & analogue modules"},{"$f":"HLOOKUP('Date Drivers'!$B$1,'Date Drivers'!$B$2:$AI$54,49)","v":"24 binary inputs"},{"$f":"HLOOKUP('Date Drivers'!$B$1,'Date Drivers'!$B$2:$AI$54,50)","v":"24 binary inputs and transient ground fault module"},{"$f":"HLOOKUP('Date Drivers'!$B$1,'Date Drivers'!$B$2:$AI$54,51)","v":"With RTD module"},{"$f":"HLOOKUP('Date Drivers'!$B$1,'Date Drivers'!$B$2:$AI$54,52)","v":"With RTD and analogue module"},{"$f":"HLOOKUP('Date Drivers'!$B$1,'Date Drivers'!$B$2:$AI$54,53)","v":"With RTD and binary module (add. 24 binary inputs)"},{"$f":"HLOOKUP('Date Drivers'!$B$1,'Date Drivers'!$B$2:$AI$215,213)","v":"With analog module and binary module (add. 24 binary inputs)"},{"$f":"HLOOKUP('Date Drivers'!$B$1,'Date Drivers'!$B$2:$AI$215,214)","v":"With two binary modules (add. 48 binary inputs)"},{"$f":"HLOOKUP('Date Drivers'!$B$1,'Date Drivers'!$B$2:$AI$245,235)","v":"With binary module (add. 6 binary inputs and 8 outputs)"},{"$f":"HLOOKUP('Date Drivers'!$B$1,'Date Drivers'!$B$2:$AI$245,236)","v":"With binary module (add. 6 binary inputs and 8 outputs) and 24 binary inputs"},{"$f":"HLOOKUP('Date Drivers'!$B$1,'Date Drivers'!$B$2:$AI$245,237)","v":"With binary module (add. 6 binary inputs and 8 outputs) and analogue module"},{"$f":"HLOOKUP('Date Drivers'!$B$1,'Date Drivers'!$B$2:$AI$245,238)","v":"With binary module (add. 6 binary inputs and 8 outputs) and RTD module"},{"$f":"HLOOKUP('Date Drivers'!$B$1,'Date Drivers'!$B$2:$AI$245,239)","v":"With binary module (add. 6 binary inputs and 8 outputs) and TGF module"}]
[3,{"$f":"VLOOKUP(Tendering!$B$9,$A$22:$X$24,19)","v":"Vnom = 50V to 130V (5-pole) for Automatic Synchronism Check"},{"$f":"VLOOKUP(Tendering!$B$9,$A$22:$X$24,23)","v":5},{"$f":"HLOOKUP('Date Drivers'!$B$1,'Date Drivers'!$B$2:$AI$501,45)","v":"None"},{"$f":"HLOOKUP('Date Drivers'!$B$1,'Date Drivers'!$B$2:$AI$54,46)","v":"Transient ground fault module"},{"$f":"HLOOKUP('Date Drivers'!$B$1,'Date Drivers'!$B$2:$AI$54,47)","v":"Analogue module"},{"$f":"HLOOKUP('Date Drivers'!$B$1,'Date Drivers'!$B$2:$AI$54,48)","v":"Transient ground fault & analogue modules"},{"$f":"HLOOKUP('Date Drivers'!$B$1,'Date Drivers'!$B$2:$AI$54,49)","v":"24 binary inputs"},{"$f":"HLOOKUP('Date Drivers'!$B$1,'Date Drivers'!$B$2:$AI$54,50)","v":"24 binary inputs and transient ground fault module"},{"$f":"HLOOKUP('Date Drivers'!$B$1,'Date Drivers'!$B$2:$AI$54,51)","v":"With RTD module"},{"$f":"HLOOKUP('Date Drivers'!$B$1,'Date Drivers'!$B$2:$AI$54,52)","v":"With RTD and analogue module"},{"$f":"HLOOKUP('Date Drivers'!$B$1,'Date Drivers'!$B$2:$AI$54,53)","v":"With RTD and binary module (add. 24 binary inputs)"},{"$f":"HLOOKUP('Date Drivers'!$B$1,'Date Drivers'!$B$2:$AI$215,213)","v":"With analog module and binary module (add. 24 binary inputs)"},{"$f":"HLOOKUP('Date Drivers'!$B$1,'Date Drivers'!$B$2:$AI$215,214)","v":"With two binary modules (add. 48 binary inputs)"},{"$f":"HLOOKUP('Date Drivers'!$B$1,'Date Drivers'!$B$2:$AI$245,235)","v":"With binary module (add. 6 binary inputs and 8 outputs)"},{"$f":"HLOOKUP('Date Drivers'!$B$1,'Date Drivers'!$B$2:$AI$245,236)","v":"With binary module (add. 6 binary inputs and 8 outputs) and 24 binary inputs"},{"$f":"HLOOKUP('Date Drivers'!$B$1,'Date Drivers'!$B$2:$AI$245,237)","v":"With binary module (add. 6 binary inputs and 8 outputs) and analogue module"},{"$f":"HLOOKUP('Date Drivers'!$B$1,'Date Drivers'!$B$2:$AI$245,238)","v":"With binary module (add. 6 binary inputs and 8 outputs) and RTD module"},{"$f":"HLOOKUP('Date Drivers'!$B$1,'Date Drivers'!$B$2:$AI$245,239)","v":"With binary module (add. 6 binary inputs and 8 outputs) and TGF module"}]
[4,{"$f":"VLOOKUP(Tendering!$B$9,$A$22:$X$24,20)","v":" "},{"$f":"VLOOKUP(Tendering!$B$9,$A$22:$X$24,24)","v":"*"},{"$f":"HLOOKUP('Date Drivers'!$B$1,'Date Drivers'!$B$2:$AI$501,45)","v":"None"},{"$f":"HLOOKUP('Date Drivers'!$B$1,'Date Drivers'!$B$2:$AI$54,46)","v":"Transient ground fault module"},{"$f":"HLOOKUP('Date Drivers'!$B$1,'Date Drivers'!$B$2:$AI$54,47)","v":"Analogue module"},{"$f":"HLOOKUP('Date Drivers'!$B$1,'Date Drivers'!$B$2:$AI$54,48)","v":"Transient ground fault & analogue modules"},{"$f":"HLOOKUP('Date Drivers'!$B$1,'Date Drivers'!$B$2:$AI$54,49)","v":"24 binary inputs"},{"$f":"HLOOKUP('Date Drivers'!$B$1,'Date Drivers'!$B$2:$AI$54,50)","v":"24 binary inputs and transient ground fault module"},{"$f":"HLOOKUP('Date Drivers'!$B$1,'Date Drivers'!$B$2:$AI$54,51)","v":"With RTD module"},{"$f":"HLOOKUP('Date Drivers'!$B$1,'Date Drivers'!$B$2:$AI$54,52)","v":"With RTD and analogue module"},{"$f":"HLOOKUP('Date Drivers'!$B$1,'Date Drivers'!$B$2:$AI$54,53)","v":"With RTD and binary module (add. 24 binary inputs)"},{"$f":"HLOOKUP('Date Drivers'!$B$1,'Date Drivers'!$B$2:$AI$215,213)","v":"With analog module and binary module (add. 24 binary inputs)"},{"$f":"HLOOKUP('Date Drivers'!$B$1,'Date Drivers'!$B$2:$AI$215,214)","v":"With two binary modules (add. 48 binary inputs)"},{"$f":"HLOOKUP('Date Drivers'!$B$1,'Date Drivers'!$B$2:$AI$245,235)","v":"With binary module (add. 6 binary inputs and 8 outputs)"},{"$f":"HLOOKUP('Date Drivers'!$B$1,'Date Drivers'!$B$2:$AI$245,236)","v":"With binary module (add. 6 binary inputs and 8 outputs) and 24 binary inputs"},{"$f":"HLOOKUP('Date Drivers'!$B$1,'Date Drivers'!$B$2:$AI$245,237)","v":"With binary module (add. 6 binary inputs and 8 outputs) and analogue module"},{"$f":"HLOOKUP('Date Drivers'!$B$1,'Date Drivers'!$B$2:$AI$245,238)","v":"With binary module (add. 6 binary inputs and 8 outputs) and RTD module"},{"$f":"HLOOKUP('Date Drivers'!$B$1,'Date Drivers'!$B$2:$AI$245,239)","v":"With binary module (add. 6 binary inputs and 8 outputs) and TGF module"}]
[]
[]
[1,{"$f":"HLOOKUP('Date Drivers'!$B$1,'Date Drivers'!$B$2:$AI$23,21)","v":"Without"},0]
[2,{"$f":"HLOOKUP('Date Drivers'!$B$1,'Date Drivers'!$B$2:$AI$23,22)","v":"With 1 binary module (add. 6 binary inputs and 6 output relays (2-pole)) for the control of up to 3 add'l switchgear units"},5]
[]
[null,null,null,{"$f":"VLOOKUP(Tendering!B14,A47:B56,2,FALSE)","v":"60 ... 250Vdc/100 ... 230Vac"},{"$f":"VLOOKUP(D46,D128:E146,2,FALSE)","v":"F"}]
[1,{"$f":"HLOOKUP('Date Drivers'!$B$1,'Date Drivers'!$B$2:$AI$30,24)","v":"24 … 60Vdc"},3]
[2,{"$f":"HLOOKUP('Date Drivers'!$B$1,'Date Drivers'!$B$2:$AI$30,25)","v":"60 ... 250Vdc/100 ... 230Vac"},4]
[3,{"$f":"HLOOKUP('Date Drivers'!$B$1,'Date Drivers'!$B$2:$AI$30,26)","v":"24 … 60Vdc and 6 output relays"},6]
[4,{"$f":"HLOOKUP('Date Drivers'!$B$1,'Date Drivers'!$B$2:$AI$30,27)","v":"60 … 250Vdc/100 … 230Vac and 6 output relays"},7]
[5,{"$f":"HLOOKUP('Date Drivers'!$B$1,'Date Drivers'!$B$2:$AI$30,28)","v":"24 … 60Vdc and 6 binary inputs and 3 output relays"},8]
[6,{"$f":"HLOOKUP('Date Drivers'!$B$1,'Date Drivers'!$B$2:$AI$30,29)","v":"60 … 250Vdc / 100 … 230Vac and 6 binary inputs and 3 output relays"},9]
[7,{"$f":"HLOOKUP('Date Drivers'!$B$1,'Date Drivers'!$B$2:$AI$40,30)","v":"24 … 60Vdc and 4 high break contacts"},{"$f":"IF(Configurator!$L$7>\"-307\",\"A\",\"9\")","v":"A"}]
[8,{"$f":"HLOOKUP('Date Drivers'!$B$1,'Date Drivers'!$B$2:$AI$40,31)","v":"60 … 250Vdc / 100 … 230Vac and 4 high break contacts"},{"$f":"IF(Configurator!$L$7>\"-307\",\"B\",\"9\")","v":"B"}]
[9,{"$f":"HLOOKUP('Date Drivers'!$B$1,'Date Drivers'!$B$2:$AI$40,32)","v":" "},{"$f":"IF(Configurator!$L$7>\"-307\",\"C\",\"9\")","v":"C"}]
[10,{"$f":"HLOOKUP('Date Drivers'!$B$1,'Date Drivers'!$B$2:$AI$40,33)","v":" "},{"$f":"IF(Configurator!$L$7>\"-307\",\"D\",\"9\")","v":"D"}]
[null,null,null,null,null,null,null,null,null,null,null,null,null,null,null,null,null,{"$f":"VLOOKUP(Tendering!B15,A59:B74,2,FALSE)","v":"None"},{"$f":"VLOOKUP(R57,R58:S85,2,FALSE)","v":0}]
[null,null,null,null,null,null,null,null,null,null,null,null,null,null,null,null,null,"24 binary inputs",4,{"$f":"Configurator!D23","v":0}]
[1,{"$f":"VLOOKUP(Tendering!$B$12,$A$37:$Y$40,4)","v":"None"},null,{"$f":"HLOOKUP('Date Drivers'!$B$1,'Date Drivers'!$B$2:$AI$179,146)","v":"None"},{"$f":"HLOOKUP('Date Drivers'!$B$1,'Date Drivers'!$B$2:$AI$179,147)","v":"For connection to wire, RS485, isolated"},{"$f":"HLOOKUP('Date Drivers'!$B$1,'Date Drivers'!$B$2:$AI$179,148)","v":"For connection to plastic fibre, FSMA connector"},{"$f":"HLOOKUP('Date Drivers'!$B$1,'Date Drivers'!$B$2:$AI$179,149)","v":"For connection to glass fibre, ST connector"},{"$f":"HLOOKUP('Date Drivers'!$B$1,'Date Drivers'!$B$2:$AI$179,150)","v":"For connection to wire, RS232"},{"$f":"HLOOKUP('Date Drivers'!$B$1,'Date Drivers'!$B$2:$AI$179,152)","v":"-951"},{"$f":"HLOOKUP('Date Drivers'!$B$1,'Date Drivers'!$B$2:$AI$179,153)","v":"-952"},{"$f":"HLOOKUP('Date Drivers'!$B$1,'Date Drivers'!$B$2:$AI$179,154)","v":"-954"},{"$f":"HLOOKUP('Date Drivers'!$B$1,'Date Drivers'!$B$2:$AI$179,155)","v":"-955"},{"$f":"IF(H59=\" \",\"\",\"A\")","v":"A"},{"$f":"IF(H59=\" \",\"\",\"B\")","v":"B"},{"$f":"IF(G59=\" \",\"\",\"C\")","v":"C"},{"$f":"IF(H59=\" \",\"\",\"D\")","v":"D"},null,"24 binary inputs and transient ground fault module",5,0,"None","None","For connection to wire, RS485, isolated","For connection to glass fibre, ST connector","For connection to wire, RS232","-951","-954","-955","A","C","D"]
[2,{"$f":"VLOOKUP(Tendering!$B$12,$A$37:$Y$40,5)","v":"Transient ground fault module"},null,{"$f":"HLOOKUP('Date Drivers'!$B$1,'Date Drivers'!$B$2:$AI$179,173)","v":"Not Available with Transient Ground Fault Module fitted"}," "," "," "," "," "," "," "," "," "," "," "," ",null,"24 binary inputs and transient ground fault module requires voltage input!","*",1,"Transient ground fault module","Not Available with Transient Ground Fault Module fitted"," "," "," "," "," "," "," "," "," "]
[3,{"$f":"VLOOKUP(Tendering!$B$12,$A$37:$Y$40,6)","v":"Analogue module"},null,{"$f":"HLOOKUP('Date Drivers'!$B$1,'Date Drivers'!$B$2:$AI$179,146)","v":"None"},{"$f":"HLOOKUP('Date Drivers'!$B$1,'Date Drivers'!$B$2:$AI$179,147)","v":"For connection to wire, RS485, isolated"},{"$f":"HLOOKUP('Date Drivers'!$B$1,'Date Drivers'!$B$2:$AI$179,148)","v":"For connection to plastic fibre, FSMA connector"},{"$f":"HLOOKUP('Date Drivers'!$B$1,'Date Drivers'!$B$2:$AI$179,149)","v":"For connection to glass fibre, ST connector"},{"$f":"HLOOKUP('Date Drivers'!$B$1,'Date Drivers'!$B$2:$AI$179,150)","v":"For connection to wire, RS232"},{"$f":"HLOOKUP('Date Drivers'!$B$1,'Date Drivers'!$B$2:$AI$179,152)","v":"-951"},{"$f":"HLOOKUP('Date Drivers'!$B$1,'Date Drivers'!$B$2:$AI$179,153)","v":"-952"},{"$f":"HLOOKUP('Date Drivers'!$B$1,'Date Drivers'!$B$2:$AI$179,154)","v":"-954"},{"$f":"HLOOKUP('Date Drivers'!$B$1,'Date Drivers'!$B$2:$AI$179,155)","v":"-955"},{"$f":"IF(H61=\" \",\"\",\"A\")","v":"A"},{"$f":"IF(H61=\" \",\"\",\"B\")","v":"B"},{"$f":"IF(G61=\" \",\"\",\"C\")","v":"C"},{"$f":"IF(H61=\" \",\"\",\"D\")","v":"D"},null,"Analogue module",2,2,"Analogue module","None","For connection to wire, RS485, isolated","For connection to glass fibre, ST connector","For connection to wire, RS232","-951","-954","-955","A","C","D"]
[4,{"$f":"VLOOKUP(Tendering!$B$12,$A$37:$Y$40,7)","v":"Transient ground fault & analogue modules"},null,{"$f":"HLOOKUP('Date Drivers'!$B$1,'Date Drivers'!$B$2:$AI$179,173)","v":"Not Available with Transient Ground Fault Module fitted"}," "," "," "," "," "," "," "," "," "," "," "," ",null,"None",0,3,"Transient ground fault & analogue modules","Not Available with Transient Ground Fault Module fitted"," "," "," "," "," "," "," "," "," "]
[5,{"$f":"VLOOKUP(Tendering!$B$12,$A$37:$Y$40,8)","v":"24 binary inputs"},null,{"$f":"HLOOKUP('Date Drivers'!$B$1,'Date Drivers'!$B$2:$AI$179,146)","v":"None"},{"$f":"HLOOKUP('Date Drivers'!$B$1,'Date Drivers'!$B$2:$AI$179,147)","v":"For connection to wire, RS485, isolated"},{"$f":"HLOOKUP('Date Drivers'!$B$1,'Date Drivers'!$B$2:$AI$179,148)","v":"For connection to plastic fibre, FSMA connector"},{"$f":"HLOOKUP('Date Drivers'!$B$1,'Date Drivers'!$B$2:$AI$179,149)","v":"For connection to glass fibre, ST connector"},{"$f":"HLOOKUP('Date Drivers'!$B$1,'Date Drivers'!$B$2:$AI$179,150)","v":"For connection to wire, RS232"},{"$f":"HLOOKUP('Date Drivers'!$B$1,'Date Drivers'!$B$2:$AI$179,152)","v":"-951"},{"$f":"HLOOKUP('Date Drivers'!$B$1,'Date Drivers'!$B$2:$AI$179,153)","v":"-952"},{"$f":"HLOOKUP('Date Drivers'!$B$1,'Date Drivers'!$B$2:$AI$179,154)","v":"-954"},{"$f":"HLOOKUP('Date Drivers'!$B$1,'Date Drivers'!$B$2:$AI$179,155)","v":"-955"},{"$f":"IF(H63=\" \",\"\",\"A\")","v":"A"},{"$f":"IF(H63=\" \",\"\",\"B\")","v":"B"},{"$f":"IF(G63=\" \",\"\",\"C\")","v":"C"},{"$f":"IF(H63=\" \",\"\",\"D\")","v":"D"},null,"Transient ground fault & analogue modules",3,4,"24 binary inputs","None","For connection to wire, RS485, isolated","For connection to glass fibre, ST connector","For connection to wire, RS232","-951","-954","-955","A","C","D"]
[6,{"$f":"VLOOKUP(Tendering!$B$12,$A$37:$Y$40,9)","v":"24 binary inputs and transient ground fault module"},null,{"$f":"HLOOKUP('Date Drivers'!$B$1,'Date Drivers'!$B$2:$AI$179,173)","v":"Not Available with Transient Ground Fault Module fitted"}," "," "," "," "," "," "," "," "," "," "," "," ",null,"Transient ground fault module",1,5,"24 binary inputs and transient ground fault module","Not Available with Transient Ground Fault Module fitted"," "," "," "," "," "," "," "," "," "]
[7,{"$f":"VLOOKUP(Tendering!$B$12,$A$37:$Y$40,10)","v":"With RTD module"},null,{"$f":"HLOOKUP('Date Drivers'!$B$1,'Date Drivers'!$B$2:$AI$205,204)","v":"Not Available with two binary modules fitted"}," "," "," "," "," "," "," "," "," "," "," "," ",null,"Transient ground fault module and analogue module requires voltage input!","*",7,"With RTD module","Not Available with RTD module fitted"," "," "," "," "," "," "," "," "," "]
[8,{"$f":"VLOOKUP(Tendering!$B$12,$A$37:$Y$40,11)","v":"With RTD and analogue module"},null,{"$f":"HLOOKUP('Date Drivers'!$B$1,'Date Drivers'!$B$2:$AI$205,204)","v":"Not Available with two binary modules fitted"}," "," "," "," "," "," "," "," "," "," "," "," ",null,"Transient ground fault module requires voltage input!","*",8,"With RTD and analogue module","Not Available with two binary modules fitted"," "," "," "," "," "," "," "," "," "]
[9,{"$f":"VLOOKUP(Tendering!$B$12,$A$37:$Y$40,12)","v":"With RTD and binary module (add. 24 binary inputs)"},null,{"$f":"HLOOKUP('Date Drivers'!$B$1,'Date Drivers'!$B$2:$AI$205,204)","v":"Not Available with two binary modules fitted"}," "," "," "," "," "," "," "," "," "," "," "," ",null,"With analog module and binary module (add. 24 binary inputs)","A",9,"With RTD and binary module (add. 24 binary inputs)","Not Available with two binary modules fitted"," "," "," "," "," "," "," "," "," "]
[10,{"$f":"VLOOKUP(Tendering!$B$12,$A$37:$Y$40,13)","v":"With analog module and binary module (add. 24 binary inputs)"},null,{"$f":"HLOOKUP('Date Drivers'!$B$1,'Date Drivers'!$B$2:$AI$179,146)","v":"None"},{"$f":"HLOOKUP('Date Drivers'!$B$1,'Date Drivers'!$B$2:$AI$179,147)","v":"For connection to wire, RS485, isolated"},{"$f":"HLOOKUP('Date Drivers'!$B$1,'Date Drivers'!$B$2:$AI$179,148)","v":"For connection to plastic fibre, FSMA connector"},{"$f":"HLOOKUP('Date Drivers'!$B$1,'Date Drivers'!$B$2:$AI$179,149)","v":"For connection to glass fibre, ST connector"},{"$f":"HLOOKUP('Date Drivers'!$B$1,'Date Drivers'!$B$2:$AI$179,150)","v":"For connection to wire, RS232"},{"$f":"HLOOKUP('Date Drivers'!$B$1,'Date Drivers'!$B$2:$AI$179,152)","v":"-951"},{"$f":"HLOOKUP('Date Drivers'!$B$1,'Date Drivers'!$B$2:$AI$179,153)","v":"-952"},{"$f":"HLOOKUP('Date Drivers'!$B$1,'Date Drivers'!$B$2:$AI$179,154)","v":"-954"},{"$f":"HLOOKUP('Date Drivers'!$B$1,'Date Drivers'!$B$2:$AI$179,155)","v":"-955"},{"$f":"IF(H68=\" \",\"\",\"A\")","v":"A"},{"$f":"IF(H68=\" \",\"\",\"B\")","v":"B"},{"$f":"IF(G68=\" \",\"\",\"C\")","v":"C"},{"$f":"IF(H68=\" \",\"\",\"D\")","v":"D"},null,"With RTD module - not available with BiBo6H module in Slot 7","*","A","With analog module and binary module (add. 24 binary inputs)","Not Available with two binary modules fitted"," "," "," "," "," "," "," "," "," "]
[11,{"$f":"VLOOKUP(Tendering!$B$12,$A$37:$Y$40,14)","v":"With two binary modules (add. 48 binary inputs)"},null,{"$f":"HLOOKUP('Date Drivers'!$B$1,'Date Drivers'!$B$2:$AI$216,215)","v":"Not Available with two binary modules fitted"}," "," "," "," "," "," "," "," "," "," "," "," ",null,"With RTD and analogue modules - not available with BiBo6H module in Slot 7","*","B","With two binary modules (add. 48 binary inputs)","Not Available with two binary modules fitted"," "," "," "," "," "," "," "," "," "]
[12,{"$f":"VLOOKUP(Tendering!$B$12,$A$37:$Y$40,15)","v":"With binary module (add. 6 binary inputs and 8 outputs)"},null,{"$f":"HLOOKUP('Date Drivers'!$B$1,'Date Drivers'!$B$2:$AI$179,146)","v":"None"},{"$f":"HLOOKUP('Date Drivers'!$B$1,'Date Drivers'!$B$2:$AI$179,147)","v":"For connection to wire, RS485, isolated"},{"$f":"HLOOKUP('Date Drivers'!$B$1,'Date Drivers'!$B$2:$AI$179,148)","v":"For connection to plastic fibre, FSMA connector"},{"$f":"HLOOKUP('Date Drivers'!$B$1,'Date Drivers'!$B$2:$AI$179,149)","v":"For connection to glass fibre, ST connector"},{"$f":"HLOOKUP('Date Drivers'!$B$1,'Date Drivers'!$B$2:$AI$179,150)","v":"For connection to wire, RS232"},{"$f":"HLOOKUP('Date Drivers'!$B$1,'Date Drivers'!$B$2:$AI$179,152)","v":"-951"},{"$f":"HLOOKUP('Date Drivers'!$B$1,'Date Drivers'!$B$2:$AI$179,153)","v":"-952"},{"$f":"HLOOKUP('Date Drivers'!$B$1,'Date Drivers'!$B$2:$AI$179,154)","v":"-954"},{"$f":"HLOOKUP('Date Drivers'!$B$1,'Date Drivers'!$B$2:$AI$179,155)","v":"-955"},{"$f":"IF(H70=\" \",\"\",\"A\")","v":"A"},{"$f":"IF(H70=\" \",\"\",\"B\")","v":"B"},{"$f":"IF(G70=\" \",\"\",\"C\")","v":"C"},{"$f":"IF(H70=\" \",\"\",\"D\")","v":"D"},null,"Transient ground fault module and analogue module requires voltage input!","*","C","With binary module (add. 6 binary inputs and 8 outputs)","None","For connection to wire, RS485, isolated","For connection to glass fibre, ST connector","For connection to wire, RS232","-951","-954","-955","A","C","D"]
[13,{"$f":"VLOOKUP(Tendering!$B$12,$A$37:$Y$40,16)","v":"With binary module (add. 6 binary inputs and 8 outputs) and 24 binary inputs"},null,{"$f":"HLOOKUP('Date Drivers'!$B$1,'Date Drivers'!$B$2:$AI$205,204)","v":"Not Available with two binary modules fitted"}," "," "," "," "," "," "," "," "," "," "," "," ",null,"Transient ground fault module requires voltage input!","*","D","With binary module (add. 6 binary inputs and 8 outputs) and 24 binary inputs","Not Available with two binary modules fitted"," "," "," "," "," "," "," "," "," "]
[14,{"$f":"VLOOKUP(Tendering!$B$12,$A$37:$Y$40,17)","v":"With binary module (add. 6 binary inputs and 8 outputs) and analogue module"},null,{"$f":"HLOOKUP('Date Drivers'!$B$1,'Date Drivers'!$B$2:$AI$205,204)","v":"Not Available with two binary modules fitted"}," "," "," "," "," "," "," "," "," "," "," "," ",null,"With analog module and binary module (add. 24 binary inputs)","A","E","With binary module (add. 6 binary inputs and 8 outputs) and analogue module","Not Available with two binary modules fitted"," "," "," "," "," "," "," "," "," "]
[15,{"$f":"VLOOKUP(Tendering!$B$12,$A$37:$Y$40,18)","v":"With binary module (add. 6 binary inputs and 8 outputs) and RTD module"},null,{"$f":"HLOOKUP('Date Drivers'!$B$1,'Date Drivers'!$B$2:$AI$205,204)","v":"Not Available with two binary modules fitted"}," "," "," "," "," "," "," "," "," "," "," "," ",null,"With RTD module - not available with BiBo6H module in Slot 7","*","F","With binary module (add. 6 binary inputs and 8 outputs) and RTD module","Not Available with two binary modules fitted"," "," "," "," "," "," "," "," "," "]
[16,{"$f":"VLOOKUP(Tendering!$B$12,$A$37:$Y$40,19)","v":"With binary module (add. 6 binary inputs and 8 outputs) and TGF module"},null,{"$f":"HLOOKUP('Date Drivers'!$B$1,'Date Drivers'!$B$2:$AI$216,215)","v":"Not Available with two binary modules fitted"}," "," "," "," "," "," "," "," "," "," "," "," ",null,"With RTD and analogue modules - not available with BiBo6H module in Slot 7","*","G","With binary module (add. 6 binary inputs and 8 outputs) and TGF module","Not Available with two binary modules fitted"," "," "," "," "," "," "," "," "," "]
[null,null,null,null,null,null,null,null,null,null,null,null,null,null,null,null,null,"With RTD and binary module (add. 24 binary inputs) - not available with BiBo6H module in Slot 7","*"]
[null,null,null,null,null,null,null,null,null,null,null,null,null,null,null,null,null,"With RTD and analogue module",8]
[1,{"$f":"HLOOKUP('Date Drivers'!$B$1,'Date Drivers'!$B$2:$AI$57,55)","v":"None"}," "," ",1,{"$f":"HLOOKUP('Date Drivers'!$B$1,'Date Drivers'!$B$2:$AI$112,60)","v":" "},{"$f":"HLOOKUP('Date Drivers'!$B$1,'Date Drivers'!$B$2:$AI$112,61)","v":" "},{"$f":"HLOOKUP('Date Drivers'!$B$1,'Date Drivers'!$B$2:$AI$112,62)","v":" "},{"$f":"HLOOKUP('Date Drivers'!$B$1,'Date Drivers'!$B$2:$AI$112,62)","v":" "},null,null,null,null,null,null,null,null,"With RTD and binary module (add. 24 binary inputs)",9]
[2,{"$f":"HLOOKUP('Date Drivers'!$B$1,'Date Drivers'!$B$2:$AI$57,56)","v":"Protocol can be switched between: IEC 60870-5-101/-103, Modbus, DNP3.0, Courier and IRIG-B for clock synchronisation and 2nd interface (RS485, IEC 60870-5-103)"},6,0,2,{"$f":"HLOOKUP('Date Drivers'!$B$1,'Date Drivers'!$B$2:$AI$112,64)","v":"for connection to wire, RS485, isolated"},{"$f":"HLOOKUP('Date Drivers'!$B$1,'Date Drivers'!$B$2:$AI$112,65)","v":"For connection to plastic fiber (820nm MM), FSMA connector"},{"$f":"HLOOKUP('Date Drivers'!$B$1,'Date Drivers'!$B$2:$AI$112,66)","v":"For connection to glass fiber (820nm MM), ST connector"}," ",null,null,null,null,null,null,null,null,"With RTD module",7]
[3,{"$f":"HLOOKUP('Date Drivers'!$B$1,'Date Drivers'!$C$2:$AI$337,57)","v":"Ethernet Board 2, Protocol IEC 61850 Ed. 1 or 2 (switchable) without Cyber Security compatibility"},6,2,3,{"$f":"HLOOKUP('Date Drivers'!$B$1,'Date Drivers'!$C$2:$AI$337,68)","v":"For connection to 100 Mbit/s Ethernet, wire RJ45 and IRIG-B input for clock synchronization"},{"$f":"HLOOKUP('Date Drivers'!$B$1,'Date Drivers'!$C$2:$AI$337,69)","v":"For connection to 100 Mbit/s Ethernet, glass fiber LC and IRIG-B input for clock synchronization and 2nd 100 Mbit/s Ethernet service interface (wire RJ 45)"},{"$f":"HLOOKUP('Date Drivers'!$B$1,'Date Drivers'!$C$2:$AI$337,242)","v":"Redundant connection to wire RJ45, HSR/PRP (switchable) and IRIG-B input for clock synchronization and 2nd 100 Mbit/s Ethernet service interface (wire RJ 45)"},{"$f":"HLOOKUP('Date Drivers'!$B$1,'Date Drivers'!$C$2:$AI$337,243)","v":"Redundant connection to 100 Mbit/s Ethernet, glass fiber LC, HSR/PRP (switchable) and IRIG-B input for clock synchronization and 2nd 100 Mbit/s Ethernet service interface (wire RJ 45)"},null,null,null,null,null,null,null,null,"With two binary modules (add. 48 binary inputs)","B"]
[4,{"$f":"HLOOKUP('Date Drivers'!$B$1,'Date Drivers'!$C$2:$AI$337,216)","v":"Ethernet Board 2, Protocol IEC 61850 Ed. 1 or 2 (switchable) with Cyber Security compatibility"},6,2,4,{"$f":"HLOOKUP('Date Drivers'!$B$1,'Date Drivers'!$B$2:$AI$350,217)","v":"For connection to 100 Mbit/s Ethernet, wire RJ45 and IRIG-B input for clock synchronization"},{"$f":"HLOOKUP('Date Drivers'!$B$1,'Date Drivers'!$B$2:$AI$350,218)","v":"For connection to 100 Mbit/s Ethernet, glass fiber LC and IRIG-B input for clock synchronization and 2nd 100 Mbit/s Ethernet service interface (wire RJ 45)"},{"$f":"HLOOKUP('Date Drivers'!$B$1,'Date Drivers'!$B$2:$AI$350,219)","v":"Redundant connection to wire RJ45, HSR/PRP (switchable) and IRIG-B input for clock synchronization and 2nd 100 Mbit/s Ethernet service interface (wire RJ 45)"},{"$f":"HLOOKUP('Date Drivers'!$B$1,'Date Drivers'!$B$2:$AI$350,230)","v":"Redundant connection to 100 Mbit/s Ethernet, glass fiber LC, HSR/PRP (switchable) and IRIG-B input for clock synchronization and 2nd 100 Mbit/s Ethernet service interface (wire RJ 45)"},null,null,null,null,null,null,null,null,"With binary module (add. 6 binary inputs and 8 outputs)","C"]
[null,null,null,null,null,null,null,null,null,null,null,null,null,null,null,null,null,"With binary module (add. 6 binary inputs and 8 outputs) and 24 binary inputs","D"]
[null,null,null,null,null,null,null,null,null,{"$f":"CONCATENATE(Tendering!$B$19,Tendering!$B$20)","v":"21"},"11",{"$f":"HLOOKUP('Date Drivers'!$B$1,'Date Drivers'!$B$2:$AI$172,156)","v":" "},{"$f":"HLOOKUP('Date Drivers'!$B$1,'Date Drivers'!$B$2:$AI$182,164)","v":0}," ",null,null,null,"With binary module (add. 6 binary inputs and 8 outputs) and analogue module","E"]
[1,{"$f":"VLOOKUP(Tendering!$B$19,$E$77:$I$80,2)","v":"for connection to wire, RS485, isolated"},null,null,null,null,null,null,null,null,"12",{"$f":"HLOOKUP('Date Drivers'!$B$1,'Date Drivers'!$B$2:$AI$172,157)","v":" "},{"$f":"HLOOKUP('Date Drivers'!$B$1,'Date Drivers'!$B$2:$AI$182,165)","v":0}," ",null,null,null,"With binary module (add. 6 binary inputs and 8 outputs) and RTD module","F"]
[2,{"$f":"VLOOKUP(Tendering!$B$19,$E$77:$I$80,3)","v":"For connection to plastic fiber (820nm MM), FSMA connector"},null,null,null,null,null,null,null,null,"13",{"$f":"HLOOKUP('Date Drivers'!$B$1,'Date Drivers'!$B$2:$AI$172,158)","v":" "},{"$f":"HLOOKUP('Date Drivers'!$B$1,'Date Drivers'!$B$2:$AI$182,166)","v":0}," ",null,null,null,"With binary module (add. 6 binary inputs and 8 outputs) and TGF module","G"]
[3,{"$f":"VLOOKUP(Tendering!$B$19,$E$77:$I$80,4)","v":"For connection to glass fiber (820nm MM), ST connector"},null,null,null,null,null,null,null,null,"21",{"$f":"HLOOKUP('Date Drivers'!$B$1,'Date Drivers'!$B$2:$AI$172,159)","v":"-921"},{"$f":"HLOOKUP('Date Drivers'!$B$1,'Date Drivers'!$B$2:$AI$182,167)","v":"E"},1,null,null,null," ","*"]
[4,{"$f":"VLOOKUP(Tendering!$B$19,$E$77:$I$80,5)","v":" "},null,null,null,null,null,null,null,null,"22",{"$f":"HLOOKUP('Date Drivers'!$B$1,'Date Drivers'!$B$2:$AI$172,160)","v":"-922"},{"$f":"HLOOKUP('Date Drivers'!$B$1,'Date Drivers'!$B$2:$AI$172,168)","v":"F"},2]
[null,null,null,null,null,null,null,null,null,null,"23",{"$f":"HLOOKUP('Date Drivers'!$B$1,'Date Drivers'!$B$2:$AI$172,161)","v":"-924"},{"$f":"HLOOKUP('Date Drivers'!$B$1,'Date Drivers'!$B$2:$AI$172,169)","v":"G"},4]
[null,null,null,null,null,null,null,null,null,null,"31",{"$f":"HLOOKUP('Date Drivers'!$B$1,'Date Drivers'!$B$2:$AI$172,162)","v":"-971"},{"$f":"HLOOKUP('Date Drivers'!$B$1,'Date Drivers'!$B$2:$AI$172,170)","v":"R"},2]
[1,{"$f":"HLOOKUP('Date Drivers'!$B$1,'Date Drivers'!$B$2:$AI$172,130)","v":"Two modules without high break contacts"},{"$f":"HLOOKUP('Date Drivers'!$B$1,'Date Drivers'!$B$2:$AI$172,133)","v":0},{"$f":"IF(C89=0,\"\",\"\")","v":""},null,null,null,null,null,null,"32",{"$f":"HLOOKUP('Date Drivers'!$B$1,'Date Drivers'!$B$2:$AI$172,163)","v":"-972"},{"$f":"HLOOKUP('Date Drivers'!$B$1,'Date Drivers'!$B$2:$AI$172,171)","v":"S"},4]
[2,{"$f":"HLOOKUP('Date Drivers'!$B$1,'Date Drivers'!$B$2:$AI$172,131)","v":"First module with high break contacts, second with normal contacts"},{"$f":"HLOOKUP('Date Drivers'!$B$1,'Date Drivers'!$B$2:$AI$172,134)","v":"1"},{"$f":"IF(C90=0,\"\",IF(C90=\"1\",\"-471\",\"-472\"))","v":"-471"},null,null,null,null,null,null,"33",{"$f":"HLOOKUP('Date Drivers'!$B$1,'Date Drivers'!$B$2:$AI$272,240)","v":"-973"},{"$f":"HLOOKUP('Date Drivers'!$B$1,'Date Drivers'!$B$2:$AI$272,244)","v":"T"},2]
[3,{"$f":"HLOOKUP('Date Drivers'!$B$1,'Date Drivers'!$B$2:$AI$172,132)","v":"Two modules with high break contacts"},{"$f":"HLOOKUP('Date Drivers'!$B$1,'Date Drivers'!$B$2:$AI$172,135)","v":"2"},{"$f":"IF(C91=0,\"\",IF(C91=\"1\",\"-471\",\"-472\"))","v":"-472"},null,null,null,null,null,null,"34",{"$f":"HLOOKUP('Date Drivers'!$B$1,'Date Drivers'!$B$2:$AI$272,241)","v":"-974"},{"$f":"HLOOKUP('Date Drivers'!$B$1,'Date Drivers'!$B$2:$AI$272,245)","v":"U"},4]
[null,null,null,null,null,null,null,null,null,null,"41",{"$f":"HLOOKUP('Date Drivers'!$B$1,'Date Drivers'!$B$2:$AI$272,221)","v":"-991"},{"$f":"HLOOKUP('Date Drivers'!$B$1,'Date Drivers'!$B$2:$AI$272,224)","v":"V"},2]
[null,null,null,null,null,null,null,null,null,null,"42",{"$f":"HLOOKUP('Date Drivers'!$B$1,'Date Drivers'!$B$2:$AI$272,222)","v":"-992"},{"$f":"HLOOKUP('Date Drivers'!$B$1,'Date Drivers'!$B$2:$AI$272,225)","v":"W"},2]
[1,{"$f":"HLOOKUP('Date Drivers'!$B$1,'Date Drivers'!$B$2:$AI$172,136)","v":"Standard variant with switching threshold at 65% of 24 VDC (Va,min)"},{"$f":"IF(B94=\" \",\" \",\"0\")","v":"0"},{"$f":"HLOOKUP('Date Drivers'!$B$1,'Date Drivers'!$B$2:$AI$172,141)","v":" "},null,null,null,null,null,null,"43",{"$f":"HLOOKUP('Date Drivers'!$B$1,'Date Drivers'!$B$2:$AI$272,223)","v":"-993"},{"$f":"HLOOKUP('Date Drivers'!$B$1,'Date Drivers'!$B$2:$AI$272,226)","v":"X"},2]
[2,{"$f":"HLOOKUP('Date Drivers'!$B$1,'Date Drivers'!$B$2:$AI$172,137)","v":"Special variant with switching threshold at 65% of 127 VDC (Va,nom)"},{"$f":"RIGHT(D95,1)","v":"1"},{"$f":"HLOOKUP('Date Drivers'!$B$1,'Date Drivers'!$B$2:$AI$172,142)","v":"-461"},null,null,null,null,null,null,"44",{"$f":"HLOOKUP('Date Drivers'!$B$1,'Date Drivers'!$B$2:$AI$272,232)","v":"-994"},{"$f":"HLOOKUP('Date Drivers'!$B$1,'Date Drivers'!$B$2:$AI$272,233)","v":"Y"},2]
[3,{"$f":"HLOOKUP('Date Drivers'!$B$1,'Date Drivers'!$B$2:$AI$172,138)","v":"Special variant with switching threshold at 65% of 250 VDC (Va,nom)"},{"$f":"RIGHT(D96,1)","v":"2"},{"$f":"HLOOKUP('Date Drivers'!$B$1,'Date Drivers'!$B$2:$AI$172,143)","v":"-462"}]
[4,{"$f":"HLOOKUP('Date Drivers'!$B$1,'Date Drivers'!$B$2:$AI$172,139)","v":"Special variant with switching threshold at 65% of 110 VDC (Va,nom)"},{"$f":"RIGHT(D97,1)","v":"3"},{"$f":"HLOOKUP('Date Drivers'!$B$1,'Date Drivers'!$B$2:$AI$172,144)","v":"-463"}]
[5,{"$f":"HLOOKUP('Date Drivers'!$B$1,'Date Drivers'!$B$2:$AI$172,140)","v":"Special variant with switching threshold at 65% of 220 VDC (Va,nom)"},{"$f":"RIGHT(D98,1)","v":"4"},{"$f":"HLOOKUP('Date Drivers'!$B$1,'Date Drivers'!$B$2:$AI$172,145)","v":"-464"}]
[]
[null,null,null,null,null,{"$f":"CONCATENATE(Tendering!$B$15,Tendering!$B$21)","v":"11"},"101",{"$f":"HLOOKUP('Date Drivers'!$B$1,'Date Drivers'!$B$2:$AI$179,174)","v":"0"}]
[1,{"$f":"VLOOKUP($T$58,$T$59:$AE$74,3)","v":"None"}," ","0",null,null,"102",{"$f":"HLOOKUP('Date Drivers'!$B$1,'Date Drivers'!$B$2:$AI$179,175)","v":"A"}]
[2,{"$f":"VLOOKUP($T$58,$T$59:$AE$74,4)","v":"For connection to wire, RS485, isolated"},{"$f":"VLOOKUP($T$58,$T$59:$AE$74,7)","v":"-951"},{"$f":"VLOOKUP($T$58,$T$59:$AE$74,10)","v":"A"},null,null,"103",{"$f":"HLOOKUP('Date Drivers'!$B$1,'Date Drivers'!$B$2:$AI$179,177)","v":"C"}]
[3,{"$f":"VLOOKUP($T$58,$T$59:$AE$74,5)","v":"For connection to glass fibre, ST connector"},{"$f":"VLOOKUP($T$58,$T$59:$AE$74,8)","v":"-954"},{"$f":"VLOOKUP($T$58,$T$59:$AE$74,11)","v":"C"},null,null,"104",{"$f":"HLOOKUP('Date Drivers'!$B$1,'Date Drivers'!$B$2:$AI$179,178)","v":"D"}]
[4,{"$f":"VLOOKUP($T$58,$T$59:$AE$74,6)","v":"For connection to wire, RS232"},{"$f":"VLOOKUP($T$58,$T$59:$AE$74,9)","v":"-955"},{"$f":"VLOOKUP($T$58,$T$59:$AE$74,12)","v":"D"},null,null,"11",{"$f":"HLOOKUP('Date Drivers'!$B$1,'Date Drivers'!$B$2:$AI$179,174)","v":"0"}]
[null,null,null,null,null,null,"111",{"$f":"HLOOKUP('Date Drivers'!$B$1,'Date Drivers'!$B$2:$AI$179,174)","v":"0"}]
[null,null,null,null,null,null,"112",{"$f":"HLOOKUP('Date Drivers'!$B$1,'Date Drivers'!$B$2:$AI$179,175)","v":"A"}]
[1,{"$f":"HLOOKUP('Date Drivers'!$B$1,'Date Drivers'!$B$2:$AI$172,106)","v":"English (German)"},{"$f":"HLOOKUP('Date Drivers'!$B$1,'Date Drivers'!$B$2:$AI$172,114)","v":"0"},{"$f":"HLOOKUP('Date Drivers'!$B$1,'Date Drivers'!$B$2:$AI$172,122)","v":" "},null,null,"113",{"$f":"HLOOKUP('Date Drivers'!$B$1,'Date Drivers'!$B$2:$AI$179,177)","v":"C"}]
[2,{"$f":"HLOOKUP('Date Drivers'!$B$1,'Date Drivers'!$B$2:$AI$172,107)","v":"Not yet available - English (English)"},{"$f":"HLOOKUP('Date Drivers'!$B$1,'Date Drivers'!$B$2:$AI$172,115)","v":"*"},{"$f":"HLOOKUP('Date Drivers'!$B$1,'Date Drivers'!$B$2:$AI$172,123)","v":"-8**"},null,null,"114",{"$f":"HLOOKUP('Date Drivers'!$B$1,'Date Drivers'!$B$2:$AI$179,178)","v":"D"}]
[3,{"$f":"HLOOKUP('Date Drivers'!$B$1,'Date Drivers'!$B$2:$AI$172,108)","v":"German (English)"},{"$f":"HLOOKUP('Date Drivers'!$B$1,'Date Drivers'!$B$2:$AI$172,116)","v":"1"},{"$f":"HLOOKUP('Date Drivers'!$B$1,'Date Drivers'!$B$2:$AI$172,124)","v":"-801"},null,null,"12",{"$f":"HLOOKUP('Date Drivers'!$B$1,'Date Drivers'!$B$2:$AI$179,175)","v":"A"}]
[4,{"$f":"HLOOKUP('Date Drivers'!$B$1,'Date Drivers'!$B$2:$AI$172,109)","v":"Not yet available - French (English)"},{"$f":"HLOOKUP('Date Drivers'!$B$1,'Date Drivers'!$B$2:$AI$172,117)","v":"*"},{"$f":"HLOOKUP('Date Drivers'!$B$1,'Date Drivers'!$B$2:$AI$172,125)","v":"-8**"},null,null,"13",{"$f":"HLOOKUP('Date Drivers'!$B$1,'Date Drivers'!$B$2:$AI$179,177)","v":"C"}]
[5,{"$f":"HLOOKUP('Date Drivers'!$B$1,'Date Drivers'!$B$2:$AI$172,110)","v":"Not yet available - Spanish (English)"},{"$f":"HLOOKUP('Date Drivers'!$B$1,'Date Drivers'!$B$2:$AI$172,118)","v":"*"},{"$f":"HLOOKUP('Date Drivers'!$B$1,'Date Drivers'!$B$2:$AI$172,126)","v":"-8**"},null,null,"14",{"$f":"HLOOKUP('Date Drivers'!$B$1,'Date Drivers'!$B$2:$AI$179,178)","v":"D"}]
[6,{"$f":"HLOOKUP('Date Drivers'!$B$1,'Date Drivers'!$B$2:$AI$172,111)","v":"Not yet available - Polish (English)"},{"$f":"HLOOKUP('Date Drivers'!$B$1,'Date Drivers'!$B$2:$AI$172,119)","v":"*"},{"$f":"HLOOKUP('Date Drivers'!$B$1,'Date Drivers'!$B$2:$AI$172,127)","v":"-8**"},null,null,"21",{"$f":"HLOOKUP('Date Drivers'!$B$1,'Date Drivers'!$B$2:$AI$179,174)","v":"0"}]
[7,{"$f":"HLOOKUP('Date Drivers'!$B$1,'Date Drivers'!$B$2:$AI$172,112)","v":"Not yet available - Russian (English)"},{"$f":"HLOOKUP('Date Drivers'!$B$1,'Date Drivers'!$B$2:$AI$172,120)","v":"*"},{"$f":"HLOOKUP('Date Drivers'!$B$1,'Date Drivers'!$B$2:$AI$172,128)","v":"-8**"},null,null,"22",{"$f":"HLOOKUP('Date Drivers'!$B$1,'Date Drivers'!$B$2:$AI$179,175)","v":"A"}]
[8,{"$f":"HLOOKUP('Date Drivers'!$B$1,'Date Drivers'!$B$2:$AI$172,113)","v":"Not yet available - Chinese (English)"},{"$f":"HLOOKUP('Date Drivers'!$B$1,'Date Drivers'!$B$2:$AI$172,121)","v":"*"},{"$f":"HLOOKUP('Date Drivers'!$B$1,'Date Drivers'!$B$2:$AI$172,129)","v":"-8**"},null,null,"23",{"$f":"HLOOKUP('Date Drivers'!$B$1,'Date Drivers'!$B$2:$AI$179,177)","v":"C"}]
[null,null,null,null,null,null,"24",{"$f":"HLOOKUP('Date Drivers'!$B$1,'Date Drivers'!$B$2:$AI$179,178)","v":"D"}]
[null,null,null,null,null,null,"31",{"$f":"HLOOKUP('Date Drivers'!$B$1,'Date Drivers'!$B$2:$AI$179,174)","v":"0"}]
[1,{"$f":"HLOOKUP('Date Drivers'!$B$1,'Date Drivers'!$B$2:$AI$120,72)","v":"B"},{"$f":"HLOOKUP('Date Drivers'!$B$1,'Date Drivers'!$B$2:$AI$120,73)","v":"-661"},{"$f":"HLOOKUP('Date Drivers'!$B$1,'Date Drivers'!$B$2:$AI$120,89)","v":"B"},{"$f":"HLOOKUP('Date Drivers'!$B$1,'Date Drivers'!$B$2:$AI$120,90)","v":"-702"},null,"32",{"$f":"HLOOKUP('Date Drivers'!$B$1,'Date Drivers'!$B$2:$AI$179,175)","v":"A"}]
[2,{"$f":"HLOOKUP('Date Drivers'!$B$1,'Date Drivers'!$B$2:$AI$120,74)","v":"*"},{"$f":"HLOOKUP('Date Drivers'!$B$1,'Date Drivers'!$B$2:$AI$120,75)","v":"-6**"},{"$f":"HLOOKUP('Date Drivers'!$B$1,'Date Drivers'!$B$2:$AI$120,91)","v":"*"},{"$f":"HLOOKUP('Date Drivers'!$B$1,'Date Drivers'!$B$2:$AI$120,92)","v":"-7**"},null,"33",{"$f":"HLOOKUP('Date Drivers'!$B$1,'Date Drivers'!$B$2:$AI$179,177)","v":"C"}]
[3,{"$f":"HLOOKUP('Date Drivers'!$B$1,'Date Drivers'!$B$2:$AI$120,76)","v":"B"},{"$f":"HLOOKUP('Date Drivers'!$B$1,'Date Drivers'!$B$2:$AI$120,77)","v":"-661"},{"$f":"HLOOKUP('Date Drivers'!$B$1,'Date Drivers'!$B$2:$AI$120,93)","v":"B"},{"$f":"HLOOKUP('Date Drivers'!$B$1,'Date Drivers'!$B$2:$AI$120,94)","v":"-702"},null,"34",{"$f":"HLOOKUP('Date Drivers'!$B$1,'Date Drivers'!$B$2:$AI$179,178)","v":"D"}]
[4,{"$f":"HLOOKUP('Date Drivers'!$B$1,'Date Drivers'!$B$2:$AI$120,78)","v":"*"},{"$f":"HLOOKUP('Date Drivers'!$B$1,'Date Drivers'!$B$2:$AI$120,79)","v":"-6**"},{"$f":"HLOOKUP('Date Drivers'!$B$1,'Date Drivers'!$B$2:$AI$120,95)","v":"*"},{"$f":"HLOOKUP('Date Drivers'!$B$1,'Date Drivers'!$B$2:$AI$120,96)","v":"-7**"},null,"41",{"$f":"HLOOKUP('Date Drivers'!$B$1,'Date Drivers'!$B$2:$AI$179,174)","v":"0"}]
[5,{"$f":"HLOOKUP('Date Drivers'!$B$1,'Date Drivers'!$B$2:$AI$120,80)","v":"*"},{"$f":"HLOOKUP('Date Drivers'!$B$1,'Date Drivers'!$B$2:$AI$120,81)","v":"-6**"},{"$f":"HLOOKUP('Date Drivers'!$B$1,'Date Drivers'!$B$2:$AI$120,97)","v":"*"},{"$f":"HLOOKUP('Date Drivers'!$B$1,'Date Drivers'!$B$2:$AI$120,98)","v":"-7**"},null,"42",{"$f":"HLOOKUP('Date Drivers'!$B$1,'Date Drivers'!$B$2:$AI$179,175)","v":"A"}]
[6,{"$f":"HLOOKUP('Date Drivers'!$B$1,'Date Drivers'!$B$2:$AI$120,82)","v":"*"},{"$f":"HLOOKUP('Date Drivers'!$B$1,'Date Drivers'!$B$2:$AI$120,83)","v":"-6**"},{"$f":"HLOOKUP('Date Drivers'!$B$1,'Date Drivers'!$B$2:$AI$120,99)","v":"*"},{"$f":"HLOOKUP('Date Drivers'!$B$1,'Date Drivers'!$B$2:$AI$120,100)","v":"-7**"},null,"43",{"$f":"HLOOKUP('Date Drivers'!$B$1,'Date Drivers'!$B$2:$AI$179,177)","v":"C"}]
[7,{"$f":"HLOOKUP('Date Drivers'!$B$1,'Date Drivers'!$B$2:$AI$120,84)","v":"*"},{"$f":"HLOOKUP('Date Drivers'!$B$1,'Date Drivers'!$B$2:$AI$120,85)","v":"-6**"},{"$f":"HLOOKUP('Date Drivers'!$B$1,'Date Drivers'!$B$2:$AI$120,101)","v":"*"},{"$f":"HLOOKUP('Date Drivers'!$B$1,'Date Drivers'!$B$2:$AI$120,102)","v":"-7**"},null,"44",{"$f":"HLOOKUP('Date Drivers'!$B$1,'Date Drivers'!$B$2:$AI$179,178)","v":"D"}]
[8,{"$f":"HLOOKUP('Date Drivers'!$B$1,'Date Drivers'!$B$2:$AI$120,86)","v":"*"},{"$f":"HLOOKUP('Date Drivers'!$B$1,'Date Drivers'!$B$2:$AI$120,87)","v":"-6**"},{"$f":"HLOOKUP('Date Drivers'!$B$1,'Date Drivers'!$B$2:$AI$120,103)","v":"*"},{"$f":"HLOOKUP('Date Drivers'!$B$1,'Date Drivers'!$B$2:$AI$120,104)","v":"-7**"},null,"51",{"$f":"HLOOKUP('Date Drivers'!$B$1,'Date Drivers'!$B$2:$AI$179,174)","v":"0"}]
[null,null,null,null,null,null,"52",{"$f":"HLOOKUP('Date Drivers'!$B$1,'Date Drivers'!$B$2:$AI$179,175)","v":"A"}]
[null,null,null,null,null,null,"53",{"$f":"HLOOKUP('Date Drivers'!$B$1,'Date Drivers'!$B$2:$AI$179,177)","v":"C"}]
[null,null,null,"POWER SUPPLY LOOKUP",null,null,"54",{"$f":"HLOOKUP('Date Drivers'!$B$1,'Date Drivers'!$B$2:$AI$179,178)","v":"D"}]
[null,null,null,"24 … 60Vdc","E",null,"61",{"$f":"HLOOKUP('Date Drivers'!$B$1,'Date Drivers'!$B$2:$AI$179,174)","v":"0"}]
[null,null,null,"24 … 60Vdc and 4 high break contacts","L",null,"62",{"$f":"HLOOKUP('Date Drivers'!$B$1,'Date Drivers'!$B$2:$AI$179,175)","v":"A"}]
[null,null,null,"24 … 60Vdc and 6 binary inputs and 3 output relays","J",null,"63",{"$f":"HLOOKUP('Date Drivers'!$B$1,'Date Drivers'!$B$2:$AI$179,177)","v":"C"}]
[null,null,null,"24 … 60Vdc and 6 output relays","G",null,"64",{"$f":"HLOOKUP('Date Drivers'!$B$1,'Date Drivers'!$B$2:$AI$179,178)","v":"D"}]
[null,null,null,"24Vdc",3,null,"71",{"$f":"HLOOKUP('Date Drivers'!$B$1,'Date Drivers'!$B$2:$AI$179,174)","v":"0"}]
[null,null,null,"24Vdc (+4 high break contacts)","C",null,"72",{"$f":"HLOOKUP('Date Drivers'!$B$1,'Date Drivers'!$B$2:$AI$179,175)","v":"A"}]
[null,null,null,"24Vdc (+6 binary inputs and 3 output relays)","A",null,"73",{"$f":"HLOOKUP('Date Drivers'!$B$1,'Date Drivers'!$B$2:$AI$179,177)","v":"C"}]
[null,null,null,"24Vdc (+6 output relays)",8,null,"74",{"$f":"HLOOKUP('Date Drivers'!$B$1,'Date Drivers'!$B$2:$AI$179,178)","v":"D"}]
[null,null,null,"24Vdc (+6 output relays, 4 with thyristor)",6,null,"81",{"$f":"HLOOKUP('Date Drivers'!$B$1,'Date Drivers'!$B$2:$AI$179,174)","v":"0"}]
[null,null,null,"48 to 250Vdc / 100 to 230Vac (+4 high break contacts)","D",null,"82",{"$f":"HLOOKUP('Date Drivers'!$B$1,'Date Drivers'!$B$2:$AI$179,175)","v":"A"}]
[null,null,null,"48 to 250Vdc / 100 to 230Vac (+6 binary inputs and 3 output relays)","B",null,"83",{"$f":"HLOOKUP('Date Drivers'!$B$1,'Date Drivers'!$B$2:$AI$179,177)","v":"C"}]
[null,null,null,"48 to 250Vdc/100 to 230Vac",4,null,"84",{"$f":"HLOOKUP('Date Drivers'!$B$1,'Date Drivers'!$B$2:$AI$179,178)","v":"D"}]
[null,null,null,"48 to 250Vdc/100 to 230Vac (+6 output relays)",9,null,"91",{"$f":"HLOOKUP('Date Drivers'!$B$1,'Date Drivers'!$B$2:$AI$179,174)","v":"0"}]
[null,null,null,"48 to 250Vdc/100 to 230Vac (+6 output relays, 4 with thyristor)",7,null,"92",{"$f":"HLOOKUP('Date Drivers'!$B$1,'Date Drivers'!$B$2:$AI$179,175)","v":"A"}]
[null,null,null,"60 ... 250Vdc/100 ... 230Vac","F",null,"93",{"$f":"HLOOKUP('Date Drivers'!$B$1,'Date Drivers'!$B$2:$AI$179,177)","v":"C"}]
[null,null,null,"60 … 250Vdc / 100 … 230Vac and 4 high break contacts","M",null,"94",{"$f":"HLOOKUP('Date Drivers'!$B$1,'Date Drivers'!$B$2:$AI$179,178)","v":"D"}]
[null,null,null,"60 … 250Vdc / 100 … 230Vac and 6 binary inputs and 3 output relays","K"]
[null,null,null,"60 … 250Vdc/100 … 230Vac and 6 output relays","H"]
[null,null,null," ","*"]
[1,{"$f":"HLOOKUP('Date Drivers'!$B$1,'Date Drivers'!$B$2:$B$193,189)","v":"Areva (Available from 4/10/04)"},{"$f":"HLOOKUP('Date Drivers'!$B$1,'Date Drivers'!$B$2:$B$193,191)","v":2}]
[2,{"$f":"HLOOKUP('Date Drivers'!$B$1,'Date Drivers'!$B$2:$B$193,190)","v":" "},{"$f":"HLOOKUP('Date Drivers'!$B$1,'Date Drivers'!$B$2:$B$193,192)","v":2},null,null,null,null,null,null,null,null,null,null,"taken out to cover models in error"]
[]
[]
[]
[]
[]
[]
[]
[]
[]
[]
[]
[]
[]
[]
[]
[]
[]
[]
[]
[]
[]
[]
[]
[]
[]
[]
[]
[]
[]
[]
[]
[]
[]
[]
[]
[]
[]
[]
[]
[]
[]
[]
[]
[]
[]
[]
[]
[]
[]
[]
[]
[]
[]
[]
[]
[]
[]
[]
[]
[]
[]
[]
[]
[]
[]
[]
[]
[]
[]
[]
[]
[]
[]
[]
[]
[]
[]
[]
[]
[null,null,null,"A1A","A1A"]
[null,null,null,"B2B ","B2B "]
[null,null,null,"B2BA","B2BA"]
[null,null,null,"B2BB","B2BB"]
[null,null,null,"B3B ","B3B "]
[null,null,null,"B3BA","B3BA"]
[null,null,null,"B3BB","B3BB"]
[null,null,null,"B4B ","B4B "]
[null,null,null,"B4BA","B4BA"]
[null,null,null,"B4BB","B4BB"]
[null,null,null,"BBBB","AG"]
[null,null,null,"BBC ","AD"]
[null,null,null,"BBCB","AA"]
[null,null,null,"BC**","**"]
[null,null,null,"BCBB","AJ"]
[null,null,null,"BCC ","AF"]
[null,null,null,"BCCB","AC"]
[null,null,null,"BDBB","AH"]
[null,null,null,"BDC ","AE"]
[null,null,null,"BDCB","AJ"]
[null,null,null,"CB**","**"]
[null,null,null,"CBBB","AN"]
[null,null,null,"CBD ","AK"]
[null,null,null,"CBE","AU"]
[null,null,null,"CC**","**"]
[null,null,null,"CCBB","AQ"]
[null,null,null,"CCD ","AM"]
[null,null,null,"CCE","AW"]
[null,null,null,"CD**","**"]
[null,null,null,"CDBB","AP"]
[null,null,null,"CDD ","AL"]
[null,null,null,"CDE","AV"]
[null,null,null,"CED","AZ"]
[null,null,null,"CF**","**"]
[null,null,null,"CFD","BB"]
[null,null,null,"CGD","BA"]
[null,null,null,"DB**","**"]
[null,null,null,"DBE","AR"]
[null,null,null,"DC**","**"]
[null,null,null,"DCE","AT"]
[null,null,null,"DD**","**"]
[null,null,null,"DDE","AS"]
[null,null,null,"DED","BC"]
[null,null,null,"DEE","AW"]
[null,null,null,"DF**","**"]
[null,null,null,"DFD","BD"]
[null,null,null,"DFE","AX"]
[null,null,null,"DGD","BE"]
[null,null,null,"DGE","AY"]